{"text_format":"1","workbook":"xlsx","n_sheets":20,"sheets":["Design","Pick List","Diagram","Form","Tray Maker","Seat","Hardware","Laterals","Export","x","QW","Foams","Parts","TheraSleeves","TrayInfo","TrayPrices","OtherTrays","Pads","Belts","Hip Guides"],"not_rendered":{"charts":0,"images":196,"macros":1,"external_links":0,"defined_names":200,"comments":0,"pivot_tables":0},"unopened":[],"bounds":{"document_bytes":16777216,"sheet_cells":100000,"rows_first":2000,"rows_last":500,"rows_between":2000,"halvings":0,"cell_chars":16384,"cell_head_chars":4096},"cells_cut":0,"cells_raw":0,"read":"whole","date_system":"1900"}

{"sheet":"Design","index":0,"n_rows":163,"n_cols":60,"rows_kept":163,"cut":false,"hidden":false,"merged":[[0,17,0,21],[11,23,12,23],[15,12,15,14],[2,8,2,15],[4,4,4,8],[6,11,6,13],[4,11,4,12],[4,18,4,22],[4,14,4,16],[8,21,8,22],[17,21,18,21],[16,12,16,14],[17,12,17,14],[37,10,38,12],[37,13,38,13],[34,13,35,14],[25,17,27,19],[18,7,18,10],[25,10,27,12],[24,8,25,9],[25,15,26,15],[27,9,28,9],[21,12,21,14],[32,17,32,18],[18,3,18,6],[14,8,14,9],[6,4,6,8],[27,6,28,6],[14,6,14,7],[10,4,10,16],[11,2,11,4],[44,2,44,4],[32,13,33,13],[30,14,31,14],[32,14,33,15],[39,14,40,16],[38,6,39,7],[31,16,32,16],[41,10,42,12],[30,4,32,5],[30,6,30,7],[137,37,138,37],[55,7,56,7],[37,14,38,16],[30,8,31,8],[62,7,63,7],[39,13,40,13],[41,9,42,9],[37,9,38,9],[39,9,40,9],[35,9,35,11],[39,10,40,12],[41,17,41,19],[29,21,30,21],[36,20,37,20],[34,21,35,21],[55,21,56,21]]}
[null,null,null,null,null,null,null,null,null,null,null,null,null,null,null,null,null,"TSA & Tray Maker On-Line Documentation"]
[null,null,null,null,null,null,null,null,"Phone: 800-843-7234",null,null,"Fax: 888-479-1515",null,null,"www.Therafin.com",null,null,null,null,null,null,null,{"$f":"TEXT(NOW(),\"MM/DD/YY HH:MM\")&IF(LEN(Orderno)>0,\"   Ref: \"&Orderno,\"\")&IF(LEN(Form!$F$6)>0,\"   Order: \"&Form!$F$6,\"\")","v":"01/20/22 13:53"}]
[null,null,null,null,null,null,null,null,"Therafin Seating Assistant"]
[]
[null,null,null,"Company:",null,null,null,null,null,null,"Account #:",null,null,"PO#:",null,null,null,"RTS:"]
[]
[null,null,null,"Mark For:",null,null,null,null,null,null,"Monogram:",null,null,null,null,null,null,"Thread Color:",null,null,null,null,null,null,null,null,null,{"$f":"IF($AM$140<>1,OR(UsableDepth>SEATDEPTH,AND(AssemblyCode<>1,UsableDepth=0)),FALSE())","v":false},"Value is true if a seat on the order and assembly is chosen and usable seat depth is not provided"]
[]
[{"$f":"AND(Pads!$V$3=1,Pads!$I$36=4)","v":false},null,null,"Chair Width:",null,"   Back/seat contact surface:",null,null,null,null,null,null,"Non-contact:",null,null,null,{"$f":"AND(OR(Pads!$I$36=4,Pads!$P$36=2,Pads!$I$2=4,Pads!$I$3=4,Pads!$I$4=4,Pads!$P$2=4,Pads!$P$3=4,Pads!$P$4=4,Pads!$I$52=5,Pads!$P$53=3),Pads!$V$3=1)","v":false},"Vinyl color:",null,null,null,null,null,null,null,null,null,{"$f":"'Pick List'!$D$11","v":false},"Cell on pick list that shows a back/seat error occurred"]
[]
[{"$f":"AND(Pads!$V$3=1,Pads!$P$36=2)","v":false},null,null,"Remark:",null,null,null,null,null,null,null,null,null,null,null,null,null," ",null,{"$f":"IF('Pick List'!$D$11,\"ISSUES REVIEWED?\",\"     Issues reviewed?\")","v":"     Issues reviewed?"},null,null,null,null,null,null,{"$f":"IF(AB11,\"+\",\">\")","v":">"},false,"Check box and result if user allows errors"]
[null,null,"SEAT SPECIFICATIONS:",null,null,null,null,null,{"$f":"IF(ISNUMBER(I13),IF(I13>22,\"Oversized\",\"\"),\"Enter seat depth\")","v":"Enter seat depth"},null,{"$f":"IF($AM$140<>1,IF(AssemblyCode=1,\"(Optional)\",\"Required\"),\"\")","v":""},null,null,null,null,null,null,null,null,null,null,null,null,null,null,null,null,{"$f":"CHAIRWIDTH-ABS(BACKWIDTHDIF)","v":0},"BACKWIDTH manually adjusted (Dec 2019)","CURVED?",false,"<check box linked here"]
[null,{"$f":"IF(SEATIDX=1,\">\",\"\")","v":">"},null,null,null,null,null,"Depth:",null,"Usable:",null,null,null,null,null,null,{"$f":"IF(AB52=1,\"\",\"\")","v":""},2,null,{"$f":"Design!$BA$140","v":0},null,null,null,null,null,null,null,1,"Back shape I, R or T"]
[null,"      ",null,null,null,null,null,null,null,null,null,null,null,null,null,null,2,{"$f":"IF(AB52=1,\"\",\"\")","v":""},null,null,null,null,null,null,null,null,null,1,"Back FW or DT"]
[null,{"$f":"AND(CONTIDX=3,SEATIDX<>1,FOAMSREQD)","v":false},null,null,{"$f":"IF($B$15,INT(0.33*Design!I13/0.5+0.499)*0.5-$AD$57,\"\")","v":""},null,2,null,{"$f":"IF($B$15,I13-E15-G15,0)","v":0},null,null,null,"  Normal",null,null,null,null,null,null,null,null,null,null,null,null,null,"use below in chanl length msg",1,"Back channel selection"]
[null,null,"Top:",null,null,null,null,null,null,null,null,null,"  Right Shortened",null,null,null,null,null,null,null,null,null,null,null,null,null,{"$f":"IF($AD$16=9,8,$AD$16)","v":-7},false,"Seat channel selection (length to the left)",{"$f":"INT(SEATDEPTH-IF($AB$52<>1,$Q$14,0)-IF($AB$49=2,$Q$21,0)-IF($AB$49=3,$W$21,0)-7)","v":-7},"seat channel length calculation: seat depth - growth notch depth - leg length diff - 1 to clear the edge"]
[null,null,"Middle:",null,null,null,null,null,null,null,null,null,"  Left Shortened",null,null,null,{"$f":"IF(SEATIDX>1,Design!I13-$Q$21,\"\")","v":""},null,null,{"$f":"IF(SEATIDX>1,SEATDEPTH,\"\")","v":""},null,null,{"$f":"IF(SEATIDX>1,Design!I13-$W$21)","v":false},null,null,null,null,2,"Back rail size"]
[null,null,"Bottom:",null,null,null,null,null,null,null,null,null,{"$f":"IF(AND('Pick List'!$F$448>0,Design!$AD$50),\"**Abductor chosen**\",\"Omit abductor T-nuts?\")","v":"Omit abductor T-nuts?"},null,null,null,null,null,null,{"$f":"IF(SEATIDX>1,$AW$140,\"\")","v":""},null,null,null,null,null,null,null,1,"Monogram font"]
[null,null,null,{"$f":"IF(CONTIDX=3,\"FRONT Layers of Foam\",\"Layers of Foam\")","v":"Layers of Foam"},null,null,null,{"$f":"IF(CONTIDX=3,\"       REAR Layers of Foam\",\"       Use for Planar Anti-thrust Only\")","v":"       Use for Planar Anti-thrust Only"},null,null,null,null,null,null,null,null,null,null,null,{"$f":"IF(AND(SEATIDX>1,$AB$16),\"Channels Attached\",\"\")","v":""},null,null,null,null,null,null,null,{"$f":"AND(BACKFIP,BACKFOAMSREQD,BACKSHAPE>1)","v":false},"Back foam in place gusset"]
[{"$f":"Seat!$X$2","v":false},null,{"$f":"IF(AND(SEATIDX>1,FOAMSREQD),IF(AND(CONTIDX=3,Seat!AB26<>(Seat!AA5+Seat!AB5)),\"Total front & rear thicknesses must match\",\"Seat foam thickness: \"&Seat!$AC$5&\"\"\"\"),\"\")","v":""},null,null,null,null,null,{"$f":"IF($AB$53,\"Additional FIP Gusset:\",\"\")","v":""},2,{"$f":"IF($AB$53,\"inches\",\"\")","v":""},null,"  None",null,null,null,null,null,{"$f":"IF(AND($AB$54,SEATIDX>1),Design!$BA$140-Design!$U$22,\"\")","v":""},null,{"$f":"IF(AND($AB$55,SEATIDX>1),Design!$BA$140-Design!$S$22,\"\")","v":""},null,null,null,null,null,null,false,"T or I custom dimensions selection",null,null,null,null,null,null,"Wood thick for back thick bkt length, zero if no back"]
[null,null,{"$f":"IF($AJ$140,\"     \"&$AI$140,\"     2 in. Hook-n-Loop strips\")","v":"     2 in. Hook-n-Loop strips"},null,null,null,null,null,"I modification",null,null,null,"  Normal",null,null,null,1,{"$f":"IF(AND($AB$54,SEATIDX>1),\"Right Shortened\",\"\")","v":""},null,{"$f":"IF(AB49=1,\"\",IF(SEATIDX>1,IF($AB$50,\"WITH TNUTS\",IF('Pick List'!$F$448>0,\"WITH TNUTS\",\"NO TNUTS\")),\"\"))","v":""},null,{"$f":"IF(AND($AB$55,SEATIDX>1),\"Left Shortened\",\"\")","v":""},1,null,null,null,null,null,"Description","None","I-Back","R-Back","T-Back","Charge","For chosen shape","V",null,null,null,"Foams required?"]
[{"$f":"'Pick List'!$B$43","v":false},null,null,null,null,null,null,null,{"$f":"$BG$140","v":"Mushroom foam on DT seat"},null,null,null,{"$f":"IF($AL$140,\"**Hidden not allowed**\",\"  Hidden (base only)\")","v":"  Hidden (base only)"},null,null,null,null,null,{"$f":"IF(AND(SEATIDX>1,$AB$49=3),MAX($AG$60,$AG$60+$AD$59,CHAIRWIDTH/2+$AD$59-((CHAIRWIDTH-Design!$BA$140)/2)),\"\")","v":""},{"$f":"AD59","v":0},{"$f":"IF(AND($AB$49=2,SEATIDX>1),MAX($AG$60,$AG$60+$AD$59,CHAIRWIDTH/2+$AD$59-((CHAIRWIDTH-Design!$BA$140)/2)),\"\")","v":""},null,null,null,null,null,null,1,{"$f":"\"Back: \"&INDEX(AC23:AC26,BACKCONFIG,FALSE)","v":"Back: Complete back"},"NA",{"$f":"INDEX(AE23:AE26,BACKCONFIG,FALSE)","v":71036},{"$f":"INDEX(AF23:AF26,BACKCONFIG,FALSE)","v":71051},{"$f":"INDEX(AG23:AG26,BACKCONFIG,FALSE)","v":71052},{"$f":"INDEX(AH23:AH26,BACKCONFIG,FALSE)","v":477},{"$f":"INDEX(AI23:AI26,BACKCONFIG,FALSE)","v":"NA"},{"$f":"IF(BACKIDX<>1,INDEX(AJ23:AJ26,BACKCONFIG,1),0)","v":0},null,{"$f":"CHOOSE($AB$14,\"FW \",\"DT \")&INDEX(AL23:AL26,BACKCONFIG,FALSE)","v":"FW Back"},null,{"$f":"INDEX(AN23:AN26,BACKCONFIG,1)","v":true},{"$f":"\"Back: \"&INDEX(AO23:AO26,BACKCONFIG,FALSE)","v":"Back: Base with foam & cover"}]
[{"$f":"'Pick List'!$B$42","v":false},null,{"$f":"IF(AB36,\"     HS relief NA:\",IF(FOAMSREQD,\"     Hamstring relief:\",\"     HS relief NA:\"))","v":"     HS relief NA:"},null,null,null,null,null,{"$f":"IF(AB35,\"Pelvic obliquity NA\",IF(FOAMSREQD,\"Pelvic obliquity\",\"Pelvic obliquity NA\"))","v":"Pelvic obliquity NA"},null,null,null,null,null,null,null,null,null,"Seat Channels Attached",null,null,null,null,null,null," ",null,1,"Complete back","NA",71036,71051,71052,477,{"$f":"INDEX(AD23:AG23,,$AB$13)","v":"NA"},0.5,null,"Back",null,true,"Base with foam & cover"]
[{"$f":"'Pick List'!$B$42","v":false},null,null,null,null,null,null,null,{"$f":"IF(AND(Seat!$D$2,FOAMSREQD),\"Depth adjustable contour\",\"Depth adjustable NA\")","v":"Depth adjustable NA"},null,null,null,null,{"$f":"IF($AB$61=3,\"     \"&$L$75,\"\")","v":""},null,null,null,null,null,null,null,null,{"$f":"AM43","v":0},null,null,null,null,2,{"$f":"IF(CURVED,\"**NA Vinyl covered base only**\",\"Vinyl covered base only\")","v":"Vinyl covered base only"},"NA",71056,71077,71078,477,{"$f":"INDEX(AD24:AG24,,$AB$13)","v":"NA"},0.5,null,"Base",null,false,"Vinyl covered base only"]
[{"$f":"'Pick List'!$B$44","v":false},null,null,null,null,null,null,null,"Dureflex liner",null,null,null,null,null,{"$f":"IF(AND($AB$61=3,ISNUMBER($AB$60),(OR($AB$60<1,$AB$60>0.5*SEATDEPTH))),\"  Invalid\",\"\")","v":""},null,null,null,null,null,null,null,null,null,null,null,null,3,{"$f":"IF(CURVED,\"**NA Cushion only**\",\"Cushion only\")","v":"Cushion only"},"NA",71079,71080,71081,477,{"$f":"INDEX(AD25:AG25,,$AB$13)","v":"NA"},{"$f":"IF(Seat!$AG$61=0,0,0.5)","v":0},"<-crosslink if contoured","Cush",null,true,"Cushion including foam & cover"]
[null,null,null,null,null,null,null,null,null,null," Contoured Seat w/ Leg Wells",null,null,null,{"$f":"IF($AB$61=3,$AB$60,\"\")","v":""},{"$f":"IF($AB$61=3,$H$75,\"\")","v":""},null,"Contoured w/ Pelvic & Leg Wells",null,null,null,null,null,null,null,null,null,4,{"$f":"IF(CURVED,\"**NA Cushion plus separate base**\",\"Cushion plus separate base\")","v":"Cushion plus separate base"},"NA",71073,71075,71076,719,{"$f":"INDEX(AD26:AG26,,$AB$13)","v":"NA"},{"$f":"IF(Seat!$AG$61=0,0.5,1)","v":0.5},"<-base? Crosslink?","Both",null,true,"Cushion plus separate vinyl covered base"]
[]
[null,null,null,null,null,null,{"$f":"IF($AB$61=2,$L$75,\"\")","v":""},null,null,{"$f":"IF($AB$61=3,$M$75,\"\")","v":""},null,null,null,null,null,null,null,null,null,null,{"$f":"IF($AB$61=4,IF(ISNUMBER($N$40),\"  \"&$N$40,\"  \"&$L$75),\"\")","v":""},null,null,null,null,null,null,null,"INDEXED LOOKUP TABLE"]
[null,null,null,null,null,null,null,null,null,null,null,null,null,null,null,{"$f":"IF($AB$61=3,\"             \"&$F$75,\"\")","v":""},null,{"$f":"IF($AB$61=4,$Q$75,\"\")","v":""},null,null,null,{"$f":"IF(AND($AB$61=4,ISNUMBER($AB$60),(OR($AB$60<1,$AB$60>0.5*SEATDEPTH))),\"Invalid\",\"\")","v":""},null,null,null,null,{"$f":"ISBLANK(OtherSeatMod)","v":false},null,"No Back Channel"]
[null,null,null,null,null,null,null,{"$f":"IF(AND($AB$61=2,ISNUMBER($AB$60),(OR($AB$60<1,$AB$60>0.5*SEATDEPTH))),\"Invalid\",\"\")","v":""},null,null,null,null,null,null,null,null,null,null,null,null,null,{"$f":"IF($AB$61=4,$AB$60,\"\")","v":""},null,null,null,null,null,null,"Lateral Back Channel"]
[null,null,null,null,"Anti-Thrust Seat",null,{"$f":"IF($AB$61=2,$AB$60,\"\")","v":""},null,{"$f":"IF($AB$61=2,$H$75,\"\")","v":""},null,null,null,null,null,{"$f":"IF($AB$61=3,\"   \"&$O$75,\"\")","v":""},null,null,null,null,null,null,null,{"$f":"IF($AB$61=4,$H$75,\"\")","v":""},null,null,null,null,null,{"$f":"IF(AND($AB$15=3,OR($AB$13<>3,$AB$14<>2)),\"**Invalid Back Channel**\",\"Full Back Channel\")","v":"Full Back Channel"}]
[null,null,null,null,null,null,null,null,null,null,null,null,null,null,null,null,{"$f":"IF($AB$61=4,$M$75,\"\")","v":""}]
[null,null,{"$f":"IF($AB$61=2,$M$75,\"\")","v":""},null,null,null,null,null,null,null,null,null,null,{"$f":"IF($AB$61=3,\" \"&$N$75,\"\")","v":""},{"$f":"IF(Seat!$B$5=3,\"Abductor=\"&$T$75&\"\"\"\",\"\")","v":""},null,null,{"$f":"IF(Seat!$B$5=4,\"Well=\"&$R$75&\"\"\"\",\"\")","v":""},null,null,null,null,{"$f":"IF($AB$61=4,\"       \"&$F$75,\"\")","v":""},null,null,null,null,{"$f":"'Pick List'!$B$37","v":false},"Mushroom foam?"]
[null,null,null,null,null,null,null,null,{"$f":"IF($AB$61=2,\" \"&$F$75,\"\")","v":""},null,{"$f":"IF($AB$61=3,$D$75,\"\")","v":""},null,null,null,null,null,null,null,null,null,null,null,null,null,null,null,null,{"$f":"'Pick List'!$B$40","v":false},"Depth adjustable chosen"]
[null,null,null,null,null,null,null,null,null,null,null,null,null,{"$f":"IF(Seat!$B$5=3,\"    Riser=\"&$S$75&\"\"\"\",\"\")","v":""},null,null,null,null,null,null,null,{"$f":"IF($AB$61=4,$O$75,\"\")","v":""},null,null,null,null,null,{"$f":"'Pick List'!$D$38","v":false},"Pelvic obliquity error condition"]
[null,null,null,null,null,null,null,null,null,{"$f":"IF(Seat!$B$5=3,\"Leg well rise=\"&$R$75&\"\"\"\",\"\")","v":""},null,null,null,null,null,null,null,null,null,null,null,null,null,null,null,null,null,{"$f":"'Pick List'!$D$39","v":false},"Hamstring relief error condition",null,null,null,null,null,"OtherSeatMod Selection (drop down below seat drawing)"]
[null,null,null,null,null,null,null,null,null,null,null,null,null,null,null,null,null,null,null,null,{"$f":"IF($AB$61=4,\" \"&$N$75,\"\")","v":""},null,null,null,null,null,null,{"$f":"'Pick List'!$D$41","v":false},"Dureflex liner error",null,null,null,null,null,""]
[null,null,null,{"$f":"IF($AB$61=2,$D$75,\"\")","v":""},null,null,null,null,null,null,"Anti-thrust riser",null,null,null,"Leg area length",null,null,{"$f":"IF($AB$61=4,$D$75,\"\")","v":""},null,null,null,{"$f":"IF(Seat!$B$5=4,\"Abductor=\"&$T$75&\"\"\"\",\"\")","v":""},null,null,null,null,null,{"$f":"'Pick List'!$D$36","v":false},"I-Modification error condition"]
[null,null,null,null,null,null,{"$f":"IF(Seat!$B$5=2,\"Riser=\"&$S$75&\"\"\"\",\"\")","v":""}]
[null,null,null,null,null,null,null,null,null,null,"Leg/pelvic well rise",null,null,null,"Pelvic length",null,null,null,null,null,{"$f":"IF(Seat!$B$5=4,\"    Riser=\"&$S$75&\"\"\"\",\"\")","v":""},null,null,null,null,null,null,"=IF('Pick List'!$B$469>1,AB50=\"true\")",null,null,null,null,null,null,"TABLE FOR OTHER SEAT MODIFICATIONS. Drop down list is not visible unless you mouse over the arrow."]
[null,null,null,null,null,null,null,null,null,null,null,null,null,null,null,null,null,null,null,null,null,null,"`",null,null,null,null,"I don't think the above is used"]
[null,null,null,null,null,null,null,null,null,null,"Abductor rise",null,null,null,null,null,null,null,null,null,null,null,null,"",null,null,null,null,null,null,null,null,null,null,"Formula below","Mod#","Description","Unused","Price"]
[null,null,null,null,null,null,null,null,null,null,null,null,null,null,null,null,null,null,null,null,null,null,null,null,null,null,null,null,null,null,null,null,null,null,{"$f":"IF(OtherSeatMod=\"\",1,MATCH($AI$37,AI45:AI51,0))","v":1},{"$f":"INDEX(AJ45:AJ52,$AI$43)","v":" "},{"$f":"INDEX(AK45:AK52,$AI$43)","v":" "},null,{"$f":"INDEX(AM45:AM52,$AI$43)","v":0}]
[null,null,null,null,null,null,null,null,null,null,null,null,null,null,null,null,null,null,null,null,null,null,null,null,null,null,null,"below is old X47 formula on turning the spreader message red"]
[null,null,"BACK SPECIFICATIONS: ",null,null,"I-BACK","R-BACK","T-BACK",null,"Back Contact Surface:",null,null,null,null,null,null,"Back Non-Contact Surface:",null,null,null,null,null,null,null,null,null,null,"=AND($AB$13>1,OR('Pick List'!$D$58,AND('Pick List'!$B$58,'Pick List'!$B$75),NOT('Pick List'!$CG$2)),FALSE)",null,null,null,null,null,"Leave blank->",null," "," ",null,0]
[null,null,null,"Back Height:",null,{"$f":"IF(ISNUMBER(E46),IF(E46>22,\"Oversized\",\"\"),\"Back height?\")","v":"Back height?"},null,"Curved:",null,null,null,null,null,null,null,null,null,null,null,null,null,null,null,null,null,null,null,false,"Lower contour message",{"$f":"AND($AB$13>1,$AB$46)","v":false},"<-test value",null,null,null,"71105-Trekker base buildup 12W","71105","Trekker base buildup 12W",null,48]
[null,null,null,null,null,{"$f":"IF(BACKWIDTHDIF>0,\"Reduce back width by =\",\"\")","v":""},null,null,null,"Top Layer:",null,null,null,null,null,null,null,null,{"$f":"IF(CURVED,\"Spreader Bar NA - Curved Back\",IF($AB$13>1,IF(AND('Pick List'!$B$68,'Pick List'!$B$83),\"**Spreader bar/hinge conflict**\",'Pick List'!$K$68),\"Spreader Bar\"))","v":"Spreader Bar"},null,null,null,null,{"$f":"LEFT(S47,1)=\"*\"","v":false},null,null,null,false,"Scapular cutouts selection",null,null,null,null,null,"71106-Trekker base buildup 14W","71106","Trekker base buildup 14W",null,48]
[null,null,{"$f":"IF($AB$13=1,\">\",\"\")","v":">"},null,null,null,null,null,null,"Middle Layer:",null,null,null,null,null,{"$f":"IF(CURVED,\"NA\",\"FIP: \")","v":"FIP: "},null,null,{"$f":"IF(CURVED,\"Scapular Cutouts  NA - Curved Back\",(IF($AB$47,IF($AB$13=3,\"R-Back Scapular Cutouts\",\"Scapular Cutouts only for R-Backs\"),IF($AB$13=3,\"R-Back Scapular Cutouts\",\"Scapular Cutouts only for R-Backs\"))))","v":"Scapular Cutouts only for R-Backs"},null,null,null,null,null,null,null,null,false,"Biangular back selection",null,null,null,null,null,null,null,null,null,0]
[{"$f":"'Pick List'!$B$63","v":false},null,null,null,null,null,null,null,null,"Bottom Layer:",null,null,null,null,null,null,null,null,null,null,null,null,null,null,null,null,null,1,"Leg length differential selection",null,null,null,null,null,null,null,null,null,0]
[{"$f":"'Pick List'!$B$69","v":false},null,null,null,null,null,null,null,null,{"$f":"IF($AB$13>1,\"Back foam thickness: \"&BACKFOAMTHICK&\"\"\"\",\"\")","v":""},null,null,null,null,{"$f":"IF($AB$19,\"Addtl FIP Gusset: \",\"\")","v":""},null,null,null,{"$f":"IF('Pick List'!$B$63,'Pick List'!BV2,\"\")","v":""},null,null,{"$f":"IF('Pick List'!$B$63,'Pick List'!BW2,\"\")","v":""},null,null,null,null,"True if no error",{"$f":"NOT(AND($AD$50,'Pick List'!$F$448=0))","v":true},{"$f":"IF(AB50,\" (w/Abd T-Nuts)\",\" (NO Abd T-Nuts)\")","v":" (w/Abd T-Nuts)"},false,"<- Omit abductor check box",null,null,null,null,null,null,null,0]
[{"$f":"'Pick List'!$B$70","v":false},null,null,null,null,null,null,null,null,"Base and/or cushion:",null,null,null,null,null,null,null,null,{"$f":"IF(BACKCONTOURED,\"Contour lower\",\"Not applicable\")","v":"Not applicable"},null,null,{"$f":"IF(BACKCONTOURED,\"inches\",\"\")","v":""},null,null,null,null,null,2,"Seat rail size"]
[{"$f":"AND('Pick List'!$AO$2,'Pick List'!$AP$2>1)","v":false},null,null,null,null,null,null,null,null,null,null,null,null,null,null,null,null,null,null,null,null,null,null,null,"Back",null,null,1,"Growth notch selection"]
[null,null,null,null,null,null,null,null,null,null,{"$f":"IF(OR($AB$13=2,$AB$13=4),\"I/T Custom dimensions\",\"Dimension mod NA\")","v":"Dimension mod NA"},null,null,null,{"$f":"IF(AND($AB$20,OR($AB$13=2,$AB$13=4)),IF(ISNUMBER($N$53),IF(OR($BD$114>$BD$115,$N$53<$BD$115),\" INVALID LBW\",\"inch lesser body width\"),\"lesser body width?\"),\"\")","v":""},null,null,null,null,null,null,null,null,null,null,null,null,{"$f":"AND(Seat!$B$5=5,SEATIDX<>5)","v":false},"Seat foam in place gusset"]
[null,null,null,null,null,null,null,null,null,null,{"$f":"IF(OR(CURVED,$AB$15=3,'Pick List'!$B$63),\"Biangular NA\",\"Biangular back\")","v":"Biangular back"},null,null,{"$f":"IF(X54,IF(ISNUMBER($M$54),\"inches from bottom to hinge\",\"distance to hinge?\"),\"\")","v":""},null,null,null,null,"Dureflex Liner",null,null,null,null,{"$f":"AND($AB$13>1,$AB$48)","v":false},null,null,null,{"$f":"IF(Design!$AB$49=2,TRUE(),FALSE())","v":false},"Right Shortened"]
[null,null,null,null,null,{"$f":"IF(AND($AB$15=3,OR($AB$13<>3,$AB$14<>2)),\"Full channel valid for DT R-Back only\",IF(AND($AB$15=3,$AB$48),\"Full channel NA for biangular back\",\"\"))","v":""},null,null,null,null,null,null,null,"W=",2,null,null,null,null,null,null,null,null,{"$f":"'Pick List'!$B$63","v":false},null,null,null,{"$f":"IF(Design!$AB$49=3,TRUE(),FALSE())","v":false},"Left Shortened"]
[null,null,null,null,null,{"$f":"IF($AB$13=2,VLOOKUP(BACKIDX,Design!$AZ$129:$BA$137,2),\"\")","v":""},null,{"$f":"IF(AB13=2,IF(Design!$E$46<=12,3,IF(Design!$E$46<=15,4,IF(Design!$E$46<=19,5,6))),\"\")","v":""},null,null,null,null,null,null,"H=",2,null,null,null,{"$f":"IF($AB$13=4,VLOOKUP(BACKIDX,Design!$AZ$129:$BA$137,2),\"\")","v":""},null,{"$f":"IF(AB13=4,IF(Design!$E$46<=12,3,IF(Design!$E$46<=15,4,IF(Design!$E$46<=19,5,6))),\"\")","v":""},null,null,null,null,null,"Below is planar anti-thrust leg well length spinner & reverse"]
[null,null,null,{"$f":"IF(AB13=2,1.125,\"\")","v":""},null,null,null,null,null,null,null,null,null,null,null,null,null,{"$f":"IF(AB13=4,1.125,\"\")","v":""},null,null,null,null,4,null,null,null,null,20,{"$f":"AB57-20","v":0},{"$f":"-AC57/2","v":0}]
[null,null,null,{"$f":"MAX($BD$113,0)","v":1.125},null,{"$f":"IF(AND($AB$13=2,$AB$20),IF(O53=\" INVALID LBW\",\"INVALID WIDTH\",\"Custom Dims\"),\"\")","v":""},null,null,{"$f":"IF(ISNUMBER(I57),I57,H56)","v":""},null,null,null,null,null,null,null,null,{"$f":"MAX($BD$113,0)","v":1.125},null,{"$f":"IF(AND($AB$13=4,$AB$20),IF(O53=\" INVALID LBW\",\"INVALID WIDTH\",\"Custom Dims\"),\"\")","v":""},null,null,{"$f":"IF(ISNUMBER(W57),W57,V56)","v":4},null,null,null,null,"Below is leg length differential width spinner & reverse",null,null,null,"Abductor space req'd",2.25,"Input parameter"]
[null,null,null,{"$f":"IF(AND($AB$20,$AB$13=2,D58<1.125),\"Unusual\",\"\")","v":""},null,{"$f":"IF(AND(AB13=2,AB20),Design!BD115,\"\")","v":""},null,null,null,null,null,null,null,null,null,null,null,{"$f":"IF(AND($AB$20,$AB$13=4,R58<1.125),\"Unusual\",\"\")","v":""},null,{"$f":"IF(AND(AB13=4,AB20),BD115,\"\")","v":""},null,null,null,null,null,null,null,13,{"$f":"AB59-13","v":0},{"$f":"AC59/2","v":0},null,"Max short side",{"$f":"IF(HASABDTNUTS,(SEATBASEWIDTH/2)-($AG$58/2),SEATBASEWIDTH/2-LEGLENGTHSHIFT)","v":-1.125}]
[null,null,{"$f":"IF($AB$13=2,$E$46,\"\")","v":""},null,null,{"$f":"IF(AB13=2,VLOOKUP(BACKIDX,Design!$AZ129:$BA$137,2)-2.25,\"\")","v":""},{"$f":"IF(AB13=2,Design!$E$46-Design!H56-Design!H63,\"\")","v":""},{"$f":"Design!$E$46-I58-I64","v":{"$error":"#VALUE!"}},null,null,null,null,{"$f":"IF($AB$13=3,VLOOKUP(BACKIDX,Design!$AZ$129:$BA$137,2),\"\")","v":""},null,null,{"$f":"IF(AB13=3,Design!$E$46,\"\")","v":""},{"$f":"IF($AB$13=4,$E$46,\"\")","v":""},null,null,{"$f":"IF(AB13=4,VLOOKUP(BACKIDX,Design!$AZ129:$BA$137,2)-2.25,\"\")","v":""},{"$f":"IF($AB$13=4,$E$46-V56,\"\")","v":""},null,null,null,null,null,null,{"$f":"IF(AND(ISNUMBER($N$38),ISNUMBER($N$40)),SEATDEPTH-$H$75-$L$75,2)","v":2},"Slope Distance",null,null,"Min long side",{"$f":"SEATBASEWIDTH-$AG$59","v":1.125}]
[null,null,null,null,null,{"$f":"IF(AND($AB$13=2,$AB$48),\"-----Biangular-----\",\"\")","v":""},null,null,null,null,null,null,{"$f":"IF(AND($AB$13=3,$AB$48),\"-----Biangular-----\",\"\")","v":""},null,null,null,null,null,null,{"$f":"IF(AND($AB$13=4,$AB$48),\"-----Biangular-----\",\"\")","v":""},null,{"$f":"IF(AB13=4,IF(ISNUMBER($W$57),Design!$E$46-Design!W57,$U$60),\"\")","v":""},{"$f":"IF(ISNUMBER(W57),V61,U60)","v":""},null,null,null,null,{"$f":"Seat!B5","v":1},"1 thru 5 representing which type of seat for formatting"]
[null,null,null,null,null,{"$f":"IF($AB$13=2,IF($AB$14=1,\"Full Width\",\"Between Canes\"),\"\")","v":""},null,null,null,null,null,null,{"$f":"IF($AB$13=3,IF($AB$14=1,\"Full Width\",\"Between Canes\"),\"\")","v":""},null,null,null,null,null,null,{"$f":"IF($AB$13=4,IF($AB$14=1,\"Full Width\",\"Between Canes\"),\"\")","v":""},null,null,null,null,null,null,null,{"$f":"Seat!B7","v":1},"Seat foam and contour pick for formatting"]
[null,{"$f":"IF($AB$20,\"\",\"\")","v":""},null,null,null,{"$f":"IF(AND($AB$13=2,'Pick List'!$B$68),\"**Spreader Bar**\",\"\")","v":""},null,{"$f":"Design!H56","v":""},null,null,null,null,{"$f":"IF(AND($AB$13=3,'Pick List'!$B$68),\"**Spreader Bar**\",\"\")","v":""},null,null,null,null,null,null,{"$f":"IF(AND($AB$13=4,'Pick List'!$B$68),IF(Design!$AB14=2,\"Spreader Bar\",\"**Spreader Bar**\"),\"\")","v":""},null,null,null,null,null,null,null,{"$f":"AND(BACKFOAMSCUSTOM,$AB$13>1,BACKFOAMSREQD)","v":false},"Custom contour Back"]
[null,null,null,null,null,{"$f":"IF($AB$13=2,IF($AB$15=3,\"Full channel INVALID\",IF($AB$15=2,\"Channels Attached\",\"\")),\"\")","v":""},null,null,{"$f":"IF(ISNUMBER(I63),I63,H63)","v":""},null,null,null,{"$f":"IF($AB$13=3,IF(AND($AB$15=3,$AB$14=1),\"Full channel INVALID\",IF($AB$15>1,\"Channels Attached\",\"\")),\"\")","v":""},null,null,null,null,null,null,{"$f":"IF($AB$13=4,IF($AB$15=3,\"Full channel INVALID\",IF($AB$15=2,\"Channels Attached\",\"\")),\"\")","v":""},null,null,null,null,null,null,null,{"$f":"AND(SEATCONTOURED,SEATIDX<>1)","v":false},"Custom contour Seat"]
[null,null,null,{"$f":"Seat!$AS$1&IF(Seat!$BD$2>0,\"   Default usuable depth=\"&Seat!$BD$2,\"\")&IF('Pick List'!$V$409>0,\"   HG pad=\"&'Pick List'!$V$409&\"x\"&'Pick List'!$W$409,\"\")&IF('Pick List'!$AG$433<>\"N/A\",\"   Hip width=\"&'Pick List'!$AG$433,\"\")","v":"No seat.    Assume 2\" thick back."},null,null,null,null,null,null,null,null,null,null,null,null,null,null,null,null,null,null,null,null,null,null,null,{"$f":"Seat!C91","v":0},"UNUSED   value in custom contour back"]
[null,"5.1 1/20/22",null,{"$f":"IF(BACKLBW>0,\"Back LBW=\"&BACKLBW,\"\")&IF(MINBCO>0,\"    Tray BCO to clear pads=\"&MINBCO,\"\")&IF('Pick List'!$A$250,\"   **LTS SA/SW cane interference**\",\"\")&IF('Pick List'!$W$272>0,\"   LTS pads=\"&'Pick List'!$W$272&\"x\"&'Pick List'!$X$272,\"\")&IF('Pick List'!$B$238<>1,IF('Pick List'!$AG$236>0,\"   Chest width=\"&'Pick List'!$AG$236,\" Chest width N/A\"),\"\")","v":""},null,null,null,null,null,null,null,null,null,null,null,null,null,null,null,null,null,null,null,null,null,null,null,{"$f":"SEATCONTOURED","v":false},"value in custom contour seat"]
[]
[]
[]
[]
[]
[null,null,null,null,null,null,null,null,null,null,null,null,null,null,null,null,null,null,null,null,null,null,null,null,null,null,null,null,null,null,null,null,null,null,"Value input for thread color"]
[null,null,null,null,null,null,null,null,null,null,null,null,null,null,null,null,null,null,null,null,null,null,null,null,null,null,null,null,null,null,null,null,null,null,{"$f":"V9","v":0}]
[null,null,null,"A","B","C",null,"D",null,null,null,"E","F","G","H","I","J","Well","Riser","Abd",null,null,null,null,null,null,null,null,null,null,null,null,null,null,"Thread color chosen below"]
[null,null,null,{"$f":"Design!I13","v":0},{"$f":"CHAIRWIDTH","v":0},{"$f":"Seat!$BI$27","v":0},null,{"$f":"Seat!$BJ$27","v":0},null,null,null,{"$f":"Seat!BK$27","v":0},{"$f":"Seat!$BL$27","v":0},{"$f":"Seat!BM$27","v":0},{"$f":"Seat!$BN$7","v":2},{"$f":"Seat!BO$27","v":0},{"$f":"Seat!$BP$27","v":2},{"$f":"INDEX(Seat!$AH$9:$AH$26,CONTIDX)","v":0},{"$f":"Seat!$AG$7","v":0},{"$f":"INDEX(Seat!$AI$9:$AI$26,CONTIDX)","v":0},null,null,null,null,null,null,null,null,null,null,null,null,null,40,{"$f":"IF(AH75=99,AI73,INDEX(AI76:AI118,AH75,1))","v":"White"}]
[null,null,null,null,null,null,null,null,null,null,null,null,null,null,null,null,null,null,null,null,null,null,null,null,null,null,null,null,null,null,null,null,null,1,"Beige"]
[null,null,null,null,null,null,null,null,null,null,null,null,null,null,null,null,null,null,null,null,null,null,null,null,null,null,null,null,null,null,null,null,null,2,"Black "]
[null,null,null,null,null,null,null,null,null,null,null,null,null,null,null,null,null,null,null,null,null,null,null,null,null,null,null,null,null,null,null,null,null,3,"Blue"]
[null,null,null,null,null,null,null,null,null,null,null,null,null,null,null,null,null,null,null,null,null,null,null,null,null,null,null,null,null,null,null,null,null,4,"Blue-Candy"]
[null,null,null,null,null,null,null,null,null,null,null,null,null,null,null,null,null,null,null,null,null,null,null,null,null,null,null,null,null,null,null,null,null,5,"Blue-Cosmic"]
[null,null,null,null,null,null,null,null,null,null,null,null,null,null,null,null,null,null,null,null,null,null,null,null,null,null,null,null,null,null,null,null,null,6,"Blue-Electric"]
[null,null,null,null,null,null,null,null,null,null,null,null,null,null,null,null,null,null,null,null,null,null,null,null,null,null,null,null,null,null,null,null,null,7,"Blue-Island",null,null,null,null,null,null,null,null,null,null,null,null,null,null,null,null,null,null,null,"DO NOT USE OR MOVE THE CELL BELOW. THERE IS SOME SERIOUSLY WRONG WITH IT."]
[null,null,null,null,null,null,null,null,null,null,null,null,null,null,null,null,null,null,null,null,null,null,null,null,null,null,null,null,null,null,null,null,null,8,"Blue-Light",null,null,null,null,null,null,null,null,null,null,null,null,null,null,null,null,null,null,null,"White"]
[null,null,null,null,null,null,null,null,null,null,null,null,null,null,null,null,null,null,null,null,null,null,null,null,null,null,null,null,null,null,null,null,null,9,"Blue-Opal"]
[null,null,null,null,null,null,null,null,null,null,null,null,null,null,null,null,null,null,null,null,null,null,null,null,null,null,null,null,null,null,null,null,null,10,"Brown"]
[null,null,null,null,null,null,null,null,null,null,null,null,null,null,null,null,null,null,null,null,null,null,null,null,null,null,null,null,null,null,null,null,null,11,"Burgundy"]
[null,null,null,null,null,null,null,null,null,null,null,null,null,null,null,null,null,null,null,null,null,null,null,null,null,null,null,null,null,null,null,null,null,12,"Cinnamon"]
[null,null,null,null,null,null,null,null,null,null,null,null,null,null,null,null,null,null,null,null,null,null,null,null,null,null,null,null,null,null,null,null,null,13,"Copper"]
[null,null,null,null,null,null,null,null,null,null,null,null,null,null,null,null,null,null,null,null,null,null,null,null,null,null,null,null,null,null,null,null,null,14,"Fuschia"]
[null,null,null,null,null,null,null,null,null,null,null,null,null,null,null,null,null,null,null,null,null,null,null,null,null,null,null,null,null,null,null,null,null,15,"Granny Smith"]
[null,null,null,null,null,null,null,null,null,null,null,null,null,null,null,null,null,null,null,null,null,null,null,null,null,null,null,null,null,null,null,null,null,16,"Green-Forest"]
[null,null,null,null,null,null,null,null,null,null,null,null,null,null,null,null,null,null,null,null,null,null,null,null,null,null,null,null,null,null,null,null,null,17,"Green-Grasshopper",null,null,null,null,null,null,null,null,null,null,null,null,null,null,null,null,null,null,null,null,null,null,1,"TUBE SIZE"]
[null,null,null,null,null,null,null,null,null,null,null,null,null,null,null,null,null,null,null,null,null,null,null,null,null,null,null,null,null,null,null,null,null,18,"Green-Kelly",null,null,null,null,null,null,null,null,null,null,null,null,null,null,null,null,null,null,null,"Base Parameters",null,null,1,"Choose",0]
[null,null,null,null,null,null,null,null,null,null,null,null,null,null,null,null,null,null,null,null,null,null,null,null,null,null,null,null,null,null,null,null,null,19,"Green-Lime",null,null,null,null,null,null,null,null,null,null,null,null,null,null,null,null,null,null,null,null,null,null,2,"7/8\" ",7]
[null,null,null,null,null,null,null,null,null,null,null,null,null,null,null,null,null,null,null,null,null,null,null,null,null,null,null,null,null,null,null,null,null,20,"Green-Toxic",null,null,null,null,null,null,null,null,null,null,null,null,null,null,null,null,null,null,null,"Full Width Amt",-0.25,null,3,"1\" ",1]
[null,null,null,null,null,null,null,null,null,null,null,null,null,null,null,null,null,null,null,null,null,null,null,null,null,null,null,null,null,null,null,null,null,21,"Grey",null,null,null,null,null,null,null,null,null,null,null,null,null,null,null,null,null,null,null,"between the canes Amt",-2.75,null,4,"1-1/8\" ",8]
[null,null,null,null,null,null,null,null,null,null,null,null,null,null,null,null,null,null,null,null,null,null,null,null,null,null,null,null,null,null,null,null,null,22,"Orange",null,null,null,null,null,null,null,null,null,null,null,null,null,null,null,null,null,null,null,null,null,null,5,"Mixed ",9]
[null,null,null,null,null,null,null,null,null,null,null,null,null,null,null,null,null,null,null,null,null,null,null,null,null,null,null,null,null,null,null,null,null,23,"Pink",null,null,null,null,null,null,null,null,null,null,null,null,null,null,null,null,null,null,null,null,null,null,null,"FONT"]
[null,null,null,null,null,null,null,null,null,null,null,null,null,null,null,null,null,null,null,null,null,null,null,null,null,null,null,null,null,null,null,null,null,24,"Pink-Bubblegum",null,null,null,null,null,null,null,null,null,null,null,null,null,null,null,null,null,null,null,"Minimum center width input",6,null,null,"1=block, 2=script",4]
[null,null,null,null,null,null,null,null,null,null,null,null,null,null,null,null,null,null,null,null,null,null,null,null,null,null,null,null,null,null,null,null,null,25,"Pink-Parfait",null,null,null,null,null,null,null,null,null,null,null,null,null,null,null,null,null,null,null,"Actual Base Width",{"$f":"INDEX(BA129:BA137,BACKIDX)","v":0},null,null,{"$f":"IF(BH99=1,\"Block\",\"Script\")","v":"Script"},1]
[null,null,null,null,null,null,null,null,null,null,null,null,null,null,null,null,null,null,null,null,null,null,null,null,null,null,null,null,null,null,null,null,null,26,"Pink-Pearl",null,null,null,null,null,null,null,null,null,null,null,null,null,null,null,null,null,null,null,"Actual Back Width/2",{"$f":"BD100/2","v":0}]
[null,null,null,null,null,null,null,null,null,null,null,null,null,null,null,null,null,null,null,null,null,null,null,null,null,null,null,null,null,null,null,null,null,27,"Purple",null,null,null,null,null,null,null,null,null,null,null,null,null,null,null,null,null,null,null,"Max of half of width and min width",{"$f":"MAX(BD99,BD101)","v":6}]
[null,null,null,null,null,null,null,null,null,null,null,null,null,null,null,null,null,null,null,null,null,null,null,null,null,null,null,null,null,null,null,null,null,28,"Purple-Deep",null,null,null,null,null,null,null,null,null,null,null,null,null,null,null,null,null,null,null,"FULL CONTOUR THICKNESS","=IF(BD135>=12,(0.4583*BD137)-1.1667,(0.5263*BD137)-1.5066)","not used?"]
[null,null,null,null,null,null,null,null,null,null,null,null,null,null,null,null,null,null,null,null,null,null,null,null,null,null,null,null,null,null,null,null,null,29,"Purple-Electric"]
[null,null,null,null,null,null,null,null,null,null,null,null,null,null,null,null,null,null,null,null,null,null,null,null,null,null,null,null,null,null,null,null,null,30,"Purple-Light",null,null,null,null,null,null,null,null,null,null,null,null,null,null,null,null,null,null,null,"Entered I-Back serif value",{"$f":"Design!D58","v":1.125}]
[null,null,null,null,null,null,null,null,null,null,null,null,null,null,null,null,null,null,null,null,null,null,null,null,null,null,null,null,null,null,null,null,null,31,"Raspberry",null,null,null,null,null,null,null,null,null,null,null,null,null,null,null,null,null,null,null,"calculated I-Back center width",{"$f":"BD100-2*BD105","v":-2.25}]
[null,null,null,null,null,null,null,null,null,null,null,null,null,null,null,null,null,null,null,null,null,null,null,null,null,null,null,null,null,null,null,null,null,32,"Razzleberry",null,null,null,null,null,null,null,null,null,null,null,null,null,null,null,null,null,null,null,"I-Back center width after limits",{"$f":"MAX(MIN(BD106,BD$100),BD$102)","v":6}]
[null,null,null,null,null,null,null,null,null,null,null,null,null,null,null,null,null,null,null,null,null,null,null,null,null,null,null,null,null,null,null,null,null,33,"Root Beer"]
[null,null,null,null,null,null,null,null,null,null,null,null,null,null,null,null,null,null,null,null,null,null,null,null,null,null,null,null,null,null,null,null,null,34,"Red",null,null,null,null,null,"Computing IDX for back from two radio button choices",null,null,null,null,null,null,null,null,null,null,null,null,null,"Entered T-Back serif value",{"$f":"R58","v":1.125}]
[null,null,null,null,null,null,null,null,null,null,null,null,null,null,null,null,null,null,null,null,null,null,null,null,null,null,null,null,null,null,null,null,null,35,"Red-Candy",null,null,null,null,null,null,null,"FW","DT",null,null,null,null,null,null,null,null,null,null,"calculated T-Back center width",{"$f":"BD100-2*BD109","v":-2.25}]
[null,null,null,null,null,null,null,null,null,null,null,null,null,null,null,null,null,null,null,null,null,null,null,null,null,null,null,null,null,null,null,null,null,36,"Silver",null,null,null,null,null,null,null,1,2,null,null,null,null,null,null,null,null,null,null,"T-Back center width after limits",{"$f":"MAX(MIN(BD110,BD$100),BD$102)","v":6}]
[null,null,null,null,null,null,null,null,null,null,null,null,null,null,null,null,null,null,null,null,null,null,null,null,null,null,null,null,null,null,null,null,null,37,"Teal-Electric",null,null,null,null,null,"NO BACK",1,1,1]
[null,null,null,null,null,null,null,null,null,null,null,null,null,null,null,null,null,null,null,null,null,null,null,null,null,null,null,null,null,null,null,null,null,38,"Turquoise-Candy",null,null,null,null,null,"I-BACK",2,2,3,null,null,null,null,null,null,null,null,null,null,"Calculated serif value",{"$f":"IF(AND(Design!$AB$20,ISNUMBER(Design!$N$53)),(BD$100-BD114)/2,$AY$125/2)","v":1.125}]
[null,null,null,null,null,null,null,null,null,null,null,null,null,null,null,null,null,null,null,null,null,null,null,null,null,null,null,null,null,null,null,null,null,39,"Vegas Gold",null,null,null,null,null,"R-BACK",3,4,5,null,null,null,null,null,null,null,null,null,null,"Input lesser body width",{"$f":"$N$53","v":0}]
[null,null,null,null,null,null,null,null,null,null,null,null,null,null,null,null,null,null,null,null,null,null,null,null,null,null,null,null,null,null,null,null,null,40,"White",null,null,null,null,null,"T-BACK",4,6,7,null,null,null,null,null,null,null,null,null,null,"Lesser body width after limits",{"$f":"IF(AND(Design!$AB$20,ISNUMBER(Design!$N$53)),MAX(MIN(BD114,$BA$127),BD$102),$AY$127)","v":0},"formula was",{"$f":"MAX(MIN(BD111,$AY$124),BD$99)","v":6}]
[null,null,null,null,null,null,null,null,null,null,null,null,null,null,null,null,null,null,null,null,null,null,null,null,null,null,null,null,null,null,null,null,null,41,"Yellow",null,null,null,null,null,null,null,null,null,null,null,null,null,null,null,null,null,null,null,null,null,"allowing insets under 1-1/8\" with only warning of \"unusual\""]
[null,null,null,null,null,null,null,null,null,null,null,null,null,null,null,null,null,null,null,null,null,null,null,null,null,null,null,null,null,null,null,null,null,42,"Yellow Gold"]
[null,null,null,null,null,null,null,null,null,null,null,null,null,null,null,null,null,null,null,null,null,null,null,null,null,null,null,null,null,null,null,null,null,99,"INPUT"]
[]
[]
[]
[]
[null,null,null,null,null,null,null,null,null,null,null,null,null,null,null,null,null,null,null,null,null,null,null,null,null,null,null,null,null,null,null,null,null,null,null,null,null,null,{"$f":"IF(BACKSHAPE=1,1,2*BACKSHAPE-3+Design!$AB$14)","v":1},"Needed?",null,null,null,null,null,null,null,null,null,null,null,null,null,1.125,"<-total diff between actual LBW and standard LBW for FW T-back before a spreader bar is required"]
[null,null,null,null,null,null,null,null,null,null,null,null,null,null,null,null,null,null,null,null,null,null,null,null,null,null,null,null,null,null,null,null,null,null,null,null,null,null,"formula to right would add serif and lbw to desc below","=AN124&\", \"&BACKWIDTH&\"\"\" W x \"&Design!$E$46&\"\"\" H\"&IF(NOT('Pick List'!$B$45),IF(BACKSHAPE=2,\", serif=\"&Design!$H$56&\" lbw=\"&Design!$F$60,IF(BACKSHAPE=4,\", serif=\"&Design!$V$56&\" lbw=\"&Design!$T$60,\"\")),\"\")"]
[null,null,null,null,null,null,null,null,null,null,null,null,null,null,null,null,null,null,null,null,null,null,null,null,null,null,null,null,null,null,null,null,null,null,null,null,null,null,null,{"$f":"AN127&\", \"&BACKWIDTH&\"\"\" W x \"&Design!$E$46&\"\"\" H\"","v":"NO BACK, 0\" W x \" H"},null,null,null,{"$f":"BACKWIDTH&\"\"\"W \"&Design!$E$46&\"\"\"H\"","v":"0\"W \"H"},null,null,null,null,"Dimension adjustments-->",2.75,2.25,null,{"$f":"(BA127-BB127)/2","v":0},"<-Inset on one side. Used for foam thickness calc only"]
[null,null,null,null,null,null,null,null,null,null,null,null,null,null,null,null,null,null,null,null,null,null,null,null,null,null,null,null,null,null,null,null,null,null,null,null,null,"Computed in little table above",null,{"$f":"SUBSTITUTE(AN127,comma,\":\")","v":"NO BACK"},null,null,null,null,null,null,null,null,null,null,null,null,null,"  V-- Used for contour foam thickness & LTS brackets",null,null,null,"Below used for Hip Guide depth calc"]
[null,null,null,null,null,null,null,null,null,null,null,null,null,null,null,null,null,null,null,null,null,null,null,null,null,null,null,null,null,null,null,null,null,null,null,null,{"$f":"INDEX(AK129:AK137,BACKIDX,1)","v":0},null,{"$f":"INDEX(AQ112:AR115,$AB$13,$AB$14)","v":1},{"$f":"INDEX(AN129:AN137,BACKIDX,1)","v":"NO BACK"},null,{"$f":"INDEX(AP129:AP137,BACKIDX,1)","v":"ITEM"},{"$f":"INDEX(AQ129:AQ137,BACKIDX,1)","v":0},null,null,{"$f":"INDEX(AT129:AT137,BACKIDX,1)","v":0},{"$f":"IF(INDEX(AU129:AU137,BACKIDX,1)=\"PRICE\",0,INDEX(AU129:AU137,BACKIDX,1))","v":0},{"$f":"IF(INDEX(AV129:AV137,BACKIDX,1)=\"COST\",\"\",INDEX(AV129:AV137,BACKIDX,1))","v":""},null,{"$f":"BACKWIDTH","v":0},{"$f":"INDEX(AY129:AY137,BACKIDX,1)","v":0},null,{"$f":"INDEX(BA129:BA137,BACKIDX,1)","v":0},{"$f":"INDEX(BB129:BB137,BACKIDX,1)","v":0},"<-BACK REAL LBW",null,null,{"$f":"INDEX(BF129:BF137,BACKIDX,1)","v":2}]
[null,null,null,null,null,null,null,null,null,null,null,null,null,null,null,null,null,null,null,null,null,null,null,null,null,null,null,null,null,null,null,null,null,null,null,null,"SPREADER BAR MESSAGE",null,"Idx","BACK",null,"Item","HCPCS","between the canes","Delta Amt","Rec Qty","Retail Price","Cost","Text","Width","Std Ctr Width","Index","Base width","Actual Ctr Width",null,null,null,"Useable depth reduction","Reduction in seat depth due to back thickness"]
[null,null,null,null,null,null,null,null,null,null,null,null,null,null,null,null,null,null,null,null,null,null,null,null,null,null,null,null,null,null,null,null,null,null,null,null,null,null,1,"NO BACK",null,"ITEM",null,{"$f":"FALSE()","v":false},0,0,"PRICE","COST"," ",null,null,{"$f":"AM129","v":1},null,0,null,null,null,2,"Assume 2\" if no back (never picked due to IF)"]
[null,null,null,null,null,null,null,null,null,null,null,null,null,null,null,null,null,null,null,null,null,null,null,null,null,null,null,null,null,null,null,null,null,null,null,null,null,null,2,"I-Back, Full width",null,50005,"E2617",{"$f":"FALSE()","v":false},{"$f":"$BD$95","v":-0.25},1,477,null,"Full Width Dimensions",{"$f":"$AX$127","v":0},{"$f":"BA130-$AY$125","v":-2.5},{"$f":"AM130","v":2},{"$f":"BACKWIDTH+AS130","v":-0.25},{"$f":"IF(Design!$AB$20,$BD$107,AY130)","v":-2.5},null,null,null,{"$f":"Seat!$AH$61","v":0},"Assume full width, use contour at edge"]
[null,null,null,null,null,null,null,null,null,null,null,null,null,null,null,null,null,null,null,null,null,null,null,null,null,null,null,null,null,null,null,null,null,null,null,null,null,null,3,"I-Back, Between the canes",null,50015,"E2617",{"$f":"TRUE()","v":true},{"$f":"$BD$96","v":-2.75},1,477,null,"Drop-Thru Dimensions",{"$f":"$AX$127-$AX$125","v":-2.75},{"$f":"BA131-$AY$125","v":-5},{"$f":"AM131","v":3},-2.75,{"$f":"IF(Design!$AB$20,$BD$107,AY131)","v":-5},null,null,null,{"$f":"Seat!$AH$61","v":0},"Assume full width, use contour at edge"]
[null,null,null,null,null,null,null,null,null,null,null,null,null,null,null,null,null,null,null,null,null,null,null,null,null,null,null,null,null,null,null,null,null,null,null,null,null,null,4,"R-Back, Full width",null,50020,"E2617",{"$f":"FALSE()","v":false},{"$f":"$BD$95","v":-0.25},1,477,null,"Full Width Dimensions",{"$f":"$AX$127","v":0},{"$f":"BA132","v":-0.25},4,-0.25,{"$f":"AY132","v":-0.25},null,null,null,{"$f":"Seat!$AH$61","v":0},"Assume full width, use contour at edge"]
[null,null,null,null,null,null,null,null,null,null,null,null,null,null,null,null,null,null,null,null,null,null,null,null,null,null,null,null,null,null,null,null,null,null,null,null,null,null,5,"R-Back, Between canes",null,50030,"E2617",{"$f":"TRUE()","v":true},{"$f":"$BD$96","v":-2.75},1,477,null,"Drop-Thru Dimensions",{"$f":"$AX$127-$AX$125","v":-2.75},{"$f":"BA133","v":-2.75},5,-2.75,{"$f":"AY133","v":-2.75},null,null,null,{"$f":"Seat!$AH$61","v":0},"Assume full width, use contour at edge"]
[null,null,null,null,null,null,null,null,null,null,null,null,null,null,null,null,null,null,null,null,null,null,null,null,null,null,null,null,null,null,null,null,null,null,null,"If actual LBW is less than standard LBW minus factor in BB120 then a spreader bar is required->",{"$f":"IF($BB$134<($AY$134-$BB$123),IF('Pick List'!$B$83,\"Spreader Bar\",\"** Spreader Bar or Hinge Hdw Req'd **\"),\"Spreader Bar\")","v":"Spreader Bar"},null,6,"T-Back, Full width",null,50010,"E2617",{"$f":"FALSE()","v":false},{"$f":"$BD$95","v":-0.25},1,477,null,"Full Width Dimensions",{"$f":"$AX$127","v":0},{"$f":"BA134-$AY$125","v":-2.5},6,-0.25,{"$f":"IF(Design!$AB$20,$BD$111,AY134)","v":-2.5},null,null,null,{"$f":"Seat!$AG$61","v":0},"Use contour thickness at LBW"]
[null,null,null,null,null,null,null,null,null,null,null,null,null,null,null,null,null,null,null,null,null,null,null,null,null,null,null,null,null,null,null,null,null,null,null,null,{"$f":"IF(OR('Pick List'!$B$82=1,'Pick List'!$B$83),\"Spreader Bar\",\"** Spreader Bar or Hinge Hdw Req'd **\")","v":"Spreader Bar"},null,7,"T-Back, Between the canes",null,50000,"E2617",{"$f":"TRUE()","v":true},{"$f":"$BD$96","v":-2.75},1,477,null,"Drop-Thru Dimensions",{"$f":"$AX$127-$AX$125","v":-2.75},{"$f":"BA135-$AY$125","v":-5},7,-2.75,{"$f":"IF(Design!$AB$20,$BD$111,AY135)","v":-5},null,null,null,{"$f":"Seat!$AG$61","v":0},"Use contour thickness at LBW"]
[null,null,null,null,null,null,null,null,null,null,null,null,null,null,null,null,null,null,null,null,null,null,null,null,null,null,null,null,null,null,null,null,null,null,null,null,null,null,8,"Back vinyl base, full width - NOT USED",null,50004,"E2617",{"$f":"FALSE()","v":false},{"$f":"$BD$95","v":-0.25},1,382,null," ",{"$f":"$AX$127","v":0},{"$f":"BA136","v":-0.25},8,-0.25,{"$f":"AY136","v":-0.25},null,null,null,2,"Assume 2\" if no back"]
[null,null,null,null,null,null,null,null,null,null,null,null,null,null,null,null,null,null,null,null,null,null,null,null,null,null,null,null,null,null,null,null,null,null,null,null,null,null,9,"Back vinyl base, between the canes - NOT USED",null,50004,"E2617",{"$f":"FALSE()","v":false},{"$f":"$BD$96","v":-2.75},1,382,null,null,{"$f":"$AX$127-$AX$125","v":-2.75},{"$f":"BA137-$AY$125","v":-5},9,-2.75,{"$f":"AY137","v":-5},null,null,null,2,"Assume 2\" if no back"]
[null,null,null,null,null,null,null,null,null,null,null,null,null,null,null,null,null,null,null,null,null,null,null,null,null,null,null,null,null,null,null,null,null,null,null,null,null,"Below for notch cond formating"]
[null,null,null,null,null,null,null,null,null,null,null,null,null,null,null,null,null,null,null,null,null,null,null,null,null,null,null,null,null,null,null,null,null,null,null,null,null,null,null,{"$f":"AK140&\", \"&CHAIRWIDTH&\"\"\" W x \"&SEATDEPTH&\"\"\" D\"","v":" , \" W x \" D"},null,null,null,{"$f":"CHAIRWIDTH&\"\"\"W \"&SEATDEPTH&\"\"\"D\"","v":"\"W \"D"},null,null,null,null,null,null,null,"Seat Base Width"]
[null,null,null,null,null,null,null,null,null,null,null,null,null,null,null,null,null,null,null,null,null,null,null,null,null,null,null,null,null,null,{"$f":"INDEX(AE142:AE150,SEATIDX,1)","v":" "},{"$f":"INDEX(AF142:AF150,SEATIDX,1)","v":" "},null,null,{"$f":"INDEX(AI142:AI150,SEATIDX,1)","v":" "},{"$f":"INDEX(AJ142:AJ150,SEATIDX,1)","v":false},{"$f":"INDEX(AK142:AK150,SEATIDX,1)","v":" "},{"$f":"INDEX(AL142:AL150,SEATIDX,1)","v":false},1,{"$f":"INDEX(AN142:AN150,SEATIDX)","v":"NO SEAT"},{"$f":"INDEX(AO142:AO150,SEATIDX)","v":false},{"$f":"INDEX(AP142:AP150,SEATIDX)","v":0},{"$f":"INDEX(AQ142:AQ150,SEATIDX)","v":0},{"$f":"INDEX(AR142:AR150,SEATIDX)","v":0},null,{"$f":"INDEX(AT142:AT150,SEATIDX)","v":0},{"$f":"IF(INDEX(AU142:AU150,SEATIDX,1)=\"PRICE\",0,INDEX(AU142:AU150,SEATIDX,1))","v":0},{"$f":"IF(INDEX(AV142:AV150,SEATIDX,1)=\"COST\",\"\",INDEX(AV142:AV150,SEATIDX,1))","v":""},{"$f":"INDEX(AW142:AW150,SEATIDX)","v":" "},{"$f":"INDEX(AX142:AX150,SEATIDX)","v":0},{"$f":"INDEX(AY142:AY150,SEATIDX)","v":0},null,{"$f":"INDEX(BA142:BA150,SEATIDX)","v":0},{"$f":"INDEX(BB142:BB150,SEATIDX)","v":0},{"$f":"INDEX(BC142:BC150,SEATIDX)","v":"Mushroom foam on drop-thru seat"},{"$f":"INDEX(BD142:BD150,SEATIDX)","v":false},{"$f":"INDEX(BE142:BE150,SEATIDX)","v":false},null,{"$f":"INDEX(BG142:BG150,SEATIDX)","v":"Mushroom foam on DT seat"}]
[null,null,null,null,null,null,null,null,null,null,null,null,null,null,null,null,null,null,null,null,null,null,null,null,null,null,null,null,null,null,"PHldr Mod","Place Holder Description",null,null,"Hardware message","Incl H&L?","FOR DESC ON FORM","Cushion only?","Idx","SEAT","Foams Req'd","Item","HCPCS","Hdw req'd?",null,"Qty","Retail","Cost","Short Desc","Export field","Export field","Index","Base width","Base Thickness","Mushroom foam long message","DT?","Base only?",null,"Mushroom foam FORM msg"]
[null,null,null,null,null,null,null,null,null,null,null,null,null,null,null,null,null,null,null,null,null,null,null,null,null,null,null,null,null,null," "," ",null,null," ",{"$f":"FALSE","v":false}," ",{"$f":"FALSE","v":false},1,"NO SEAT",{"$f":"FALSE","v":false},null,null,null,null,0,"PRICE","COST"," ",null,null,{"$f":"AM142","v":1},null,0,"Mushroom foam on drop-thru seat",{"$f":"FALSE","v":false},{"$f":"FALSE","v":false},null,"Mushroom foam on DT seat"]
[null,null,null,null,null,null,null,null,null,null,null,null,null,null,null,null,null,null,null,null,null,null,null,null,null,null,null,null,null,null,71046,"Seat: Base with foam & cover",null,null," ",{"$f":"FALSE","v":false},"Seat: Full width",{"$f":"FALSE","v":false},2,"Full width seat",{"$f":"TRUE()","v":true},50345,"E2609",{"$f":"TRUE()","v":true},-0.25,1,477,null,"FW Seat","FW Seat",71046,2,{"$f":"CHAIRWIDTH+AS143","v":-0.25},0.5,"Mushroom foam not allowed on full width seat",{"$f":"FALSE","v":false},{"$f":"FALSE","v":false},null,"Mushroom NA on FW seat"]
[null,null,null,null,null,null,null,null,null,null,null,null,null,null,null,null,null,null,null,null,null,null,null,null,null,null,null,null,null,null,71046,"Seat: Base with foam & cover",null,null," ",{"$f":"FALSE","v":false},"Seat: Drop-thru",{"$f":"FALSE","v":false},3,"Drop-thru seat",{"$f":"TRUE()","v":true},50340,"E2609",{"$f":"TRUE()","v":true},-2.75,1,477,null,"DT Seat","DT Seat",71046,3,-2.75,0.5,"Mushroom foam on drop-thru seat",{"$f":"TRUE","v":true},{"$f":"FALSE","v":false},null,"Mushroom foam on DT seat"]
[null,null,null,null,null,null,null,null,null,null,null,null,null,null,null,null,null,null,null,null,null,null,null,null,null,null,null,null,null,null,71047,"Seat: Cushion including foam & cover",null,null,"** Cushion includes hook-n-loop **",{"$f":"TRUE","v":true},"Seat: Full width",{"$f":"TRUE","v":true},4,"Cushion only, FW seat",{"$f":"TRUE()","v":true},50345,"E2609",{"$f":"FALSE()","v":false},-0.25,1,477,null,"FW Cushion","FW Cush",71047,4,-0.25,{"$f":"IF(Seat!$D$2,0.5,0)","v":0},"Mushroom foam not allowed on FW cushion only",{"$f":"FALSE","v":false},{"$f":"FALSE","v":false},null,"Mushroom foam NA"]
[null,null,null,null,null,null,null,null,null,null,null,null,null,null,null,null,null,null,null,null,null,null,null,null,null,null,null,null,null,null,71055,"Seat: Vinyl covered base only",null,null,"** Vinyl base includes hook-n-loop **",{"$f":"TRUE","v":true},"Seat: Full width",{"$f":"FALSE","v":false},5,"Vinyl base only, FW seat",{"$f":"FALSE","v":false},50345,"E2609",{"$f":"TRUE()","v":true},-0.25,1,477,null,"FW Base","FW Base",71055,5,-0.25,0.5,"Mushroom foam not allowed for vinyl covered base",{"$f":"FALSE","v":false},{"$f":"TRUE","v":true},null,"Mushroom foam NA"]
[null,null,null,null,null,null,null,null,null,null,null,null,null,null,null,null,null,null,null,null,null,null,null,null,null,null,null,null,null,null,71072,"Seat: Cushion plus separate vinyl covered base",null,null,"** Cushion includes hook-n-loop **",true,"Seat: Full width",{"$f":"FALSE","v":false},6,"Cushion + sep base, FW seat",{"$f":"TRUE","v":true},50345,"E2609",{"$f":"TRUE()","v":true},-0.25,1,719,null,"FW Cushion+Base","FW Both",71072,{"$f":"AM147","v":6},-0.25,{"$f":"IF(Seat!$D$2,1,0.5)","v":0.5},"Mushroom foam not allowed for FW cushion+base",{"$f":"FALSE","v":false},{"$f":"FALSE","v":false},null,"Mushroom foam NA"]
[null,null,null,null,null,null,null,null,null,null,null,null,null,null,null,null,null,null,null,null,null,null,null,null,null,null,null,null,null,null,71047,"Seat: Cushion including foam & cover",null,null,"** Cushion includes hook-n-loop **",{"$f":"TRUE","v":true},"Seat: Drop-thru",{"$f":"TRUE","v":true},7,"Cushion only, DT seat",{"$f":"TRUE()","v":true},50340,"E2609",{"$f":"FALSE()","v":false},-2.75,1,477,null,"DT Cushion","DT Cush",71047,{"$f":"AM148","v":7},-2.75,{"$f":"IF(Seat!$D$2,0.5,0)","v":0},"Mushroom foam not allowed on DT cushion only",{"$f":"FALSE","v":false},{"$f":"FALSE","v":false},null,"Mushroom foam NA"]
[null,null,null,null,null,null,null,null,null,null,null,null,null,null,null,null,null,null,null,null,null,null,null,null,null,null,null,null,null,null,71055,"Seat: Vinyl covered base only",null,null,"** Vinyl base includes hook-n-loop **",{"$f":"TRUE","v":true},"Seat: Drop-thru",{"$f":"FALSE","v":false},8,"Vinyl base only, DT seat",{"$f":"FALSE","v":false},50340,"E2609",{"$f":"TRUE()","v":true},-2.75,1,477,null,"DT Base","DT Base",71055,{"$f":"AM149","v":8},-2.75,0.5,"Mushroom foam not allowed for vinyl covered base",{"$f":"FALSE","v":false},{"$f":"TRUE","v":true},null,"Mushroom foam NA"]
[null,null,null,null,null,null,null,null,null,null,null,null,null,null,null,null,null,null,null,null,null,null,null,null,null,null,null,null,null,null,71072,"Seat: Cushion plus separate vinyl covered base",null,null,"** Cushion includes hook-n-loop **",true,"Seat: Drop-thru",{"$f":"FALSE","v":false},9,"Cushion + sep base, DT seat",{"$f":"TRUE","v":true},50340,"E2609",{"$f":"TRUE()","v":true},-2.75,1,719,null,"DT Cushion+Base","DT Both",71072,9,-2.75,{"$f":"IF(Seat!$D$2,1,0.5)","v":0.5},"Mushroom foam on drop-thru cushion plus base",{"$f":"TRUE","v":true},{"$f":"FALSE","v":false},null,"Mushroom foam on DT seat"]
[]
[null,null,null,null,null,null,null,null,null,null,null,null,null,null,null,null,null,null,null,null,null,null,null,null,null,null,null,null,null,null,null,null,null,null,null,null,null,null,null,"BACK EXTRA COVER SELECTION"]
[null,null,null,null,null,null,null,null,null,null,null,null,null,null,null,null,null,null,null,null,null,null,null,null,null,null,null,null,null,null,null,null,null,null,null,null,null,null,1,{"$f":"INDEX(AN155:AN156,$AM$153,1)","v":"Extra identical back cover"},{"$f":"INDEX(AO155:AO156,$AM$153,1)","v":0},{"$f":"INDEX(AP155:AP156,$AM$153,1)","v":"Regular"}]
[null,null,null,null,null,null,null,null,null,null,null,null,null,null,null,null,null,null,null,null,null,null,null,null,null,null,null,null,null,null,null,null,null,null,null,null,null,null,null,"Description of extra back cover","Color retail","Export text"]
[null,null,null,null,null,null,null,null,null,null,null,null,null,null,null,null,null,null,null,null,null,null,null,null,null,null,null,null,null,null,null,null,null,null,null,null,null,null,1,"Extra identical back cover",{"$f":"Pads!Y2","v":0},"Regular"]
[null,null,null,null,null,null,null,null,null,null,null,null,null,null,null,null,null,null,null,null,null,null,null,null,null,null,null,null,null,null,null,null,null,null,null,null,null,null,2,"Extra shower cap back cover",0,"Shower"]
[]
[]
[null,null,null,null,null,null,null,null,null,null,null,null,null,null,null,null,null,null,null,null,null,null,null,null,null,null,null,null,null,null,null,null,null,null,null,null,null,null,null,"SEAT EXTRA COVER SELECTION"]
[null,null,null,null,null,null,null,null,null,null,null,null,null,null,null,null,null,null,null,null,null,null,null,null,null,null,null,null,null,null,null,null,null,null,null,null,null,null,1,{"$f":"INDEX(AN162:AN163,$AM$160,1)","v":"Extra identical seat cover"},{"$f":"INDEX(AO162:AO163,$AM$160,1)","v":0},{"$f":"INDEX(AP162:AP163,$AM$160,1)","v":"Regular"}]
[null,null,null,null,null,null,null,null,null,null,null,null,null,null,null,null,null,null,null,null,null,null,null,null,null,null,null,null,null,null,null,null,null,null,null,null,null,null,null,"Description of extra seat cover","Color retail","Export text"]
[null,null,null,null,null,null,null,null,null,null,null,null,null,null,null,null,null,null,null,null,null,null,null,null,null,null,null,null,null,null,null,null,null,null,null,null,null,null,1,"Extra identical seat cover",{"$f":"Pads!Y13","v":0},"Regular"]
[null,null,null,null,null,null,null,null,null,null,null,null,null,null,null,null,null,null,null,null,null,null,null,null,null,null,null,null,null,null,null,null,null,null,null,null,null,null,2,"Extra shower cap seat cover",0,"Shower"]

{"sheet":"Pick List","index":1,"n_rows":569,"n_cols":78,"rows_kept":569,"cut":false,"hidden":false,"merged":[[553,12,553,19],[536,9,536,11],[189,10,189,13],[271,15,271,16],[234,15,234,20],[217,10,217,13],[205,11,205,12],[522,9,522,12],[508,9,508,12],[248,9,248,13],[260,9,260,11],[265,9,265,12],[251,9,251,13],[257,9,257,13],[241,9,241,12],[212,10,212,13],[205,14,205,15],[205,17,205,19],[207,17,207,18],[104,12,104,19],[85,9,85,16],[195,10,195,13],[184,10,184,14],[235,22,235,24],[77,21,77,22],[85,18,85,24],[235,17,235,21],[208,17,208,18],[175,18,175,19],[228,10,228,13],[31,15,31,20],[101,15,101,20],[76,19,76,20],[76,16,76,18],[76,14,76,15],[57,15,57,20],[80,15,80,20],[77,18,77,19],[77,16,77,17],[77,14,77,15],[103,12,103,19],[173,15,173,20],[180,18,180,19],[179,20,179,21],[76,21,76,22],[396,10,396,14],[368,21,368,22],[476,11,476,21],[388,10,388,14],[373,15,373,20],[376,21,376,22],[402,10,402,13],[429,13,429,18],[455,11,455,21],[446,15,446,20],[420,17,420,18],[505,15,505,20],[533,9,533,11],[377,10,377,13],[566,11,566,22],[417,4,418,4],[555,11,555,20],[565,11,565,22],[564,11,564,22],[552,12,552,19],[518,9,518,11],[491,15,491,20],[427,11,427,21],[383,10,383,14],[406,15,406,20],[429,9,429,10],[400,10,400,13],[251,0,252,0],[392,10,392,14],[542,9,542,12],[366,19,366,20],[366,14,366,16],[366,11,366,12],[306,14,306,16],[302,15,302,20],[271,18,271,20],[287,11,287,21],[306,21,306,22],[306,17,306,20],[461,15,461,20],[542,17,542,18],[542,13,542,15],[525,9,525,12]]}
[null,null,null,null,null,null,null,"For price preference radio buttons",null,null,null,null,null,null,null,null,null,null,null,null,null,null,null,null,null,null,null,null,null,null,null,null,null,null,null,null,null,null,null,null,null,"CUSTOM HEADREST T-NUT INFO",null,null,"Below is export keyword",null,null,"INPUT FIELDS FOR EXPORT KEY WORD AND DESCRIPTIONS",null,null,null,null,"CUSTOM ABDUCTOR T-NUT INFO",null,null,null,null,null,null,null,null,"Seat->",1,null,{"$f":"INDEX(BM$2:BM$9,$BK1)","v":"1/2 Unit"},{"$f":"INDEX(BN$2:BN$9,$BK1)","v":50223},{"$f":"INDEX($BN$2:$BO$9,$BK1,2)","v":102},{"$f":"INDEX($BN$2:$BP$9,$BK1,3)","v":1},null,null,"Lumbar Description","Mod","Price","Before Text","After Text","Combined text"]
[null,null,null,null,null,null,null,true,null,null,{"$f":"MATCH(TRUE,H2:H4,0)","v":1},{"$f":"INDEX(L4:L6,K2,1)","v":"Ext Retail"},null,{"$f":"INDEX(N4:N6,K2,1)","v":"Retail"},null,{"$f":"INDEX(P4:P6,K2,1)","v":0},null,null,null,null,null,null,"FORM check box to show HCPCS for b/s mods",true,null,null,null,null,null,null,null,null,null,null,null,null,null,null,null,null,{"$f":"IF(OR($AQ$2=AW3,AQ2=AW4,AQ2=AW5,AQ2=AW6,AQ2=AW7),TRUE,FALSE)","v":false},1,{"$f":"INDEX(AQ3:AQ7,$AP$2)","v":"T-nuts for Therafin headrest"},null,{"$f":"INDEX(AS3:AS7,$AP$2)","v":"Therafin"},null,null,"Therafin","T-nuts for Therafin headrest",null,null,null,1,{"$f":"INDEX(BB3:BB7,$BA$2)","v":"T-nuts for Therafin abductor"},null,{"$f":"IF(Design!$AD$50,\"None\",IF($BA$9,$BD$3,INDEX(BD3:BD7,$BA$2)))","v":"Therafin"},"<-key word for export",null,null,null,null,null,1,"Foam-in-place kit - 1/2 Unit","1/2 Unit",50223,102,1,null,9,{"$f":"INDEX(BS3:BS13,$BR$2)","v":"Use bottom layer as sacral buildup"},{"$f":"INDEX(BT3:BT12,$BR$2)","v":72059},{"$f":"INDEX(BU3:BU12,$BR$2)","v":0},{"$f":"INDEX(BV3:BV12,$BR$2)","v":"Buildup lowest"},{"$f":"INDEX(BW3:BW12,$BR$2)","v":"inches of back"},{"$f":"INDEX(BX3:BX12,$BR$2)","v":"Use bottom layer as sacral buildup on lowest *NA* inches of back"},null,"TEXT TO USE IF FLAT BACK"]
[null,null,null,null,null,null,null,false,null,null,null,"Price",null,null,null,"Mult",null,null,null,null,null,null,"Back mod HCPCS code input","K0108",null,null,null,null,null,null,null,null,null,null,null,null,null,null,null,null,"Above TRUE if T-nut pattern NOT \"Therafin headrest\"",1,{"$f":"IF('Pick List'!$B$182,$AW$3,IF($AO$4,\"T-nut for Therafin headrest\",$AW$2))","v":"T-nuts for Therafin headrest"},null,{"$f":"IF('Pick List'!$B$182,$AV$3,IF($AO$4,\"Therafin\",$AV$2))","v":"Therafin"},null,null,"Vertical","T-nuts for Therafin vertical headrest",null,null,null,1,{"$f":"IF(Design!$AB$50,$BE3,\"No abductor T-nuts\")","v":"T-nuts for Therafin abductor"},null,"Therafin","T-nuts for Therafin abductor",null,null,null,null,null,2,"Foam-in-place kit - 1 Unit","1 Unit",50225,204,1,null,1,{"$f":"IF(CURVED,\"Sacral Buildup NA - Curved Back\",$BZ3)","v":"Lumbar 1/2\" soft on top"},71082,93,"Lumbar foam","inches tall",{"$f":"BS3&\" - foam \"&$BX$14&\" tall\"","v":"Lumbar 1/2\" soft on top - foam *NA* tall"},null,"Lumbar 1/2\" soft on top"]
[null,null,null,null,null,null,null,false,null,null,1,"Ext Retail",null,"Retail",null,0,null,null,null,null,null,null,"Back mod HCPCS code applied if box checked",{"$f":"IF(X2,X3,\"\")","v":"K0108"},null,null,null,null,null,null,null,null,null,null,null,null,null,null,null,null,{"$f":"OR($A$184,$A$176)","v":false},2,{"$f":"IF('Pick List'!$B$182,$AW$3,IF($AO$4,\"T-nut for Therafin headrest\",$AW$4))","v":"T-nuts for Metalcraft headrest"},null,{"$f":"IF('Pick List'!$B$182,$AV$3,IF($AO$4,\"Therafin\",$AV$4))","v":"Metalcraft"},null,null,"Metalcraft","T-nuts for Metalcraft headrest",null,null,null,2,{"$f":"IF(Design!$AB$50,IF($BA$9,$BE$3,$BE4),\"No abductor T-nuts\")","v":"Abductor T-nuts 1 in. on center"},null,"One inch","Abductor T-nuts 1 in. on center",null,null,null,null,null,3,"Foam-in-place kit - 1-1/2 Unit","1-1/2 Unit",50227,255,1,null,2,"Lumbar 1\" soft on top",71082,93,"Lumbar foam","inches tall",{"$f":"BS4&\" - foam \"&$BX$14&\" tall\"","v":"Lumbar 1\" soft on top - foam *NA* tall"},null,"Lumbar 1\" soft on top"]
[null,null,null,null,null,null,null,null,null,null,2,"Ext Primary",null,"Discount",null,{"$f":"IF(ISNUMBER(Form!D7),1-Form!D7,1)","v":1},null,null,null,null,null,null,"Seat mod HCPCS code input","K0108",null,null,null,null,null,null,null,null,null,null,null,null,null,null,null,null,"Above TRUE if Therafin headrest pad or hdw chosen",3,{"$f":"IF('Pick List'!$B$182,$AW$3,IF($AO$4,\"T-nut for Therafin headrest\",$AW$5))","v":"T-nuts for i2i headrest"},null,{"$f":"IF('Pick List'!$B$182,$AV$3,IF($AO$4,\"Therafin\",$AV$5))","v":"i2i"},null,null,"i2i","T-nuts for i2i headrest",null,null,null,3,{"$f":"IF(Design!$AB$50,IF($BA$9,$BE$3,$BE5),\"No abductor T-nuts\")","v":"T-nuts for Metalcraft abductor"},null,"Metalcraft","T-nuts for Metalcraft abductor",null,null,null,null,null,4,"Foam-in-place kit - 2 Units","2 Units",50225,408,2,null,3,"Lumbar 1/2\" medium on top",71082,93,"Lumbar foam","inches tall","Lumbar 1/2\" medium on top - foam *NA* tall",null,"Lumbar 1/2\" medium on top"]
[null,null,null,null,null,null,null,null,null,null,3,"Ext Cost",null,"Cost",null,{"$f":"IF(ISNUMBER(Form!$D$8),P5*(1-Form!$D$8),P5)","v":1},null,null,null,null,null,null,"Seat mod HCPCS code applied if box checked",{"$f":"IF(X2,X5,\"\")","v":"K0108"},null,null,null,null,null,null,null,null,null,null,null,null,null,null,null,null,null,4,{"$f":"IF('Pick List'!$B$182,$AW$3,IF($AO$4,\"T-nut for Therafin headrest\",$AW$6))","v":"T-nuts for Whitmyer headrest"},null,{"$f":"IF('Pick List'!$B$182,$AV$3,IF($AO$4,\"Therafin\",$AV$6))","v":"Whitmyer"},null,null,"Whitmyer","T-nuts for Whitmyer headrest",null,null,null,4,{"$f":"IF(Design!$AB$50,IF($BA$9,$BE$3,$BE6),\"No abductor T-nuts\")","v":"Abductor T-nuts 2 in. on center"},null,"Two inch","Abductor T-nuts 2 in. on center",null,null,null,null,null,5,"Foam-in-place kit - 1/2 Unit+bag","1/2 Unit+bag",50224,102,1,null,4,"Lumbar 1\" medium on top",71082,93,"Lumbar foam","inches tall","Lumbar 1\" medium on top - foam *NA* tall",null,"Lumbar 1\" medium on top"]
[null,null,null,null,null,null,null,null,null,null,null,null,null,null,null,null,null,null,null,null,null,null,null,null,null,null,null,null,null,null,null,null,null,null,null,null,null,null,null,null,null,5,{"$f":"IF('Pick List'!$B$182,$AW$3,IF($AO$4,\"T-nut for Therafin headrest\",$AW$7))","v":"T-nuts for 2 in. on center headrest"},null,{"$f":"IF('Pick List'!$B$182,$AV$3,IF($AO$4,\"Therafin\",$AV$7))","v":"Two inch"},null,null,"Two inch","T-nuts for 2 in. on center headrest",null,null,null,5,{"$f":"IF(Design!$AB$50,IF($BA$9,$BE$3,$BE7),\"No abductor T-nuts\")","v":"T-nuts for other abductor"},null,"Other","T-nuts for other abductor",null,null,null,null,null,6,"Foam-in-place kit - 1 Unit+bag","1 Unit+bag",50226,204,1,null,5,"Lumbar 1/2\" soft + hook-n-loop",71088,126,"Lumbar foam","inches tall","Lumbar 1/2\" soft + hook-n-loop - foam *NA* tall",null,"Lumbar 1/2\" soft + hook-n-loop"]
["\"Comma\"->",",",null,null,null,null,null,null,null,null,null,null,null,null,null,null,null,null,null,null,null,null,null,null,null,null,null,null,null,null,null,null,null,null,null,null,null,null,null,null,null,"number of shares of assembly cost=",{"$f":"COUNTIF(AS8:AS9,TRUE)","v":0},"Back on order?",{"$f":"$B$47","v":false},null,null,null,null,null,null,null,{"$f":"OR($BA$2<>1,Design!$AD$50)","v":false},"<-Custom adductor T-nuts?",null,null,null,null,null,null,null,null,7,"Foam-in-place kit - 1-1/2 Unit+bag","1-1/2 Unit+bag",50228,255,1,null,6,"Lumbar 1\" soft + hook-n-loop",71088,126,"Lumbar foam","inches tall","Lumbar 1\" soft + hook-n-loop - foam *NA* tall",null,"Lumbar 1\" soft + hook-n-loop"]
["\"Quote\"->","\"",null,null,null,null,null,null,null,null,null,null,null,null,null,null,null,null,null,null,null,null,null,null,null,null,null,null,null,null,null,null,null,null,null,null,null,null,null,null,null,"seat share of assembly cost=",{"$f":"IF($B$19,$AQ$563/AQ8,0)","v":0},"Seat on order?",{"$f":"$B$19","v":false},null,null,null,null,null,null,null,{"$f":"$F$448>0","v":false},"<-Therafin abductor ordered?",null,null,null,null,null,null,null,null,8,"Foam-in-place kit - 2 Units+bag","2 Units+bag",50226,408,2,null,7,"Lumbar 1/2\" med + hook-n-loop",71088,126,"Lumbar foam","inches tall","Lumbar 1/2\" med + hook-n-loop - foam *NA* tall",null,"Lumbar 1/2\" med + hook-n-loop"]
[null,null,null,null,null,null,null,null,null,null,null,null,null,null,null,null,null,null,null,null,null,null,null,null,null,null,null,null,null,null,null,null,null,null,null,null,null,null,null,null,null,"back share of assembly cost=",{"$f":"IF($B$47,$AQ$563/AQ8,0)","v":0},null,null,"TABLE OF DATA USED IN THE EXPORT ROUTINE",null,null,null,null,null,null,null,null,null,null,null,null,null,null,null,"Back->",1,null,{"$f":"INDEX(BM$2:BM$9,$BK10)","v":"1/2 Unit"},{"$f":"INDEX(BN$2:BN$9,$BK10)","v":50223},{"$f":"INDEX($BN$2:$BO$9,$BK10,2)","v":102},{"$f":"INDEX($BN$2:$BP$9,$BK10,3)","v":1},null,8,"Lumbar 1\" med + hook-n-loop",71088,126,"Lumbar foam","inches tall","Lumbar 1\" med + hook-n-loop - foam *NA* tall",null,"Lumbar 1\" med + hook-n-loop"]
[null,null,"Design screen errors?=",{"$f":"COUNTIF(D14:D72,TRUE)>0","v":false},null,null,null,null,null,null,null,null,null,null,null,null,null,null,null,null,null,null,null,null,null,null,null,null,null,null,null,null,null,null,null,null,null,null,null,null,null,"total back modifications=",{"$f":"SUM(AQ47:AQ68)+AQ10","v":0},null,null,1,2,3,4,5,6,7,8,9,10,11,12,null,null,null,null,null,null,null,null,null,null,null,null,9,"Use bottom layer as sacral buildup",72059,0,"Buildup lowest","inches of back",{"$f":"BS11&\" on lowest \"&$BX$14&\" inches of back\"","v":"Use bottom layer as sacral buildup on lowest *NA* inches of back"},null,"Use bottom layer as sacral buildup"]
[null,null,null,null,null,null,null,null,null,null,null,null,null,null,null,null,null,null,null,null,null,null,null,null,"back price includes freight if not zero",null,null,null,null,null,null,null,null,null,null,null,null,null,null,null,null,"total seat modifications=",{"$f":"SUM(AQ19:AQ43)+AQ9","v":0},null,null,"Idx","RT","Item","Qty","Description","DATA1 TEXT","DATA2 TEXT","DATA3 #","DATA4 #","DATA5 #","DATA6 #","DATA7 #","DATA8 #","DATA9#",null,null,null,"SPREADER BARS",null,null,null,null,null,null,10,"Future option",71086,200,"Mid-point at"," inches high",{"$f":"BS12&\" with mid-point \"&$BX$14&\" high\"","v":"Future option with mid-point *NA* high"},null,"Future option"]
[null,"PICKED?",null,"ERROR?",{"$f":"COUNTIF(B47:B49,TRUE)+AAA","v":{"$error":"#NAME?"}},"UNUSED?",null,null,null,"Information from the Design Screen",null,null,null,null,null,null,null,null,null,null,null,null,null,null,null,null,"Retail","Prim","Cost","Used",null,null,null,null,null,null,0,null,null,null,null,"Consol Price","Price","HCPCS","DEVELOPMENT NOTE",null,{"$f":"IF(LEN(Form!$I$7)>1,\"REM\",\"\")","v":""},{"$f":"IF(LEN(Form!$I$7)>1,\"Remark\",\"\")","v":""},0,{"$f":"IF(LEN(Form!$I$7)>1,SUBSTITUTE(SUBSTITUTE(Form!$I$7,quote,\" in.\"),comma,\" -\"),\"\")","v":""},null,null,null,null,null,null,null,null,null,null,null,null,null,{"$f":"IF(AND(CHAIRWIDTH>=12,CHAIRWIDTH<=20),TRUE(),FALSE())","v":false},"True if bar is available for chair size",null,null,null,null,null,null,"Material","Thick"]
[null,{"$f":"IF(ISBLANK(Design!E11),FALSE,TRUE)","v":false},null,null,null,null,null,null,null,{"$f":"Design!$E$11","v":0},null,null,null,null,null,null,null,null,null,null,null,null,null,"Remark",null,null,null,null,null,null,null,null,null,null,null,null,{"$f":"IF(B14,1,0)","v":0},{"$f":"\"\"","v":""},{"$f":"IF($B14,$X14,0)","v":0}," ",{"$f":"IF(B14,J14,\"\")","v":""},{"$f":"IF($B14,$Y14,0)","v":0},null,null,null,{"$f":"AK14","v":0},"REM",{"$f":"AM14","v":0},{"$f":"AN14","v":" "},{"$f":"SUBSTITUTE(SUBSTITUTE(Design!$E$11,quote,\" in.\"),comma,\" -\")","v":""},null,null,null,null,null,null,null,null,null,null,null,"Row#",{"$f":"MATCH(CHAIRWIDTH,$BK$15:$BK$23)","v":{"$error":"#N/A"}},{"$f":"IF(BL13,VLOOKUP(CHAIRWIDTH,BK15:BL23,2,FALSE),\"**Spreader Bar not avail for \"&CHAIRWIDTH&quote&\" chair**\")","v":"**Spreader Bar not avail for \" chair**"},{"$f":"IF($BL$13,INDEX($BM$15:$BM$23,$BK$14),\"NA\")","v":"NA"},null,null,null,null,null,null,{"$f":"INDEX(BT15:BT24,$BR$2)","v":"05891"},{"$f":"INDEX(BU15:BU24,$BR$2)","v":1.5},null,"Distance or NA=",{"$f":"IF(ISNUMBER(Design!$U$50),Design!$U$50,\"*NA*\")","v":"*NA*"}]
[null,{"$f":"AND(B47,NOT(ISBLANK(Design!$L$7)))","v":false},null,null,null,null,null,null,null,{"$f":"IF(B15,\"Monogram: \"&Design!$L$7&\"  Font: \"&CHOOSE(Design!$AB$18,\"Block\",\"Script\")&\"  Thread color: \"&IF(LEN(Design!$AI$75)<2,\"UNSPECIFIED\",Design!$AI$75),\"(No monogram)\")","v":"(No monogram)"},null,null,null,null,null,null,null,null,null,null,null,null,null,"Monogram",{"$f":"AD15","v":0},null,0,null,null,{"$f":"CHOOSE($K$2,AA15,$P$5*AA15,$P$6*AA15)","v":0},null,null,null,null,null,null,{"$f":"IF(AM15=0,AK14,AK14+1)","v":0},{"$f":"\"\"","v":""},{"$f":"IF($B15,$X15,0)","v":0},1,{"$f":"IF(B15,J15,\"\")","v":""},{"$f":"IF($B15,$Y15,0)","v":0},null," ","<-if charge for monogram, split like col vinyl back/seat",{"$f":"AK15","v":0},"MGRM",{"$f":"AM15","v":0},{"$f":"AN15","v":1},{"$f":"J15","v":"(No monogram)"},null,null,null,null,null,null,null,null,null,null,null,null,12,"Spreader Bar for 12 in. chair","50080-12","9-1/4 Spreader Bar for 12 in. chair",null,null,null,null,"1/2\" thick soft foam","05888",0.5]
[null,{"$f":"Pads!$M$36","v":false},null,{"$f":"OR(AND(B16,NOT($B$47),NOT($B$19)),AND(B16,Pads!$V$3=1,Pads!$I$36=4))","v":false},null,null,null,null,null,{"$f":"\"Contact surface = \"&Pads!J36","v":"Contact surface = SMOOTH DARTEX"},null,null,null,null,null,null,null,null,null,null,null,null,null,{"$f":"Pads!K36","v":72066},{"$f":"AD16","v":0},null,{"$f":"Pads!L36","v":0},null,null,{"$f":"CHOOSE($K$2,AA16,$P$5*AA16,$P$6*AA16)","v":0},null,null,null,null,null,null,0,{"$f":"\"\"","v":""},{"$f":"IF(AND($B16,OR($B$19,$B$47),Form!$A$4),$X16,0)","v":0},1,{"$f":"IF(B16,J16,\"\")","v":""},{"$f":"IF(AND($B16,Form!$A$4),$Y16,0)","v":0},{"$f":"IF($B16,$Y16,0)","v":0},null,"<-if charge for KSO, split like col vinyl back/seat",{"$f":"AK16","v":0},"COVM",{"$f":"AM16","v":0},1,{"$f":"SUBSTITUTE(AO16,\"*\",\"\")","v":""},null,null,null,null,null,null,null,null,null,null,null,null,13,"Spreader Bar for 13 in. chair","50080-13","10-1/4 Spreader Bar for 13 in. chair",null,null,null,null,"1\" thick soft foam","05887",1]
[null,{"$f":"Pads!$T$36","v":false},null,{"$f":"OR(AND(B17,NOT($B$47),NOT($B$19)),AND(B17,Pads!$V$3=1,Pads!$P$36=2))","v":false},null,null,null,null,null,{"$f":"\"Non-contact = \"&Pads!$Q$36","v":"Non-contact = BLACK VINYL"},null,null,null,null,null,null,null,null,null,null,null,null,null,{"$f":"Pads!R36","v":72073},{"$f":"AD17","v":0},null,{"$f":"Pads!$Y$2","v":0},null,null,{"$f":"CHOOSE($K$2,AA17,$P$5*AA17,$P$6*AA17)","v":0},null,null,null,null,null,null,0,{"$f":"\"\"","v":""},null,null,null,null,null," ",null,null,null,null,null,null,null,null,null,null,null,null,null,null,null,null,null,null,14,"Spreader Bar for 14 in. chair","50080-14","11-1/4 Spreader Bar for 14 in. chair",null,null,null,null,"1/2\" thick medium foam","05889",0.5]
[null,null,null,null,null,null,null,null,null,"Seat Specs and Modifications from the Design screen",null,null,null,null,null,null,null,null,null,null,null,"seat price includes freight if not zero",null,null,null,null,null,null,null,null,null,null,null,null,null,null,0,null,null,null,null,null,null,null,null,null,0,{"$f":"AM18","v":0},0," ",null,null,null,null,null,null,null,null,null,null,null,null,15,"Spreader Bar for 15 in. chair","50080-15","12-1/4 Spreader Bar for 15 in. chair",null,null,null,null,"1\" thick medium foam","05890",1]
[null,{"$f":"SEATIDX<>1","v":false},null,{"$f":"AND(SEATIDX<>1,OR(NOT(AND(ISNUMBER(CHAIRWIDTH),ISNUMBER(SEATDEPTH))),Seat!$X$2))","v":false},null,null,null,null,null,{"$f":"IF(B19,Design!$AN$139&CHOOSE(Design!$AB$51,\", Tube=7/8\",\", Tube=1\")&quote&IF(Form!$A$1,\", with hardware\",\"\")&IF(Form!$A$3,\", incl mods\",\"\"),\"(No seat)\")","v":"(No seat)"},null,null,null,null,null,null,null,null,null,null,null,null,null,{"$f":"Design!$AP$140","v":0},{"$f":"AD19+AddForFreight","v":0},null,0,null,null,{"$f":"CHOOSE($K$2,AA19,$P$5*AA19,$P$6*AA19)","v":0},null,null,null,null,null,null,{"$f":"IF(AM19=0,AK15,AK15+1)","v":0},{"$f":"IF(D19,Design!$AA$11,\"\")","v":""},{"$f":"IF($B19,$X19,0)","v":0},1,{"$f":"IF(B19,J19,\"\")","v":""},{"$f":"IF($B19,$Y19,0)+IF(Form!$A$1,$AQ$84,0)+IF(Form!$A$3,$AQ$12,0)","v":0},null,"E2609",null,{"$f":"AK19","v":0},"SEAT",0,{"$f":"AN19","v":1},{"$f":"SUBSTITUTE(SUBSTITUTE(Design!$AN$139,quote,\" in.\"),comma,\" -\")","v":"  -  in. W x  in. D"},{"$f":"Design!$AY$140","v":0},{"$f":"Design!$AX$140","v":0},{"$f":"CHAIRWIDTH","v":0},{"$f":"SEATDEPTH","v":0},{"$f":"CHOOSE(Design!$AB$51,0.875,1)","v":1},{"$f":"IF(AND(SEATIDX>1,NOT(Design!$BE$140)),Seat!$AC$5,0)","v":0},{"$f":"$AM$84","v":""},null,null,null,null,null,16,"Spreader Bar for 16 in. chair","50080-16","13-1/4 Spreader Bar for 16 in. chair",null,null,null,null,"1/2\" soft foam w/Hook-N-Loop","05888",0.5]
[null,{"$f":"B19","v":false},null,null,null,null,null,null,null,{"$f":"IF(B20,Design!$AF$140,\"\")","v":""},null,null,null,null,null,null,null,null,null,null,null,null,null,{"$f":"Design!$AE$140","v":" "},{"$f":"AD20","v":0},null,{"$f":"Design!$AU$140","v":0},null,null,{"$f":"CHOOSE($K$2,AA20,$P$5*AA20,$P$6*AA20)","v":0},null,null,null,null,null,null,{"$f":"IF(AM20=0,AK19,AK19+1)","v":0},{"$f":"\"\"","v":""},{"$f":"IF(AND($B20,Form!$A$4),$X20,0)","v":0},1,{"$f":"IF(B20,J20,\"\")","v":""},{"$f":"IF(AND($B20,Form!$A$4),$Y20,0)","v":0},{"$f":"IF($B20,$Y20,0)","v":0},"E2609",null,{"$f":"AK20","v":0},"SEATM",0,{"$f":"AN20","v":1},{"$f":"AO20","v":""},null,null,null,null,null,null,null,null,null,null,null,null,17,"Spreader Bar for 17 in. chair","50080-17","14-1/4 Spreader Bar for 17 in. chair",null,null,null,null,"1\" soft foam w/Hook-N-Loop","05887",1]
[null,{"$f":"AND(B19,Design!$AB$49<>1)","v":false},null,null,null,null,null,null,null,{"$f":"CHOOSE(Design!$AB$49,\"(No leg length differential)\",\"Seat: Right shortened LLD, short side=\"&Design!$Q$17&\"\"\" D, long side=\"&Design!$U$22&\"\"\" W\"&Design!$AC$50,\"Seat: Left shortened LLD, short side=\"&Design!$W$17&\"\"\" D, long side=\"&Design!$S$22&\"\"\" W\"&Design!$AC$50)","v":"(No leg length differential)"},null,null,null,null,null,null,null,null,null,null,null,null,null,"71008",{"$f":"AD21","v":105},null,105,null,null,{"$f":"CHOOSE($K$2,AA21,$P$5*AA21,$P$6*AA21)","v":105},null,null,null,null,null,null,0,{"$f":"\"\"","v":""},{"$f":"IF(AND($B$19,$B21,Form!$A$4),$X21,0)","v":0},1,{"$f":"IF(B21,J21,\"\")","v":""},{"$f":"IF(AND($B21,Form!$A$4),$Y21,0)","v":0},0,{"$f":"IF(Y21>0,SEATMODHCPCS,\"\")","v":"K0108"},null,0,"SEATM",0,1,"Leg length differential",{"$f":"CHOOSE(Design!$AB$49,\" \",\"Right short\",\"Left short\")","v":" "},{"$f":"IF(Design!$AB$50,\"w/Abd T-Nuts\",\"NO Abd T-Nuts\")","v":"w/Abd T-Nuts"},{"$f":"CHOOSE(Design!$AB$49,0,Design!$Q$17,Design!$W$17)","v":0},{"$f":"CHOOSE(Design!$AB$49,0,Design!$U$22,Design!$S$22)","v":0},null,null,null,null,null,null,null,null,18,"Spreader Bar for 18 in. chair","50080-18","15-1/4 Spreader Bar for 18 in. chair",null,null,null,null,"1/2\" medium foam w/Hook-N-Loop","05889",0.5]
[null,{"$f":"AND(B19,SEATIDX<>1)","v":false},null,null,null,null,null,null,null,{"$f":"IF(AND(B22,FOAMSREQD),\"Seat: \"&Seat!$BR$7&IF(Design!$AB$53,\", addtl gusset=\"&Design!$J$20&quote,\"\"),\"NA\")","v":"NA"},null,null,null,null,null,null,null,null,null,null,null,null,null,{"$f":"IF(FOAMSREQD,IF(Seat!D7=\"-\",\"Desc\",Seat!D7),0)","v":0},{"$f":"IF(FOAMSREQD,AD22,0)","v":0},null,{"$f":"Seat!$F$7","v":0},null,null,0,null,null,null,null,null,null,0,{"$f":"\"\"","v":""},{"$f":"IF(AND(FOAMSREQD,$B$19,$B22,Form!$A$4),$X22,0)","v":0},1,"",{"$f":"IF(AND($B22,Form!$A$4),$Y22,0)","v":0},0,"",null,0,"SEATM",0,1,{"$f":"Seat!$C$6","v":"NA"},null,{"$f":"Seat!$BI$4","v":0},{"$f":"Seat!BI$28","v":0},{"$f":"Seat!BJ$28","v":0},{"$f":"Seat!BK$28","v":0},{"$f":"Seat!BL$28","v":0},{"$f":"Seat!BM$28","v":0},{"$f":"Seat!BN$28","v":0},{"$f":"Seat!BO$27","v":0},null,null,null,19,"Spreader Bar for 19 in. chair","50080-19","16-1/4 Spreader Bar for 19 in. chair",null,null,null,null,"1\"medium foam w/Hook-N-Loop","05890",1]
[null,{"$f":"AND(B19,Design!$AB$52>1)","v":false},null,{"$f":"AND(Design!$AL$140,B23,Design!$AB$52=3)","v":false},null,null,null,null,null,{"$f":"IF($B$23,CHOOSE(Design!$AB$52,\"\",\"Seat: Growth notches \"&Design!$R13&\"\"\" W x \"&Design!$Q$14&\"\"\" D\",\"Seat: Hidden growth notches \"&Design!$R$13&\"\"\" W x \"&Design!$Q14&\"\"\" D\"),\"Seat has no growth notches\")","v":"Seat has no growth notches"},null,null,null,null,null,null,null,null,null,null,null,null,null,{"$f":"IF($B$23,CHOOSE(Design!$AB$52,\"\",\"71009\",\"71085\"),\"NA\")","v":"NA"},0,null,{"$f":"IF($B$23,CHOOSE(Design!$AB$52,0,93,0),0)","v":0},null,null,0,null,null,null,null,null,null,0,{"$f":"IF(D23,Design!$AA$11,\"\")","v":""},{"$f":"IF(AND($B$19,$B23,Form!$A$4),$X23,0)","v":0},1,"",{"$f":"IF(AND($B23,Form!$A$4),$Y23,0)","v":0},0,"",null,0,"SEATM",0,1,{"$f":"CHOOSE(Design!$AB$52,\"\",\"Growth notches\",\"Hidden growth notches\")","v":""},null,{"$f":"CHOOSE(Design!$AB$52,\"\",\"Regular\",\"Hidden\")","v":""},{"$f":"CHOOSE(Design!$AB$52,0,Design!$R$13,Design!$R$13)","v":0},{"$f":"CHOOSE(Design!$AB$52,0,Design!$Q$14,Design!$Q$14)","v":0},null,null,null,null,null,null,null,null,20,"Spreader Bar for 20 in. chair","50080-20","17-1/4 Spreader Bar for 20 in. chair",null,null,null,null,{"$f":"Seat!$J$60","v":"1-1/2 in. Soft Visco Foam"},{"$f":"Seat!$P$61","v":"05891"},{"$f":"Seat!$K$61","v":1.5}]
[null,{"$f":"AND(B19,OR(CHAIRWIDTH>22,Design!I13>22))","v":false},null,null,null,null,null,null,null,{"$f":"IF($B$24,\"Seat: Oversized dimensions\",\"(Oversized seat dimensions)\")","v":"(Oversized seat dimensions)"},null,null,null,null,null,null,null,null,null,null,null,null,null,71024,116,null,116,null,null,116,null,null,null,null,null,null,0,{"$f":"\"\"","v":""},{"$f":"IF(AND($B$19,$B24,Form!$A$4),$X24,0)","v":0},1,"",{"$f":"IF(AND($B24,Form!$A$4),$Y24,0)","v":0},0,"K0108",null,0,"SEATM",0,1,"Oversized seat",null,null,null,null,null,null,null,null,null,null,null,null,null,null,null,null,null,null,null,null,"Future lumbar support","NA","NA"]
[null,{"$f":"AND(B19,Seat!$Z$7<>\"NA\")","v":false},null,null,null,null,null,null,null,{"$f":"IF(B25,\"Seat\"&IF(CONTIDX=3,\" front: \",\": \")&\"Foam top layer - \"&Seat!$Z$7,\"NA\")","v":"NA"},null,null,null,null,null,null,null,null,null,null,null,null,null,{"$f":"Seat!$AE$7","v":"Foam"},0,null,{"$f":"Seat!$AC$7","v":0},null,null,0,null,null,null,null,null,null,0,{"$f":"\"\"","v":""},{"$f":"IF(AND($B$19,$B25,Form!$A$4),$X25,0)","v":0},1,"",{"$f":"IF(AND($B25,Form!$A$4),$Y25,0)","v":0},0,"",null,0,"SEATM","Top",1,{"$f":"Seat!$Z$6","v":"NA"},{"$f":"Seat!$AE$7","v":"Foam"},{"$f":"Seat!$AF$7","v":"FIP"},{"$f":"Seat!$AB$5","v":0}]
[null,{"$f":"AND(B19,Seat!$R$7<>\"NA\")","v":false},null,null,null,null,null,null,null,{"$f":"IF(B26,\"Seat\"&IF(CONTIDX=3,\" front: \",\": \")&\"Foam middle layer - \"&Seat!$R$7,\"NA\")","v":"NA"},null,null,null,null,null,null,null,null,null,null,null,null,null,{"$f":"Seat!$W$7","v":"Foam"},0,null,{"$f":"Seat!$U$7","v":0},null,null,0,null,null,null,null,null,null,0,{"$f":"\"\"","v":""},{"$f":"IF(AND($B$19,$B26,Form!$A$4),$X26,0)","v":0},1,"",{"$f":"IF(AND($B26,Form!$A$4),$Y26,0)","v":0},0,"",null,0,"SEATM","Middle",1,{"$f":"Seat!$R$6","v":"NA"},{"$f":"Seat!$W$7","v":"Foam"},{"$f":"Seat!$X$7","v":"05887"},{"$f":"Seat!$T$5","v":1}]
[null,{"$f":"AND(B19,Seat!$J$7<>\"NA\")","v":false},null,null,null,null,null,null,null,{"$f":"IF(B27,\"Seat\"&IF(CONTIDX=3,\" front: \",\": \")&\"Foam bottom layer - \"&Seat!$J$7,\"NA\")","v":"NA"},null,null,null,null,null,null,null,null,null,null,null,null,null,{"$f":"Seat!$O$7","v":"Foam"},0,null,{"$f":"Seat!$M$7","v":0},null,null,0,null,null,null,null,null,null,0,{"$f":"\"\"","v":""},{"$f":"IF(AND($B$19,$B27,Form!$A$4),$X27,0)","v":0},1,"",{"$f":"IF(AND($B27,Form!$A$4),$Y27,0)","v":0},0,"",null,0,"SEATM","Bottom",1,{"$f":"Seat!$J$6","v":"NA"},{"$f":"Seat!$O$7","v":"Foam"},{"$f":"Seat!$P$7","v":"05890"},{"$f":"Seat!$L$5","v":1}]
[null,{"$f":"AND(B19,Seat!$Z$26<>\"NA\")","v":false},null,null,null,null,null,null,null,{"$f":"IF(B28,\"Seat rear: Foam top layer - \"&Seat!$Z$26,\"NA\")","v":"NA"},null,null,null,null,null,null,null,null,null,null,null,null,null,{"$f":"Seat!$AE$26","v":"Foam"},{"$f":"AD28","v":0},null,{"$f":"Seat!$AC$26","v":0},null,null,0,null,null,null,null,null,null,0,{"$f":"\"\"","v":""},{"$f":"IF(AND($B$19,$B28,Form!$A$4),$X28,0)","v":0},1,{"$f":"IF(B28,J28,\"\")","v":""},{"$f":"IF(AND($B28,Form!$A$4),$Y28,0)","v":0},0,"",null,0,"SEATM","RTop",1,{"$f":"Seat!$Z$27","v":"NA"},{"$f":"Seat!AE26","v":"Foam"},{"$f":"Seat!AF26","v":"FIP"},{"$f":"Seat!$AA$26","v":0}]
[null,{"$f":"AND(B19,Seat!$R$26<>\"NA\")","v":false},null,null,null,null,null,null,null,{"$f":"IF(B29,\"Seat rear: Foam middle layer - \"&Seat!$R$26,\"NA\")","v":"NA"},null,null,null,null,null,null,null,null,null,null,null,null,null,{"$f":"Seat!$W$26","v":"Foam"},{"$f":"AD29","v":0},null,{"$f":"Seat!$U$26","v":0},null,null,0,null,null,null,null,null,null,0,{"$f":"\"\"","v":""},{"$f":"IF(AND($B$19,$B29,Form!$A$4),$X29,0)","v":0},1,{"$f":"IF(B29,J29,\"\")","v":""},{"$f":"IF(AND($B29,Form!$A$4),$Y29,0)","v":0},0,"",null,0,"SEATM","RMiddle",1,{"$f":"Seat!$R$27","v":"NA"},{"$f":"Seat!W26","v":"Foam"},{"$f":"Seat!X26","v":"05887"},{"$f":"Seat!$S$26","v":0}]
[null,{"$f":"AND(B19,Seat!$J$26<>\"NA\")","v":false},null,null,null,null,null,null,null,{"$f":"IF(B30,\"Seat rear: Foam bottom layer - \"&Seat!$J$26,\"NA\")","v":"NA"},null,null,null,null,null,null,null,null,null,null,null,null,null,{"$f":"Seat!$O$26","v":"Foam"},{"$f":"AD30","v":0},null,{"$f":"Seat!$M$26","v":0},null,null,0,null,null,null,null,null,null,0,{"$f":"\"\"","v":""},{"$f":"IF(AND($B$19,$B30,Form!$A$4),$X30,0)","v":0},1,{"$f":"IF(B30,J30,\"\")","v":""},{"$f":"IF(AND($B30,Form!$A$4),$Y30,0)","v":0},0,"",null,0,"SEATM","RBottom",1,{"$f":"Seat!$J$27","v":"NA"},{"$f":"Seat!O26","v":"Foam"},{"$f":"Seat!P26","v":"05890"},{"$f":"Seat!$K$26","v":0}]
[null,{"$f":"AND(B19,Design!$AB$16)","v":false},null,null,null,null,null,null,null,{"$f":"IF(B31,\"Seat: Channels attached\",\"No seat channels\")","v":"No seat channels"},null,null,null,null,null,null,null,null,null,null,null,null,null,"71025",93,null,93,null,null,93,null,null,null,null,null,null,0,{"$f":"IF(AND($B$56,$D$56),Design!$AA$11,\"\")","v":""},{"$f":"IF(AND($B$19,$B31,Form!$A$4),$X31,0)","v":0},1,"",{"$f":"IF(AND($B31,$B$19,Form!$A$4),$Y31,0)","v":0},0,"K0108",null,0,"SEATM",{"$f":"X31","v":"71025"},1,"Seat channels attached",null,null,{"$f":"Design!$AA$16","v":-7}]
[null,{"$f":"AND($B$19,OtherSeatModIndex<>1)","v":false},null,null,null,null,null,null,null,{"$f":"IF(B32,\"Seat: \"&OtherSeatModDesc,\"No other seat mod\")","v":"No other seat mod"},null,null,null,null,null,{"$f":"IF($B$19,\"\",\"No seat was selected\")","v":"No seat was selected"},null,null,null,null,null,null,null,{"$f":"OtherSeatModNum","v":" "},0,null,{"$f":"OtherSeatModPrice","v":0},null,null,0,null,null,null,null,null,null,0," ",{"$f":"IF(AND($B32,Form!$A$4),$X32,0)","v":0},1,"",{"$f":"IF(AND($B32,$B$19,Form!$A$4),$Y32,0)","v":0},0,"",null,{"$f":"AK32","v":0},"SEATM",{"$f":"X32","v":" "},{"$f":"AN32","v":1},{"$f":"RIGHT(J32,LEN(J32)-6)","v":"er seat mod"}]
[null,{"$f":"AND($B$16,$B$19)","v":false},null,{"$f":"$D$16","v":false},null,null,null,null,null,{"$f":"IF($B$16,$J$16,\"\")","v":""},null,null,null,null,null,null,null,null,null,null,null,null,null,{"$f":"IF(B33,$X$16,\"\")","v":""},{"$f":"AD33","v":0},null,{"$f":"Pads!$L$36","v":0},null,null,{"$f":"CHOOSE($K$2,AA33,$P$5*AA33,$P$6*AA33)","v":0},null,null,null,null,null,null,0,{"$f":"IF($D33,Design!$AA$11,\"\")","v":""},{"$f":"IF(AND($B$19,$B33,Form!$A$4),$X33,0)","v":0},1,{"$f":"IF(B33,\"Seat: \"&$J33,\"\")","v":""},{"$f":"IF(AND(B33,Form!$A$4),Y33,0)","v":0},{"$f":"IF(B33,Y33,0)","v":0},{"$f":"IF(Y33>0,SEATMODHCPCS,\"\")","v":""},"<-Seat colored vinyl charge",{"$f":"AK33","v":0},"SEATM",{"$f":"AM33","v":0},{"$f":"AN33","v":1},"Contact surface"]
[null,{"$f":"AND($B$17,$B$19)","v":false},null,{"$f":"$D$17","v":false},null,null,null,null,null,{"$f":"IF($B$17,$J$17,\"\")","v":""},null,null,null,null,null,null,null,null,null,null,null,null,null,{"$f":"IF(B34,$X$17,\"\")","v":""},{"$f":"AD34","v":0},null,{"$f":"Pads!$S$36","v":0},null,null,{"$f":"CHOOSE($K$2,AA34,$P$5*AA34,$P$6*AA34)","v":0},null,null,null,null,null,null,{"$f":"IF(AM34=0,AK33,AK33+1)","v":0},{"$f":"IF($D34,Design!$AA$11,\"\")","v":""},{"$f":"IF(AND($B$19,$B34,Form!$A$4),$X34,0)","v":0},1,{"$f":"IF(B34,\"Seat: \"&$J34,\"\")","v":""},{"$f":"IF(AND(B34,Form!$A$4),Y34,0)","v":0},{"$f":"IF(B34,Y34,0)","v":0},"","<-Seat colored vinyl charge",{"$f":"AK34","v":0},"SEATM",{"$f":"AM34","v":0},{"$f":"AN34","v":1},"Non-contact surface"]
[null,false,null,{"$f":"AND(B35,NOT($B$19))","v":false},{"$f":"COUNTIF(B35:B43,TRUE)","v":0},null,null,null,null,null,"Seat: 2\" Hook-N-Loop",null,null,null,null,null,null,null,null,null,null,null,null,71023,{"$f":"AD35","v":93},null,93,null,null,{"$f":"CHOOSE($K$2,AA35,$P$5*AA35,$P$6*AA35)","v":93},null,null,null,null,null,null,{"$f":"IF(AM35=0,AK34,AK34+1)","v":0},{"$f":"\"\"","v":""},{"$f":"IF(AND($B$19,$B35,Form!$A$4),$X35,0)","v":0},1,{"$f":"IF(B35,K35,\"\")","v":""},{"$f":"IF(AND($B$19,$B35,Form!$A$4),$Y35,0)","v":0},{"$f":"IF(AND($B$19,$B35),$Y35,0)","v":0},"K0108",null,{"$f":"AK35","v":0},"SEATM",{"$f":"X35","v":71023},1,"2 in. Hook-N-Loop"]
[null,false,null,{"$f":"AND(B36,NOT($B$19))","v":false},null,null,null,null,null,null,"Seat: I-seat modification",null,null,null,null,null,null,null,null,null,null,null,null,71026,116,null,116,null,null,116,null,null,null,null,null,null,0,{"$f":"IF($D36,Design!$AA$11,\"\")","v":""},{"$f":"IF(AND($B$19,$B36,Form!$A$4),$X36,0)","v":0},1,"",{"$f":"IF(AND($B$19,$B36,Form!$A$4),$Y36,0)","v":0},0,"K0108",null,0,"SEATM",71026,1,"I-Seat modification",null,null,null,null,null,null,null,null,null,null,null,null,null,null,null,null,null,null,null,null,"NOTE: On January 7, 2020 the shorten base option was modified to change the mod # and description if the customer is Travis Medical"]
[null,false,null,{"$f":"OR(AND(B37,NOT($B$19)),AND($B$37,NOT(Design!$BD$140)))","v":false},null,null,null,null,null,null,{"$f":"\"Seat: \"&Design!$BC$140","v":"Seat: Mushroom foam on drop-thru seat"},null,null,null,null,null,null,null,null,null,null,null,null,71032,247,null,247,null,null,247,null,null,null,null,null,null,0,{"$f":"IF($D37,Design!$AA$11,\"\")","v":""},{"$f":"IF(AND($B$19,$B37,Form!$A$4),$X37,0)","v":0},1,"",{"$f":"IF(AND($B$19,$B37,Form!$A$4),$Y37,0)","v":0},0,"K0108",null,0,"SEATM",71032,1,"Mushroom foam",null,null,null,null,null,null,null,null,null,null,null,null,null,null,null,null,null,null,null,null,"Hamstring relief pick list","Mod","Price","Diagram description",null,"Form description"]
[null,false,null,{"$f":"AND(B38,OR(NOT($B$19),NOT(FOAMSREQD)))","v":false},null,null,null,null,null,null,"Seat: Pelvic obliquity",null,null,null,null,null,null,null,null,null,null,null,null,71030,116,null,116,null,null,116,null,null,null,null,null,null,0,{"$f":"IF($D38,Design!$AA$11,\"\")","v":""},{"$f":"IF(AND($B$19,$B38,Form!$A$4),$X38,0)","v":0},1,"",{"$f":"IF(AND($B$19,$B38,Form!$A$4),$Y38,0)","v":0},0,"K0108",null,0,"SEATM",71030,1,"Pelvic obliquity",null,null,null,null,null,null,null,null,null,null,null,null,null,null,null,null,null,null,null,1,{"$f":"INDEX(BS39:BS40,$BR$38)","v":"Shorten base"},{"$f":"INDEX(BT39:BT40,$BR$38)","v":"72061"},{"$f":"INDEX(BU39:BU40,$BR$38)","v":116},{"$f":"INDEX(BV39:BV40,$BR$38)","v":"Hamstring relief - shorten base"},null,{"$f":"INDEX(BX39:BX40,$BR$38)","v":"Hamstring relief - shorten base"}]
[null,false,null,{"$f":"AND(B39,OR(NOT($B$19),NOT(FOAMSREQD)))","v":false},null,null,null,null,null,null,{"$f":"\"Seat: \"&BX$38","v":"Seat: Hamstring relief - shorten base"},null,null,null,null,null,null,null,null,null,null,null,null,{"$f":"BT38","v":"72061"},{"$f":"AD39","v":116},null,{"$f":"BU38","v":116},null,null,116,null,null,null,null,null,null,{"$f":"IF(AM39=0,AK38,AK38+1)","v":0},{"$f":"IF($D39,Design!$AA$11,\"\")","v":""},{"$f":"IF(AND($B$19,$B39,Form!$A$4),$X39,0)","v":0},1,"",{"$f":"IF(AND($B$19,$B39,Form!$A$4),$Y39,0)","v":0},0,"K0108",null,0,"SEATM","72061",1,{"$f":"$BS$38","v":"Shorten base"},null,null,null,null,null,null,null,null,null,null,null,null,null,null,null,null,null,null,null,1,{"$f":"IF(OR(CUID=\"C00320\",CUID=\"C04819\"),\"Beveled edge\",\"Shorten base\")","v":"Shorten base"},{"$f":"IF(OR(CUID=\"C00320\",CUID=\"C04819\"),\"70174\",\"72061\")","v":"72061"},116,{"$f":"IF(OR(CUID=\"C00320\",CUID=\"C04819\"),\"Beveled edge\",\"Hamstring relief - shorten base\")","v":"Hamstring relief - shorten base"},null,{"$f":"IF(OR(CUID=\"C00320\",CUID=\"C04819\"),\"Beveled edge\",\"Hamstring relief - shorten base\")","v":"Hamstring relief - shorten base"}]
[null,false,null,{"$f":"AND(B40,OR(NOT($B$19),NOT(Seat!$D$2),NOT(FOAMSREQD)))","v":false},null,null,null,null,null,null,"Seat: Depth adjustable contour",null,null,null,null,null,null,null,null,null,null,null,null,72065,{"$f":"AD40","v":174},null,174,null,null,{"$f":"CHOOSE($K$2,AA40,$P$5*AA40,$P$6*AA40)","v":174},null,null,null,null,null,null,0,{"$f":"IF(D40,Design!$AA$11,\"\")","v":""},{"$f":"IF(AND($B$19,$B40,Form!$A$4),$X40,0)","v":0},1,"",{"$f":"IF(AND($B$19,$B40,Form!$A$4),$Y40,0)","v":0},0,"K0108",null,{"$f":"AK40","v":0},"SEATM",{"$f":"X40","v":72065},{"$f":"AN40","v":1},"Depth adjustable contour",null,null,null,null,null,null,null,null,null,null,null,null,null,null,null,null,null,null,null,2,"Extend foam",72060,116,"Hamstring relief - extend foam",null,"Hamstring relief - extend foam over base"]
[null,false,null,{"$f":"AND(B41,NOT($B$19))","v":false},null,null,null,null,null,null,"Seat: Dureflex incontinence liner",null,null,null,null,null,null,null,null,null,null,null,null,72057,{"$f":"AD41","v":69},null,69,null,null,{"$f":"CHOOSE($K$2,AA41,$P$5*AA41,$P$6*AA41)","v":69},null,null,null,null,null,null,0,{"$f":"\"\"","v":""},{"$f":"IF(AND($B$19,$B41,Form!$A$4),$X41,0)","v":0},1,"",{"$f":"IF(AND($B$19,$B41,Form!$A$4),$Y41,0)","v":0},0,"K0108",null,{"$f":"AK41","v":0},"SEATM",{"$f":"X41","v":72057},{"$f":"AN41","v":1},"Dureflex incontinence liner"]
["Suggest FIP",{"$f":"$BA$8","v":false},null,{"$f":"AND(B42,NOT($B$19))","v":false},null,null,null,null,null,null,{"$f":"\"Seat: \"&$BB$2","v":"Seat: T-nuts for Therafin abductor"},null,null,null,null,null,null,null,null,null,null,null,null,"T-nuts",{"$f":"AD42","v":0},null,0,null,null,0,null,null,null,null,null,null,0,{"$f":"\"\"","v":""},{"$f":"IF(AND($B$19,Form!$A$4,$B$42),$X42,0)","v":0},1,{"$f":"K42","v":"Seat: T-nuts for Therafin abductor"},{"$f":"IF(AND($B$19,$B42),$Y42,0)","v":0},0,"",null,0,"SEATM","ABTnuts",{"$f":"AN42","v":1},"Custom Abd T-nuts",{"$f":"BD2","v":"Therafin"}]
[{"$f":"AND('Pick List'!$B$19,CONTIDX>=15)","v":false},false,null,{"$f":"AND(B43,NOT($B$19))","v":false},null,null,null,null,null,null,"Seat: Foam-in-Place Kit",null,null,null,null,null,null,null,null,null,null,null,null,{"$f":"$BN$1","v":50223},102,null,{"$f":"$BO$1","v":102},null,null,102,null,null,null,null,null,null,0,{"$f":"\"\"","v":""},{"$f":"IF(AND($B$19,$B43),$X43,0)","v":0},{"$f":"BP1","v":1},{"$f":"IF(B43,K43&\" - \"&BM1,\"\")","v":""},{"$f":"IF(AND($B$19,$B43),$Y43,0)","v":0},null,"K0108",null,{"$f":"AK43","v":0},"COMT",50223,1,"Foam-in-place kit"]
[null,false,null,null,null,null,null,null,null,{"$f":"IF(B44,Design!$AN$160,\"(No extra seat cover)\")","v":"(No extra seat cover)"},null,null,null,null,null,null,null,null,null,null,null,null,null,"50252",{"$f":"AD44","v":256},null,256,null,null,256,null,null,null,null,null,null,0,{"$f":"\"\"","v":""},{"$f":"IF(AND($B$19,$B44),$X44,0)","v":0},1,{"$f":"IF(B44,J44,\"\")","v":""},{"$f":"IF(AND($B$19,$B44),$Y44,0)","v":0},{"$f":"IF(AND($B$19,$B44),$Y44,0)","v":0},"K0108","<-Cover colored vinyl charge",{"$f":"AK44","v":0},"COMT",{"$f":"AM44","v":0},{"$f":"AN44","v":1},"Extra cover for seat",{"$f":"Design!$AP$160","v":"Regular"}]
[null,{"$f":"AND($B$16,$B$19,$B$44,Design!$AM$160=1)","v":false},null,{"$f":"$D$16","v":false},null,null,null,null,null,{"$f":"IF($B$16,$J$16,\"\")","v":""},null,null,null,null,null,null,null,null,null,null,null,null,null,{"$f":"IF(B45,$X$16,\"\")","v":""},{"$f":"AD45","v":0},null,{"$f":"Pads!$L$36","v":0},null,null,{"$f":"CHOOSE($K$2,AA45,$P$5*AA45,$P$6*AA45)","v":0},null,null,null,null,null,null,0,{"$f":"IF($D45,Design!$AA$11,\"\")","v":""},{"$f":"IF($B45,$X45,0)","v":0},1,{"$f":"IF(B45,J45,\"\")","v":""},{"$f":"IF(B45,Y45,0)","v":0},{"$f":"IF(B45,Y45,0)","v":0},"",null,{"$f":"AK45","v":0},"COVM",{"$f":"AM45","v":0},1,"Contact surface"]
[null,{"$f":"AND($B$17,$B$19,$B$44,Design!$AM$160=1)","v":false},null,{"$f":"$D$17","v":false},null,null,null,null,null,{"$f":"IF($B$17,$J$17,\"\")","v":""},null,null,null,null,null,null,null,null,null,null,null,null,null,{"$f":"IF(B46,$X$17,\"\")","v":""},{"$f":"AD46","v":0},null,{"$f":"Pads!$S$36","v":0},null,null,{"$f":"CHOOSE($K$2,AA46,$P$5*AA46,$P$6*AA46)","v":0},null,null,null,null,null,null,{"$f":"IF(AM46=0,AK45,AK45+1)","v":0},{"$f":"IF($D46,Design!$AA$11,\"\")","v":""},{"$f":"IF($B46,$X46,0)","v":0},1,{"$f":"IF(B46,J46,\"\")","v":""},{"$f":"IF(B46,Y46,0)","v":0},{"$f":"IF(B46,Y46,0)","v":0},"",null,{"$f":"AK46","v":0},"COVM",{"$f":"AM46","v":0},{"$f":"AN46","v":1},"Non-contact surface"]
[null,{"$f":"BACKSHAPE>1","v":false},null,{"$f":"OR(AND(BACKSHAPE<>1,NOT(AND(ISNUMBER(CHAIRWIDTH),ISNUMBER(Design!$E$46)))),$A$250)","v":false},null,null,null,null,null,{"$f":"IF(B47,Design!$AN$125&CHOOSE(Design!$AB$17,\", Tube=7/8\",\", Tube=1\")&quote&IF(A250,\"  **LTS CHOICE?** \",\"\")&IF(Form!$A$1,\" w/hdw\",\"\"),\"(No back)\")&IF(Form!$A$3,\" incl mods\",\"\")","v":"(No back)"},null,null,null,null,null,null,null,null,null,null,null,null,null,{"$f":"Design!$AP$127","v":"ITEM"},{"$f":"AD47+AddForFreight","v":0},null,0,null,null,{"$f":"CHOOSE($K$2,AA47,$P$5*AA47,$P$6*AA47)","v":0},null,null,null,null,null,null,{"$f":"IF(AM47=0,AK46,AK46+1)","v":0},{"$f":"IF(D47,Design!$AA$11,\"\")","v":""},{"$f":"IF($B47,$X47,0)","v":0},1,{"$f":"IF(B47,J47,\"\")","v":""},{"$f":"IF($B47,$Y47,0)+IF(Form!$A$1,$AQ$83,0)+IF(Form!$A$3,$AQ$11,0)","v":0},null,"E2617",null,{"$f":"AK47","v":0},"BACK",{"$f":"AM47","v":0},1,{"$f":"Design!$AN126","v":"NO BACK"},{"$f":"Design!AI22","v":"NA"},{"$f":"Design!$AL$22","v":"FW Back"},{"$f":"BACKWIDTH","v":0},{"$f":"Design!$E$46","v":0},{"$f":"CHOOSE(Design!$AB$17,\"7/8\",\"1\")","v":"1"},{"$f":"BACKFOAMTHICK","v":0},{"$f":"$AM$83","v":""}]
[null,{"$f":"B47","v":false},null,null,null,null,null,null,null,{"$f":"IF(B48,Design!AO22,\"(Placeholder)\")","v":"(Placeholder)"},null,null,null,null,null,null,null,null,null,"Back Specifications",null,null,null,{"$f":"Design!AI22","v":"NA"},{"$f":"AD48","v":0},null,{"$f":"IF($B48,IF(Design!$AH$22<>0,Design!$AH$22,0),0)","v":0},null,null,{"$f":"CHOOSE($K$2,AA48,$P$5*AA48,$P$6*AA48)","v":0},null,null,null,null,null,null,0,{"$f":"\"\"","v":""},{"$f":"IF(AND($B$47,$B48,Form!$A$4),$X48,0)","v":0},1,{"$f":"IF(B48,J48,\"\")","v":""},{"$f":"IF(AND($B48,Form!$A$4),$Y48,0)","v":0},{"$f":"IF($B48,$Y48,0)","v":0},"E2617",null,{"$f":"AK48","v":0},"BACKM",{"$f":"AM48","v":0},{"$f":"AN48","v":1},{"$f":"Design!$AC$22","v":"Back: Complete back"}]
[null,{"$f":"AND($B$47,Design!$AB$20)","v":false},null,{"$f":"AND(B49,OR(Design!$BD$114>Design!$BD$115,Design!$N$53<Design!$BD$115,BACKSHAPE=3))","v":false},null,null,null,null,null,{"$f":"IF($B$49,IF(BACKSHAPE=2,IF($D$49,\"Back: Custom dimensions NA\",\"Back: Custom dimensions\")&\", Top serif=\"&Design!$I$58&\" Bot serif=\"&Design!$I$64&\" Ctr=\"&Design!$F$59&\" Inset=\"&Design!$D$58,IF(BACKSHAPE=4,IF(D49,\"Back: Custom dimensions NA\",\"Back: Custom dimensions\")&\", Top serif=\"&Design!$W$58&\" Bot=\"&Design!$W$61&\" Ctr=\"&Design!$T$59&\" Inset=\"&Design!$R$58,IF(BACKSHAPE=3,\"Back: Custom R-Back dimensions NA\",\"(Standard dimensions)\"))),\"(Standard dimensions)\")","v":"(Standard dimensions)"},null,null,null,null,null,null,null,null,null,null,null,null,null,{"$f":"IF($B$49,CHOOSE(BACKSHAPE,\"NA\",\"71011\",\"Warning\",\"71013\"),\"NA\")","v":"NA"},{"$f":"AD49","v":0},null,0,null,null,0,null,null,null,null,null,null,0,{"$f":"IF(AND($B49,$D49),Design!$AA$11,\"\")","v":""},{"$f":"IF(AND($B$47,$B49,Form!$A$4),$X49,0)","v":0},1,"",{"$f":"IF(AND($B49,Form!$A$4),$Y49,0)","v":0},{"$f":"IF($B49,$Y49,0)","v":0},{"$f":"IF(Y49>0,BACKMODHCPCS,\"\")","v":""},null,0,"BACKM",{"$f":"AM49","v":0},1,"Back custom dimensions",null,null,{"$f":"CHOOSE(BACKSHAPE,0,Design!$I$58,0,Design!$W$58)","v":0},{"$f":"CHOOSE(BACKSHAPE,0,Design!$I$64,0,Design!$W$61)","v":0},{"$f":"CHOOSE(BACKSHAPE,0,Design!$F$59,0,Design!$T$59)","v":0},{"$f":"CHOOSE(BACKSHAPE,0,Design!$D$58,0,Design!$R$58)","v":0}]
[null,{"$f":"AND(B47,Design!$AB$48)","v":false},null,{"$f":"AND(Design!$AB$48,NOT(ISNUMBER(Design!$M$54)))","v":false},null,null,null,null,null,{"$f":"IF(B50,IF(ISNUMBER(Design!$M$54),\"Back: Biangular hinge \"&Design!$M$54&\"\"\" H\",\"Missing biangular back distance\"),\"(Biangular back)\")","v":"(Biangular back)"},null,null,null,null,null,null,null,null,null,null,null,null,null,"71050",402,null,402,null,null,402,null,null,null,null,null,null,0,{"$f":"IF(AND($B50,$D50),Design!$AA$11,\"\")","v":""},{"$f":"IF(AND($B$47,$B50,Form!$A$4),$X50,0)","v":0},1,"",{"$f":"IF(AND($B50,Form!$A$4),$Y50,0)","v":0},{"$f":"IF($B50,$Y50,0)","v":0},"K0108",null,0,"BACKM",{"$f":"X50","v":"71050"},1,"Biangular back",null,null,{"$f":"Design!$M$54","v":0}]
[null,{"$f":"AND(B47,Design!$AB$47,BACKSHAPE=3)","v":false},null,null,null,null,null,null,null,{"$f":"IF(B51,\"Back: Scapular cutouts \"&Design!$O$55&\"\"\" W x \"&Design!$P$56&\"\"\" H\",\"(Scapular cutouts)\")","v":"(Scapular cutouts)"},null,null,null,null,null,null,null,null,null,null,null,null,null,"71035",158,null,158,null,null,158,null,null,null,null,null,null,0,{"$f":"\"\"","v":""},{"$f":"IF(AND($B$47,$B51,Form!$A$4),$X51,0)","v":0},1,"",{"$f":"IF(AND($B51,Form!$A$4),$Y51,0)","v":0},0,"K0108",null,0,"BACKM",{"$f":"X51","v":"71035"},1,"Scapular cutouts",null,null,{"$f":"Design!$O$55","v":2},{"$f":"Design!$P$56","v":2}]
[null,{"$f":"AND(B47,BACKFOAMSREQD)","v":false},null,null,null,null,null,null,null,{"$f":"IF(AND(B52,BACKFOAMSREQD),\"Back: \"&Seat!$C$61&\", foam thickness=\"&BACKFOAMTHICK&quote&IF(Design!$AB$19,\", addtl gusset=\"&BACKGUS&quote,\"\"),\"NA\")","v":"NA"},null,null,null,null,null,null,null,null,null,null,null,null,null,{"$f":"IF(BACKFOAMSREQD,IF(Seat!$D$61=\"-\",\"Desc\",Seat!$D$61),0)","v":"Desc"},{"$f":"IF(BACKFOAMSREQD,AD52,0)","v":0},null,{"$f":"Seat!$F$61","v":0},null,null,0,null,null,null,null,null,null,0,{"$f":"\"\"","v":""},{"$f":"IF(AND($B$47,$B52,Form!$A$4),$X52,0)","v":0},1,"",{"$f":"IF(AND($B52,Form!$A$4),$Y52,0)","v":0},0,"",null,0,"BACKM",{"$f":"AM52","v":0},1,{"$f":"Seat!$C$60","v":"NA"},null,{"$f":"IF(AND(BACKFIP,BACKCONFIG<>2,BACKIDX<>1),BACKGUS,\"\")","v":""},{"$f":"BACKFOAMTHICK+BACKBASETHICK","v":0}]
[null,{"$f":"AND(B47,Seat!$Z$61<>\"NA\")","v":false},null,null,null,null,null,null,null,{"$f":"IF(B53,\"Back: Foam top layer - \"&Seat!$Z$61,\"NA\")","v":"NA"},null,null,null,null,null,null,null,null,null,null,null,null,null,{"$f":"Seat!$AE$61","v":"Foam"},0,null,{"$f":"Seat!$AC$61","v":0},null,null,0,null,null,null,null,null,null,0,{"$f":"\"\"","v":""},{"$f":"IF(AND($B$47,$B53,Form!$A$4),$X53,0)","v":0},1,"",{"$f":"IF(AND($B53,Form!$A$4),$Y53,0)","v":0},0,"",null,0,"BACKM","Top",1,{"$f":"Seat!$Z$60","v":"NA"},{"$f":"Seat!$AE$61","v":"Foam"},{"$f":"Seat!$AF$61","v":" "},{"$f":"Seat!$AB$59","v":0},0,0]
[null,{"$f":"AND(B47,Seat!$R$61<>\"NA\")","v":false},null,null,null,null,null,null,null,{"$f":"IF(B54,\"Back: Foam middle layer - \"&Seat!$R$61,\"NA\")","v":"NA"},null,null,null,null,null,null,null,null,null,null,null,null,null,{"$f":"Seat!$W$61","v":"Foam"},0,null,{"$f":"Seat!$U$61","v":0},null,null,0,null,null,null,null,null,null,0,{"$f":"\"\"","v":""},{"$f":"IF(AND($B$47,$B54,Form!$A$4),$X54,0)","v":0},1,"",{"$f":"IF(AND($B54,Form!$A$4),$Y54,0)","v":0},0,"",null,0,"BACKM","Middle",1,{"$f":"Seat!$R$60","v":"NA"},{"$f":"Seat!$W$61","v":"Foam"},{"$f":"Seat!$X$61","v":" "},{"$f":"Seat!$T$59","v":0},{"$f":"IF(AND(BACKFIP,BACKCONFIG<>2,BACKIDX<>1),BACKGUS,0)","v":0},{"$f":"IF(BACKFIP,BACKFOAMTHICK+BACKBASETHICK,0)","v":0}]
[null,{"$f":"AND(B47,Seat!$J$61<>\"NA\")","v":false},null,null,null,null,null,null,null,{"$f":"IF(B55,\"Back: Foam bottom layer - \"&Seat!$J$61,\"NA\")","v":"NA"},null,null,null,null,null,null,null,null,null,null,null,null,null,{"$f":"Seat!$O$61","v":"Foam"},0,null,{"$f":"Seat!$M$61","v":0},null,null,0,null,null,null,null,null,null,0,{"$f":"\"\"","v":""},{"$f":"IF(AND($B$47,$B55,Form!$A$4),$X55,0)","v":0},1,"",{"$f":"IF(AND($B55,Form!$A$4),$Y55,0)","v":0},0,"",null,0,"BACKM","Bottom",1,{"$f":"Seat!$J$60","v":"1-1/2 in. Soft Visco Foam"},{"$f":"Seat!$O$61","v":"Foam"},{"$f":"Seat!$P$61","v":"05891"},{"$f":"Seat!$L$59","v":1.5},0,0]
[null,{"$f":"AND(B47,Design!$AB$15>1)","v":false},null,{"$f":"OR(AND(Design!AB$15=3,OR(BACKSHAPE<>3,Design!$AB$14<>2)),AND(Design!$AB$15=3,Design!$AB$20))","v":false},null,null,null,null,null,{"$f":"IF(B56,IF($D$56,IF(Design!$AB$48,\"***Full back channels NA for biangular back***\",\"*** Full back channels valid for DT R-Back only ***\"),CHOOSE(Design!$AB$15,\"(No back channel)\",\"Back: Lateral channels attached\",\"Back: Full channels attached\")),\"(No back channels)\")","v":"(No back channels)"},null,null,null,null,null,null,null,null,null,null,null,null,null,"71025",93,null,93,null,null,93,null,null,null,null,null,null,0,{"$f":"IF(AND($B$56,$D$56),Design!$AA$11,\"\")","v":""},{"$f":"IF(AND($B$47,$B56,Form!$A$4),$X56,0)","v":0},1,"",{"$f":"IF(AND($B56,Form!$A$4),$Y56,0)","v":0},0,"K0108",null,0,"BACKM",{"$f":"X56","v":"71025"},1,"Back channels attached",{"$f":"CHOOSE(Design!$AB$15,\"\",\"Lateral\",\"Full\")","v":""}]
[null,{"$f":"AND(B47,OR(CHAIRWIDTH>22,Design!E46>22))","v":false},null,null,null,null,null,null,null,{"$f":"IF(B57,\"Back: Oversized dimensions, w > 22\"&quote&\" or h > 22\"&quote,\"(Not oversized)\")","v":"(Not oversized)"},null,null,null,null,null,null,null,null,null,null,null,null,null,{"$f":"IF(B57,\"71024\",\"\")","v":""},116,null,116,null,null,116,null,null,null,null,null,null,0,{"$f":"\"\"","v":""},{"$f":"IF(AND($B$47,$B57,Form!$A$4),$X57,0)","v":0},1,"",{"$f":"IF(AND($B57,Form!$A$4),$Y57,0)","v":0},0,"K0108",null,0,"BACKM",{"$f":"AM57","v":0},1,"Oversized back"]
["No hinge needed",null,null,null,null,null,null,null,null,"Back Modifications",null,null,null,null,null,{"$f":"IF($B$47,\"\",\"No back was selected\")","v":"No back was selected"},null,null,null,null,null,null,null,null,null,null,null,null,null,null,null,null,null,null,null,null,0,{"$f":"\"\"","v":""},{"$f":"IF(AND($B$47,$B58,Form!$A$4),$X58,0)","v":0},null,{"$f":"IF(B58,#REF!,\"\")","v":""},{"$f":"IF(AND($B58,Form!$A$4),$Y58,0)","v":0}]
[{"$f":"COUNTIF(A85:A99,TRUE)>0","v":false},{"$f":"CURVED","v":false},null,null,null,null,null,null,null,"Curved back",null,null,null,null,null,null,null,null,null,null,null,null,null,{"$f":"CHOOSE(BACKSHAPE,\" \",\"70166\",\"70169\",\"70167\")","v":" "},0,null,{"$f":"CHOOSE(BACKSHAPE,0,278,205,263)","v":0},null,null,0,null,null,null,null,null,null,0,{"$f":"IF($D59,Design!$AA$11,\"\")","v":""},{"$f":"IF(AND($B$47,$B59,Form!$A$4),$X59,0)","v":0},1,{"$f":"IF(B59,J59,\"\")","v":""},{"$f":"IF(AND(B59,Form!$A$4),Y59,0)","v":0},{"$f":"IF($B$59,Y59,0)","v":0},"Incl w/E2617",null,{"$f":"AK59","v":0},"BACKM",{"$f":"AM59","v":0},{"$f":"AN59","v":1},"Curved back"]
[null,{"$f":"AND(Pads!$M$52,$B$47)","v":false},null,{"$f":"OR(AND(B60,NOT($B$47),NOT($B$19)),AND(B60,Pads!$V$3=1,Pads!$I$52=5))","v":false},null,null,null,null,null,{"$f":"IF($B$60,\"Contact surface = \"&Pads!$H$52,\"\")","v":""},null,null,null,null,null,null,null,null,null,null,null,null,null,{"$f":"IF(B60,Pads!$K$52,\"\")","v":""},{"$f":"AD60","v":0},null,{"$f":"Pads!$L$52","v":0},null,null,{"$f":"CHOOSE($K$2,AA60,$P$5*AA60,$P$6*AA60)","v":0},null,null,null,null,null,null,0,{"$f":"IF($D60,Design!$AA$11,\"\")","v":""},{"$f":"IF(AND($B$47,$B60,Form!$A$4),$X60,0)","v":0},1,{"$f":"IF(B60,\"Back: \"&J60,\"\")","v":""},{"$f":"IF(AND(B60,Form!$A$4),Y60,0)","v":0},{"$f":"IF($B$60,Y60,0)","v":0},{"$f":"IF(Y60>0,BACKMODHCPCS,\"\")","v":""},"<-Back colored vinyl charge",{"$f":"AK60","v":0},"BACKM",0,{"$f":"AN60","v":1},"Contact surface"]
[null,{"$f":"AND(Pads!$T$53,$B$47)","v":false},null,{"$f":"OR(AND(B61,NOT($B$47),NOT($B$19)),AND(B61,Pads!$V$3=1,Pads!$P$53=3))","v":false},null,null,null,null,null,{"$f":"IF($B$61,\"Non-contact = \"&Pads!$O$53,\"\")","v":""},null,null,null,null,null,null,null,null,null,null,null,null,null,{"$f":"IF(B61,Pads!$R$53,\"\")","v":""},{"$f":"AD61","v":0},null,{"$f":"Pads!$S$53","v":0},null,null,{"$f":"CHOOSE($K$2,AA61,$P$5*AA61,$P$6*AA61)","v":0},null,null,null,null,null,null,{"$f":"IF(AM61=0,AK60,AK60+1)","v":0},{"$f":"IF($D61,Design!$AA$11,\"\")","v":""},{"$f":"IF(AND($B$47,$B61,Form!$A$4),$X61,0)","v":0},1,{"$f":"IF(B61,\"Back: \"&J61,\"\")","v":""},{"$f":"IF(AND(B61,Form!$A$4),Y61,0)","v":0},{"$f":"IF($B$60,Y61,0)","v":0},"","<-Back colored vinyl charge",{"$f":"AK61","v":0},"BACKM",0,{"$f":"AN61","v":1},"Non-contact surface"]
["hinge msg used?",{"$f":"C62=2","v":false},1,{"$f":"AND(B62,NOT($B$47))","v":false},null,null,null,null,null,null,"Back: Zipper on bottom",null,null,null,null,null,null,null,null,null,null,null,null,71005,0,null,0,null,null,{"$f":"CHOOSE($K$2,AA62,$P$5*AA62,$P$6*AA62)","v":0},null,null,null,null,null,null,{"$f":"IF(AM62=0,AK61,AK61+1)","v":0},{"$f":"\"\"","v":""},{"$f":"IF(AND($B$47,$B62,Form!$A$4),$X62,0)","v":0},1,{"$f":"IF(B62,K62,\"\")","v":""},{"$f":"IF($B62,$Y62,0)","v":0},null,"",null,{"$f":"AK62","v":0},"BACKM",0,1,"Back zipper on bottom"]
[{"$f":"IF(AND($B$68,$B$83),\"hinge interference\",\"\")","v":""},false,null,{"$f":"OR($B$59,AND($B63,Design!$U$50=0))","v":false},{"$f":"COUNTIF(B63:B69,TRUE)","v":0},null,null,null,null,null,{"$f":"\"Back: \"&'Pick List'!$BX$2","v":"Back: Use bottom layer as sacral buildup on lowest *NA* inches of back"},null,null,null,null,null,null,null,null,null,null,null,null,{"$f":"$BT$2","v":72059},0,null,{"$f":"$BU$2","v":0},null,null,{"$f":"CHOOSE($K$2,AA63,$P$5*AA63,$P$6*AA63)","v":0},null,null,null,null,null,null,0,{"$f":"IF($D63,Design!$AA$11,\"\")","v":""},{"$f":"IF(AND($B$47,$B63,Form!$A$4),$X63,0)","v":0},1,{"$f":"IF(B63,K63,\"\")","v":""},{"$f":"IF(AND($B$47,$B63,Form!$A$4),$Y63,0)","v":0},{"$f":"IF(AND($B$47,$B63),$Y63,0)","v":0},"",null,{"$f":"AK63","v":0},"BACKM",0,1,"Back lumbar support",{"$f":"SUBSTITUTE($BS$2,quote,\" in.\")","v":"Use bottom layer as sacral buildup"},{"$f":"SUBSTITUTE($BX$2,quote,\" in.\")","v":"Use bottom layer as sacral buildup on lowest *NA* inches of back"},{"$f":"Design!$U$50","v":0},{"$f":"'Pick List'!$BU$14","v":1.5},{"$f":"'Pick List'!$BT$14","v":"05891"}]
[null,{"$f":"Design!$AB$46","v":false},null,false,null,null,null,null,null,null,{"$f":"\"Back: \"&Design!$S$51&\" \"&IF(ISNUMBER(Design!$U$51),Design!$U$51,\"X\")&\" \"&Design!$V$51","v":"Back: Not applicable X "},null,null,null,null,null,null,null,null,null,null,null,null,{"$f":"Design!$Y$52","v":"Back"},0,null,{"$f":"Design!$Y$51","v":0},"(no charge now)",null,{"$f":"CHOOSE($K$2,AA64,$P$5*AA64,$P$6*AA64)","v":0},null,null,null,null,null,null,{"$f":"IF(AM64=0,AK63,AK63+1)","v":0},{"$f":"IF(AND($B64,Design!$U$51=0),Design!$AA$11,\"\")","v":""},{"$f":"IF(AND($B$47,$B64,Form!$A$4),$X64,0)","v":0},1,{"$f":"IF(B64,K64,\"\")","v":""},{"$f":"IF(AND($B$47,$B64,Form!$A$4),$Y64,0)","v":0},{"$f":"IF(AND($B$47,$B64),$Y64,0)","v":0},"",null,{"$f":"AK64","v":0},"COMT",0,{"$f":"AN64","v":1},{"$f":"Design!$S$51&\" \"&IF(ISNUMBER(Design!$U$51),Design!$U$51,\"X\")&\" \"&Design!$V$51","v":"Not applicable X "},null,{"$f":"Design!$S$51&\" \"&IF(ISNUMBER(Design!$U$51),Design!$U$51,\"X\")&\" \"&Design!$V$51","v":"Not applicable X "},{"$f":"Design!$U$51","v":0},{"$f":"Design!$V$51","v":""},{"$f":"Design!$Y$51","v":0}]
["NoCheckBox>",false,null,{"$f":"AND(B65,NOT($B$47))","v":false},null,null,null,null,null,null,"Back: Mushroom foam overlay",null,null,null,"CHECK BOX REMOVED SO NEVER CHOSEN",null,null,null,null,null,null,null,null,71032,247,null,247,null,null,247,null,null,null,null,null,null,{"$f":"IF(AM65=0,AK64,AK64+1)","v":0},{"$f":"\"\"","v":""},{"$f":"IF(AND($B$47,$B65,Form!$A$4),$X65,0)","v":0},1,{"$f":"IF(B65,K65,\"\")","v":""},{"$f":"IF(AND($B$47,$B65,Form!$A$4),$Y65,0)","v":0},{"$f":"IF(AND($B$47,$B65),$Y65,0)","v":0},"K0108",null,0,"BACKM",0,1,"Back mushroom foam"]
[null,{"$f":"$AO$2","v":false},null,{"$f":"AND(B66,NOT($B$47))","v":false},null,null,null,null,null,null,"Back: Custom headrest T-nuts",null,null,null,null,null,null,null,null,null,null,null,null,"T-nuts",0,null,0,null,null,0,null,null,null,null,null,null,{"$f":"IF(AM66=0,AK65,AK65+1)","v":0},{"$f":"\"\"","v":""},{"$f":"IF(OR('Pick List'!$B$182,AND($B$47,$B66,Form!$A$4)),$X66,0)","v":0},1,{"$f":"IF(OR('Pick List'!$B$182,B66),\"Back: \"&$AQ$2,\"\")","v":""},{"$f":"IF(OR('Pick List'!$B$182,$B66),$Y66,0)","v":0},{"$f":"IF(OR('Pick List'!$B$182,$B66),$Y66,0)","v":0},"",null,0,"BACKM","HRTnuts",{"$f":"AN66","v":1},"Custom headrest T-nuts",{"$f":"$AS$2","v":"Therafin"}]
["T-Back? (spreader okay)",false,null,{"$f":"AND(B67,NOT($B$47))","v":false},null,null,null,null,null,null,"Back: Dureflex incontinence liner",null,null,null,null,null,null,null,null,null,null,null,null,72056,69,null,69,null,null,{"$f":"CHOOSE($K$2,AA67,$P$5*AA67,$P$6*AA67)","v":69},null,null,null,"=IF(OR(AND('Pick List'!$B$82>1,LEFT($K$68,1)=\"*\"),AND($B$47,$B$68,OR(NOT($A$68),$B$83,NOT($BL$13)))),Design!$AA$11,\"\")",null,null,0,{"$f":"\"\"","v":""},{"$f":"IF(AND($B$47,$B67,Form!$A$4),$X67,0)","v":0},1,{"$f":"IF(B67,K67,\"\")","v":""},{"$f":"IF(AND($B$47,$B67,Form!$A$4),$Y67,0)","v":0},{"$f":"IF(AND($B$47,$B67),$Y67,0)","v":0},"K0108",null,{"$f":"AK67","v":0},"BACKM",{"$f":"AM67","v":0},1,"Dureflex incontinence liner"]
[{"$f":"Design!$AB13=4","v":false},false,null,{"$f":"OR(AND(B68,CURVED),AND(B68,NOT($B$47)),AND($B$68,$B$83),AND($B$68,NOT($A$68)),LEFT(K68,1)=\"*\")","v":false},null,null,null,null,{"$f":"MAX(1,Design!$R$47)","v":1},null,{"$f":"IF(CURVED,\"Spreader Bar not allowed for curved back\",IF(NOT($B$68),IF($A$68,IF($BL$13,Design!$AK$127,\"Spreader Bar\"),\"Spreader Bar not allowed\"),IF(AND($B$68,Hardware!$P$3),\"**Spreader Bar & seat-to-back hinge interference.**\",IF($A$68,$BL$14,\"** \"&$BL$14&\" **\"))))","v":"Spreader Bar not allowed"},null,null,null,null,null,null,null,null,null,null,null,null,{"$f":"IF(OR($D$68,NOT($B$68)),\"Warning\",$BM$14)","v":"Warning"},{"$f":"IF($B$68,AD68*I68,0)","v":0},null,61,null,null,61,null,null,null,null,"=\"50080-\"&CHAIRWIDTH",null,0,{"$f":"IF(OR($D$68,AND('Pick List'!$B$82>1,LEFT($K$68,1)=\"*\"),AND($B$47,$B$68,OR(NOT($A$68),$B$83,NOT($BL$13)))),Design!$AA$11,\"\")","v":""},{"$f":"IF(OR(AND('Pick List'!$B$82>1,LEFT($K68,1)=\"*\"),AND($B$47,$B68)),$X68,0)","v":0},{"$f":"MAX(1,$I68)","v":1},{"$f":"IF(OR(AND('Pick List'!$B$82>1,LEFT($K$68,1)=\"*\"),AND($B$47,B68)),K68,\"\")","v":""},{"$f":"IF(OR(LEFT($K$68,1)=\"*\",AND($B$47,$B68)),$Y68,0)","v":0},null,"",null,0,"COMT",0,1,"Spreader bar"]
["Suggest FIP",false,null,{"$f":"AND(B69,NOT($B$47))","v":false},null,null,null,null,null,null,"Back: Foam-in-Place Kit",null,null,null,null,null,null,null,null,null,null,null,null,{"$f":"$BN$10","v":50223},{"$f":"AD69","v":102},null,{"$f":"$BO$10","v":102},null,null,102,null,null,null,null,null,null,0,{"$f":"\"\"","v":""},{"$f":"IF(AND($B$47,$B69),$X69,0)","v":0},{"$f":"BP10","v":1},{"$f":"IF(B69,K69&\" - \"&$BM$10,\"\")","v":""},{"$f":"IF(AND($B$47,$B69),$Y69,0)","v":0},null,"K0108",null,0,"COMT",0,1,"Back foam-in-place kit"]
[{"$f":"AND('Pick List'!$B$47,BACKFIP)","v":false},false,null,null,null,null,null,null,null,{"$f":"IF(B70,Design!$AN$153,\"(No extra back cover)\")","v":"(No extra back cover)"},null,null,null,null,null,null,null,null,null,null,null,null,null,"50251",{"$f":"AD70","v":256},null,256,null,null,256,null,null,null,null,null,null,0,{"$f":"\"\"","v":""},{"$f":"IF(AND($B$47,$B70),$X70,0)","v":0},1,{"$f":"IF(B70,J70,\"\")","v":""},{"$f":"IF(AND($B$47,$B70),$Y70,0)","v":0},null,"K0108",null,0,"COMT",0,1,"Extra cover for back",{"$f":"Design!$AP$153","v":"Regular"}]
[null,{"$f":"AND($B$60,$B$47,$B$70,Design!$AM$153=1)","v":false},null,{"$f":"D60","v":false},null,null,null,null,null,{"$f":"IF($B$60,$J$60,\"\")","v":""},null,null,null,null,null,null,null,null,null,null,null,null,null,{"$f":"IF(B71,$X$60,\"\")","v":""},{"$f":"AD71","v":0},null,{"$f":"Pads!$L$52","v":0},null,null,{"$f":"CHOOSE($K$2,AA71,$P$5*AA71,$P$6*AA71)","v":0},null,null,null,null,null,null,0,{"$f":"IF($D71,Design!$AA$11,\"\")","v":""},{"$f":"IF($B71,$X71,0)","v":0},1,{"$f":"IF(B71,J71,\"\")","v":""},{"$f":"IF(B71,Y71,0)","v":0},{"$f":"IF(B71,Y71,0)","v":0},"","<-Cover colored vinyl charge",{"$f":"AK71","v":0},"COVM",{"$f":"AM71","v":0},{"$f":"AN71","v":1},"Contact surface"]
[null,{"$f":"AND($B$61,$B$47,$B$70,Design!$AM$153=1)","v":false},null,{"$f":"D61","v":false},null,null,null,null,null,{"$f":"IF($B$61,$J$61,\"\")","v":""},null,null,null,null,null,null,null,null,null,null,null,null,null,{"$f":"IF(B72,$X$61,\"\")","v":""},{"$f":"AD72","v":0},null,{"$f":"Pads!$S$53","v":0},null,null,{"$f":"CHOOSE($K$2,AA72,$P$5*AA72,$P$6*AA72)","v":0},null,null,null,null,null,null,0,{"$f":"IF($D72,Design!$AA$11,\"\")","v":""},{"$f":"IF($B72,$X72,0)","v":0},1,{"$f":"IF(B72,J72,\"\")","v":""},{"$f":"IF(B72,Y72,0)","v":0},{"$f":"IF(B72,Y72,0)","v":0},"","<-Cover colored vinyl charge",{"$f":"AK72","v":0},"COVM",0,1,"Non-contact surface"]
[null,null,null,null,null,null,null,null,null,null,null,null,null,null,null,null,null,null,null,null,null,null,null,null,null,null,null,null,null,null,null,null,null,null,null,null,null,null,{"$f":"IF($B73,$X73,0)","v":0},null,null,null,null,null,null,{"$f":"AK73","v":0},null,0,0]
[null,null,null,null,null,null,null,null,null,null,null,null,null,null,null,null,null,null,null,null,null,null,null,null,null,null,null,null,null,null,null,null,null,null,null,null,null,null,null,null,null,null,null,null,null,0,null,0,0]
[null,null,null,null,null,null,null,null,null,null,null,null,null,null,null,null,null,null,null,null,null,null,null,null,{"$f":"$D$544","v":false},null,null,null,null,null,null,null,null,null,null,null,null,null,null,null,null,null,null,null,null,0,null,0,0]
[null,null,null,null,null,null,null,null,null,null,null,null,null,null,{"$f":"$D$83","v":false},{"$f":"$D$409","v":false},{"$f":"$E$102","v":false},{"$f":"$D$448","v":false},null,{"$f":"$D$175","v":false},{"$f":"$D$492","v":false},{"$f":"$D$235","v":false},{"$f":"$D$508","v":false},{"$f":"OR(AND($B$372,$D$372),$D$305)","v":false},{"$f":"OR(AND($B$404,$D$404),$D$375)","v":false},null,null,null,null,null,null,null,null,null,null,null,null,null,null,null,null,null,null,null,null,0,null,0,0]
["Tube size",null,null,null,null,null,null,null,null,null,null,null,null,null,{"$f":"IF($O$76,\"ATTACHING HDW\",\"Attaching hdw\")","v":"Attaching hdw"},null,{"$f":"IF($Q$76,\"Misc Products\",\"Misc Products\")","v":"Misc Products"},null,null,{"$f":"IF($T$76,\"HEADRESTS\",\"Headrests\")","v":"Headrests"},null,{"$f":"IF($V$76,\"LATERAL SUPPORTS\",\"Lateral Supports\")","v":"Lateral Supports"},null,{"$f":"IF($X$76,\"Anterior Support\",\"Anterior Support\")","v":"Anterior Support"},"Hip Belts",null,null,null,null,null,null,null,null,null,null,null,null,null,null,null,null,null,null,null,null,0,null,0,0]
[{"$f":"Design!$AB$17","v":2},null,null,null,null,null,null,null,null,null,null,null,null,null,{"$f":"IF($P$76,\"HIP GUIDES\",\"Hip Guides\")","v":"Hip Guides"},null,{"$f":"IF($R$76,\"ABDUCTOR\",\"Abductor\")","v":"Abductor"},null,{"$f":"IF($D$463,\"ADDUCTORS\",\"Adductors\")","v":"Adductors"},null,{"$f":"IF($D$492,\"KNEE\",\"Knee\")","v":"Knee"},{"$f":"IF($D$508,\"SHOE HOLDERS\",\"Shoe Holders\")","v":"Shoe Holders"},null,{"$f":"IF($Y$75,\"TRAYS\",\"Trays\")","v":"Trays"},{"$f":"IF($Y$75,\"REMARKS\",\"Remarks\")","v":"Remarks"},null,null,null,null,null,null,null,null,null,null,null,null,null,null,null,null,null,null,null,null,0,null,0,0]
[null,null,null,null,null,null,null,null,null,null,null,null,null,null,null,null,null,null,null,null,{"$f":"B492","v":1},null,null,null,null,null,null,null,null,null,null,null,null,null,null,null,null,null,null,null,null,null,null,null,null,0,null,0,0]
[null,null,null,null,null,null,null,null,null,null,null,null,null,null,null,null,null,null,null,null,null,null,null,null,null,null,null,null,null,null,null,null,null,null,null,null,null,null,null,null,null,null,null,null,null,0,null,0,0]
[null,null,null,null,null,null,null,null,null,null,null,null,null,null,null,"ATTACHING HARDWARE",null,null,null,null,null,null,null,{"$f":"IF(D83,\"ISSUES REVIEWED?\",\"     Issues reviewed?\")","v":"     Issues reviewed?"},null,null,{"$f":"IF(AB81,\"+\",\">\")","v":">"},false,null,null,null,null,null,null,null,null,null,null,null," ",null,null,null,null,null,0,null,0," "]
["column true if hinge not needed",1,null,"any error?",null,null,"hinge depth",null,null,{"$f":"IF($B$47,IF(Design!$AB$17=1,\" Back tube = 7/8\"&quote&\"   \",\"Back tube = 1\"&quote&\"   \"),\"\")&IF($B$19,IF(Design!$AB$51=1,\" Seat tube = 7/8\"&quote,\" Seat tube = 1\"&quote),\"\")","v":""},null,null,null,null,null,null,null,null,null,null,null,null,null,null,null,null,null,null,null,null,null,null,null,null,null,null,{"$f":"AK72","v":0},null,null," ",null,null,null,"sum for \"incl hdw\" in back/seat below",null,null,null,0," "]
[null,{"$f":"AND($B$96,Hardware!$P$3)","v":false},"<--Has hinge?",{"$f":"OR(OR(D84,D96),AND($B$82=1,OR($B$47,$B$19)),AND($B$82>1,NOT($B$47),NOT($B$19)))","v":false},{"$f":"COUNTIF(B85:B99,TRUE)","v":0},null,{"$f":"G96","v":0},null,null,null,null,null,null,null,null,null,{"$f":"IF(AND($B$68,$B$83),\"Spreader bar & seat-to-back hinge interference\",\"\")","v":""},null,null,null,null,null,null,null,null,null,"Retail","Prim","Cost","Used",null,null,null,null,null,{"$f":"IFERROR(VLOOKUP($AK82+1,$AK85:$AP100,1,FALSE),\"\")","v":""},null,{"$f":"IFERROR(VLOOKUP($AK82+1,$AK85:$AP100,2,FALSE),\"\")","v":""},{"$f":"IFERROR(VLOOKUP($AK82+1,$AK85:$AP100,3,FALSE),\"\")","v":""},{"$f":"IFERROR(VLOOKUP($AK82+1,$AK85:$AP100,4,FALSE),\"\")","v":""},{"$f":"IFERROR(VLOOKUP($AK82+1,$AK85:$AP100,5,FALSE),\"\")","v":""},null,{"$f":"AQ97","v":0},"Incl w/cushion",null,{"$f":"AJ83","v":""},{"$f":"IF(OR($B$84,$B$85),\"REM\",\"COMT\")","v":"REM"},"","",{"$f":"IF($B$84,SUBSTITUTE(SUBSTITUTE(AO83,\"** \",\"\"),\" **\",\"\"),IF($B$85,\"Do not need back hdw\",LEFT($AO$83,8)))","v":""}]
[null,{"$f":"OR(B82=1,D97)","v":true},null,{"$f":"AND(OR($B$47,$B$19),B84)","v":false},null,null,null,null,null,{"$f":"IF(AND(OR($B$47,$B$19),$E$83=0),\"¢\",\"\")","v":""},{"$f":"IF($E$83=0,\"No Back or Seat Attaching Hardware\",\"No Back or Seat Attaching Hardware\")","v":"No Back or Seat Attaching Hardware"},null,null,null,null,null,{"$f":"IF($B$23,CHOOSE(Design!$AB$52,\"\",\"Seat has growth notches \"&Design!$R13&\"\"\" W x \"&Design!$Q$14&\"\"\" D\",\"Seat has hidden growth notches \"&Design!$R$13&\"\"\" W x \"&Design!$Q14&\"\"\" D\"),\"\")","v":""},null,null,null,null,null,null,null,null,null,null,null,null,null,null,null,null,null,null,{"$f":"IFERROR(VLOOKUP($AK82+2,$AK85:$AP100,1,FALSE),\"\")","v":""},null,{"$f":"IFERROR(VLOOKUP($AK82+2,$AK85:$AP100,2,FALSE),\"\")","v":""},{"$f":"IFERROR(VLOOKUP($AK82+2,$AK85:$AP100,3,FALSE),\"\")","v":""},{"$f":"IFERROR(VLOOKUP($AK82+2,$AK85:$AP100,4,FALSE),\"\")","v":""},{"$f":"IFERROR(VLOOKUP($AK82+2,$AK85:$AP100,5,FALSE),\"\")","v":""},null,{"$f":"AQ99","v":0},"K0108",null,{"$f":"AJ84","v":""},{"$f":"IF(OR($B$84,$B$85),\"REM\",\"COMT\")","v":"REM"},"","",{"$f":"IF($B$84,SUBSTITUTE(SUBSTITUTE(AO84,\"** \",\"\"),\" **\",\"\"),IF($B$85,\"Do not need seat hdw\",LEFT($AO$84,8)))","v":""}]
[{"$f":"IF(B85,TRUE,FALSE)","v":false},{"$f":"B82=2","v":false},null,null,null,null,null,null,null,null,"Do not need attaching hardware",null,null,null,null,null,null,null,null,null,null,null,null,null,null,null,null,null,null,null,null,null,null,null,null,null,null,null,null,null,null,null,null,null,null,null,null,null,0]
[null,null,null,null,null,null,null,null,null,"Back Attaching Hardware",null,null,null,null,null,null,null,null,"Seat Attaching Hardware",null,null,null,null,null,null,null,null,null,null,null,null,null,null,null,null,null,{"$f":"IF(AM86=0,AK82,AK82+1)","v":0},{"$f":"IF(AND($B$84,$B$47),$AA$81,\"\")","v":""},{"$f":"IF($B$47,IF($B$84,\"Warning\",IF($B$85,\"Note \",0)),0)","v":0}," ",{"$f":"IF($B$47,IF($B$84,\"** No back attaching hardware selected **\",IF($B$85,\"** Do not need back hardware **\",\"\")),\"\")","v":""}]
[null,null,null,null,null,null,null,null,null,null,null,null,null,null,null,null,null,null,null,null,null,null,null,null,null,null,null,null,null,null,null,null,null,null,null,null,{"$f":"IF(AM87=0,AK86,AK86+1)","v":0},{"$f":"IF(AND($B$84,$B$19),$AA$81,\"\")","v":""},{"$f":"IF($B$19,IF($B$84,\"Warning\",IF($B$85,\"Note \",0)),0)","v":0}," ",{"$f":"IF($B$19,IF($B$84,\"** No seat attaching hardware selected **\",IF($B$85,\"** Do not need seat hardware **\",\"\")),\"\")","v":""}]
[]
[]
[]
[]
[]
[null,null,null,null,null,null,null,null,null,"Two or Four Knobs",null,null,null,null,null,null,null,null,null,"Hinged Collars",null,null,"Swingtabs",null,"Knobs &           "]
[null,null,null,null,null,null,null,null,null," & optional hinges",null,null,null,"Molded J & Ls",null,null,"Js & Ls",null,null,"& Rail Locks",null,null,"& Rail Locks",null,"Swingtabs        "]
[null,"Choose kit?"]
[null,{"$f":"B82=3","v":false},null,{"$f":"OR(AND(ChooseOwnKit,OR($X$97=\"UNAVAIL\",AND(NOT($B$47),NOT($B$19)),NOT(Hardware!$G$3))),$D$98,$D$100,D97)","v":false},null,null,{"$f":"IF($B96,Hardware!$T$3,0)","v":0},null,null,{"$f":"IF(OR(D96,E98),\"¢\",\"\")","v":""},"Choose your own kit",null,null,null,{"$f":"IF(AND($B$96,NOT($B$47),NOT($B$19)),\"Hardware chosen without a back or seat\",\"\")","v":""},null,null,null,null,null,null,null,null,"Item #",{"$f":"'Pick List'!$L$2","v":"Ext Retail"},null,"Retail",null,null,"Used",null,null,null,null,null,null,{"$f":"IF(AM96=0,AK87,AK87+1)","v":0}]
[{"$f":"HingeNotNeeded","v":0},null,{"$f":"AND(BackHdwDesc<>\"NONE\",ChooseOwnKit)","v":false},{"$f":"AND(ChooseOwnKit,BackHdwDesc=\"NONE\",SEATHDWDESC=\"NONE\")","v":false},"Hdw error",null,null,null,null,null,{"$f":"IF($B$47,\"Back Hdw:\",\"NO BACK\")","v":"NO BACK"},null,null,null,null,null,null,null,null,null,null,null,null,{"$f":"Hardware!$D$3","v":"No"},{"$f":"MAX(J97,1)*AD97","v":0},null,{"$f":"Hardware!$J$3","v":0},null,null,{"$f":"CHOOSE($K$2,AA97,$P$5*AA97,$P$6*AA97)","v":0},null,null,null,null,null,null,0,{"$f":"IF(OR($D$98,$E$98),$AA$81,\"\")","v":""},{"$f":"IF($C97,$X97,0)","v":0},1,{"$f":"\"Back Hdw: \"&Hardware!C3","v":"Back Hdw: None"},{"$f":"IF(AND($C97,Form!$A$2),$Y97,0)","v":0},{"$f":"IF($C97,$Y97,0)","v":0},"Incl w/cushion"]
[null,null,"hinge+spreader bar error or hinge rise error->",{"$f":"OR(AND(ChooseOwnKit,$B$68,$B$83),AND(ChooseOwnKit,HingeRise>0,THICKNESSOFSEAT>3))","v":false},{"$f":"AND(B96,(OR(AND(CURVED,NOT(WORKSCURVED)),Hardware!$D$3=\"99999\",ISNUMBER(SEARCH(\"seat too thick\",AO97)))))","v":false},null,null,null,null,null,null,null,{"$f":"IF(AND($B$68,Hardware!$P$3),\"Spreader bar & seat-to-back hinge interference.        \",Hardware!$S$3)&IF($B$96,Hardware!$R$3,\"\")","v":" "},null,null,null,null,null,null,null,null,null,null,null,null,null,null,null,null,null,null,null,null,null,null,null,0,null,null,null,{"$f":"IF(B98,K98,\"\")","v":""}]
[null,null,{"$f":"AND(SEATHDWDESC<>\"NONE\",ChooseOwnKit)","v":false},null,null,null,null,null,null,null,{"$f":"IF($B$19,\"Seat Hdw:\",\"NO SEAT\")","v":"NO SEAT"},null,null,null,null,null,null,null,null,null,null,null,null,{"$f":"Hardware!$D$66","v":"No"},{"$f":"MAX(J99,1)*AD99","v":0},null,{"$f":"Hardware!$J$66","v":0},null,null,{"$f":"CHOOSE($K$2,AA99,$P$5*AA99,$P$6*AA99)","v":0},null,null,null,null,null,null,0,{"$f":"IF($D$100,$AA$81,\"\")","v":""},{"$f":"IF($C99,$X99,0)","v":0},1,{"$f":"\"Seat Hdw: \"&Hardware!C66","v":"Seat Hdw: None"},{"$f":"IF(AND($C99,Form!$A$2),$Y99,0)","v":0},{"$f":"IF($C99,$Y99,0)","v":0},"K0108"]
[null,null,"hinge & spreader bar alert->",{"$f":"AND(ChooseOwnKit,BACKHDWHASHINGE,SEATHDWHINGECODE=3)","v":false},null,null,null,null,null,null,null,null,{"$f":"IF(Hardware!$P$3,CHOOSE(Hardware!$P$66,\"Works with seat-to-back hinge in back hardware kit\",\"Note: Back hardware includes seat-to-back hinge\",\"Not a good combination with a seat-to-back hinge\"),\"\")","v":""},null,null,null,null,null,null,null,null,null,null,null,null,null,null,null,null,null,null,null,null,null,null,null,null,null,null,null,null,null,null,null,null,null,null,{"$f":"AM100","v":0},0]
[null,null,null,null,null,null,null,null,null,null,null,null,null,null,null,null,null,null,null,null,null,null,null,null,null,null,null,null,null,null,null,null,null,null,null,null,null,null,null,null,null,null,null,null,null,null,null,0,0]
[null,{"$f":"COUNTIF(B104:B172,TRUE)>0","v":false},null,null,{"$f":"COUNTIF(D104:D172,TRUE)>0","v":false},null,null,null,null,null,null,null,null,null,null,"MISCELLANEOUS PRODUCTS",null,null,null,null,null,null,null,null,null,null,null,null,null,null,null,null,null,null,null,null,{"$f":"AK99","v":0},null,null,null,null,null,null,null,null,null,null,0,0]
[null,null,null,null,null,null,null,null,null,null,"Qty",null,null,"Description",null,null,null,null,null,null,"HCPCS",null,"Retail","Item #",{"$f":"'Pick List'!$L$2","v":"Ext Retail"},null,"Retail",null,null,"Used",null,null,null,null,null,null,null,null,{"$f":"CONCATENATE(AS104,AS105,AS106,AS107,AS108,AS109,AS110,AS111,AS112,AS113,AS114,AS115,AS116,AS117,AS118,AS119,AS120,AS121,AS122,AS123,AS124,AS125,AS126,AS127,AS128,AS129,AS130,AS131,AS132,AS133)&CONCATENATE(AS134,AS135,AS136,AS137,AS138,AS139,AS140,AS141,AS142,AS143,AS144,AS145,AS146,AS147,AS148,AS149,AS150,AS151,AS152,AS153,AS154,AS155,AS156,AS157,AS158,AS159,AS160,AS161,AS162,AS163,AS164,AS165,AS166,AS167,AS168,AS169,AS170,AS171,AS172)","v":""},null,null,null,null,null,null,null,null,"",0]
[null,false,null,{"$f":"AND(B104,OR(ISBLANK(M104),NOT(ISNUMBER(W104)),ISBLANK(X104)))","v":false},null,null,null,null,null,null,null,{"$f":"IF(D104,\"¢\",\"\")","v":""},"ENTER DESC, RETAIL PRICE, ITEM # THEN CHECK BOX",null,null,null,null,null,null,null,null,null,null,null,{"$f":"IF(ISNA(AD104),\"\",MAX(K104,1)*AD104)","v":0},null,{"$f":"W104","v":0},null,null,{"$f":"CHOOSE($K$2,AA104,$P$5*AA104,$P$6*AA104)","v":0},null,null,null,null,null,null,{"$f":"IF(AM104=0,AK102,AK102+1)","v":0},{"$f":"IF(D104,\">\",\"\")","v":""},{"$f":"IF($B104,IF(ISBLANK($X104),\"MISSING\",$X104),0)","v":0},{"$f":"MAX(1,K104)","v":1},{"$f":"M104","v":"ENTER DESC, RETAIL PRICE, ITEM # THEN CHECK BOX"},{"$f":"IF($B104,$Y104,0)","v":0},null,{"$f":"U104","v":0},{"$f":"IF($B104,IF(ISBLANK($X104),\"___MISSING   \",\"___\"&$K104&\"|\"&$X104&\"   \"),\"\")","v":""},{"$f":"AK104","v":0},"COMT",0,1,{"$f":"SUBSTITUTE(SUBSTITUTE(AO104,quote,\" in.\"),comma,\" -\")","v":"ENTER DESC - RETAIL PRICE - ITEM # THEN CHECK BOX"}]
[null,false,null,{"$f":"AND(B105,OR(ISBLANK(M105),NOT(ISNUMBER(W105)),ISBLANK(X105)))","v":false},null,null,null,null,null,null,null,{"$f":"IF(D105,\"¢\",\"\")","v":""},null,null,null,null,null,null,null,null,null,null,null,null,0,null,{"$f":"W105","v":0},null,null,{"$f":"CHOOSE($K$2,AA105,$P$5*AA105,$P$6*AA105)","v":0},null,null,null,null,null,null,0,"",0,1,{"$f":"M105","v":0},0,null,{"$f":"U105","v":0},{"$f":"IF($B105,IF(ISBLANK($X105),\"___MISSING   \",\"___\"&$K105&\"|\"&$X105&\"   \"),\"\")","v":""},{"$f":"AK105","v":0},"COMT",0,1,"0"]
[null,false,null,{"$f":"AND(B106,OR(ISBLANK(M106),NOT(ISNUMBER(W106)),ISBLANK(X106)))","v":false},null,null,null,null,null,null,null,"","1/2\" Spacer",null,null,null,null,null,null,null,"K0108",null,23,50098,23,null,{"$f":"W106","v":23},null,null,{"$f":"CHOOSE($K$2,AA106,$P$5*AA106,$P$6*AA106)","v":23},null,null,null,null,null,null,0,"",0,1,"1/2\" Spacer",0,null,"K0108","",0,"COMT",0,1,"1/2 in. Spacer"]
[null,false,null,{"$f":"AND(B107,OR(ISBLANK(M107),NOT(ISNUMBER(W107)),ISBLANK(X107)))","v":false},null,null,null,null,null,null,null,"","Amputee Counterbalance with one plate - 4.48 lbs",null,null,null,null,null,null,null,"K0108",null,357,31959,357,null,357,null,null,357,null,null,null,null,null,null,{"$f":"IF(AM107=0,AK106,AK106+1)","v":0},"",0,1,"Amputee Counterbalance with one plate - 4.48 lbs",0,null,"K0108","",0,"COMT",{"$f":"AM107","v":0},{"$f":"AN107","v":1},"Amputee Counterbalance with one plate - 4.48 lbs"]
[null,false,null,false,null,null,null,null,null,null,null,"","Amputee Counterbalance with three plates - 11.71 lbs",null,null,null,null,null,null,null,"K0108",null,525,31961,525,null,525,null,null,525,null,null,null,null,null,null,0,"",0,1,"Amputee Counterbalance with three plates - 11.71 lbs",0,null,"K0108","",0,"COMT",0,1,"Amputee Counterbalance with three plates - 11.71 lbs"]
[null,false,null,false,null,null,null,null,null,null,null,"","Amputee Counterbalance with two plates - 8.09 lbs",null,null,null,null,null,null,null,"K0108",null,452,31960,452,null,452,null,null,452,null,null,null,null,null,null,0,"",0,1,"Amputee Counterbalance with two plates - 8.09 lbs",0,null,"K0108","",0,"COMT",0,1,"Amputee Counterbalance with two plates - 8.09 lbs"]
[null,false,null,false,null,null,null,null,null,null,null,"","Back, Easy Clip, 14\" Wide x 14\" Tall",null,null,null,null,null,null,null,"E2611",null,368,"50017",368,null,368,null,null,368,null,null,null,null,null,null,0,"",0,1,"Back, Easy Clip, 14\" Wide x 14\" Tall",0,null,"E2611","",0,"COMT",0,1,"Back - Easy Clip - 14 in. Wide x 14 in. Tall"]
[null,false,null,false,null,null,null,null,null,null,null,"","Back, Easy Clip, 16\" Wide x 16\" Tall",null,null,null,null,null,null,null,"E2611",null,368,"50018",368,null,368,null,null,368,null,null,null,null,null,null,0,"",0,1,"Back, Easy Clip, 16\" Wide x 16\" Tall",0,null,"E2611","",0,"COMT",0,1,"Back - Easy Clip - 16 in. Wide x 16 in. Tall"]
[null,false,null,false,null,null,null,null,null,null,null,"","Back, Easy Clip, 18\" Wide x 16\" Tall",null,null,null,null,null,null,null,"E2611",null,368,"50019",368,null,368,null,null,368,null,null,null,null,null,null,0,"",0,1,"Back, Easy Clip, 18\" Wide x 16\" Tall",0,null,"E2611","",0,"COMT",0,1,"Back - Easy Clip - 18 in. Wide x 16 in. Tall"]
[null,false,null,false,null,null,null,null,null,null,null,"","Basic 4-point hip belt w/pad, 1\" strap & SR plastic buckle",null,null,null,null,null,null,null,"E0978",null,142,51058,142,null,142,null,null,142,null,null,null,null,null,null,0,"",0,1,"Basic 4-point hip belt w/pad, 1\" strap & SR plastic buckle",0,null,"E0978","",0,"COMT",0,1,"Basic 4-point hip belt w/pad - 1 in. strap & SR plastic buckle"]
[null,false,null,false,null,null,null,null,null,null,null,"","Basic 4-point hip belt w/pad, 1-1/2\" strap & PB metal buckle",null,null,null,null,null,null,null,"E0978",null,157,51065,157,null,157,null,null,157,null,null,null,null,null,null,0,"",0,1,"Basic 4-point hip belt w/pad, 1-1/2\" strap & PB metal buckle",0,null,"E0978","",0,"COMT",0,1,"Basic 4-point hip belt w/pad - 1-1/2 in. strap & PB metal buckle"]
[null,false,null,false,null,null,null,null,null,null,null,"","Basic 4-point hip belt w/pad, 1-1/2\" strap & PB security buckle",null,null,null,null,null,null,null,"E0978",null,167,51034,167,null,167,null,null,167,null,null,null,null,null,null,0,"",0,1,"Basic 4-point hip belt w/pad, 1-1/2\" strap & PB security buckle",0,null,"E0978","",0,"COMT",0,1,"Basic 4-point hip belt w/pad - 1-1/2 in. strap & PB security buckle"]
[null,false,null,false,null,null,null,null,null,null,null,"","Basic 4-point hip belt w/pad, 1-1/2\" strap & SR plastic buckle",null,null,null,null,null,null,null,"E0978",null,142,51059,142,null,142,null,null,142,null,null,null,null,null,null,0,"",0,1,"Basic 4-point hip belt w/pad, 1-1/2\" strap & SR plastic buckle",0,null,"E0978","",0,"COMT",0,1,"Basic 4-point hip belt w/pad - 1-1/2 in. strap & SR plastic buckle"]
[null,false,null,false,null,null,null,null,null,null,null,"","Basic 4-point hip belt w/pad, 2\" strap & PB metal buckle",null,null,null,null,null,null,null,"E0978",null,157,51066,157,null,157,null,null,157,null,null,null,null,null,null,0,"",0,1,"Basic 4-point hip belt w/pad, 2\" strap & PB metal buckle",0,null,"E0978","",0,"COMT",0,1,"Basic 4-point hip belt w/pad - 2 in. strap & PB metal buckle"]
[null,false,null,false,null,null,null,null,null,null,null,"","Basic 4-point hip belt w/pad, 2\" strap & PB security buckle",null,null,null,null,null,null,null,"K0108",null,167,51035,167,null,167,null,null,167,null,null,null,null,null,null,0,"",0,1,"Basic 4-point hip belt w/pad, 2\" strap & PB security buckle",0,null,"K0108","",0,"COMT",0,1,"Basic 4-point hip belt w/pad - 2 in. strap & PB security buckle"]
[null,false,null,false,null,null,null,null,null,null,null,"","Basic 4-point hip belt w/pad, 2\" strap & SR plastic buckle",null,null,null,null,null,null,null,"E0978",null,142,51060,142,null,142,null,null,142,null,null,null,null,null,null,0,"",0,1,"Basic 4-point hip belt w/pad, 2\" strap & SR plastic buckle",0,null,"E0978","",0,"COMT",0,1,"Basic 4-point hip belt w/pad - 2 in. strap & SR plastic buckle"]
[null,false,null,false,null,null,null,null,null,null,null,"","Bracket, 1\" Drop Hook for 1\" diameter cane w/ hardware",null,null,null,null,null,null,null,"K0108",null,54,"32603H",54,null,54,null,null,54,null,null,null,null,null,null,0,"",0,1,"Bracket, 1\" Drop Hook for 1\" diameter cane w/ hardware",0,null,"K0108","",0,"COMT",0,1,"Bracket - 1 in. Drop Hook for 1 in. diameter cane w/ hardware"]
[null,false,null,false,null,null,null,null,null,null,null,"","Calf Panel Convenience Pocket, Small",null,null,null,null,null,null,null,"K0108",null,27,60041,27,null,27,null,null,27,null,null,null,null,null,null,0,"",0,1,"Calf Panel Convenience Pocket, Small",0,null,"K0108","",0,"COMT",0,1,"Calf Panel Convenience Pocket - Small"]
[null,false,null,false,null,null,null,null,null,null,null,"","Calf Panel Convenience Pocket, Medium",null,null,null,null,null,null,null,"K0108",null,27,60042,27,null,27,null,null,27,null,null,null,null,null,null,0,"",0,1,"Calf Panel Convenience Pocket, Medium",0,null,"K0108","",0,"COMT",0,1,"Calf Panel Convenience Pocket - Medium"]
[null,false,null,false,null,null,null,null,null,null,null,"","Calf Panel Convenience Pocket, Large",null,null,null,null,null,null,null,"K0108",null,27,60043,27,null,27,null,null,27,null,null,null,null,null,null,0,{"$f":"IF(D123,\">\",\"\")","v":""},0,1,"Calf Panel Convenience Pocket, Large",0,null,"K0108","",0,"COMT",0,1,"Calf Panel Convenience Pocket - Large"]
[null,false,null,false,null,null,null,null,null,null,null,"","Calf Panel, Premium, 2X-Large (Fits 28-32 inch chairs)",null,null,null,null,null,null,null,"K0038",null,174,60045,174,null,174,null,null,174,null,null,null,null,null,null,0,"",0,1,"Calf Panel, Premium, 2X-Large (Fits 28-32 inch chairs)",0,null,"K0038","",0,"COMT",0,1,"Calf Panel - Premium - 2X-Large (Fits 28-32 inch chairs)"]
[null,false,null,false,null,null,null,null,null,null,null,"","Calf Panel, Premium, Large (Fits 20-24 inch chairs)",null,null,null,null,null,null,null,"K0038",null,90,60040,90,null,90,null,null,90,null,null,null,null,null,null,0,"",0,1,"Calf Panel, Premium, Large (Fits 20-24 inch chairs)",0,null,"K0038","",0,"COMT",0,1,"Calf Panel - Premium - Large (Fits 20-24 inch chairs)"]
[null,false,null,false,null,null,null,null,null,null,null,"","Calf Panel, Premium, Medium (Fits 16-20 inch chairs)",null,null,null,null,null,null,null,"K0038",null,90,60039,90,null,90,null,null,90,null,null,null,null,null,null,0,"",0,1,"Calf Panel, Premium, Medium (Fits 16-20 inch chairs)",0,null,"K0038","",0,"COMT",0,1,"Calf Panel - Premium - Medium (Fits 16-20 inch chairs)"]
[null,false,null,false,null,null,null,null,null,null,null,"","Calf Panel, Premium, Small (Fits 12-16 inch chairs)",null,null,null,null,null,null,null,"K0108",null,90,60038,90,null,90,null,null,90,null,null,null,null,null,null,0,"",0,1,"Calf Panel, Premium, Small (Fits 12-16 inch chairs)",0,null,"K0108","",0,"COMT",0,1,"Calf Panel - Premium - Small (Fits 12-16 inch chairs)"]
[null,false,null,false,null,null,null,null,null,null,null,"","Calf Panel, Premium, X-Large (Fits 24-28 inch chairs)",null,null,null,null,null,null,null,"K0038",null,163,60044,163,null,163,null,null,163,null,null,null,null,null,null,0,"",0,1,"Calf Panel, Premium, X-Large (Fits 24-28 inch chairs)",0,null,"K0038","",0,"COMT",0,1,"Calf Panel - Premium - X-Large (Fits 24-28 inch chairs)"]
[null,false,null,false,null,null,null,null,null,null,null,"","Calf Panel, Standard, Large",null,null,null,null,null,null,null,"K0038",null,65,30487,65,null,65,null,null,65,null,null,null,null,null,null,0,"",0,1,"Calf Panel, Standard, Large",0,null,"K0038","",0,"COMT",0,1,"Calf Panel - Standard - Large"]
[null,false,null,false,null,null,null,null,null,null,null,"","Calf Panel, Standard, Medium",null,null,null,null,null,null,null,"K0038",null,65,30486,65,null,65,null,null,65,null,null,null,null,null,null,0,"",0,1,"Calf Panel, Standard, Medium",0,null,"K0038","",0,"COMT",0,1,"Calf Panel - Standard - Medium"]
[null,false,null,false,null,null,null,null,null,null,null,"","Calf Panel, Standard, Small",null,null,null,null,null,null,null,"K0038",null,65,30485,65,null,65,null,null,65,null,null,null,null,null,null,0,"",0,1,"Calf Panel, Standard, Small",0,null,"K0038","",0,"COMT",0,1,"Calf Panel - Standard - Small"]
[null,false,null,false,null,null,null,null,null,null,null,"","Collar Assembly, Rotational To 1\"",null,null,null,null,null,null,null,"K0108",null,82,31544,82,null,82,null,null,82,null,null,null,null,null,null,0,"",0,1,"Collar Assembly, Rotational To 1\"",0,null,"K0108","",0,"COMT",0,1,"Collar Assembly - Rotational To 1 in."]
[null,false,null,false,null,null,null,null,null,null,null,"","Collar Assembly, Rotational To 7/8\"",null,null,null,null,null,null,null,"E2617",null,82,31545,82,null,82,null,null,82,null,null,null,null,null,null,0,"",0,1,"Collar Assembly, Rotational To 7/8\"",0,null,"E2617","",0,"COMT",0,1,"Collar Assembly - Rotational To 7/8 in."]
[null,false,null,false,null,null,null,null,null,null,null,"","Device Armrest Mount",null,null,null,null,null,null,null,"K0108",null,373,32351,373,null,373,null,null,373,null,null,null,null,null,null,0,"",0,1,"Device Armrest Mount",0,null,"K0108","",0,"COMT",0,1,"Device Armrest Mount"]
[null,false,null,false,null,null,null,null,null,null,null,"","Device Frame Mount",null,null,null,null,null,null,null,"K0108",null,483,32350,483,null,483,null,null,483,null,null,null,null,null,null,0,"",0,1,"Device Frame Mount",0,null,"K0108","",0,"COMT",0,1,"Device Frame Mount"]
[null,false,null,false,null,null,null,null,null,null,null,"","Device Mount - 10 in. Tablet",null,null,null,null,null,null,null,"K0108",null,373,32358,{"$f":"IF(ISNA(AD136),\"\",MAX(K136,1)*AD136)","v":373},null,373,null,null,373,null,null,null,null,null,null,0,"",0,{"$f":"MAX(1,K136)","v":1},"Device Mount - 10 in. Tablet",{"$f":"IF($B136,$Y136,0)","v":0},null,"K0108","",0,"COMT",0,1,{"$f":"SUBSTITUTE(SUBSTITUTE(AO136,quote,\" in.\"),comma,\" -\")","v":"Device Mount - 10 in. Tablet"}]
[null,false,null,false,null,null,null,null,null,null,null,"","Device Mount - 7 in. Tablet",null,null,null,null,null,null,null,"K0108",null,163,32357,163,null,163,null,null,163,null,null,null,null,null,null,0,"",0,1,"Device Mount - 7 in. Tablet",0,null,"K0108","",0,"COMT",0,1,"Device Mount - 7 in. Tablet"]
[null,false,null,false,null,null,null,null,null,null,null,"","Device Mount - I-Pad",null,null,null,null,null,null,null,"K0108",null,174,32355,174,null,174,null,null,174,null,null,null,null,null,null,0,"",0,1,"Device Mount - I-Pad",0,null,"K0108","",0,"COMT",0,1,"Device Mount - I-Pad"]
[null,false,null,false,null,null,null,null,null,null,null,"","Device Mount - I-Pad Air w/ Case Skin or Sleeve",null,null,null,null,null,null,null,"K0108",null,174,32301,174,null,174,null,null,174,null,null,null,null,null,null,0,"",0,1,"Device Mount - I-Pad Air w/ Case Skin or Sleeve",0,null,"K0108","",0,"COMT",0,1,"Device Mount - I-Pad Air w/ Case Skin or Sleeve"]
[null,false,null,false,null,null,null,null,null,null,null,"","Device Mount - I-Pad Mini",null,null,null,null,null,null,null,"K0108",null,168,32356,168,null,168,null,null,168,null,null,null,null,null,null,0,"",0,1,"Device Mount - I-Pad Mini",0,null,"K0108","",0,"COMT",0,1,"Device Mount - I-Pad Mini"]
[null,false,null,false,null,null,null,null,null,null,null,"","Device Mount - I-Pad w/ Lifeproof or Lifedge Case",null,null,null,null,null,null,null,"K0108",null,210,32300,210,null,210,null,null,210,null,null,null,null,null,null,0,"",0,1,"Device Mount - I-Pad w/ Lifeproof or Lifedge Case",0,null,"K0108","",0,"COMT",0,1,"Device Mount - I-Pad w/ Lifeproof or Lifedge Case"]
[null,false,null,false,null,null,null,null,null,null,null,"","Device Mount - Smart Phone",null,null,null,null,null,null,null,"K0108",null,142,32359,142,null,142,null,null,142,null,null,null,null,null,null,0,"",0,1,"Device Mount - Smart Phone",0,null,"K0108","",0,"COMT",0,1,"Device Mount - Smart Phone"]
[null,false,null,false,null,null,null,null,null,null,null,"","Device Mount - Smart Phone, Large",null,null,null,null,null,null,null,"K0108",null,142,32354,142,null,142,null,null,142,null,null,null,null,null,null,0,"",0,1,"Device Mount - Smart Phone, Large",0,null,"K0108","",0,"COMT",0,1,"Device Mount - Smart Phone - Large"]
[null,false,null,false,null,null,null,null,null,null,null,"","Device Mount - Tray",null,null,null,null,null,null,null,"K0108",null,200,32352,200,null,200,null,null,200,null,null,null,null,null,null,0,"",0,1,"Device Mount - Tray",0,null,"K0108","",0,"COMT",0,1,"Device Mount - Tray"]
[null,false,null,false,null,null,null,null,null,null,null,"","Device Mount Extension Kit",null,null,null,null,null,null,null,"K0108",null,300,32360,300,null,300,null,null,300,null,null,null,null,null,null,0,"",0,1,"Device Mount Extension Kit",0,null,"K0108","",0,"COMT",0,1,"Device Mount Extension Kit"]
[null,false,null,false,null,null,null,null,null,null,null,"","Drop Seat Insert for ___ inch chair",null,null,null,null,null,null,null,"K0108",null,112,null,112,null,112,null,null,112,null,null,null,null,null,null,0,"",0,1,"Drop Seat Insert for ___ inch chair",0,null,"K0108","",0,"COMT",0,1,"Drop Seat Insert for ___ inch chair"]
[null,false,null,false,null,null,null,null,null,null,null,"","Headrest adapter plate",null,null,null,null,null,null,null,"K0108",null,109,32825,109,null,109,null,null,109,null,null,null,null,null,null,0,"",0,1,"Headrest adapter plate",0,null,"K0108","",0,"COMT",0,1,"Headrest adapter plate"]
[null,false,null,false,null,null,null,null,null,null,null,"","Headrest Mounting Plate",null,null,null,null,null,null,null,"K0038",null,52,"32910B",52,null,{"$f":"W148","v":52},null,null,52,null,null,null,null,null,null,{"$f":"IF(AM148=0,AK147,AK147+1)","v":0},"",0,1,"Headrest Mounting Plate",0,null,{"$f":"U148","v":"K0038"},"",0,"COMT",0,1,"Headrest Mounting Plate"]
[null,false,null,false,null,null,null,null,null,null,null,"","Hinged Back Swing Tab, Pair",null,null,null,null,null,null,null,"K0108",null,64,50014,64,null,{"$f":"W149","v":64},null,null,64,null,null,null,null,null,null,{"$f":"IF(AM149=0,AK148,AK148+1)","v":0},"",0,1,"Hinged Back Swing Tab, Pair",0,null,{"$f":"U149","v":"K0108"},"",0,"COMT",0,1,"Hinged Back Swing Tab - Pair"]
[null,false,null,false,null,null,null,null,null,null,null,"","Hinged Collar",null,null,null,null,null,null,null,"K0108",null,21,50410,21,null,{"$f":"W150","v":21},null,null,21,null,null,null,null,null,null,{"$f":"IF(AM150=0,AK149,AK149+1)","v":0},"",0,1,"Hinged Collar",0,null,{"$f":"U150","v":"K0108"},"",0,"COMT",0,1,"Hinged Collar"]
[null,false,null,false,null,null,null,null,null,null,null,"","Hinged Seat Swing Tab, Pair",null,null,null,null,null,null,null,"K0108",null,62,50009,62,null,{"$f":"W151","v":62},null,null,62,null,null,null,null,null,null,{"$f":"IF(AM151=0,AK150,AK150+1)","v":0},"",0,1,"Hinged Seat Swing Tab, Pair",0,null,{"$f":"U151","v":"K0108"},"",0,"COMT",0,1,"Hinged Seat Swing Tab - Pair"]
[null,false,null,false,null,null,null,null,null,null,null,"","Hip Guide, Flat, No-Mount, 14\"",null,null,null,null,null,null,null,"E0956",null,100,34503,100,null,{"$f":"W152","v":100},null,null,100,null,null,null,null,null,null,{"$f":"IF(AM152=0,AK151,AK151+1)","v":0},"",0,1,"Hip Guide, Flat, No-Mount, 14\"",0,null,{"$f":"U152","v":"E0956"},"",{"$f":"AK152","v":0},"COMT",0,1,"Hip Guide - Flat - No-Mount - 14 in."]
[null,false,null,false,null,null,null,null,null,null,null,"","Hip Guide, Flat, No-Mount, 16\"",null,null,null,null,null,null,null,"E0956",null,100,34504,{"$f":"IF(ISNA(AD153),\"\",MAX(K153,1)*AD153)","v":100},null,{"$f":"W153","v":100},null,null,{"$f":"CHOOSE($K$2,AA153,$P$5*AA153,$P$6*AA153)","v":100},null,null,null,null,null,null,0,"",0,1,"Hip Guide, Flat, No-Mount, 16\"",0,null,{"$f":"U153","v":"E0956"},"",0,"COMT",0,1,"Hip Guide - Flat - No-Mount - 16 in."]
[null,false,null,false,null,null,null,null,null,null,null,"","Hip Guide, Flat, No-Mount, 18\"",null,null,null,null,null,null,null,"E0956",null,100,34505,100,null,100,null,null,100,null,null,null,null,null,null,0,"",0,1,"Hip Guide, Flat, No-Mount, 18\"",0,null,"E0956","",0,"COMT",0,1,"Hip Guide - Flat - No-Mount - 18 in."]
[null,false,null,false,null,null,null,null,null,null,null,"","Hip Harness, Static Seat, Front Pull, Large",null,null,null,null,null,null,null,"K0108",null,179,"50728",179,null,179,null,null,179,null,null,null,null,null,null,0,"",0,1,"Hip Harness, Static Seat, Front Pull, Large",0,null,"K0108","",0,"COMT",0,1,"Hip Harness - Static Seat - Front Pull - Large"]
[null,false,null,false,null,null,null,null,null,null,null,"","Hip Harness, Static Seat, Front Pull, Medium",null,null,null,null,null,null,null,"K0108",null,179,"50727",179,null,179,null,null,179,null,null,null,null,null,null,0,"",0,1,"Hip Harness, Static Seat, Front Pull, Medium",0,null,"K0108","",0,"COMT",0,1,"Hip Harness - Static Seat - Front Pull - Medium"]
[null,false,null,false,null,null,null,null,null,null,null,"","Hip Harness, Static Seat, Front Pull, Small",null,null,null,null,null,null,null,"K0108",null,179,"50726",179,null,179,null,null,179,null,null,null,null,null,null,0,"",0,1,"Hip Harness, Static Seat, Front Pull, Small",0,null,"K0108","",0,"COMT",0,1,"Hip Harness - Static Seat - Front Pull - Small"]
[null,false,null,false,null,null,null,null,null,null,null,"","Hip Harness, Static Seat, Rear Pull, Large",null,null,null,null,null,null,null,"K0108",null,179,"50731",179,null,179,null,null,179,null,null,null,null,null,null,0,"",0,1,"Hip Harness, Static Seat, Rear Pull, Large",0,null,"K0108","",0,"COMT",0,1,"Hip Harness - Static Seat - Rear Pull - Large"]
[null,false,null,false,null,null,null,null,null,null,null,"","Hip Harness, Static Seat, Rear Pull, Medium",null,null,null,null,null,null,null,"K0108",null,179,"50730",179,null,179,null,null,179,null,null,null,null,null,null,0,"",0,1,"Hip Harness, Static Seat, Rear Pull, Medium",0,null,"K0108","",0,"COMT",0,1,"Hip Harness - Static Seat - Rear Pull - Medium"]
[null,false,null,false,null,null,null,null,null,null,null,"","Hip Harness, Static Seat, Rear Pull, Small",null,null,null,null,null,null,null,"K0108",null,179,"50729",179,null,179,null,null,179,null,null,null,null,null,null,0,"",0,1,"Hip Harness, Static Seat, Rear Pull, Small",0,null,"K0108","",0,"COMT",0,1,"Hip Harness - Static Seat - Rear Pull - Small"]
[null,false,null,false,null,null,null,null,null,null,null,"","IV Pole",null,null,null,null,null,null,null,"K0108",null,62,31082,62,null,62,null,null,62,null,null,null,null,null,null,0,"",0,1,"IV Pole",0,null,"K0108","",0,"COMT",0,1,"IV Pole"]
[null,false,null,false,null,null,null,null,null,null,null,"","LTS Pad, 4 x 5 Flat w/ Knit Neo and Black Vinyl",null,null,null,null,null,null,null,"E0952",null,79,50765,79,null,79,null,null,79,null,null,null,null,null,null,0,"",0,1,"LTS Pad, 4 x 5 Flat w/ Knit Neo and Black Vinyl",0,null,"E0952","",0,"COMT",0,1,"LTS Pad - 4 x 5 Flat w/ Knit Neo and Black Vinyl"]
[null,false,null,false,null,null,null,null,null,null,null,"","LTS Pad, 4 x 5 Flat w/.25 Foam, Knit Neo and Black Vinyl",null,null,null,null,null,null,null,"E0952",null,79,50766,79,null,79,null,null,79,null,null,null,null,null,null,0,"",0,1,"LTS Pad, 4 x 5 Flat w/.25 Foam, Knit Neo and Black Vinyl",0,null,"E0952","",0,"COMT",0,1,"LTS Pad - 4 x 5 Flat w/.25 Foam - Knit Neo and Black Vinyl"]
[null,false,null,false,null,null,null,null,null,null,null,"","LTS Pad, 4 x 5 Flat w/.25 Foam, Knit Neo and Black Vinyl",null,null,null,null,null,null,null,"E0952",null,79,50767,79,null,79,null,null,79,null,null,null,null,null,null,0,"",0,1,"LTS Pad, 4 x 5 Flat w/.25 Foam, Knit Neo and Black Vinyl",0,null,"E0952","",0,"COMT",0,1,"LTS Pad - 4 x 5 Flat w/.25 Foam - Knit Neo and Black Vinyl"]
[null,false,null,false,null,null,null,null,null,null,null,"","Seat hardware, Swingtabs & Rail Locks",null,null,null,null,null,null,null,"K0108",null,92,50474,92,null,92,null,null,92,null,null,null,null,null,null,0,"",0,1,"Seat hardware, Swingtabs & Rail Locks",0,null,"K0108","",0,"COMT",0,1,"Seat hardware - Swingtabs & Rail Locks"]
[null,false,null,false,null,null,null,null,null,null,null,"","Seating System Vinyl Color Swatches",null,null,null,null,null,null,null,"K0108",null,16,40011,16,null,16,null,null,16,null,null,null,null,null,null,0,"",0,1,"Seating System Vinyl Color Swatches",0,null,"K0108","",0,"COMT",0,1,"Seating System Vinyl Color Swatches"]
[null,false,null,false,null,null,null,null,null,null,null,"","Soft Toe Strap w/ Buckle, 1\" Pair",null,null,null,null,null,null,null,"E0952",null,50,50768,50,null,50,null,null,50,null,null,null,null,null,null,0,"",0,1,"Soft Toe Strap w/ Buckle, 1\" Pair",0,null,"E0952","",0,"COMT",0,1,"Soft Toe Strap w/ Buckle - 1 in. Pair"]
[null,false,null,false,null,null,null,null,null,null,null,"","Soft Toe Strap w/ Buckle, 1.5\" Pair",null,null,null,null,null,null,null,"E0952",null,50,50769,50,null,50,null,null,50,null,null,null,null,null,null,0,"",0,1,"Soft Toe Strap w/ Buckle, 1.5\" Pair",0,null,"E0952","",0,"COMT",0,1,"Soft Toe Strap w/ Buckle - 1.5 in. Pair"]
[null,false,null,false,null,null,null,null,null,null,null,{"$f":"IF(D169,\"¢\",\"\")","v":""},"Split Collar, 1 in.",null,null,null,null,null,null,null,"K0108",null,22,32878,22,null,22,null,null,22,null,null,null,null,null,null,0,"",0,1,"Split Collar, 1 in.",0,null,"K0108","",0,"COMT",0,1,"Split Collar - 1 in."]
[null,false,null,false,null,null,null,null,null,null,null,"","Split Collar, 7/8 in.",null,null,null,null,null,null,null,"K0108",null,22,32879,22,null,22,null,null,22,null,null,null,null,null,null,0,"",0,1,"Split Collar, 7/8 in.",0,null,"K0108","",0,"COMT",0,1,"Split Collar - 7/8 in."]
[null,false,null,false,null,null,null,null,null,null,null,"","Universal Rail Lock - Pair",null,null,null,null,null,null,null,"E2609",null,65,32557,65,null,65,null,null,65,null,null,null,null,null,null,0,"",0,1,"Universal Rail Lock - Pair",0,null,"E2609","",0,"COMT",0,1,"Universal Rail Lock - Pair"]
[null,false,null,false,null,null,null,null,null,null,null,"","Wedge Seat Cushion:  __ Wide __ Long  ________ Foam",null,null,null,null,null,null,null,"K0108",null,174,50044,174,null,174,null,null,174,null,null,null,null,null,null,0,"",0,1,"Wedge Seat Cushion:  __ Wide __ Long  ________ Foam",0,null,"K0108","",0,"COMT",0,1,"Wedge Seat Cushion:  __ Wide __ Long  ________ Foam"]
[null,null,null,null,null,null,null,null,null,null,null,null,null,null,null,null,null,null,null,null,null,null,null,null,null,null,null,null,null,null,null,null,null,null,null,null,null,null,null,null,null,null,null,null,null,null,null,0,0]
[null,null,null,null,null,null,null,null,null,null,null,null,null,null,null,"HEADRESTS",null,null,null,null,null,null,null,{"$f":"IF(D175,\"ISSUES REVIEWED?\",\"     Issues reviewed?\")","v":"     Issues reviewed?"},null,null,{"$f":"IF(AB174,\"+\",\">\")","v":">"},false,null,null,null,null,null,null,null,null,null,null,null,null,null,null,null,null,null,null,null,0,0]
["any hdw?",1,null,{"$f":"COUNTIF(D176:D232,TRUE)>0","v":false},null,null,null,null,null,null,null,null,null,null,null,null,null,null,null,null,null,null,null,null,null,null,null,null,null,null,null,null,null,null,null,null,{"$f":"AK172","v":0},null,null,null,null,null,null,null,null,null,null,0,0]
[{"$f":"$F$177>0","v":false},{"$f":"B175=1","v":true},null,{"$f":"AND($F$184>0,$F$177=0)","v":false},null,null,null,null,null,{"$f":"IF(D176,\"¢\",\"\")","v":""},"No Headrest Hardware",null,null,null,null,null,"Multi-axis",null,"Surelock",null,"Flip-down",null,null,"Item #",{"$f":"'Pick List'!$L$2","v":"Ext Retail"},null,"Retail",null,null,"Used",null,null,null,null,null,{"$f":"IFERROR(VLOOKUP($AK175+1,$AK177:$AP182,1,FALSE),AK175)","v":0},null,{"$f":"IFERROR(VLOOKUP($AK175+1,$AK177:$AP182,2,FALSE),\"\")","v":""},{"$f":"IFERROR(VLOOKUP($AK175+1,$AK177:$AP182,3,FALSE),\"\")","v":""},{"$f":"IFERROR(VLOOKUP($AK175+1,$AK177:$AP182,4,FALSE),\"\")","v":""},{"$f":"IFERROR(VLOOKUP($AK175+1,$AK177:$AP182,5,FALSE),\"\")","v":""},null,null,null,null,{"$f":"AJ176","v":0},"COMT","","","Headrest hdw"]
[null,{"$f":"B175=2","v":false},null,{"$f":"AND($B177,OR($F$184<>$F$177,AND($B$205,Belts!$A$318)))","v":false},null,{"$f":"COUNTIF(B177:B182,TRUE)","v":0},null,null,null,null,{"$f":"IF(D177,\"¢\",\"\")","v":""},"Multi-axis headrest hardware",null,null,null,null,null,null,null,null,null,null,null,50215,{"$f":"MAX(J177,1)*AD177","v":238},null,238,null,null,{"$f":"CHOOSE($K$2,AA177,$P$5*AA177,$P$6*AA177)","v":238},null,null,null,null,null,null,{"$f":"IF(AM177=0,AK175,AK175+1)","v":0},{"$f":"IF(D177,$AA$174,\"\")","v":""},{"$f":"IF($B177,$X177,0)","v":0},{"$f":"MAX(1,J177)","v":1},"Headrest: Multi-axis hardware",{"$f":"IF($B177,$Y177,0)","v":0},null,"E1028"]
[null,{"$f":"B175=3","v":false},null,{"$f":"AND($B178,OR($F$184<>$F$177,AND($B$205,Belts!$A$318)))","v":false},null,null,null,null,null,null,{"$f":"IF(D178,\"¢\",\"\")","v":""},"Surelock headrest hardware",null,null,null,null,null,null,null,null,null,null,null,50218,233,null,233,null,null,233,null,null,null,null,null,null,0,"",0,1,"Headrest: Surelock hardware",0,null,"E1028"]
[null,{"$f":"B175=4","v":false},null,{"$f":"AND($B179,OR($F$184<>$F$177,AND($B$205,Belts!$A$318)))","v":false},null,null,null,null,null,null,"","Flip-down headrest hardware",null,null,null,null,null,null,null,null,null,null,null,{"$f":"IF($A$229,\"50229\",\"50230\")","v":"50230"},255,null,255,null,null,255,null,null,null,null,null,null,0,"",0,1,{"$f":"\"Headrest: Flip-down hardware\"&IF($A$229,\" w/ mount for flat pad\",\" w/ ball mount attachment\")","v":"Headrest: Flip-down hardware w/ ball mount attachment"},0,null,"E1028"]
[null,{"$f":"B175=5","v":false},null,{"$f":"AND($B180,OR($F$184<>$F$177,AND($B$205,Belts!$A$318)))","v":false},null,null,null,null,null,null,"","Basic removable headrest w/short bar",null,null,null,null,"Basic",null,null,null,"Vertical",null,null,50413,136,null,136,null,null,136,null,null,null,null,null,null,0,"",0,1,"Headrest: Basic removable hardware w/ short bar",0,null,"E1028"]
[null,{"$f":"B175=6","v":false},null,{"$f":"AND($B181,OR($F$184<>$F$177,AND($B$205,Belts!$A$318)))","v":false},null,null,null,null,null,null,"","Basic removable headrest w/long bar",null,null,null,null,null,null,null,null,null,null,null,50414,136,null,136,null,null,136,null,null,null,null,null,null,0,"",0,1,"Headrest: Basic removable hardware w/ long bar",0,null,"E1028"]
[null,{"$f":"B175=7","v":false},null,{"$f":"AND($B182,OR($F$184<>$F$177,AND($B$205,Belts!$A$318)))","v":false},null,null,null,null,null,null,"","Vertical headrest hardware",null,null,null,null,null,null,null,null,null,null,null,50476,72,null,72,null,null,72,null,null,null,null,null,null,0,"",0,1,"Headrest: Vertical mounting hardware",0,null,"E1028"]
[null,1,null,null,null,null,null,null,null,null,null,null,null,null,null,null,null,null,null,null,null,null,null,null,null,null,null,null,null,null,null,null,null,null,null,null,{"$f":"AK182","v":0},null,null,null,null,null,null,null,null,null,null,0,0]
[{"$f":"$F$184>0","v":false},{"$f":"B183=1","v":true},null,{"$f":"AND($F$184=0,$F$177>0)","v":false},null,{"$f":"COUNTIF(B186:B205,TRUE)+COUNTIF(B214:B232,TRUE)","v":0},null,null,null,{"$f":"IF(D184,\"¢\",\"\")","v":""},"No Headrest Pads",null,null,null,null,null,null,null,null,null,null,null,null,null,null,null,null,null,null,null,null,null,null,null,null,{"$f":"IFERROR(VLOOKUP($AK183+1,$AK185:$AP232,1,FALSE),AK183)","v":0},null,{"$f":"IFERROR(VLOOKUP($AK183+1,$AK185:$AP232,2,FALSE),\"\")","v":""},{"$f":"IFERROR(VLOOKUP($AK183+1,$AK185:$AQ232,7,FALSE),\"\")","v":""},{"$f":"IFERROR(VLOOKUP($AK183+1,$AK185:$AP232,4,FALSE),\"\")","v":""},{"$f":"IFERROR(VLOOKUP($AK183+1,$AK185:$AS232,9,FALSE),\"\")","v":""},"Price","Part# for Diagram",null,"Desc for Diagram"]
[{"$f":"COUNTIF(B186:B188,TRUE)>0","v":false},null,null,{"$f":"OR(AND($F$184=0,CHOOSE($B$175,FALSE,TRUE,TRUE,TRUE,TRUE,TRUE,TRUE)),AND($F$177=0,$A185))","v":false},null,null,null,null,null,null,"Smooth Soft Pad Headrests",null,null,null,null,null,null,null,null,null,null,null,null,"Item #",{"$f":"'Pick List'!$L$2","v":"Ext Retail"},null,"Retail",null,null,"Used",null,null,null,null,null,null,{"$f":"IF(AM185=0,AK183,AK183+1)","v":0}]
[null,{"$f":"B183=2","v":false},null,{"$f":"AND($B186,$F$177<>$F$184)","v":false},null,null,null,null,null,null,{"$f":"IF(D186,\"¢\",\"\")","v":""},"Sm 5H x 8L with smooth cover ",null,null,null,null,null,null,null,null,null,null,null,50365,{"$f":"MAX(J186,1)*AD186","v":147},null,147,null,null,{"$f":"CHOOSE($K$2,AA186,$P$5*AA186,$P$6*AA186)","v":147},null,null,null,null,null,null,{"$f":"IF(AM186=0,AK185,AK185+1)","v":0},{"$f":"IF(D186,$AA$174,\"\")","v":""},{"$f":"IF($B186,$X186,0)","v":0},{"$f":"MAX(1,J186)","v":1},"Headrest: Soft Pad, Small 5-1/2H x 8L w/ smooth cover ",{"$f":"IF($B186,$Y186,0)","v":0},{"$f":"IF($B186,$X186,0)","v":0},"E0955","Headrest: Soft Pad, Small 5-1/2H x 8L w/ smooth cover ",{"$f":"AK186","v":0},"COMT",{"$f":"AM186","v":0},1,{"$f":"SUBSTITUTE(SUBSTITUTE(AO186,quote,\" in.\"),comma,\" -\")","v":"Headrest: Soft Pad - Small 5-1/2H x 8L w/ smooth cover "}]
[null,{"$f":"B183=3","v":false},null,{"$f":"AND($B187,$F$177<>$F$184)","v":false},null,null,null,null,null,null,{"$f":"IF(D187,\"¢\",\"\")","v":""},"Med 5H x 10L with smooth cover",null,null,null,null,null,null,null,null,null,null,null,50366,{"$f":"MAX(J187,1)*AD187","v":147},null,147,null,null,{"$f":"CHOOSE($K$2,AA187,$P$5*AA187,$P$6*AA187)","v":147},null,null,null,null,null,null,{"$f":"IF(AM187=0,AK186,AK186+1)","v":0},{"$f":"IF(D187,$AA$174,\"\")","v":""},{"$f":"IF($B187,$X187,0)","v":0},{"$f":"MAX(1,J187)","v":1},"Headrest: Soft Pad, Med 5-1/2H x 10L w/ smooth cover",{"$f":"IF($B187,$Y187,0)","v":0},{"$f":"IF($B187,$X187,0)","v":0},"E0955","Headrest: Soft Pad, Med 5-1/2H x 10L w/ smooth cover",{"$f":"AK187","v":0},"COMT",0,1,{"$f":"SUBSTITUTE(SUBSTITUTE(AO187,quote,\" in.\"),comma,\" -\")","v":"Headrest: Soft Pad - Med 5-1/2H x 10L w/ smooth cover"}]
[null,{"$f":"B183=4","v":false},null,{"$f":"AND($B188,$F$177<>$F$184)","v":false},null,null,null,null,null,null,"","Lg 5H x 14L with smooth cover",null,null,null,null,null,null,null,null,null,null,null,50367,{"$f":"MAX(J188,1)*AD188","v":147},null,147,null,null,{"$f":"CHOOSE($K$2,AA188,$P$5*AA188,$P$6*AA188)","v":147},null,null,null,null,null,null,{"$f":"IF(AM188=0,AK187,AK187+1)","v":0},{"$f":"IF(D188,$AA$174,\"\")","v":""},{"$f":"IF($B188,$X188,0)","v":0},{"$f":"MAX(1,J188)","v":1},"Headrest: Soft Pad, Large 5-1/2H x 14L w/ smooth cover",{"$f":"IF($B188,$Y188,0)","v":0},{"$f":"IF($B188,$X188,0)","v":0},"E0955","Headrest: Soft Pad, Large 5-1/2H x 14L w/ smooth cover",{"$f":"AK188","v":0},"COMT",0,1,{"$f":"SUBSTITUTE(SUBSTITUTE(AO188,quote,\" in.\"),comma,\" -\")","v":"Headrest: Soft Pad - Large 5-1/2H x 14L w/ smooth cover"}]
[]
[{"$f":"COUNTIF(B191:B194,TRUE)>0","v":false},null,null,{"$f":"OR(AND($F$184=0,CHOOSE($B$175,FALSE,TRUE,TRUE,FALSE,FALSE,FALSE,FALSE)),AND($F$177=0,$A190))","v":false},null,null,null,null,null,null,"ProFit Headrests",null,null,null,{"$f":"CHOOSE($B$175,\"\",\"\",\"\",\"Not intended for Flipdown Hardware\",\"Not intended for Basic Hardware\",\"Not intended for Basic Hardware\",\"Not intended for Vertical Hardware\")","v":""},null,null,null,null,null,null,null,null,"Item #",{"$f":"'Pick List'!$L$2","v":"Ext Retail"},null,"Retail",null,null,"Used",null,null,null,null,null,null,{"$f":"AK188","v":0}]
[null,{"$f":"B183=19","v":false},null,{"$f":"AND($B191,OR($F$177<>$F$184,$B$175>3))","v":false},null,null,null,null,null,null,{"$f":"IF(D191,\"¢\",\"\")","v":""},"Small 3.25 x 7 to 11 with knit cover ",null,null,null,null,null,null,null,null,null,null,null,"50363",{"$f":"MAX(J191,1)*AD191","v":285},null,285,null,null,{"$f":"CHOOSE($K$2,AA191,$P$5*AA191,$P$6*AA191)","v":285},null,null,null,null,null,null,{"$f":"IF(AM191=0,AK190,AK190+1)","v":0},{"$f":"IF(D191,$AA$174,\"\")","v":""},{"$f":"IF($B191,$X191,0)","v":0},{"$f":"MAX(1,J191)","v":1},"Headrest: ProFit, Small 3.25 x 7 - 11 w/ knit cover ",{"$f":"IF($B191,$Y191,0)","v":0},{"$f":"IF($B191,$X191,0)","v":0},"E0955","Headrest: ProFit, Small 3.25 x 7 - 11 w/ knit cover ",{"$f":"AK191","v":0},"COMT",{"$f":"AM191","v":0},{"$f":"AN191","v":1},{"$f":"SUBSTITUTE(SUBSTITUTE(AO191,quote,\" in.\"),comma,\" -\")","v":"Headrest: ProFit - Small 3.25 x 7 - 11 w/ knit cover "}]
[null,{"$f":"B$183=20","v":false},null,{"$f":"AND($B192,OR($F$177<>$F$184,$B$175>3))","v":false},null,null,null,null,null,null,"","Large 5.25 x 8 to 16 with knit cover",null,null,null,null,null,null,null,null,null,null,null,50361,{"$f":"MAX(J192,1)*AD192","v":285},null,285,null,null,{"$f":"CHOOSE($K$2,AA192,$P$5*AA192,$P$6*AA192)","v":285},null,null,null,null,null,null,{"$f":"IF(AM192=0,AK191,AK191+1)","v":0},{"$f":"IF(D192,$AA$174,\"\")","v":""},{"$f":"IF($B192,$X192,0)","v":0},{"$f":"MAX(1,J192)","v":1},"Headrest: ProFit, Large 5.25 x 8 - 16 w/ knit cover",{"$f":"IF($B192,$Y192,0)","v":0},{"$f":"IF($B192,$X192,0)","v":0},"E0955","Headrest: ProFit, Large 5.25 x 8 - 16 w/ knit cover",{"$f":"AK192","v":0},"COMT",0,1,{"$f":"SUBSTITUTE(SUBSTITUTE(AO192,quote,\" in.\"),comma,\" -\")","v":"Headrest: ProFit - Large 5.25 x 8 - 16 w/ knit cover"}]
[null,{"$f":"B$183=17","v":false},null,{"$f":"AND($B193,OR($F$177<>$F$184,$B$175>3))","v":false},null,null,null,null,null,null,"","Small 3.25 x 7 to 11 with smooth cover ",null,null,null,null,null,null,null,null,null,null,null,50368,{"$f":"MAX(J193,1)*AD193","v":285},null,285,null,null,{"$f":"CHOOSE($K$2,AA193,$P$5*AA193,$P$6*AA193)","v":285},null,null,null,null,null,null,{"$f":"IF(AM193=0,AK192,AK192+1)","v":0},{"$f":"IF(D193,$AA$174,\"\")","v":""},{"$f":"IF($B193,$X193,0)","v":0},{"$f":"MAX(1,J193)","v":1},"Headrest: ProFit, Small 3.25 x 7 - 11 w/ smooth cover ",{"$f":"IF($B193,$Y193,0)","v":0},{"$f":"IF($B193,$X193,0)","v":0},"E0955","Headrest: ProFit, Large 5.25 x 8 - 16 w/ knit cover",{"$f":"AK193","v":0},"COMT",{"$f":"AM193","v":0},{"$f":"AN193","v":1},{"$f":"SUBSTITUTE(SUBSTITUTE(AO193,quote,\" in.\"),comma,\" -\")","v":"Headrest: ProFit - Small 3.25 x 7 - 11 w/ smooth cover "}]
[null,{"$f":"B$183=18","v":false},null,{"$f":"AND($B194,OR($F$177<>$F$184,$B$175>3))","v":false},null,null,null,null,null,null,"","Large 5.25 x 8 to 16 with smooth cover",null,null,null,null,null,null,null,null,null,null,null,50369,{"$f":"MAX(J194,1)*AD194","v":285},null,285,null,null,{"$f":"CHOOSE($K$2,AA194,$P$5*AA194,$P$6*AA194)","v":285},null,null,null,null,null,null,{"$f":"IF(AM194=0,AK193,AK193+1)","v":0},{"$f":"IF(D194,$AA$174,\"\")","v":""},{"$f":"IF($B194,$X194,0)","v":0},{"$f":"MAX(1,J194)","v":1},"Headrest: ProFit, Large 5.25 x 8 - 16 w/ smooth cover",{"$f":"IF($B194,$Y194,0)","v":0},{"$f":"IF($B194,$X194,0)","v":0},"E0955","Headrest: ProFit, Large 5.25 x 8 - 16 w/ knit cover",{"$f":"AK194","v":0},"COMT",0,1,{"$f":"SUBSTITUTE(SUBSTITUTE(AO194,quote,\" in.\"),comma,\" -\")","v":"Headrest: ProFit - Large 5.25 x 8 - 16 w/ smooth cover"}]
[]
[{"$f":"COUNTIF(B197:B205,TRUE)>0","v":false},null,null,{"$f":"OR(AND($F$184=0,CHOOSE($B$175,FALSE,TRUE,TRUE,FALSE,FALSE,FALSE,FALSE)),AND($F$177=0,$A196))","v":false},null,null,null,null,null,null,"Tri-Form Headrest Pads",null,null,null,{"$f":"CHOOSE($B$175,\"\",\"\",\"\",\"Not intended for Flipdown Hardware\",\"Not intended for Basic Hardware\",\"Not intended for Basic Hardware\",\"Not intended for Vertical Hardware\")","v":""},null,null,null,null,null,null,null,null,"Item #",{"$f":"'Pick List'!$L$2","v":"Ext Retail"}]
[null,{"$f":"B183=5","v":false},null,{"$f":"OR(AND($B197,$F$177<>$F$184),AND($B197,$B$175>3))","v":false},null,null,null,null,null,null,{"$f":"IF(D197,\"¢\",\"\")","v":""},"Tri-Form with straight sides  (consists of 3 items below)",null,null,null,null,null,null,null,null,null,null,null,{"$f":"X198&IF(X199<>\" \",\"+\"&X199,\"\")&IF(X200<>\" \",\"+\"&X200,\"\")","v":"32414R+32414C+32414L"},{"$f":"MAX($J$197,1)*AD197","v":508},null,{"$f":"SUM(AA198:AA200)","v":508},null,null,{"$f":"CHOOSE($K$2,AA197,$P$5*AA197,$P$6*AA197)","v":508},null,null,null,null,null,null,{"$f":"AK194","v":0},null,null,null,null,null,null,null,null,null,null,{"$f":"AM197","v":0},0,{"$f":"SUBSTITUTE(SUBSTITUTE(AO197,quote,\" in.\"),comma,\" -\")","v":""}]
[null,null,null,null,null,null,null,null,null,null,null,"Straight right pad",null,null,null,null,null,null,null,null,null,null,null,"32414R",{"$f":"MAX($J$197,1)*AD198","v":144},null,144,null,null,144,null,null,null,null,null,null,{"$f":"IF(AM198=0,AK197,AK197+1)","v":0},{"$f":"IF($D$197,$AA$174,\"\")","v":""},{"$f":"IF($B$197,X198,0)","v":0},{"$f":"MAX(1,$J$197)","v":1},"Tri-Form Headrest: Straight right side",{"$f":"IF($B$197,$Y198,0)","v":0},{"$f":"IF($B$197,$X$197,0)","v":0},"K0108","Headrest: Tri-Form w/ straight sides",{"$f":"AK198","v":0},{"$f":"IF($B$197,\"HEAD\",\"COMT\")","v":"COMT"},{"$f":"AM198&\".00\"","v":"0.00"},1,{"$f":"SUBSTITUTE(SUBSTITUTE(AO198,quote,\" in.\"),comma,\" -\")","v":"Tri-Form Headrest: Straight right side"},null,32414]
[null,null,null,null,null,null,null,null,null,null,null,"Contoured center Pad",null,null,null,null,null,null,null,null,null,null,null,"32414C",{"$f":"MAX($J$197,1)*AD199","v":220},null,220,null,null,220,null,null,null,null,null,null,{"$f":"IF(AM199=0,AK198,AK198+1)","v":0},{"$f":"IF($D$197,$AA$174,\"\")","v":""},{"$f":"IF($B$197,X199,0)","v":0},{"$f":"MAX(1,$J$197)","v":1},"Tri-Form Headrest: Contoured center pad",{"$f":"IF($B$197,$Y199,0)","v":0},{"$f":"IF($B$197,$X$197,0)","v":0},"E0955","Headrest: Tri-Form w/ straight sides",{"$f":"AK199","v":0},{"$f":"IF(AT199>AT198,IF(AU198=\"COMT\",\"HEAD\",\"HEADM\"),AU198)","v":"COMT"},{"$f":"AM199&\".00\"","v":"0.00"},1,{"$f":"SUBSTITUTE(SUBSTITUTE(AO199,quote,\" in.\"),comma,\" -\")","v":"Tri-Form Headrest: Contoured center pad"},null,32414]
[null,null,null,null,null,null,null,null,null,null,null,"Straight left pad",null,null,null,null,null,null,null,null,null,null,null,"32414L",{"$f":"MAX($J$197,1)*AD200","v":144},null,144,null,null,144,null,null,null,null,null,null,{"$f":"IF(AM200=0,AK199,AK199+1)","v":0},{"$f":"IF($D$197,$AA$174,\"\")","v":""},{"$f":"IF($B$197,X200,0)","v":0},{"$f":"MAX(1,$J$197)","v":1},"Tri-Form Headrest: Straight left side",{"$f":"IF($B$197,$Y200,0)","v":0},{"$f":"IF($B$197,$X$197,0)","v":0},"K0108","Headrest: Tri-Form w/ straight sides",{"$f":"AK200","v":0},{"$f":"IF(AT200>AT199,IF(AU199=\"COMT\",\"HEAD\",\"HEADM\"),AU199)","v":"COMT"},{"$f":"AM200&\".00\"","v":"0.00"},1,{"$f":"SUBSTITUTE(SUBSTITUTE(AO200,quote,\" in.\"),comma,\" -\")","v":"Tri-Form Headrest: Straight left side"},null,32414]
[null,{"$f":"B183=6","v":false},null,{"$f":"OR(AND($B201,$F$177<>$F$184),AND($B201,$B$175>3))","v":false},null,null,null,null,null,null,{"$f":"IF(D201,\"¢\",\"\")","v":""},"Tri-Form with curved sides  (consists of 3 items below)",null,null,null,null,null,null,null,null,null,null,null,{"$f":"X202&IF(X203<>\" \",\"+\"&X203,\"\")&IF(X204<>\" \",\"+\"&X204,\"\")","v":"32458R+32458C+32458L"},{"$f":"MAX($J$201,1)*AD201","v":590},null,{"$f":"SUM(AA202:AA204)","v":590},null,null,590,null,null,null,null,null,null,{"$f":"AK200","v":0}]
[null,null,null,null,null,null,null,null,null,null,null,"Curved right pad",null,null,null,null,null,null,null,null,null,null,null,"32458R",{"$f":"MAX($J$201,1)*AD202","v":185},null,185,null,null,185,null,null,null,null,null,null,{"$f":"IF(AM202=0,AK201,AK201+1)","v":0},{"$f":"IF($D$201,$AA$174,\"\")","v":""},{"$f":"IF($B$201,X202,0)","v":0},{"$f":"MAX(1,$J$201)","v":1},"Tri-Form Headrest: Curved right side",{"$f":"IF($B$201,$Y202,0)","v":0},{"$f":"IF($B$201,$X$201,0)","v":0},"K0108","Headrest: Tri-Form w/ curved sides",{"$f":"AK202","v":0},{"$f":"IF($B$201,\"HEAD\",\"COMT\")","v":"COMT"},{"$f":"AM202&\".00\"","v":"0.00"},{"$f":"AN202","v":1},{"$f":"SUBSTITUTE(SUBSTITUTE(AO202,quote,\" in.\"),comma,\" -\")","v":"Tri-Form Headrest: Curved right side"},null,32458]
[null,null,null,null,null,null,null,null,null,null,null,"Contoured center pad",null,null,null,null,null,null,null,null,null,null,null,"32458C",{"$f":"MAX($J$201,1)*AD203","v":220},null,220,null,null,220,null,null,null,null,null,null,{"$f":"IF(AM203=0,AK202,AK202+1)","v":0},{"$f":"IF($D$201,$AA$174,\"\")","v":""},{"$f":"IF($B$201,X203,0)","v":0},{"$f":"MAX(1,$J$201)","v":1},"Tri-Form Headrest: Contoured center pad",{"$f":"IF($B$201,$Y203,0)","v":0},{"$f":"IF($B$201,$X$201,0)","v":0},"E0955","Headrest: Tri-Form w/ curved sides",{"$f":"AK203","v":0},{"$f":"IF(AT203>AT202,IF(AU202=\"COMT\",\"HEAD\",\"HEADM\"),AU202)","v":"COMT"},{"$f":"AM203&\".00\"","v":"0.00"},{"$f":"AN203","v":1},{"$f":"SUBSTITUTE(SUBSTITUTE(AO203,quote,\" in.\"),comma,\" -\")","v":"Tri-Form Headrest: Contoured center pad"},null,32458]
[null,null,null,null,null,null,null,null,null,null,null,"Curved left pad",null,null,null,null,null,null,null,null,null,null,null,"32458L",{"$f":"MAX($J$201,1)*AD204","v":185},null,185,null,null,185,null,null,null,null,null,null,{"$f":"IF(AM204=0,AK203,AK203+1)","v":0},{"$f":"IF($D$201,$AA$174,\"\")","v":""},{"$f":"IF($B$201,X204,0)","v":0},{"$f":"MAX(1,$J$201)","v":1},"Tri-Form Headrest: Curved left side",{"$f":"IF($B$201,$Y204,0)","v":0},{"$f":"IF($B$201,$X$201,0)","v":0},"K0108","Headrest: Tri-Form w/ curved sides",{"$f":"AK204","v":0},{"$f":"IF(AT204>AT203,IF(AU203=\"COMT\",\"HEAD\",\"HEADM\"),AU203)","v":"COMT"},{"$f":"AM204&\".00\"","v":"0.00"},{"$f":"AN204","v":1},{"$f":"SUBSTITUTE(SUBSTITUTE(AO204,quote,\" in.\"),comma,\" -\")","v":"Tri-Form Headrest: Curved left side"},null,32458]
[null,{"$f":"B183=7","v":false},null,{"$f":"OR(AND($B205,$F$177<>$F$184),AND($B205,$B$175>3),D207,D208,D209,AND($B205,Belts!$A$318))","v":false},null,null,null,null,null,null,{"$f":"IF(D205,\"¢\",\"\")","v":""},"Custom Tri-Form",null,null,"(choose pads & enter dimensions for custom sized pads)",null,null,null,null,null,null,null,null,{"$f":"X207&IF(X208<>\" \",\"+\"&X208,\"\")&IF(X209<>\" \",\"+\"&X209,\"\")","v":"50373R+50373C+50373L"},{"$f":"MAX(J205,1)*AD205","v":736},null,{"$f":"SUM(AA207:AA209)","v":736},null,null,736,null,null,null,null,null,null,{"$f":"AK204","v":0}]
[null,null,null,null,null,null,null,null,null,null,null,"Right Pad",null,null,"Center Pad",null,null,"Left Pad  ",null,null,null,null,null,null,null,null,null,null,null,null,null,null,null,null,null,null,{"$f":"IF(AM206=0,AK205,AK205+1)","v":0},null,null,null,null,null,null,null,"=\"Headrest: Custom Tri-Form pads - \"&IF(N$220,\"Right:\"&$M$218&\"W x \"&$M$219&\"H \",\"\")&IF(Q$220,\"Center:\"&$P$218&\"W x \"&$P$219&\"H \",\"\")&IF(U$220,\"Left:\"&$T$218&\"W x \"&$T$219&\"H\",\"\")"]
[null,null,null,{"$f":"AND(B205,OR(AND(Belts!B321,NOT(N212)),AND(Belts!$A$321,NOT(Belts!$A$327)),$F$177<>$F$184,$B$175>3,D210,D211))","v":false},null,null,null,null,null,null,null,null,null,null,null,null,null,null,null,null,null,null,null,{"$f":"Belts!F321","v":"50373R"},{"$f":"MAX($J$205,1)*AD207","v":258},null,{"$f":"Belts!G321","v":258},null,null,{"$f":"CHOOSE($K$2,AA207,$P$5*AA207,$P$6*AA207)","v":258},null,null,null,null,null,null,0,{"$f":"IF($D207,$AA$174,\"\")","v":""},{"$f":"IF(AND($B$205,Belts!A321),X207,0)","v":0},{"$f":"MAX(1,$J$205)","v":1},{"$f":"\"Tri-Form Headrest: \"&Belts!E321","v":"Tri-Form Headrest: Right side WxH"},{"$f":"IF($B$205,$Y207,0)","v":0},{"$f":"IF($B$205,$X$205,0)","v":0},"K0108",{"$f":"\"Tri-Form: \"&Belts!I$321&\", \"&Belts!I$327&\", \"&Belts!I$332","v":"Tri-Form: Right WxH, Center WxH, Left WxH"},{"$f":"AK207","v":0},{"$f":"IF(AND($B$205,Belts!A321),\"HEAD\",\"COMT\")","v":"COMT"},{"$f":"AM207&\".00\"","v":"0.00"},{"$f":"AN207","v":1},{"$f":"SUBSTITUTE(SUBSTITUTE(AO207,quote,\" in.\"),comma,\" -\")","v":"Tri-Form Headrest: Right side WxH"},null,50373,{"$f":"IF(Belts!$B$321,$M$208,0)","v":0},{"$f":"IF(Belts!$B$321,$M$209,0)","v":0}]
[null,null,null,{"$f":"AND(B205,OR(AND(Belts!B327,NOT(Q212)),$F$177<>$F$184,$B$175>3,D210,D211))","v":false},null,null,null,null,null,null,null,{"$f":"IF($B$183,\"A: \",\"\")","v":"A: "},null,{"$f":"ISNUMBER(M208)","v":false},"C: ",null,{"$f":"ISNUMBER(P208)","v":false},"E: ",null,null,{"$f":"ISNUMBER(T208)","v":false},null,null,{"$f":"Belts!F327","v":"50373C"},{"$f":"MAX($J$205,1)*AD208","v":220},null,{"$f":"Belts!G327","v":220},null,null,{"$f":"CHOOSE($K$2,AA208,$P$5*AA208,$P$6*AA208)","v":220},null,null,null,null,null,null,0,{"$f":"IF($D208,$AA$174,\"\")","v":""},{"$f":"IF(AND($B$205,Belts!A327),X208,0)","v":0},{"$f":"MAX(1,$J$205)","v":1},{"$f":"\"Tri-Form Headrest: \"&Belts!E327","v":"Tri-Form Headrest: Center WxH"},{"$f":"IF($B$205,$Y208,0)","v":0},{"$f":"IF($B$205,$X$205,0)","v":0},"E0955",{"$f":"\"Tri-Form: \"&Belts!I$321&\", \"&Belts!I$327&\", \"&Belts!I$332","v":"Tri-Form: Right WxH, Center WxH, Left WxH"},{"$f":"AK208","v":0},{"$f":"IF(AND(B205,Belts!A327),IF(AU207=\"COMT\",\"HEAD\",\"HEADM\"),\"COMT\")","v":"COMT"},{"$f":"AM208&\".00\"","v":"0.00"},{"$f":"AN208","v":1},{"$f":"SUBSTITUTE(SUBSTITUTE(AO208,quote,\" in.\"),comma,\" -\")","v":"Tri-Form Headrest: Center WxH"},null,50373,{"$f":"IF(Belts!$B$327,$P$208,0)","v":0},{"$f":"IF(Belts!$B$327,$P$209,0)","v":0}]
[null,null,null,{"$f":"AND(B205,OR(AND(Belts!B332,NOT(U212)),AND(Belts!$A$332,NOT(Belts!$A$327)),$F$177<>$F$184,$B$175>3,D210,D211))","v":false},null,null,null,null,null,null,null,"B: ",null,{"$f":"ISNUMBER(M209)","v":false},"D: ",null,{"$f":"ISNUMBER(P209)","v":false},"F: ",null,null,{"$f":"ISNUMBER(T209)","v":false},null,null,{"$f":"Belts!F332","v":"50373L"},{"$f":"MAX($J$205,1)*AD209","v":258},null,{"$f":"Belts!G332","v":258},null,null,{"$f":"CHOOSE($K$2,AA209,$P$5*AA209,$P$6*AA209)","v":258},null,null,null,null,null,null,0,{"$f":"IF($D209,$AA$174,\"\")","v":""},{"$f":"IF(AND($B$205,Belts!A332),X209,0)","v":0},{"$f":"MAX(1,$J$205)","v":1},{"$f":"\"Tri-Form Headrest: \"&Belts!E332","v":"Tri-Form Headrest: Left side WxH"},{"$f":"IF($B$205,$Y209,0)","v":0},{"$f":"IF($B$205,$X$205,0)","v":0},"K0108",{"$f":"\"Tri-Form: \"&Belts!I$321&\", \"&Belts!I$327&\", \"&Belts!I$332","v":"Tri-Form: Right WxH, Center WxH, Left WxH"},{"$f":"AK209","v":0},{"$f":"IF(AND(B205,Belts!A332),IF(OR(AU207=\"HEAD\",AU208=\"HEAD\"),\"HEADM\",\"HEAD\"),\"COMT\")","v":"COMT"},{"$f":"AM209&\".00\"","v":"0.00"},{"$f":"AN209","v":1},{"$f":"SUBSTITUTE(SUBSTITUTE(AO209,quote,\" in.\"),comma,\" -\")","v":"Tri-Form Headrest: Left side WxH"},null,50373,{"$f":"IF(Belts!$B$332,$T$208,0)","v":0},{"$f":"IF(Belts!$B$332,$T$209,0)","v":0}]
[null,false,null,{"$f":"OR(AND(NOT($B205),$B210),AND($B205,$B210,NOT(Belts!$B$318)))","v":false}," ",null,null,null,null,null,{"$f":"IF(D210,\"¢\",\"\")","v":""},{"$f":"IF(AND($B$205,Belts!$B$318),\"Pad contact surface:\",\"Not applicable\")","v":"Not applicable"},null,null,null,null,null,null,null,{"$f":"\"Contact surface = \"&Pads!$J$21","v":"Contact surface = SMOOTH DARTEX"},null,null,null,{"$f":"IF($B210,Pads!$K$21,\"\")","v":""},{"$f":"AD210","v":0},null,{"$f":"0*$AA$17/2","v":0},"<zeroout",null,{"$f":"CHOOSE($K$2,AA210,$P$5*AA210,$P$6*AA210)","v":0},null,null,null,null,null,null,0,{"$f":"IF($D210,$AA$174,\"\")","v":""},{"$f":"IF(AND($B210,$AN210>0),IF(LEN($X210)<2,\"MISSING\",IF($X210<>\"Standard\",$X210,0)),0)","v":0},{"$f":"IF($B$205,MAX(1,$J$205),0)","v":0},{"$f":"IF($B$210,\"Tri-Form Headrest: \"&T210,\"\")","v":""},{"$f":"IF($B210,$AN210*$Y210,0)","v":0},null," ",null,{"$f":"AK210","v":0},"HEADM",{"$f":"AM210","v":0},{"$f":"AN210","v":0},"Contact surface"]
[null,false,null,{"$f":"OR(AND(NOT($B205),$B211),AND($B205,$B211,Pads!$V$3=1,Pads!$P$21=4),AND($B205,$B211,NOT(Belts!$B$318)))","v":false}," ",null,null,null,null,null,"",{"$f":"IF(AND($B$205,Belts!$B$318),\"Non-contact surface:\",\"Not applicable\")","v":"Not applicable"},null,null,null,null,null,null,null,{"$f":"\"Non-contact surface = \"&Pads!$Q$21","v":"Non-contact surface = SMOOTH DARTEX"},null,null,null,{"$f":"IF($B211,Pads!$R$21,\"\")","v":""},{"$f":"AD211","v":0},null,0,"<zero",null,{"$f":"CHOOSE($K$2,AA211,$P$5*AA211,$P$6*AA211)","v":0},null,null,null,null,null,null,0,{"$f":"IF($D211,$AA$174,\"\")","v":""},{"$f":"IF(AND($B211,$AN211>0),IF(LEN($X211)<2,\"MISSING\",IF($X211<>\"Standard\",$X211,0)),0)","v":0},{"$f":"IF($B$205,MAX(1,$J$205),0)","v":0},{"$f":"IF($B$211,\"Tri-Form Headrest: \"&T211,\"\")","v":""},{"$f":"IF($B211,$AN211*$Y211,0)","v":0},null," ",null,{"$f":"AK211","v":0},"HEADM",{"$f":"AM211","v":0},{"$f":"AN211","v":0},"Non-contact surface"]
[null,null,null,null,null,null,null,null,null,null,null,null,null,{"$f":"AND(N208:N209)","v":false},null,null,{"$f":"AND(Q208:Q209)","v":false},null,null,null,{"$f":"AND(U208:U209)","v":false}]
[{"$f":"COUNTIF(B214:B216,TRUE)>0","v":false},null,null,{"$f":"OR(AND($F$184=0,CHOOSE($B$175,FALSE,TRUE,TRUE,TRUE,TRUE,TRUE,TRUE)),AND($F$177=0,$A213))","v":false},null,null,null,null,null,null,"Knit Soft Pad Headrests",null,null,null,null,null,null,null,null,null,null,null,null,"Item #",{"$f":"'Pick List'!$L$2","v":"Ext Retail"},null,"Retail",null,null,"Used",null,null,null,null,null,null,{"$f":"AK211","v":0}]
[null,{"$f":"B183=8","v":false},null,{"$f":"AND($B214,$F$177<>$F$184)","v":false},null,null,null,null,null,null,{"$f":"IF(D214,\"¢\",\"\")","v":""},"Sm 5H x 8L with knit cover ",null,null,null,null,null,null,null,null,null,null,null,50374,{"$f":"MAX(J214,1)*AD214","v":147},null,147,null,null,{"$f":"CHOOSE($K$2,AA214,$P$5*AA214,$P$6*AA214)","v":147},null,null,null,null,null,null,{"$f":"IF(AM214=0,AK213,AK213+1)","v":0},{"$f":"IF($D214,$AA$174,\"\")","v":""},{"$f":"IF($B214,$X214,0)","v":0},{"$f":"MAX(1,J214)","v":1},"Headrest: Soft Pad, Small 5-1/2H x 8L w/ knit cover ",{"$f":"IF($B214,$Y214,0)","v":0},{"$f":"IF($B214,$X214,0)","v":0},"E0955","Headrest: Soft Pad, Small 5-1/2H x 8L w/ knit cover ",{"$f":"AK214","v":0},"COMT",{"$f":"AM214","v":0},1,{"$f":"SUBSTITUTE(SUBSTITUTE(AO214,quote,\" in.\"),comma,\" -\")","v":"Headrest: Soft Pad - Small 5-1/2H x 8L w/ knit cover "}]
[null,{"$f":"B183=9","v":false},null,{"$f":"AND($B215,$F$177<>$F$184)","v":false},null,null,null,null,null,null,"","Med 5H x 10L with knit cover",null,null,null,null,null,null,null,null,null,null,null,50375,{"$f":"MAX(J215,1)*AD215","v":147},null,147,null,null,{"$f":"CHOOSE($K$2,AA215,$P$5*AA215,$P$6*AA215)","v":147},null,null,null,null,null,null,0,{"$f":"IF($D215,$AA$174,\"\")","v":""},{"$f":"IF($B215,$X215,0)","v":0},{"$f":"MAX(1,J215)","v":1},"Headrest: Soft Pad, Med 5-1/2H x 10L w/ knit cover",{"$f":"IF($B215,$Y215,0)","v":0},{"$f":"IF($B215,$X215,0)","v":0},"E0955","Headrest: Soft Pad, Med 5-1/2H x 10L w/ knit cover",{"$f":"AK215","v":0},"COMT",0,1,{"$f":"SUBSTITUTE(SUBSTITUTE(AO215,quote,\" in.\"),comma,\" -\")","v":"Headrest: Soft Pad - Med 5-1/2H x 10L w/ knit cover"}]
[null,{"$f":"B183=10","v":false},null,{"$f":"AND($B216,$F$177<>$F$184)","v":false},null,null,null,null,null,null,"","Lg 5H x 14L with knit cover",null,null,null,null,null,null,null,null,null,null,null,50376,{"$f":"MAX(J216,1)*AD216","v":147},null,147,null,null,{"$f":"CHOOSE($K$2,AA216,$P$5*AA216,$P$6*AA216)","v":147},null,null,null,null,null,null,0,{"$f":"IF($D216,$AA$174,\"\")","v":""},{"$f":"IF($B216,$X216,0)","v":0},{"$f":"MAX(1,J216)","v":1},"Headrest: Soft Pad: Large 5-1/2H x 14L w/ knit cover",{"$f":"IF($B216,$Y216,0)","v":0},{"$f":"IF($B216,$X216,0)","v":0},"E0955","Headrest: Soft Pad: Large 5-1/2H x 14L w/ knit cover",{"$f":"AK216","v":0},"COMT",0,1,{"$f":"SUBSTITUTE(SUBSTITUTE(AO216,quote,\" in.\"),comma,\" -\")","v":"Headrest: Soft Pad: Large 5-1/2H x 14L w/ knit cover"}]
[null,null,null,null,null,null,null,null,null,null,null,null,null,null,null,null,null,null,null,null,null,null,null,null,null,null,null,null,null,null,null,null,null,null,null,null,0]
[{"$f":"COUNTIF(B219:B227,TRUE)>0","v":false},null,null,{"$f":"OR(AND($F$184=0,CHOOSE($B$175,FALSE,TRUE,TRUE,TRUE,TRUE,TRUE,TRUE)),AND($F$177=0,$A218))","v":false},null,null,null,null,null,null,"Molded Headrest Pads",null,null,null,null,null,null,null,null,null,null,null,null,"Item #",{"$f":"'Pick List'!$L$2","v":"Ext Retail"},null,null,null,null,null,null,null,null,null,null,null,0]
[null,{"$f":"B183=11","v":false},null,{"$f":"AND($B219,$F$177<>$F$184)","v":false},null,null,null,null,null,null,{"$f":"IF(D219,\"¢\",\"\")","v":""},"Small 3.5\" H x 9.5\" L",null,null,null,null,null,null,null,null,null,null,null,31436,{"$f":"MAX(J219,1)*AD219","v":185},null,185,null,null,{"$f":"CHOOSE($K$2,AA219,$P$5*AA219,$P$6*AA219)","v":185},null,null,null,null,null,null,0,{"$f":"IF($D219,$AA$174,\"\")","v":""},{"$f":"IF($B219,$X219,0)","v":0},{"$f":"MAX(1,J219)","v":1},"Headrest: Molded pad, Small 3.5\" H x 9.5\" L",{"$f":"IF($B219,$Y219,0)","v":0},{"$f":"IF($B219,$X219,0)","v":0},"E0955","Headrest: Molded pad, Small 3.5\" H x 9.5\" L",{"$f":"AK219","v":0},"COMT",{"$f":"AM219","v":0},{"$f":"AN219","v":1},{"$f":"SUBSTITUTE(SUBSTITUTE(AO219,quote,\" in.\"),comma,\" -\")","v":"Headrest: Molded pad - Small 3.5 in. H x 9.5 in. L"}]
[null,null,null,null,null,null,null,null,null,null,null,null,null,null,null,null,null,null,null,null,null,null,null,null,null,null,null,null,null,null,null,null,null,null,null,null,0]
[null,{"$f":"B183=12","v":false},null,{"$f":"AND($B221,$F$177<>$F$184)","v":false},null,null,null,null,null,null,{"$f":"IF(D221,\"¢\",\"\")","v":""},"Large 6\" H x 11\" L",null,null,null,null,null,null,null,null,null,null,null,31437,{"$f":"MAX(J221,1)*AD221","v":185},null,185,null,null,{"$f":"CHOOSE($K$2,AA221,$P$5*AA221,$P$6*AA221)","v":185},null,null,null,null,null,null,0,{"$f":"IF($D221,$AA$174,\"\")","v":""},{"$f":"IF($B221,$X221,0)","v":0},{"$f":"MAX(1,J221)","v":1},"Headrest: Molded pad, Large 6\" H x 11\" L",{"$f":"IF($B221,$Y221,0)","v":0},{"$f":"IF($B221,$X221,0)","v":0},"E0955","Headrest: Molded pad, Large 6\" H x 11\" L",{"$f":"AK221","v":0},"COMT",{"$f":"AM221","v":0},{"$f":"AN221","v":1},{"$f":"SUBSTITUTE(SUBSTITUTE(AO221,quote,\" in.\"),comma,\" -\")","v":"Headrest: Molded pad - Large 6 in. H x 11 in. L"}]
[null,null,null,null,null,null,null,null,null,null,null,null,null,null,null,null,null,null,null,null,null,null,null,null,null,null,null,null,null,null,null,null,null,null,null,null,0]
[null,{"$f":"B183=13","v":false},null,{"$f":"AND($B223,$F$177<>$F$184)","v":false},null,null,null,null,null,null,{"$f":"IF(D223,\"¢\",\"\")","v":""},"Neck support",null,null,null,null,null,null,null,null,null,null,null,32472,{"$f":"MAX(J223,1)*AD223","v":175},null,175,null,null,{"$f":"CHOOSE($K$2,AA223,$P$5*AA223,$P$6*AA223)","v":175},null,null,null,null,null,null,0,{"$f":"IF($D223,$AA$174,\"\")","v":""},{"$f":"IF($B223,$X223,0)","v":0},{"$f":"MAX(1,J223)","v":1},"Headrest: Molded neck support pad",{"$f":"IF($B223,$Y223,0)","v":0},{"$f":"IF($B223,$X223,0)","v":0},"E0955","Headrest: Molded neck support pad",{"$f":"AK223","v":0},"COMT",{"$f":"AM223","v":0},{"$f":"AN223","v":1},{"$f":"SUBSTITUTE(SUBSTITUTE(AO223,quote,\" in.\"),comma,\" -\")","v":"Headrest: Molded neck support pad"}]
[null,null,null,null,null,null,null,null,null,null,null,null,null,null,null,null,null,null,null,null,null,null,null,null,null,null,null,null,null,null,null,null,null,null,null,null,0]
[null,{"$f":"B183=14","v":false},null,{"$f":"AND($B225,$F$177<>$F$184)","v":false},null,null,null,null,null,null,{"$f":"IF(D225,\"¢\",\"\")","v":""},"Lateral support",null,null,null,null,null,null,null,null,null,null,null,32471,{"$f":"MAX(J225,1)*AD225","v":185},null,185,null,null,{"$f":"CHOOSE($K$2,AA225,$P$5*AA225,$P$6*AA225)","v":185},null,null,null,null,null,null,0,{"$f":"IF($D225,$AA$174,\"\")","v":""},{"$f":"IF($B225,$X225,0)","v":0},{"$f":"MAX(1,J225)","v":1},"Headrest: Molded lateral support pad",{"$f":"IF($B225,$Y225,0)","v":0},{"$f":"IF($B225,$X225,0)","v":0},"E0955","Headrest: Molded lateral support pad",{"$f":"AK225","v":0},"COMT",{"$f":"AM225","v":0},{"$f":"AN225","v":1},{"$f":"SUBSTITUTE(SUBSTITUTE(AO225,quote,\" in.\"),comma,\" -\")","v":"Headrest: Molded lateral support pad"}]
[null,null,null,null,null,null,null,null,null,null,null,null,null,null,null,null,null,null,null,null,null,null,null,null,null,null,null,null,null,null,null,null,null,null,null,null,0]
[null,{"$f":"B183=15","v":false},null,{"$f":"AND($B227,$F$177<>$F$184)","v":false},null,null,null,null,null,null,{"$f":"IF(D227,\"¢\",\"\")","v":""},"Combination",null,null,null,null,null,null,null,null,null,null,null,31438,{"$f":"MAX(J227,1)*AD227","v":180},null,180,null,null,{"$f":"CHOOSE($K$2,AA227,$P$5*AA227,$P$6*AA227)","v":180},null,null,null,null,null,null,0,{"$f":"IF($D227,$AA$174,\"\")","v":""},{"$f":"IF($B227,$X227,0)","v":0},{"$f":"MAX(1,J227)","v":1},"Headrest: Molded combination pad",{"$f":"IF($B227,$Y227,0)","v":0},{"$f":"IF($B227,$X227,0)","v":0},"E0955","Headrest: Molded combination pad",{"$f":"AK227","v":0},"COMT",{"$f":"AM227","v":0},{"$f":"AN227","v":1},{"$f":"SUBSTITUTE(SUBSTITUTE(AO227,quote,\" in.\"),comma,\" -\")","v":"Headrest: Molded combination pad"}]
[null,null,null,null,null,null,null,null,null,null,null,null,null,null,null,null,null,null,null,null,null,null,null,null,null,null,null,null,null,null,null,null,null,null,null,null,0]
[{"$f":"COUNTIF(B230:B232,TRUE)>0","v":false},null,null,{"$f":"OR(AND($F$184=0,CHOOSE($B$175,FALSE,FALSE,FALSE,FALSE,TRUE,TRUE,TRUE)),AND($F$177=0,$A229))","v":false},null,null,null,null,null,null,"Flat Headrest Pads",null,null,null,{"$f":"CHOOSE($B$175,\"\",\"Will work but not intended for Multi-axis Hardware\",\"Will work but not intended for Surelock Hardware\",\"\",\"\",\"\",\"\")","v":""},null,null,null,null,null,null,null,null,"Item #",{"$f":"'Pick List'!$L$2","v":"Ext Retail"},null,null,null,null,null,null,null,null,null,null,null,0]
[null,{"$f":"B183=16","v":false},null,{"$f":"AND($B230,$F$177<>$F$184)","v":false},null,null,null,null,null,null,{"$f":"IF(D230,\"¢\",\"\")","v":""},"Sm 5H x 5L",null,null,null,null,null,null,null,null,null,null,null,50477,{"$f":"MAX(J230,1)*AD230","v":137},null,137,null,null,{"$f":"CHOOSE($K$2,AA230,$P$5*AA230,$P$6*AA230)","v":137},null,null,null,null,null,null,0,{"$f":"IF($D230,$AA$174,\"\")","v":""},{"$f":"IF($B230,$X230,0)","v":0},{"$f":"MAX(1,J230)","v":1},"Headrest: Flat small 5H x 5L pad",{"$f":"IF($B230,$Y230,0)","v":0},{"$f":"IF($B230,$X230,0)","v":0},"E0955","Headrest: Flat small 5H x 5L pad",{"$f":"AK230","v":0},"COMT",{"$f":"AM230","v":0},1,{"$f":"SUBSTITUTE(SUBSTITUTE(AO230,quote,\" in.\"),comma,\" -\")","v":"Headrest: Flat small 5H x 5L pad"}]
[null,{"$f":"B183=21","v":false},null,{"$f":"AND($B231,$F$177<>$F$184)","v":false},null,null,null,null,null,null,"","Med 6H x 6L",null,null,null,null,null,null,null,null,null,null,null,50478,{"$f":"MAX(J231,1)*AD231","v":137},null,137,null,null,{"$f":"CHOOSE($K$2,AA231,$P$5*AA231,$P$6*AA231)","v":137},null,null,null,null,null,null,0,{"$f":"IF($D231,$AA$174,\"\")","v":""},{"$f":"IF($B231,$X231,0)","v":0},{"$f":"MAX(1,J231)","v":1},"Headrest: Flat medium 6H x 6L pad",{"$f":"IF($B231,$Y231,0)","v":0},{"$f":"IF($B231,$X231,0)","v":0},"E0955","Headrest: Flat medium 6H x 6L pad",{"$f":"AK231","v":0},"COMT",0,1,{"$f":"SUBSTITUTE(SUBSTITUTE(AO231,quote,\" in.\"),comma,\" -\")","v":"Headrest: Flat medium 6H x 6L pad"}]
[null,{"$f":"B183=22","v":false},null,{"$f":"AND($B232,$F$177<>$F$184)","v":false},null,null,null,null,null,null,"","Lg 8H x 8L",null,null,null,null,null,null,null,null,null,null,null,50479,{"$f":"MAX(J232,1)*AD232","v":137},null,137,null,null,{"$f":"CHOOSE($K$2,AA232,$P$5*AA232,$P$6*AA232)","v":137},null,null,null,null,null,null,0,{"$f":"IF($D232,$AA$174,\"\")","v":""},{"$f":"IF($B232,$X232,0)","v":0},{"$f":"MAX(1,J232)","v":1},"Headrest: Flat large 8H x 8L pad",{"$f":"IF($B232,$Y232,0)","v":0},{"$f":"IF($B232,$X232,0)","v":0},"E0955","Headrest: Flat large 8H x 8L pad",{"$f":"AK232","v":0},"COMT",0,1,{"$f":"SUBSTITUTE(SUBSTITUTE(AO232,quote,\" in.\"),comma,\" -\")","v":"Headrest: Flat large 8H x 8L pad"}]
[]
[null,null,null,null,null,null,null,null,null,null,null,null,null,null,null,null,null,null,null,null,null,null,null,null,null,null,null,null,null,null,null,null,{"$f":"MAX(AK242:AK270)+1","v":1},{"$f":"IF(AG234-AK238>=3,AK238+1,AK238)","v":0},null,null,null,{"$f":"IF($AH234<$AG$234,VLOOKUP($AH234,$AK$242:$AP$269,2,FALSE),\"\")","v":""},{"$f":"IF($AH234<$AG$234,VLOOKUP($AH234,$AK$242:$AP$269,3,FALSE),\"\")","v":0},{"$f":"IF($AH234<$AG$234,VLOOKUP($AH234,$AK$242:$AP$269,4,FALSE),0)","v":0},{"$f":"IF($AH234<$AG$234,VLOOKUP($AH234,$AK$242:$AP$269,5,FALSE),\"\")","v":""},null,null,null,{"$f":"LEN(AM234)","v":1}]
[null,null,null,{"$f":"(COUNTIF(D236:D270,TRUE)+COUNTIF(D272:E296,TRUE))>0","v":false},"FOR COND FMT",null,null,null,null,null,null,null,null,null,null,"LATERAL SUPPORTS",null,null,null,null,null,null,null,{"$f":"IF(D235,\"ISSUES REVIEWED?\",\"     Issues reviewed?\")","v":"     Issues reviewed?"},null,null,{"$f":"IF(AB235,\"+\",\">\")","v":">"},false,"<-allow?",null,null,"Minimum body cutout=",{"$f":"IF(AG236>0,AG236+2*AG238+1,0)","v":0},{"$f":"AH234+1","v":1},null,null,null,{"$f":"IF($AH235<$AG$234,VLOOKUP($AH235,$AK$242:$AP$269,2,FALSE),\"\")","v":""},{"$f":"IF($AH235<$AG$234,VLOOKUP($AH235,$AK$242:$AP$269,3,FALSE),\"\")","v":""},{"$f":"IF($AH235<$AG$234,VLOOKUP($AH235,$AK$242:$AP$269,4,FALSE),0)","v":0},{"$f":"IF($AH235<$AG$234,VLOOKUP($AH235,$AK$242:$AP$269,5,FALSE),\"\")","v":""}]
["channel=",{"$f":"Design!$AB$15","v":1},null,{"$f":"D56","v":false},{"$f":"Seat!$T$50","v":0},null,null,null,null,null,null,null,null,null,null,{"$f":"IF(NOT($B$47),\"BACK THICKNESS  (incl wood): \",\"Bracket selection based on back thickness of \"&Seat!$T$50&quote)","v":"BACK THICKNESS  (incl wood): "},2,{"$f":"IF(AND($AF$271,NOT($AF$272)),\"2-3/4\"&quote&\" Extender brkts included\",\"\")","v":""},null,null,null,null,{"$f":"IF(D236,\"   Full channel valid for DT R-Back only  \",\"\")","v":""},null,null,null,"Retail","Prim","Cost","Used",null,"Chest width=",{"$f":"IF(AND($F$239>0,$F$272>0),IF(Design!$BB127>0,Design!$BB$127+$AG237-2*$AG238-2*$AG239,IF($V242>0,$V242+$AG237-2*$AG238-2*$AG239,0)),0)","v":0},{"$f":"AH235+1","v":2},null,null,null,{"$f":"IF($AH236<$AG$234,VLOOKUP($AH236,$AK$242:$AP$269,2,FALSE),\"\")","v":""},{"$f":"IF($AH236<$AG$234,VLOOKUP($AH236,$AK$242:$AP$269,3,FALSE),\"\")","v":""},{"$f":"IF($AH236<$AG$234,VLOOKUP($AH236,$AK$242:$AP$269,4,FALSE),0)","v":0},{"$f":"IF($AH236<$AG$234,VLOOKUP($AH236,$AK$242:$AP$269,5,FALSE),\"\")","v":""}]
[null,false,null,null,null,null,null,null,null,null,null,"Neoprene sleeves, pair",null,null,null,null,null,null,null,null,null,null,null,50135,{"$f":"MAX(J237,1)*AD237","v":36},null,36,null,null,{"$f":"CHOOSE($K$2,AA237,$P$5*AA237,$P$6*AA237)","v":36},null,"add for base=",0.25,{"$f":"AH236+1","v":3},null,null,null,{"$f":"IF($AH237<$AG$234,VLOOKUP($AH237,$AK$242:$AP$269,2,FALSE),\"\")","v":""},{"$f":"IF($AH237<$AG$234,VLOOKUP($AH237,$AK$242:$AP$269,3,FALSE),\"\")","v":""},{"$f":"IF($AH237<$AG$234,VLOOKUP($AH237,$AK$242:$AP$269,4,FALSE),0)","v":0},{"$f":"IF($AH237<$AG$234,VLOOKUP($AH237,$AK$242:$AP$269,5,FALSE),\"\")","v":""}]
[null,1,null,{"$f":"AND($AF$272,NOT($AF$271))","v":false},null,null,null,null,null,null,null,null,null,null,null,null,null,null,null,null,null,null,null,null,null,null,null,null,null,null,null,"foam thickness=",{"$f":"0.5+IF($B$283,Pads!$E$1,0)","v":0.5},null,null,null,{"$f":"IF(AM238=0,AK232,AK232+1)","v":0},{"$f":"\"\"","v":""},{"$f":"IF($B237,\"50135\",0)","v":0},{"$f":"IF(J237=0,1,J237)","v":1},{"$f":"IF($B237,\"LTS: \"&$L237,\"\")","v":""},{"$f":"IF($B237,$Y237,0)","v":0},null,"K0108",null,{"$f":"AK238","v":0},{"$f":"IF(AT238=AT232,\"COMT\",IF(AT238<AT296,\"LTS\",\"COMT\"))","v":"COMT"},{"$f":"AM238&\".00\"","v":"0.00"},{"$f":"AN238","v":1},"Neoprene sleeves"]
[null,{"$f":"B238=1","v":true},null,{"$f":"AND($F$239=0,$F$272>0)","v":false},null,{"$f":"COUNTIF(B244:B247,TRUE)+COUNTIF(B253:B256,TRUE)+COUNTIF(B262:B264,TRUE)+COUNTIF(B267:B268,TRUE)","v":0},null,null,null,{"$f":"IF(D239,\"¢\",\"\")","v":""},"No Lateral Support Hardware",null,null,null,null,null,null,null,null,null,{"$f":"IF(AND(BACKSHAPE<>1,$B$238<>1),IF(AssemblyCode<>1,IF(BackChannel=1,\"Distance from top of pad to seat:\",\"Distance from top of pad to seat (optional):\"),IF(BackChannel=1,\"Distance from top of pad to seat (optional):\",\"\")),\"\")","v":""},null,null,"Item #",{"$f":"'Pick List'!$L$2","v":"Ext Retail"},null,null,null,null,null,null,"offset=",{"$f":"MAX(AG245:AG269)","v":0}]
[null,null,null,null,null,null,null,null,null,null,null,{"$f":"IF(CURVED,\"Note: Curved back\",\"\")","v":""},null,null,{"$f":"IF(BACKLBW<7,\"Lesser body width too small for LTS curved addaptor\",IF(BACKLBW>19,\"Lesser body width too large for LTS curved adaptor\",\"\"))","v":"Lesser body width too small for LTS curved addaptor"}]
[null,null,"BLOCK FIXED->",false,null,null,null,null,null,"INNER MOUNT HARDWARE:",null,null,null,null,null,null,null,null,null,null,{"$f":"IF($B$238<>1,IF($AG$236>0,\"Width between lateral pads = \"&$AG$236&quote,\"Width between lateral pads N/A\"),\"\")","v":""}]
[null,{"$f":"OR(B244,B245,B246,B247)","v":false},{"$f":"MAX(C244:C247)","v":0},{"$f":"OR(AND(B242,$F$272=0),AND(Laterals!$F$23=1,B242,D241),AND($F$239=0,$F$272>0),AND(B242,Seat!$T$50=0,$Q$236=0),AND(B242,BACKLBW=0,$V$242=0))","v":false},null,null,null,null,null,"Fixed or Swingaway:",null,null,null,null,null,null,null,null,null,null,{"$f":"IF(OR($B$242,$B$252),IF(NOT($B$47),\"No back. Enter LBW to assume: \",\"Back brackets chosen for \"&BACKLBW&quote&\" LBW\"),\"\")","v":""},null,null,{"$f":"Laterals!$J$23","v":50563},{"$f":"MAX($C$242,1)*AD242","v":88},null,{"$f":"Laterals!$I$23","v":88},null,null,{"$f":"CHOOSE($K$2,AA242,$P$5*AA242,$P$6*AA242)","v":88},null,null,null,null,null,null,{"$f":"IF(AM242=0,AK238,AK238+1)","v":0},{"$f":"IF(AND(B242,D242),$AA$235,\"\")","v":""},{"$f":"IF($B242,$X242,0)","v":0},{"$f":"MAX($AN$244:$AN$247)","v":0},{"$f":"IF($B242,\"LTS: \"&Laterals!$L23&\" for \"&Seat!$AB$56&quote&\" thick back\",\"\")","v":""},{"$f":"IF($B242,$Y242,0)","v":0},null,"E1028",null,{"$f":"AK242","v":0},{"$f":"IF(AT242>AT238,IF(AU238=\"COMT\",\"LTS\",\"LTSM\"),AU238)","v":"COMT"},{"$f":"AM242&\".00\"","v":"0.00"},{"$f":"AN242","v":0},"Inner Swingaway"]
["Inner or fixed",null,null,null,null,null,null,null,null,null,null,{"$f":"IF(CURVED,\"Swingaway is required for curved back\",\"\")","v":""}]
["SA or SW?",{"$f":"B$238=11","v":false},{"$f":"IF(B244,J244,0)","v":0},{"$f":"AND(OR($A$254,$F$272=0),$B244)","v":false},null,null,null,null,null,2,{"$f":"IF(D244,\"¢\",\"\")","v":""},"Flush inner mount bracket",null,null,null,{"$f":"IF(AND(B244,$B$249),\"(with \"&Laterals!$H$34&\" below)\",\"\")","v":""},null,null,null,null,null,null,null,{"$f":"Laterals!J28","v":50500},{"$f":"MAX(J244,1)*AD244","v":62},null,31,null,null,{"$f":"CHOOSE($K$2,AA244,$P$5*AA244,$P$6*AA244)","v":31},null,null,null,null,null,null,{"$f":"IF(AM244=0,AK242,AK242+1)","v":0},{"$f":"IF(D244,$AA$235,\"\")","v":""},{"$f":"IF($B244,$X244,0)","v":0},{"$f":"IF($B244,$J244,0)","v":0},{"$f":"\"LTS: \"&Laterals!$L28","v":"LTS: Flat inner mount flush bracket, 3 in."},{"$f":"IF($B244,$Y244,0)","v":0},null,"K0108",null,{"$f":"AK244","v":0},{"$f":"IF(AT244>AT242,IF(AU242=\"COMT\",\"LTS\",\"LTSM\"),AU242)","v":"COMT"},{"$f":"AM244&\".00\"","v":"0.00"},{"$f":"AN244","v":0},"LTS bracket"]
[{"$f":"OR(AND(Laterals!F23=2,B242),B249,AND(B265,B261),AND(B269,B266))","v":false},{"$f":"B$238=12","v":false},{"$f":"IF(B245,J245,0)","v":0},{"$f":"AND(OR($A$254,$F$272=0),$B245)","v":false},null,null,null,null,null,2,{"$f":"IF(D245,\"¢\",\"\")","v":""},"1/2 in. offset inner mount bracket",null,null,null,{"$f":"IF(AND(B245,$B$249),\"(with \"&Laterals!$H$34&\" below)\",\"\")","v":""},null,null,null,null,null,null,null,{"$f":"Laterals!J29","v":50502},{"$f":"MAX(J245,1)*AD245","v":62},null,31,null,null,{"$f":"CHOOSE($K$2,AA245,$P$5*AA245,$P$6*AA245)","v":31},null,null,{"$f":"IF($B245,0.5,0)","v":0},null,null,null,{"$f":"IF(AM245=0,AK244,AK244+1)","v":0},{"$f":"IF(D245,$AA$235,\"\")","v":""},0,{"$f":"IF($B245,$J245,0)","v":0},{"$f":"\"LTS: \"&Laterals!$L29","v":"LTS: Flat inner mount 1/2 in. offset bracket, 3 in."},0,null,"K0108",null,{"$f":"AK245","v":0},{"$f":"IF(AT245>AT244,IF(AU244=\"COMT\",\"LTS\",\"LTSM\"),AU244)","v":"COMT"},{"$f":"AM245&\".00\"","v":"0.00"},{"$f":"AN245","v":0},"LTS bracket"]
[null,{"$f":"B$238=13","v":false},{"$f":"IF(B246,J246,0)","v":0},false,null,null,null,null,null,2,"","1 in. offset inner mount bracket",null,null,null,{"$f":"IF(AND(B246,$B$249),\"(with \"&Laterals!$H$34&\" below)\",\"\")","v":""},null,null,null,null,null,null,null,{"$f":"Laterals!J30","v":50504},{"$f":"MAX(J246,1)*AD246","v":62},null,31,null,null,{"$f":"CHOOSE($K$2,AA246,$P$5*AA246,$P$6*AA246)","v":31},null,null,{"$f":"IF($B246,1,0)","v":0},null,null,null,{"$f":"IF(AM246=0,AK245,AK245+1)","v":0},{"$f":"IF(D246,$AA$235,\"\")","v":""},0,{"$f":"IF($B246,$J246,0)","v":0},{"$f":"\"LTS: \"&Laterals!$L30","v":"LTS: Flat inner mount 1 in. offset bracket, 3 in."},0,null,"K0108",null,{"$f":"AK246","v":0},{"$f":"IF(AT246>AT245,IF(AU245=\"COMT\",\"LTS\",\"LTSM\"),AU245)","v":"COMT"},{"$f":"AM246&\".00\"","v":"0.00"},{"$f":"AN246","v":0},"LTS bracket"]
[null,{"$f":"B$238=14","v":false},{"$f":"IF(B247,J247,0)","v":0},false,null,null,null,null,null,2,"","2 in. offset inner mount bracket",null,null,null,{"$f":"IF(AND(B247,$B$249),\"(with \"&Laterals!$H$34&\" below)\",\"\")","v":""},null,null,null,null,null,null,null,{"$f":"Laterals!J31","v":50506},{"$f":"MAX(J247,1)*AD247","v":62},null,31,null,null,{"$f":"CHOOSE($K$2,AA247,$P$5*AA247,$P$6*AA247)","v":31},null,null,{"$f":"IF($B247,2,0)","v":0},null,null,null,{"$f":"IF(AM247=0,AK246,AK246+1)","v":0},{"$f":"IF(D247,$AA$235,\"\")","v":""},0,{"$f":"IF($B247,$J247,0)","v":0},{"$f":"\"LTS: \"&Laterals!$L31","v":"LTS: Flat inner mount 2 in. offset bracket, 3 in."},0,null,"K0108",null,{"$f":"AK247","v":0},{"$f":"IF(AT247>AT246,IF(AU246=\"COMT\",\"LTS\",\"LTSM\"),AU246)","v":"COMT"},{"$f":"AM247&\".00\"","v":"0.00"},{"$f":"AN247","v":0},"LTS bracket"]
[]
["SA/SW & DT R?",{"$f":"AND($B$242,Laterals!$F$34<>1)","v":false},null,{"$f":"FALSE","v":false},"=OR(AND(B278,$F$301=0),AND(Laterals!$F$34<>1,NOT(B271)),AND($F$268=0,$F$301>0))",null," ",null,null,"Summer/Winter Attachment:",null,null,null,null,null,null,null,null,null,null,null,null,null,{"$f":"Laterals!$J$34","v":" "},{"$f":"MAX($C$242,1)*AD249","v":0},null,{"$f":"Laterals!$I$34","v":0},"<formula",null,{"$f":"CHOOSE($K$2,AA249,$P$5*AA249,$P$6*AA249)","v":0},null,null,null,null,null,null,{"$f":"IF(AM249=0,AK247,AK247+1)","v":0},{"$f":"IF(AND(B249,D249),$AA$235,\"\")","v":""},0,{"$f":"MAX($AN$244:$AN$247)","v":0},{"$f":"\"LTS: \"&Laterals!$H34","v":"LTS: None"},0,null,"K0108",null,{"$f":"AK249","v":0},{"$f":"IF(AT249>AT247,IF(AU247=\"COMT\",\"LTS\",\"LTSM\"),AU247)","v":"COMT"},{"$f":"AM249&\".00\"","v":"0.00"},{"$f":"AN249","v":0},{"$f":"Laterals!$L$34","v":0}]
[{"$f":"AND('Pick List'!$A$245,BACKIDX=5)","v":false},null,null,null,"removed error if sw not none",null," ",null,null,{"$f":"IF(A250,\"TSA advice: Swing-away or Summer/Winter hardware may have clearance issues if used on a drop-thru R-back.\",\"\")","v":""}]
[null,{"$f":"B252","v":false},null,null,null,null,null,null,null,"PROXIMAL ASSEMBLY:",null,null,null,null,null,null,null,{"$f":"IF($B$252,\"Must choose foam pads\",\"\")","v":""},null,null,null,null,null,70138,{"$f":"MAX($C$252,1)*AD251","v":225},null,225,null,null,{"$f":"CHOOSE($K$2,AA251,$P$5*AA251,$P$6*AA251)","v":225},null,null,null,null,null,null,{"$f":"IF(AM251=0,AK249,AK249+1)","v":0},{"$f":"IF(D252,$AA$235,\"\")","v":""},{"$f":"IF($B251,$X251,0)","v":0},{"$f":"MAX(AN253:AN256)","v":0},{"$f":"IF($B251,\"LTS: Proximal lateral assembly\",\"\")","v":""},{"$f":"IF($B251,$Y251,0)","v":0},null,"E1028",null,{"$f":"AK251","v":0},{"$f":"IF(AT251>AT249,IF(AU249=\"COMT\",\"LTS\",\"LTSM\"),AU249)","v":"COMT"},{"$f":"AM251&\".00\"","v":"0.00"},{"$f":"AN251","v":0},"LTS price holder"]
["Asmbly Distance Missing",{"$f":"OR(B253,B254,B255,B256)","v":false},{"$f":"MAX(C253:C256)","v":0},{"$f":"OR(AND(B252,$F$272=0),AND($F$239=0,$F$272>0),AND(B252,Seat!$T$50=0,$Q$236=0),AND(B252,BACKLBW=0,$V$242=0),$D$253,$D$254,$D$255,$D$256)","v":false},null,null,null,null,null,"Proximal Swingaway Hardware:",null,null,null,null,null,null,null,null,null,null,null,null,null,{"$f":"Laterals!J51","v":50633},{"$f":"MAX($C$252,1)*AD252","v":0},null,0,"<zero",null,0,null,null,null,null,null,null,{"$f":"IF(AM252=0,AK251,AK251+1)","v":0},{"$f":"IF(D252,$AA$235,\"\")","v":""},0,{"$f":"MAX(AN253:AN256)","v":0},{"$f":"IF($B252,\"LTS: \"&Laterals!$L51&\" for \"&Seat!$AB$56&quote&\" thick back\",\"\")","v":""},0,null,null,null,{"$f":"AK252","v":0},{"$f":"IF(AT252>AT251,IF(AU251=\"COMT\",\"LTS\",\"LTSM\"),AU251)","v":"COMT"},{"$f":"AM252&\".00\"","v":"0.00"},{"$f":"AN252","v":0},"Proximal Swingaway"]
[null,{"$f":"B238=2","v":false},{"$f":"IF(B253,J253,0)","v":0},{"$f":"AND($B253,OR($F$272=0,$A$271<>1,$A$254))","v":false},null,{"$f":"COUNTIF(B253:B256,TRUE)","v":0},null,null,null,2,{"$f":"IF(D253,\"¢\",\"\")","v":""},"Flush proximal pad brkt",null,null,null,{"$f":"IF(AND(B253,$B$258),\"(with \"&Laterals!$H$62&\" below)\",\"\")","v":""},null,null,null,null,null,null,null,{"$f":"Laterals!J56","v":50650},{"$f":"MAX(J253,1)*AD253","v":0},null,0,"<zero",null,0,null,null,null,null,null,null,{"$f":"IF(AM253=0,AK252,AK252+1)","v":0},{"$f":"IF(D253,$AA$235,\"\")","v":""},0,{"$f":"IF($B253,$J253,0)","v":0},{"$f":"\"LTS: \"&Laterals!$L56","v":"LTS: Flat flush bracket, 3 in."},0,null,null,null,0,{"$f":"IF(AT253>AT252,IF(AU252=\"COMT\",\"LTS\",\"LTSM\"),AU252)","v":"COMT"},"0.00",0,"LTS bracket"]
[{"$f":"AND(AssemblyCode<>1,BACKSHAPE<>1,$B$238<>1,PadTop=0,BackChannel=1)","v":false},{"$f":"B238=3","v":false},{"$f":"IF(B254,J254,0)","v":0},{"$f":"AND($B254,OR($F$272=0,$A$271<>1,$A$254))","v":false},null,null,null,null,null,2,{"$f":"IF(D254,\"¢\",\"\")","v":""},"1/2 in. offset proximal pad brkt",null,null,null,{"$f":"IF(AND(B254,$B$258),\"(with \"&Laterals!$H$62&\" below)\",\"\")","v":""},null,null,null,null,null,null,null,{"$f":"Laterals!J57","v":50652},{"$f":"MAX(J254,1)*AD254","v":0},null,0,"<zero",null,0,null,null,{"$f":"IF($B254,0.5,0)","v":0},null,null,null,{"$f":"IF(AM254=0,AK253,AK253+1)","v":0},{"$f":"IF(D254,$AA$235,\"\")","v":""},0,{"$f":"IF($B254,$J254,0)","v":0},{"$f":"\"LTS: \"&Laterals!$L57","v":"LTS: Flat 1/2 in. offset bracket, 3 in."},0,null,null,null,0,{"$f":"IF(AT254>AT253,IF(AU253=\"COMT\",\"LTS\",\"LTSM\"),AU253)","v":"COMT"},"0.00",0,"LTS bracket"]
[null,{"$f":"B238=4","v":false},{"$f":"IF(B255,J255,0)","v":0},{"$f":"AND($B255,OR($F$272=0,$A$271<>1,$A$254))","v":false},"Low prof?",null,null,null,null,2,"","1 in. offset proximal pad brkt",null,null,null,{"$f":"IF(AND(B255,$B$258),\"(with \"&Laterals!$H$62&\" below)\",\"\")","v":""},null,null,null,null,null,null,null,{"$f":"Laterals!J58","v":50654},{"$f":"MAX(J255,1)*AD255","v":0},null,0,"<zero",null,0,null,null,{"$f":"IF($B255,1,0)","v":0},null,null,null,{"$f":"IF(AM255=0,AK254,AK254+1)","v":0},{"$f":"IF(D255,$AA$235,\"\")","v":""},0,{"$f":"IF($B255,$J255,0)","v":0},{"$f":"\"LTS: \"&Laterals!$L58","v":"LTS: Flat 1 in. offset bracket, 3 in."},0,null,null,null,0,{"$f":"IF(AT255>AT254,IF(AU254=\"COMT\",\"LTS\",\"LTSM\"),AU254)","v":"COMT"},"0.00",0,"LTS bracket"]
[null,{"$f":"B238=5","v":false},{"$f":"IF(B256,J256,0)","v":0},{"$f":"AND($B256,OR($F$272=0,$A$271<>1,$A$254))","v":false},{"$f":"OR(B265,B269)","v":false},null,null,null,null,2,"","2 in. offset proximal pad brkt",null,null,null,{"$f":"IF(AND(B256,$B$258),\"(with \"&Laterals!$H$62&\" below)\",\"\")","v":""},null,null,null,null,null,null,null,{"$f":"Laterals!J59","v":50656},{"$f":"MAX(J256,1)*AD256","v":0},null,0,"<zero",null,0,null,null,{"$f":"IF($B256,2,0)","v":0},null,null,null,{"$f":"IF(AM256=0,AK255,AK255+1)","v":0},{"$f":"IF(D256,$AA$235,\"\")","v":""},0,{"$f":"IF($B256,$J256,0)","v":0},{"$f":"\"LTS: \"&Laterals!$L59","v":"LTS: Flat 2 in. offset bracket, 3 in."},0,null,null,null,0,{"$f":"IF(AT256>AT255,IF(AU255=\"COMT\",\"LTS\",\"LTSM\"),AU255)","v":"COMT"},"0.00",0,"LTS bracket"]
[]
[null,{"$f":"AND($B$252,Laterals!$F$62<>1)","v":false},null,{"$f":"FALSE","v":false},"=OR(AND(B287,$F$301=0),AND(Laterals!$F$62<>1,NOT(B281)),AND($F$268=0,$F$301>0))",null," ",null,null,"Summer/Winter Attachment:",null,null,null,null,null,null,null,null,null,null,null,null,null,{"$f":"Laterals!$J$62","v":" "},{"$f":"MAX($C$252,1)*AD258","v":0},null,{"$f":"Laterals!$I$62","v":0},"<formula",null,0,null,null,null,null,null,null,{"$f":"IF(AM258=0,AK256,AK256+1)","v":0},{"$f":"IF(AND(B258,D258),$AA$235,\"\")","v":""},{"$f":"IF($B258,$X258,0)","v":0},{"$f":"MAX($AN$253:$AN$256)","v":0},{"$f":"\"LTS: \"&Laterals!$H62","v":"LTS: None"},0,null,"K0108",null,0,{"$f":"IF(AT258>AT256,IF(AU256=\"COMT\",\"LTS\",\"LTSM\"),AU256)","v":"COMT"},"0.00",0,{"$f":"Laterals!$L$62","v":0}]
[null,{"$f":"AND(CURVED,OR(B242,B251))","v":false},null,{"$f":"AND(B259,ISNA(CURVEDLTSADAPT))","v":false},null,null," ",null,null,null,null,{"$f":"IF(B259,IF(D259,\"ATTENTION: No LTS curved back adaptor fits \"&BACKLBW&\" inch lesser body width.\",\"Adaptor(s) required for attaching LTS brackets to curved back.\"),\"\")","v":""},null,null,null,null,null,null,null,null,null,"limit dist'ce","which limit?",{"$f":"IF(B259,70173,\"\")","v":""},{"$f":"AN259*$AD$259","v":0},null,21,null,null,21,null,null,null,null,null,null,{"$f":"IF(B259,AK258+1,AK258)","v":0},{"$f":"IF(D259,$AA$235,\"\")","v":""},{"$f":"IF($B259,$X259,0)","v":0},{"$f":"IF(AND(CURVED,OR(B242,B251)),MAX(AN251,AN242),0)","v":0},{"$f":"IF(D259,\"LTS: Adaptor for attaching to curved back **Unavailable for \"&BACKLBW&\" LBW**\",\"LTS: Adaptor for attaching to curved back\")","v":"LTS: Adaptor for attaching to curved back"},0,null,"E1028",null,{"$f":"IF(D259,AK258,AK259)","v":0},{"$f":"IF(AT259>AT258,IF(AU258=\"COMT\",\"LTS\",\"LTSM\"),AU258)","v":"COMT"},{"$f":"AM259","v":0},{"$f":"AN259","v":0},"LTS Curved back adaptor",null,{"$f":"CURVEDLTSADAPT","v":""}]
[null,"Need adaptor?",null,"curved LTS adaptor error",null,null,null,null,null,"FIXED HARDWARE:",null,null,null,null,null,null,null,null,null,{"$f":"IF($B$47,Seat!$T$50,IF($Q$236>0,$Q$236,2))","v":2},null,{"$f":"CHOOSE(W260,3.875,4.125,3.625,3.625,3.625,2.75,3.75,5.75,9.25)","v":4.125},{"$f":"CHOOSE($B$271,1,2,2,2,2,3,4,4,5,5,2,2,4,4,1,2,3,4,2,2,5)","v":2}]
[null,{"$f":"OR(B262,B263,B264)","v":false},"unused?",{"$f":"OR(AND($F$272=0,$B261),AND($F$239=0,$F$272>0))","v":false},null,null,null,null,null,"Fixed hardware",null,null,"(low profile S/W feature available)",null,null,null,null,{"$f":"IF(CURVED,\"Not available for curved backs\",IF($B$262,\"Must choose flat foam pads or flat gel pads\",IF($B$263,\"Must choose flat foam pads\",IF($B$264,\"Must choose flat foam pads\",\"\"))))","v":""},null,null,null,null,null,null,null,null,null,null,null,null,null,null,null,null,null,null,{"$f":"IF(AM261=0,AK259,AK259+1)","v":0}]
[null,{"$f":"B238=6","v":false},{"$f":"IF(B262,J262,0)","v":0},{"$f":"AND($B262,OR(CURVED,$A$254,$F$272=0,$AH262=\"NA\"))","v":false},null,{"$f":"COUNTIF(B262:B264,TRUE)","v":0},null,null,null,2,{"$f":"IF(D262,\"¢\",\"\")","v":""},{"$f":"IF($AH262=\"NA\",\"Flush fixed brkt (back too thick)\",\"Flush fixed bracket\")","v":"Flush fixed bracket"},null,null,null,0,2.75,3.75,5.75,{"$f":"IF($A$277,\"50172\",\"50171\")","v":"50171"},50172,50173,"NA",{"$f":"IF($B$295,\"50172\",IF($B$296,\"50173\",IF($AH$262=\"NA\",$V262,LOOKUP($T$260,P262:S262,T262:W262))))","v":"50171"},{"$f":"MAX(J262,1)*AD262","v":44},null,22,null,null,{"$f":"CHOOSE($K$2,AA262,$P$5*AA262,$P$6*AA262)","v":22},null,null,null,{"$f":"LOOKUP($T$260,P262:S262,T262:W262)","v":"50171"},null,null,{"$f":"IF(AM262=0,AK261,AK261+1)","v":0},{"$f":"IF(D262,$AA$235,\"\")","v":""},{"$f":"IF($B262,$X262,0)","v":0},{"$f":"IF($B262,$J262,0)","v":0},{"$f":"IF($D262,\"LTS: Flush fixed bracket (does not fit \"&Seat!$AB$56&quote&\" thick back)\",\"LTS: Flush fixed bracket for \"&Seat!$AB$56&quote&\" thick back\")","v":"LTS: Flush fixed bracket for 2\" thick back"},{"$f":"IF($B262,$Y262,0)","v":0},null,"Incl w/pad",null,{"$f":"AK262","v":0},{"$f":"IF(AT262>AT258,IF(AU258=\"COMT\",\"LTS\",\"LTSM\"),AU258)","v":"COMT"},{"$f":"AM262&\".00\"","v":"0.00"},{"$f":"AN262","v":0},"LTS bracket"]
[null,{"$f":"B238=7","v":false},{"$f":"IF(B263,J263,0)","v":0},{"$f":"AND($B263,OR(CURVED,$A$254,$F$272=0,$AH263=\"NA\"))","v":false},null,null,null,null,null,2,{"$f":"IF(D263,\"¢\",\"\")","v":""},{"$f":"IF($AH263=\"NA\",\"1\"\" offset fixed bkt (back too thick)\",\"1\"\" offset-in fixed bracket\")","v":"1\" offset-in fixed bracket"},null,null,null,0,2.25,2.25,3.05,{"$f":"IF($A$277,\"50176\",\"50175\")","v":"50175"},"50176","50179","NA",{"$f":"IF($AH263=\"NA\",$V263,LOOKUP($T$260,P263:S263,T263:W263))","v":"50175"},{"$f":"MAX(J263,1)*AD263","v":44},null,22,null,null,{"$f":"CHOOSE($K$2,AA263,$P$5*AA263,$P$6*AA263)","v":22},null,null,{"$f":"IF($B263,1,0)","v":0},{"$f":"LOOKUP($T$260,P263:S263,T263:W263)","v":"50175"},null,null,0,{"$f":"IF(D263,$AA$235,\"\")","v":""},{"$f":"IF($B263,$X263,0)","v":0},{"$f":"IF($B263,$J263,0)","v":0},{"$f":"IF($D263,\"LTS: 1\"\" offset fixed bracket (does not fit \"&Seat!$AB$56&quote&\" thick back)\",\"LTS: 1\"\" offset-in fixed bracket for \"&Seat!$AB$56&quote&\" thick back\")","v":"LTS: 1\" offset-in fixed bracket for 2\" thick back"},{"$f":"IF($B263,$Y263,0)","v":0},null,"Incl w/pad",null,{"$f":"AK263","v":0},{"$f":"IF(AT263>AT262,IF(AU262=\"COMT\",\"LTS\",\"LTSM\"),AU262)","v":"COMT"},{"$f":"AM263&\".00\"","v":"0.00"},{"$f":"AN263","v":0},"LTS bracket"]
[null,{"$f":"B238=8","v":false},{"$f":"IF(B264,J264,0)","v":0},{"$f":"AND($B264,OR(CURVED,$A$254,$F$272=0,$AH264=\"NA\"))","v":false},null,null,null,null,null,2,"",{"$f":"IF($AH264=\"NA\",\"2\"\" offset fixed bkt (back too thick)\",\"2\"\" offset-in fixed bracket\")","v":"2\" offset-in fixed bracket"},null,null,null,0,2.25,2.25,3.05,{"$f":"IF($A$277,\"50167\",\"50166\")","v":"50166"},50167,50181,"NA",{"$f":"IF($AH264=\"NA\",$V264,LOOKUP($T$260,P264:S264,T264:W264))","v":"50166"},{"$f":"MAX(J264,1)*AD264","v":44},null,22,null,null,{"$f":"CHOOSE($K$2,AA264,$P$5*AA264,$P$6*AA264)","v":22},null,null,{"$f":"IF($B264,2,0)","v":0},{"$f":"LOOKUP($T$260,P264:S264,T264:W264)","v":"50166"},null,null,0,{"$f":"IF(D264,$AA$235,\"\")","v":""},{"$f":"IF($B264,$X264,0)","v":0},{"$f":"IF($B264,$J264,0)","v":0},{"$f":"IF($D264,\"LTS: 2\"\" offset fixed bracket (does not fit \"&Seat!$AB$56&quote&\" thick back)\",\"LTS: 2\"\" offset-in fixed bracket for \"&Seat!$AB$56&quote&\" thick back\")","v":"LTS: 2\" offset-in fixed bracket for 2\" thick back"},{"$f":"IF($B264,$Y264,0)","v":0},null,"Incl w/pad",null,{"$f":"AK264","v":0},{"$f":"IF(AT264>AT263,IF(AU263=\"COMT\",\"LTS\",\"LTSM\"),AU263)","v":"COMT"},{"$f":"AM264&\".00\"","v":"0.00"},{"$f":"AN264","v":0},"LTS bracket"]
[null,false,null,{"$f":"AND($B265,NOT($B261))","v":false},null,null,null,null,null,2,"","Add low profile S/W attachment",null,null,null,null,null,null,null,null,null,null,null,50324,{"$f":"MAX(J265,1)*AD265","v":136},null,68,null,null,{"$f":"CHOOSE($K$2,AA265,$P$5*AA265,$P$6*AA265)","v":68},null,null,null,null,null,null,0,{"$f":"IF(D265,$AA$235,\"\")","v":""},{"$f":"IF(AND($B261,$B265),$X265,0)","v":0},{"$f":"IF($B265,$J265,0)","v":0},"LTS: Low profile S/W attachment",{"$f":"IF($B265,$Y265,0)","v":0},null,"K0108",null,{"$f":"AK265","v":0},{"$f":"IF(AT265>AT264,IF(AU264=\"COMT\",\"LTS\",\"LTSM\"),AU264)","v":"COMT"},{"$f":"AM265&\".00\"","v":"0.00"},{"$f":"AN265","v":0},"LTS sliding"]
[null,{"$f":"OR(B267,B268)","v":false},null,{"$f":"OR(AND($F$272=0,$B266),AND($F$239=0,$F$272>0))","v":false},null,null,null,null,null,"Adjustable Angle hdw",null,null,null,"(low profile S/W feature available)",null,null,null,{"$f":"IF(CURVED,\"Not available for curved backs\",IF(F267>0,\"Must choose foam pads\",\"\"))","v":""},null,null,null,null,null,null,null,null,null,null,null,null,null,null,null,null,null,null,0,null,null,null,null,null,null,null,null,null,null,{"$f":"AM266","v":0},0]
[null,{"$f":"B$238=9","v":false},{"$f":"IF(B267,J267,0)","v":0},{"$f":"AND($B267,OR(CURVED,$A$254,$F$272=0,$AH267=\"NA\"))","v":false},null,{"$f":"COUNTIF(B267:B268,TRUE)","v":0},null,null,null,2,{"$f":"IF(D267,\"¢\",\"\")","v":""},{"$f":"IF($AH267=\"NA\",\"1\"\" offset adj angle (back too thick)\",\"1\"\" offset-in adj angle bracket\")","v":"1\" offset-in adj angle bracket"},null,null,null,0,2.25,2.25,3.05,50237,50237,50237,"NA",{"$f":"IF($AH267=\"NA\",V267,LOOKUP($T$260,P267:S267,T267:W267))","v":50237},{"$f":"MAX(J267,1)*AD267","v":260},null,130,null,null,{"$f":"CHOOSE($K$2,AA267,$P$5*AA267,$P$6*AA267)","v":130},null,null,{"$f":"IF($B267,1,0)","v":0},{"$f":"LOOKUP($T$260,P267:S267,T267:W267)","v":50237},null,null,0,{"$f":"IF(D267,$AA$235,\"\")","v":""},{"$f":"IF($B267,$X267,0)","v":0},{"$f":"IF($B267,$J267,0)","v":0},{"$f":"IF($D267,\"LTS: Adjustable angle 1\"\" offset fixed bracket (does not fit \"&Seat!$AB$56&quote&\" thick back)\",\"LTS: Adjustable angle 1\"\" offset-in fixed bracket for \"&Seat!$AB$56&quote&\" thick back\")","v":"LTS: Adjustable angle 1\" offset-in fixed bracket for 2\" thick back"},{"$f":"IF($B267,$Y267,0)","v":0},null,"Incl w/pad",null,{"$f":"AK267","v":0},{"$f":"IF(AT267>AT264,IF(AU264=\"COMT\",\"LTS\",\"LTSM\"),AU264)","v":"COMT"},{"$f":"IF($B267,\"50237\",\"\")","v":""},0,"LTS bracket"]
[null,{"$f":"B$238=10","v":false},{"$f":"IF(B268,J268,0)","v":0},{"$f":"AND($B268,OR(CURVED,$A$254,$F$272=0,$AH268=\"NA\"))","v":false},null,null,null,null,null,2,"",{"$f":"IF($AH268=\"NA\",\"2\"\" offset adj angle (back too thick)\",\"2\"\" offset-in adj angle bracket\")","v":"2\" offset-in adj angle bracket"},null,null,null,0,2.25,2.25,3.05,50238,50238,50238,"NA",{"$f":"IF($AH268=\"NA\",V268,LOOKUP($T$260,P268:S268,T268:W268))","v":50238},{"$f":"MAX(J268,1)*AD268","v":260},null,130,null,null,{"$f":"CHOOSE($K$2,AA268,$P$5*AA268,$P$6*AA268)","v":130},null,null,{"$f":"IF($B268,2,0)","v":0},{"$f":"LOOKUP($T$260,P268:S268,T268:W268)","v":50238},null,null,0,{"$f":"IF(D268,$AA$235,\"\")","v":""},{"$f":"IF($B268,$X268,0)","v":0},{"$f":"IF($B268,$J268,0)","v":0},{"$f":"IF($D268,\"LTS: Adjustable angle 2\"\" offset fixed bracket (does not fit \"&Seat!$AB$56&quote&\" thick back)\",\"LTS: Adjustable angle 2\"\" offset-in fixed bracket for \"&Seat!$AB$56&quote&\" thick back\")","v":"LTS: Adjustable angle 2\" offset-in fixed bracket for 2\" thick back"},{"$f":"IF($B268,$Y268,0)","v":0},null,"Incl w/pad",null,{"$f":"AK268","v":0},{"$f":"IF(AT268>AT267,IF(AU267=\"COMT\",\"LTS\",\"LTSM\"),AU267)","v":"COMT"},{"$f":"IF($B268,\"50238\",\"\")","v":""},0,"LTS bracket"]
[null,false,null,{"$f":"AND($B269,NOT($B266))","v":false},null,null,null,null,null,2,"","Add low profile S/W attachment",null,null,null,null,null,null,null,null,null,null,null,50324,{"$f":"MAX(J269,1)*AD269","v":136},null,68,null,null,{"$f":"CHOOSE($K$2,AA269,$P$5*AA269,$P$6*AA269)","v":68},null,null,null,null,null,null,0,{"$f":"IF(D269,$AA$235,\"\")","v":""},{"$f":"IF(AND($B266,$B269),$X269,0)","v":0},{"$f":"IF($B269,$J269,0)","v":0},"LTS: Low profile S/W attachment",{"$f":"IF($B269,$Y269,0)","v":0},null,"K0108",null,{"$f":"AK269","v":0},{"$f":"IF(AT269>AT268,IF(AU268=\"COMT\",\"LTS\",\"LTSM\"),AU268)","v":"COMT"},{"$f":"AM269&\".00\"","v":"0.00"},0,"LTS sliding"]
[]
[{"$f":"CHOOSE(B271,1,1,1,1,1,1,1,1,1,1,2,2,2,2,3,3,3,3,1,1,1,1,1)","v":1},19,{"$f":"IF(OR(COUNTIF($C$274:$C$280,TRUE)>0,COUNTIF(C291:C296,TRUE>0)),TRUE,FALSE)","v":false},"flat?=",{"$f":"NOT(C271)","v":true},null,null,null,null,null,null,null,null,null,null,null,null,null,null,null,null,null,null,null,null,null,0,"<-32859/50122",null,null,"Add Extender?=",false,"<conditions to add extender removed",null," ",null,{"$f":"IF(AM271=0,AK269,AK269+1)","v":0},null,{"$f":"IF($AF$271,IF($AF$272,\"32859\",\"50122\"),0)","v":0},{"$f":"AN235","v":0},"LTS: Extender bracket",{"$f":"IF($AF$272,$AN$271*$AG$271,0)","v":0},null,"K0108","PRICE IN FORMULA to left in price column",{"$f":"AK271","v":0},{"$f":"IF(AT271>AT269,IF(AU269=\"COMT\",\"LTS\",\"LTSM\"),AU269)","v":"COMT"},{"$f":"AM271&\".00\"","v":"0.00"},{"$f":"AN271","v":0},"LTS extender brkt"]
["pad type?",{"$f":"B271=19","v":true},"curved?",{"$f":"AND($F$239>0,$F$272=0)","v":false},null,{"$f":"COUNTIF(B274:C280,TRUE)+COUNTIF(B291:C296,TRUE)","v":0},null,null,null,{"$f":"IF(D272,\"¢\",\"\")","v":""},"No LTS Pads",null,null,null,null,"Fixed LTS Options",null,null,"Swingaway LTS Options",null,null,null,{"$f":"CHOOSE(B271,3,3,4,4,U282,3,3,4,4,U282,3,4,3,4,3,4,3,4,0,5,5,5,5)","v":0},{"$f":"CHOOSE(B271,4,5,5,6,W282,4,5,5,6,W282,6,7,6,7,5,6,5,6,0,6,6,5,5)","v":0},null,null,null,null,null,null,"Force Extender?=",false,"<checkbox linked here",null," ",null,{"$f":"AK271","v":0},{"$f":"IFERROR(VLOOKUP($AK272+1,$AK273:$AP297,2,FALSE),\"\")","v":""},{"$f":"IFERROR(VLOOKUP($AK272+1,$AK273:$AP297,3,FALSE),\"\")","v":""},{"$f":"IFERROR(VLOOKUP($AK272+1,$AK273:$AP297,4,FALSE),0)","v":0},{"$f":"IFERROR(VLOOKUP($AK272+1,$AK273:$AP297,5,FALSE),\"\")","v":""},null,null,null,null,null,null,null,null,null,null,null,{"$f":"IFERROR(VLOOKUP($AK272+1,$AK273:$BB297,17,FALSE),\"\")","v":""},{"$f":"IFERROR(VLOOKUP($AK272+1,$AK273:$BB297,18,FALSE),\"\")","v":""}]
[{"$f":"COUNTIF(B274:C280,TRUE)>0","v":false},null,null,{"$f":"AND($F$239>0,$F$272=0)","v":false},null,{"$f":"COUNTIF(B274:C280,TRUE)","v":0},null,null,null,"Foam Pads",null,null,null,null,"Item #",{"$f":"'Pick List'!$L$2","v":"Ext Retail"},null,{"$f":"IF(AND(OR($F$262>0,$F$267>0),C$271),\"Curved incompatible w/ fixed brkts\",\"\")","v":""},null,null,null,null,{"$f":"MAX(W274:W280,W291,W292,W295,W296,W242)","v":0},"Item #",{"$f":"'Pick List'!$L$2","v":"Ext Retail"},null,"Retail (also on LATERALS tab)",null,null,"Used","Retail",null,null,"Used",null,null,{"$f":"IF(AM273=0,AK272,AK272+1)","v":0},null,null,null,null,null,null,null,null,null,null,{"$f":"AM273","v":0},0]
[null,{"$f":"$B$271=1","v":false},{"$f":"$B$271=6","v":false},{"$f":"AND(B274,$F$239=0)","v":false},{"$f":"OR(AND(OR($B$261,$B$266),C274),AND(C274,$F$239=0))","v":false},null,null,null,null,2,{"$f":"IF(D274,\"¢\",\"\")","v":""},{"$f":"$E$281&\"Flat 3 x 4\"","v":"Flat 3 x 4"},null,null,{"$f":"CHOOSE($C$281,\"50051\",\"50600\",$O$280)","v":"50051"},{"$f":"MAX($J274,1)*AD274","v":158},null,2,{"$f":"IF(E274,\"¢\",\"\")","v":""},{"$f":"$E$281&\"Curved 3 x 4\"","v":"Curved 3 x 4"},null,null,{"$f":"IF(OR(B274,C274),4,0)","v":0},{"$f":"CHOOSE($C$281,\"50056\",\"50610\",$X$280)","v":"50056"},{"$f":"MAX($R274,1)*AH274","v":198},null,{"$f":"CHOOSE($B$281,$AA$281,$AB$281,$AA$280)","v":79},null,null,{"$f":"CHOOSE($K$2,AA274,$P$5*AA274,$P$6*AA274)","v":79},{"$f":"CHOOSE($B$281,$AE$281,$AF$281,$AE$280)","v":99},null,null,{"$f":"CHOOSE($K$2,AE274,$P$5*AE274,$P$6*AE274)","v":99},null,null,0,{"$f":"IF(OR(D274,E274),$AA$235,\"\")","v":""},{"$f":"IF($B274,O274,IF($C274,X274,0))","v":0},{"$f":"IF($B274,$J274,0)+IF($C274,$R274,0)","v":0},{"$f":"IF($B274,\"LTS: \"&L274&\" pad\",IF($C274,\"LTS: \"&T274&\" pad\",\"\"))","v":""},{"$f":"IF($B274,$P274,0)+IF($C274,$Y274,0)","v":0},null,"E0956",null,{"$f":"AK274","v":0},{"$f":"IF(AT274>AT271,IF(AU271=\"COMT\",\"LTS\",\"LTSM\"),AU271)","v":"COMT"},{"$f":"AM274&\".00\"","v":"0.00"},0,{"$f":"IF($B$282,\"LTS Custom pad\",\"LTS pad\")","v":"LTS pad"},{"$f":"IF(NOT(ISBLANK($AM$301)),$AM$301,\"\")","v":0},null,3,4]
[null,{"$f":"$B$271=2","v":false},{"$f":"$B$271=7","v":false},false,false,null,null,null,null,2,{"$f":"IF(D275,\"¢\",\"\")","v":""},{"$f":"$E$281&\"Flat 3 x 5\"","v":"Flat 3 x 5"},null,null,{"$f":"CHOOSE($C$281,\"50052\",\"50601\",$O$280)","v":"50052"},158,null,2,{"$f":"IF(E275,\"¢\",\"\")","v":""},{"$f":"$E$281&\"Curved 3 x 5\"","v":"Curved 3 x 5"},null,null,{"$f":"IF(OR(B275,C275),5,0)","v":0},{"$f":"CHOOSE($C$281,\"50057\",\"50611\",$X$280)","v":"50057"},198,null,79,null,null,79,99,null,null,99,null,null,0,"",0,0,"",0,null,"E0956",null,0,{"$f":"IF(AT275>AT274,IF(AU274=\"COMT\",\"LTS\",\"LTSM\"),AU274)","v":"COMT"},"0.00",0,"LTS pad",{"$f":"IF(NOT(ISBLANK($AM$301)),$AM$301,\"\")","v":0},null,3,5]
["Longer pad?",{"$f":"$B$271=3","v":false},{"$f":"$B$271=8","v":false},false,false,null,null,null,null,2,"",{"$f":"$E$281&\"Flat 4 x 5\"","v":"Flat 4 x 5"},null,null,{"$f":"CHOOSE($C$281,\"50053\",\"50602\",$O$280)","v":"50053"},158,null,2,"",{"$f":"$E$281&\"Curved 4 x 5\"","v":"Curved 4 x 5"},null,null,{"$f":"IF(OR(B276,C276),5,0)","v":0},{"$f":"CHOOSE($C$281,\"50058\",\"50612\",$X$280)","v":"50058"},198,null,79,null,null,79,99,null,null,99,null,null,0,"",0,0,"",0,null,"E0956",null,0,{"$f":"IF(AT276>AT275,IF(AU275=\"COMT\",\"LTS\",\"LTSM\"),AU275)","v":"COMT"},"0.00",0,"LTS pad",0,null,4,5]
[{"$f":"OR(B277,B279,AND(B280,O281>5))","v":false},{"$f":"$B$271=4","v":false},{"$f":"$B$271=9","v":false},false,false,null,null,null,null,2,"",{"$f":"$E$281&\"Flat 4 x 6\"","v":"Flat 4 x 6"},null,null,{"$f":"CHOOSE($C$281,\"50054\",\"50603\",$O$280)","v":"50054"},158,null,2,"",{"$f":"$E$281&\"Curved 4 x 6\"","v":"Curved 4 x 6"},null,null,{"$f":"IF(OR(B277,C277),6,0)","v":0},{"$f":"CHOOSE($C$281,\"50059\",\"50613\",$X$280)","v":"50059"},198,null,79,null,null,79,99,null,null,99,null,null,0,"",0,0,"",0,null,"E0956",null,0,{"$f":"IF(AT277>AT276,IF(AU276=\"COMT\",\"LTS\",\"LTSM\"),AU276)","v":"COMT"},"0.00",0,"LTS pad",0,null,4,6]
[null,{"$f":"$B$271=22","v":false},{"$f":"$B$271=23","v":false},false,false,null,null,null,null,2,"",{"$f":"$E$281&\"Flat 5 x 5\"","v":"Flat 5 x 5"},null,null,{"$f":"CHOOSE($C$281,\"50028\",\"50604\",$O$280)","v":"50028"},{"$f":"MAX($J278,1)*AD278","v":158},null,2,"",{"$f":"$E$281&\"Curved 5 x 5\"","v":"Curved 5 x 5"},null,null,{"$f":"IF(OR(B278,C278),5,0)","v":0},{"$f":"CHOOSE($C$281,\"50029\",\"50614\",$X$280)","v":"50029"},{"$f":"MAX($R278,1)*AH278","v":198},null,79,null,null,{"$f":"CHOOSE($K$2,AA278,$P$5*AA278,$P$6*AA278)","v":79},99,null,null,{"$f":"CHOOSE($K$2,AE278,$P$5*AE278,$P$6*AE278)","v":99},null,null,0,"",{"$f":"IF($B278,O278,IF($C278,X278,0))","v":0},0,"",0,null,"E0956",null,{"$f":"AK278","v":0},{"$f":"IF(AT278>AT277,IF(AU277=\"COMT\",\"LTS\",\"LTSM\"),AU277)","v":"COMT"},{"$f":"AM278&\".00\"","v":"0.00"},{"$f":"AN278","v":0},"LTS pad",0,null,5,5]
[null,{"$f":"$B$271=20","v":false},{"$f":"$B$271=21","v":false},false,false,null,null,null,null,2,"",{"$f":"$E$281&\"Flat 5 x 6\"","v":"Flat 5 x 6"},null,null,{"$f":"CHOOSE($C$281,\"50038\",\"50605\",$O$280)","v":"50038"},158,null,2,"",{"$f":"$E$281&\"Curved 5 x 6\"","v":"Curved 5 x 6"},null,null,{"$f":"IF(OR(B279,C279),6,0)","v":0},{"$f":"CHOOSE($C$281,\"50039\",\"50615\",$X$280)","v":"50039"},198,null,79,null,null,79,99,null,null,99,null,null,0,"",0,0,"",0,null,"E0956",null,0,{"$f":"IF(AT279>AT277,IF(AU277=\"COMT\",\"LTS\",\"LTSM\"),AU277)","v":"COMT"},"0.00",{"$f":"AN279","v":0},"LTS pad",0,null,5,6]
[null,{"$f":"$B$271=5","v":false},{"$f":"$B$271=10","v":false},{"$f":"OR(AND(B280,OR(M281=0,O281=0)),AND(B280,$F$239=0))","v":false},{"$f":"OR(AND(OR($B$261,$B$266),C280),AND(C280,$F$239=0),AND(C280,OR(U281=0,W281=0)))","v":false},null,null,null,null,2,"",{"$f":"\"Custom flat \"&M281&\" W x \"&O281&\" L\"","v":"Custom flat  W x  L"},null,null,"50055",270,null,2,"",{"$f":"IF(C280,\"Custom curved \"&U281&\"W x \"&W281&\"L\",\"Custom curved, specify\")","v":"Custom curved, specify"},null,null,{"$f":"IF(B280,O281,IF(C280,W281,0))","v":0},"50060",314,null,135,null,null,135,157,null,null,157,null,null,0,"",0,0,{"$f":"IF($B280,\"LTS: \"&$D$281&\"flat \"&M281&\" W x \"&O281&\" L pad\",IF($C280,\"LTS: \"&$D$281&\"curved \"&U281&\" W x \"&W281&\" L pad\",\"\"))","v":""},0,null,"E0956","=IF($B313,\"LTS: \"&$D$314&\"flat \"&M314&\" W x \"&O314&\" L pad\",IF($C313,\"LTS: \"&$D$314&\" curved \"&U314&\" W x \"&W314&\"\"\" L pad\",\"\"))",0,{"$f":"IF(AT280>AT279,IF(AU279=\"COMT\",\"LTS\",\"LTSM\"),AU279)","v":"COMT"},"0.00",0,"LTS Custom pad",0,null,{"$f":"IF($B280,M281,IF($C280,U281,\"\"))","v":""},{"$f":"IF($B280,O281,IF($C280,W281,\"\"))","v":""}]
["Unused?",{"$f":"IF(NOT($B$282),1,IF(AND(NOT(B283),NOT(B280),NOT(C280),OR(AND(B284,Pads!$M$2),AND(B285,Pads!$T$2)),NOT(B286),NOT(B288)),2,3))","v":1},{"$f":"IF(NOT($B$282),1,IF(OR(B283,B286,B288),3,IF(OR(AND(B284,Pads!$M$2),AND(B285,Pads!$T$2)),2,1)))","v":1},{"$f":"CHOOSE($B$281,\"\",\"TrU-Spec \",\"Custom \")","v":""},{"$f":"CHOOSE($C$281,\"\",\"TrU-Spec \",\"Custom \")","v":""},null,null,null,null,null,null,"Width:",null,"Length:",null,{"$f":"OR(AND($B$280,OR($M$281>5,$O$281>=8)),AND($C$280,OR($U$281>5,$W$281>=8)))","v":false},{"$f":"IF($P$281,\"Large pad\",\"\")","v":""},null,null,"Width:",null,"Length:",null,null,null,null,79,110,null,null,99,110,null,null,null,null,0,null,null,null,null,null,null,null,null,null,null,0,0]
[{"$f":"OR(AND(A283,B283),AND(B284,Pads!$M$2),AND(B285,Pads!$T$2),B286,B288)","v":false},{"$f":"OR(B280,C280,B283,AND(B284,Pads!$M$2),AND(B285,Pads!$T$2),B286,B288)","v":false},"<-any mod flag",null,null,{"$f":"COUNTIF(D283:D288,TRUE)","v":0},null,null,null,null,{"$f":"IF(OR($B$280,$C$280),\"Fabric changes are included for custom pads, other mods at additional cost:\",CHOOSE($B$281,\"Modifications for TrU-Spec and custom pads:\",\"Fabric changes are included for Tru-Spec pads:\",\"Pad becomes a custom pad at additional cost:\"))","v":"Modifications for TrU-Spec and custom pads:"},null,null,null,null,null,null,null,null,null,{"$f":"IF(B280,M281,IF(C280,U281,0))","v":0},null,{"$f":"IF(B280,O281,IF(C280,W281,0))","v":0},"Item #","Per Pad",null,"Retail",null,null,"Used",null,null,null,null,null,null,0,null,null,null,null,null,null,null,null,null,null,0,0]
[{"$f":"NOT(ISNUMBER($T$283))","v":true},false,null,{"$f":"AND($F$273=0,$B283)","v":false}," ",null,null,null,null,null,{"$f":"IF(D283,\"¢\",\"\")","v":""},{"$f":"IF($B$283,\"Additional layer:\",\"Additional layer:\")","v":"Additional layer:"},null,null,null,null,null,null,null,null,null,{"$f":"IF(AND($B$238<>1,$AG$236>0),\"Chest width = \"&$AG$236&quote,\"\")","v":""},null,{"$f":"Pads!$C$1","v":71068},{"$f":"AD283","v":26},null,{"$f":"IF(AND($B$283,NOT($A$283)),T283,Pads!$D$1)","v":26},null,null,{"$f":"CHOOSE($K$2,AA283,$P$5*AA283,$P$6*AA283)","v":26},null,null,null,null,null,null,0,{"$f":"IF(D283,$AA$235,\"\")","v":""},{"$f":"IF(AND($B283,$AN283>0),$X283,0)","v":0},{"$f":"SUM($AN$274:$AN$280)","v":0},{"$f":"\"LTS: Additional layer of \"&Pads!$B$1&\" on custom pad\"","v":"LTS: Additional layer of 1/2\" extra soft visco foam on custom pad"},{"$f":"IF($B283,($AN283+IF($A$299<>1,1,0))*$Y283,0)","v":0},null,"K0108",null,{"$f":"AK283","v":0},{"$f":"IF(AT283>AT280,IF(AU280=\"COMT\",\"LTS\",\"LTSM\"),AU280)","v":"COMT"},0,0,{"$f":"SUBSTITUTE(\"Additional \"&Pads!$B$1,quote,\" in.\")","v":"Additional 1/2 in. extra soft visco foam"},null,{"$f":"Pads!$F$1","v":"05875"},{"$f":"Pads!E1","v":0.5}]
[null,false,null,{"$f":"OR(AND($F$273=0,$B284),AND($B284,Pads!$V$3=1,Pads!$I$2=4))","v":false}," ",null,null,null,null,null,{"$f":"IF(D284,\"¢\",\"\")","v":""},"Pad contact surface:",null,null,null,null,null,null,null,{"$f":"\"Contact surface = \"&Pads!$J$2","v":"Contact surface = SMOOTH DARTEX"},null,null,null,{"$f":"IF($B284,Pads!$K$2,\"\")","v":""},{"$f":"AD284","v":0},null,{"$f":"0*$AA$17/2","v":0},"<zeroout",null,{"$f":"CHOOSE($K$2,AA284,$P$5*AA284,$P$6*AA284)","v":0},null,null,null,null,null,null,0,{"$f":"IF(D284,$AA$235,\"\")","v":""},{"$f":"IF(AND($B284,$AN284>0),IF(LEN($X284)<2,\"MISSING\",IF($X284<>\"Standard\",$X284,0)),0)","v":0},{"$f":"SUM($AN$274:$AN$280)","v":0},{"$f":"IF($B$284,\"LTS: \"&T284,\"\")","v":""},{"$f":"IF($B284,($AN284+IF($A$299<>1,1,0))*$Y284,0)","v":0},null," ",null,{"$f":"AK284","v":0},{"$f":"IF(AT284>AT283,IF(AU283=\"COMT\",\"LTS\",\"LTSM\"),AU283)","v":"COMT"},{"$f":"AM284","v":0},{"$f":"AN284","v":0},"Contact surface"]
[null,false,null,{"$f":"OR(AND($F$273=0,$B285),AND($B285,Pads!$V$3=1,Pads!$P$2=4))","v":false}," ",null,null,null,null,null,"","Non-contact surface:",null,null,null,null,null,null,null,{"$f":"\"Non-contact surface = \"&Pads!$Q$2","v":"Non-contact surface = NEOPRENE"},null,null,null,{"$f":"IF($B285,Pads!$R$2,\"\")","v":""},{"$f":"AD285","v":0},null,0,"<zero",null,{"$f":"CHOOSE($K$2,AA285,$P$5*AA285,$P$6*AA285)","v":0},null,null,null,null,null,null,0,{"$f":"IF(D285,$AA$235,\"\")","v":""},{"$f":"IF(AND($B285,$AN285>0),IF(LEN($X285)<2,\"MISSING\",IF($X285<>\"Standard\",$X285,0)),0)","v":0},{"$f":"SUM($AN$274:$AN$280)","v":0},{"$f":"IF($B$285,\"LTS: \"&T285,\"\")","v":""},{"$f":"IF($B285,($AN285+IF($A$299<>1,1,0))*$Y285,0)","v":0},null," ",null,{"$f":"AK285","v":0},{"$f":"IF(AT285>AT284,IF(AU284=\"COMT\",\"LTS\",\"LTSM\"),AU284)","v":"COMT"},{"$f":"AM285","v":0},{"$f":"AN285","v":0},"Non-contact surface"]
[null,false,null,{"$f":"AND($F$273=0,$B286)","v":false}," ",null,null,null,null,null,"","Mushroom foam",null,null,null,null,null,null,null,null,null,null,null,71069,{"$f":"AD286","v":39},null,39,null,null,{"$f":"CHOOSE($K$2,AA286,$P$5*AA286,$P$6*AA286)","v":39},null,null,null,null,null,null,0,{"$f":"IF(D286,$AA$235,\"\")","v":""},{"$f":"IF(AND($B286,$AN286>0),$X286,0)","v":0},{"$f":"SUM($AN$274:$AN$280)","v":0},"LTS: Mushroom foam overlay on custom pad",{"$f":"IF($B286,($AN286+IF($A$299<>1,1,0))*$Y286,0)","v":0},null," ",null,{"$f":"AK286","v":0},{"$f":"IF(AT286>AT284,IF(AU284=\"COMT\",\"LTS\",\"LTSM\"),AU284)","v":"COMT"},0,0,"Mushroom overlay on custom pad"]
[null,null,null,null,null,null,null,null,null,null,null,{"$f":"IF(ISBLANK($L$288),\"Enter description of modification, retail price and item # below:\",\"Other modification:\")","v":"Enter description of modification, retail price and item # below:"},null,null,null,null,null,null,null,null,null,null,"Retail/pad","Item #","Per Pad",null,null,null,null,null,null,null,null,null,null,null,0,null,null,null,null,null,null,null,null,null,null,0,0]
[null,false,null,{"$f":"AND($F$273=0,$B288)","v":false}," ",null,null,null,null,null,{"$f":"IF(D288,\"¢\",\"\")","v":""},null,null,null,null,null,null,null,null,null,null,null,null,null,{"$f":"AD288","v":0},null,{"$f":"W288","v":0},null,null,{"$f":"CHOOSE($K$2,AA288,$P$5*AA288,$P$6*AA288)","v":0},null,null,null,null,null,null,{"$f":"IF(AM288=0,AK287,AK287+1)","v":0},{"$f":"IF(D288,$AA$235,\"\")","v":""},{"$f":"IF($B288,IF(LEN(X288)>0,$X288,\"UNK\"),0)","v":0},{"$f":"SUM($AN$274:$AN$280)","v":0},{"$f":"\"LTS: \"&L288","v":"LTS: "},{"$f":"IF($B288,($AN288+IF($A$299<>1,1,0))*$Y288,0)","v":0},null,null,null,{"$f":"AK288","v":0},{"$f":"IF(AT288>AT286,IF(AU286=\"COMT\",\"LTS\",\"LTSM\"),AU286)","v":"COMT"},0,0,{"$f":"SUBSTITUTE(SUBSTITUTE(L288,quote,\" in.\"),comma,\" -\")","v":""}]
[null,null,null,null,null,null,null,null,null,null,null,null,null,null,{"$f":"IF($B$261,\"Molded pads incompatible with fixed brackets\",IF($B$251,\"Molded pads incompatible with proximal brackets\",\"\"))","v":""},null,null,null,null,null,null,null,null,null,null,null,"Brkt thickness adj for gel & molded=",null,null,null,{"$f":"IF(OR(B291:C296),0.5,0)","v":0},null,null,null,null,null,0]
[{"$f":"COUNTIF(B291:C292,TRUE)>0","v":false},null,null,{"$f":"AND($F$239>0,$F$272=0)","v":false},null,null,null,null,null,"Molded Pads",null,null,null,null,"Item #",{"$f":"'Pick List'!$L$2","v":"Ext Retail"},null,null,null,null,null,null,null,"Item #",{"$f":"'Pick List'!$L$2","v":"Ext Retail"},null,"Retail",null,null,"Used","Retail",null,null,"Used",null,null,0]
[null,{"$f":"$B$271=11","v":false},{"$f":"$B$271=13","v":false},{"$f":"AND(B291,OR($F$239=0,$B$261,$B$251))","v":false},{"$f":"AND(C291,OR($F$239=0,$B$261,$B$251))","v":false},{"$f":"COUNTIF(B291:C292,TRUE)","v":0},null,null,null,2,{"$f":"IF(D291,\"¢\",\"\")","v":""},"Molded Flat 3\" x 6\"",null,null,"50061",{"$f":"MAX($J291,1)*$AD$291","v":158},null,2,{"$f":"IF(E291,\"¢\",\"\")","v":""},"Molded Curved 3\" x 6\"",null,null,{"$f":"IF(OR(B291,C291),6,0)","v":0},"50064",{"$f":"MAX($R291,1)*AH291","v":186},null,79,null,null,{"$f":"CHOOSE($K$2,AA291,$P$5*AA291,$P$6*AA291)","v":79},93,null,null,{"$f":"CHOOSE($K$2,AE291,$P$5*AE291,$P$6*AE291)","v":93},null,null,0,{"$f":"IF(OR(D291,E291),$AA$235,\"\")","v":""},{"$f":"IF($B291,O291,IF($C291,X291,0))","v":0},{"$f":"IF($B291,$J291,0)+IF($C291,$R291,0)","v":0},{"$f":"IF($B291,\"LTS: Flat molded 3\"&quote&\" x 6\"&quote&\" pad\",IF($C291,\"LTS: Curved molded 3\"&quote&\" x 6\"&quote&\" pad\",\"\"))","v":""},{"$f":"IF($B291,$P291,0)+IF($C291,$Y291,0)","v":0},null,"E0956",null,{"$f":"AK291","v":0},{"$f":"IF(AT291>AT288,IF(AU288=\"COMT\",\"LTS\",\"LTSM\"),AU288)","v":"COMT"},{"$f":"AM291&\".00\"","v":"0.00"},{"$f":"AN291","v":0},"LTS pad",{"$f":"IF(NOT(ISBLANK($AM$301)),$AM$301,\"\")","v":0}]
[null,{"$f":"$B$271=12","v":false},{"$f":"$B$271=14","v":false},{"$f":"AND(B292,OR($F$239=0,$B$261,$B$251))","v":false},{"$f":"AND(C292,OR($F$239=0,$B$261,$B$251))","v":false},null,null,null,null,2,{"$f":"IF(D292,\"¢\",\"\")","v":""},"Molded Flat 4\" x 7\"",null,null,"50062",{"$f":"MAX($J292,1)*AD292","v":158},null,2,{"$f":"IF(E292,\"¢\",\"\")","v":""},"Molded Curved 4\" x 7\"",null,null,{"$f":"IF(OR(B292,C292),7,0)","v":0},"50065",{"$f":"MAX($R292,1)*AH292","v":186},null,79,null,null,{"$f":"CHOOSE($K$2,AA292,$P$5*AA292,$P$6*AA292)","v":79},93,null,null,{"$f":"CHOOSE($K$2,AE292,$P$5*AE292,$P$6*AE292)","v":93},null,null,0,{"$f":"IF(OR(D292,E292),$AA$235,\"\")","v":""},{"$f":"IF($B292,O292,IF($C292,X292,0))","v":0},{"$f":"IF($B292,$J292,0)+IF($C292,$R292,0)","v":0},{"$f":"IF($B292,\"LTS: Flat molded 4\"&quote&\" x 7\"&quote&\" pad\",IF($C292,\"LTS: Curved molded 4\"&quote&\" x 7\"&quote&\" pad\",\"\"))","v":""},{"$f":"IF($B292,$P292,0)+IF($C292,$Y292,0)","v":0},null,"E0956",null,{"$f":"AK292","v":0},{"$f":"IF(AT292>AT291,IF(AU291=\"COMT\",\"LTS\",\"LTSM\"),AU291)","v":"COMT"},{"$f":"AM292&\".00\"","v":"0.00"},{"$f":"AN292","v":0},"LTS pad",0]
[null,null,null,null,null,null,null,null,null,null,null,null,null,null,null,null,null,null,null,null,null,null,null,null,null,null,null,null,null,null,null,null,null,null,null,null,0]
[{"$f":"COUNTIF(B295:C296,TRUE)>0","v":false},null,null,{"$f":"AND($F$239>0,$F$272=0)","v":false},null,null,null,null,null,"Gel Pads",null,null,null,null,{"$f":"IF(OR($A$295,$A$296),\"Back too thick for this pad with a fixed bracket\",IF($B$262,\"                                                  Curved gel pads incompatible with fixed brackets\",IF(OR($B$263,$B$264),\"All gel pads incompatible with offset fixed brackets\",IF($B$251,\"Gel pads incompatible with proximal brackets\",\"\"))))","v":""},null,null,null,null,null,null,null,null,null,null,null,"Prices also on LATERALS tab",null,null,null,null,null,null,null,null,null,0,null,null,null,null,{"$f":"IF($B294,$Y294,\"\")","v":""}]
[{"$f":"AND($B$262,$B295,Seat!$T$50>2.5)","v":false},{"$f":"$B$271=15","v":false},{"$f":"$B$271=17","v":false},{"$f":"OR(AND(B295,OR($F$239=0,$B$263,$B$264,$B$251)),$A$295)","v":false},{"$f":"AND(C295,OR($F$239=0,$B$261,$B$251))","v":false},{"$f":"COUNTIF(B295:C296,TRUE)","v":0},null,null,null,2,{"$f":"IF(D295,\"¢\",\"\")","v":""},"Gel Flat 4\" x 6\"",null,null,"50141",{"$f":"MAX($J295,1)*AD295","v":178},null,2,{"$f":"IF(E295,\"¢\",\"\")","v":""},"Gel Curved 4\" x 6\"",null,null,{"$f":"IF(OR(B295,C295),5,0)","v":0},"50142",{"$f":"MAX($R295,1)*AH295","v":222},null,89,null,null,{"$f":"CHOOSE($K$2,AA295,$P$5*AA295,$P$6*AA295)","v":89},111,null,null,{"$f":"CHOOSE($K$2,AE295,$P$5*AE295,$P$6*AE295)","v":111},null,null,0,{"$f":"IF(OR(D295,E295),$AA$235,\"\")","v":""},{"$f":"IF($B295,O295,IF($C295,X295,0))","v":0},{"$f":"IF($B295,$J295,0)+IF($C295,$R295,0)","v":0},{"$f":"IF($B295,\"LTS: Flat gel 3\"&quote&\" x 5\"&quote&\" pad\",IF($C295,\"LTS: Curved gel 3\"&quote&\" x 5\"&quote&\" pad\",\"\"))","v":""},{"$f":"IF($B295,$P295,0)+IF($C295,$Y295,0)","v":0},null,"E0956",null,{"$f":"AK295","v":0},{"$f":"IF(AT295>AT292,IF(AU292=\"COMT\",\"LTS\",\"LTSM\"),AU292)","v":"COMT"},{"$f":"AM295&\".00\"","v":"0.00"},{"$f":"AN295","v":0},"LTS pad",{"$f":"IF(NOT(ISBLANK($AM$301)),$AM$301,\"\")","v":0}]
[{"$f":"AND($B$262,$B296,Seat!$T$50>3)","v":false},{"$f":"$B$271=16","v":false},{"$f":"$B$271=18","v":false},{"$f":"OR(AND(B296,OR($F$239=0,$B$263,$B$264,$B$251)),$A$296)","v":false},{"$f":"AND(C296,OR($F$239=0,$B$261,$B$251))","v":false},null,null,null,null,2,"","Gel Pad Unavailable",null,null,"NA",{"$f":"MAX($J296,1)*AD296","v":0},null,2,"","Gel Pad Unavailable",null,null,{"$f":"IF(OR(B296,C296),6,0)","v":0},"NA",{"$f":"MAX($R296,1)*AH296","v":0},null,0,null,null,{"$f":"CHOOSE($K$2,AA296,$P$5*AA296,$P$6*AA296)","v":0},0,null,null,{"$f":"CHOOSE($K$2,AE296,$P$5*AE296,$P$6*AE296)","v":0},null,null,0,{"$f":"IF(OR(D296,E296),$AA$235,\"\")","v":""},{"$f":"IF($B296,O296,IF($C296,X296,0))","v":0},{"$f":"IF($B296,$J296,0)+IF($C296,$R296,0)","v":0},{"$f":"IF($B296,\"Gel Pad Unavailable\",IF($C296,\"Gel Pad Unavailable\",\"\"))","v":""},{"$f":"IF($B296,$P296,0)+IF($C296,$Y296,0)","v":0},null,"E0956",null,{"$f":"AK296","v":0},{"$f":"IF(AT296>AT295,IF(AU295=\"COMT\",\"LTS\",\"LTSM\"),AU295)","v":"COMT"},{"$f":"AM296&\".00\"","v":"0.00"},{"$f":"AN296","v":0},"LTS pad",0]
["fixed bkt tests above incl back thickness limits",null,null,null,null,null,null,null,null,null,null,null,null,null,null,null,null,null,null,null,null,null,null,null,null,null,null,null,null,null,null,null,null,null,null,null,0,null,null," "]
["Innermount chosen?",{"$f":"AND($B$238>10,$B$238<15)","v":false},null,null,null,null,null,null,null,"Add Innermount Combo w/ Alternate Pad",null,null,null,null,null,null,{"$f":"IF($B$298,IF($A$301=1,TEXT($AN$234,\"#0\")&\" Inner Bracket(s) & \"&TEXT($AN$272,\"#0\")&\" Pad(s) Chosen Above\",IF($A$299<>1,IF($A$301>1,\"**\"&TEXT($AN$234,\"#0\")&\" Inner Bracket(s) &  \"&TEXT($AN$272,\"#0\")&\" Pad(s) Chosen Above**\",\"Innermount Combo Lateral Not Allowed\"),TEXT($AN$234,\"#0\")&\" Inner Bracket(s) & \"&TEXT($AN$272,\"#0\")&\" Pad(s) Chosen Above\")),\"Innermount Combo Lateral Not Allowed\")","v":"Innermount Combo Lateral Not Allowed"},null,null,null,null,null,null,"Item #",{"$f":"'Pick List'!$L$2","v":"Ext Retail"}]
[1,{"$f":"AND($B$298,$B$271<>19,$A$299<>1)","v":false},null,null,null,null,null,null,null,null,null,null,null,null,null,null,null,null,null,null,null,null,null,{"$f":"IF($B$299,CHOOSE($A$299-1,Laterals!$J$24,Laterals!$J$25,\"\"),\"\")","v":""},{"$f":"AD299","v":0},null,{"$f":"IF($B$299,CHOOSE($A$299-1,Laterals!$I$24,Laterals!$I$25,0),0)","v":0},null,null,{"$f":"CHOOSE($K$2,AA299,$P$5*AA299,$P$6*AA299)","v":0},null,null,null,null,null,null,{"$f":"IF(AM299=0,AK297,AK297+1)","v":0}," ",{"$f":"IF($B299,$X299,0)","v":0},{"$f":"IF($A$299<>1,1,0)","v":0},{"$f":"CHOOSE($A$299-1,\"LTS: \"&Laterals!$L$24&\" for \"&Seat!$AB$56&quote&\" thick back\",\"LTS: \"&Laterals!$L$25&\" for \"&Seat!$AB$56&quote&\" thick back\",\"\")","v":{"$error":"#VALUE!"}},{"$f":"IF($A$299<>1,$Y$299,0)","v":0},null,"E1028",null,{"$f":"AK299","v":0},{"$f":"IF(AT299>AT298,IF(AU298=\"COMT\",\"LTS\",\"LTSM\"),AU298)","v":0},{"$f":"AM299&\".00\"","v":"0.00"},{"$f":"AN299","v":0},"LTS hardware2"]
[null,{"$f":"B299","v":false},null,null,null,null,null,null,null,null,{"$f":"IFERROR(IF($B$300,VLOOKUP(X300,Laterals!K28:M59,3,FALSE),\"\"),\"\")","v":""},null,null,null,null,null,null,null,null,null,null,null,null,{"$f":"IFERROR(IF(AND($B$298,$A$299<>1),VLOOKUP($AM$235,Laterals!J28:K59,2,FALSE),\"\"),\"\")","v":""},{"$f":"AD300","v":0},null,{"$f":"IFERROR(IF($B$300,VLOOKUP($X$300,Laterals!$K$28:$N$45,4,FALSE),0),0)","v":0},null,null,{"$f":"CHOOSE($K$2,AA300,$P$5*AA300,$P$6*AA300)","v":0},null,null,null,null,null,null,0," ",{"$f":"IF($B300,$X300,0)","v":0},{"$f":"IF($B300,1,0)","v":0},{"$f":"\"LTS: \"&K300","v":"LTS: "},{"$f":"IF($B300,$Y300,0)","v":0},null,"K0108",null,{"$f":"AK300","v":0},{"$f":"IF(AT300>AT299,IF(AU299=\"COMT\",\"LTS\",\"LTSM\"),AU299)","v":0},{"$f":"AM300&\".00\"","v":"0.00"},{"$f":"AN300","v":0},"LTS bracket2"]
[{"$f":"IF($B$299,MAX($AN$234,$AN$235,$AN$272),0)","v":0},{"$f":"B299","v":false},null,null,null,null,null,null,null,null,{"$f":"IF($B$301,VLOOKUP(X301,Laterals!J70:K103,2,FALSE),\"\")","v":""},null,null,null,null,null,null,null,null,{"$f":"MATCH(X301,O274:O296,0)","v":16},{"$f":"MATCH(X301,X274:X296,0)","v":11},null,null,{"$f":"IFERROR(IF(AND($B$298,$A$299<>1),VLOOKUP($AM$272,Laterals!I70:J103,2,FALSE),\"\"),\"\")","v":""},{"$f":"AD301","v":0},null,null,null,null,{"$f":"IF($B$301,IF(ISNA($T$301),IF(ISNA($U$301),0,INDEX($AH$274:$AH$296,$U$301)),INDEX($AD$274:$AD$296,$T$301)),0)","v":0},null,null,null,null,null,null,0," ",{"$f":"IF($B301,$X301,0)","v":0},{"$f":"IF($B301,1,0)","v":0},{"$f":"\"LTS: \"&K301","v":"LTS: "},{"$f":"IF($B301,$Y301,0)","v":0},null,"E0956",null,{"$f":"AK301","v":0},{"$f":"IF(AT301>AT300,IF(AU300=\"COMT\",\"LTS\",\"LTSM\"),AU300)","v":0},{"$f":"AM301&\".00\"","v":"0.00"},{"$f":"AN301","v":0},"LTS pad2",null,null,{"$f":"BA272","v":""},{"$f":"BB272","v":""}]
["# chosen above?"]
[null,null,null,null,null,null,null,null,null,null,null,null,null,null,null,"ANTERIOR SUPPORTS",null,null,null,null,null,null,null,null,null,"   ",null,null,null,null,null,null,null,null,null,null,{"$f":"IF(AM303=0,AK301,AK301+1)","v":0}]
[null,false,null,{"$f":"COUNTIF(D309:D372,TRUE)>0","v":false},null,null,null,null,null,null,null,"Strap positioning guides, pair",null,null,null,null,null,null,null,null,null,null,null,51030,{"$f":"MAX(J304,1)*AD304","v":32},null,32,null,null,{"$f":"CHOOSE($K$2,AA304,$P$5*AA304,$P$6*AA304)","v":32},null,null,null,null,null,null,{"$f":"IF(B304,AK303+1,AK303)","v":0},{"$f":"\"\"","v":""},{"$f":"IF($B304,X304,0)","v":0},{"$f":"IF($B304,MAX(1,$J304),0)","v":0},{"$f":"IF($B304,$L304,\"\")","v":""},{"$f":"IF($B304,$Y304,0)","v":0},null,"K0108",null,{"$f":"AK304","v":0},"COMT",{"$f":"AM304","v":0},0,"Strap positioning guides"]
[null,false,null,{"$f":"AND(B305,AM305=\"Warning\")","v":false},null,null,null,null,null,null,null,"TheraSleeves",null,null,null,{"$f":"IF($B$307=1,IF($B$305,\"  Therasleeves warning. No vest or harness chosen\",\"\"),\" \"&SleevesDesc)","v":""},null,null,null,null,null,null,null,{"$f":"IF(SleevesMatch=\"NA\",IF($B$305,\"Warning\",\"\"),SleevesMatch)","v":""},{"$f":"MAX(J305,1)*AD305","v":0},null,{"$f":"IF(ISNA(SleevesPrice),0,SleevesPrice)","v":0},null,null,{"$f":"CHOOSE($K$2,AA305,$P$5*AA305,$P$6*AA305)","v":0},null,null,null,null,null,null,{"$f":"IF(B305,AK304+1,AK304)","v":0},{"$f":"IF(D305,\">\",\"\")","v":""},{"$f":"IF($B305,X305,0)","v":0},{"$f":"IF($B305,MAX(1,$J305),0)","v":0},{"$f":"IF($B305,TRIM($P305),\"\")","v":""},{"$f":"IF($B305,$Y305,0)","v":0},null,"K0108",null,{"$f":"AK305","v":0},"COMT",{"$f":"AM305","v":0},{"$f":"AN305","v":0},"Anterior Therasleeves"]
[null,null,null,null,null,null,null,null,null,null,null,null,null,{"$f":"IF(TSleeveMatl=5,\"Ballistic nylon sold 1 per pack\",\"\")","v":""},null,null,null,null,null,null,null,null,null,null,null,null,null,null,null,null,null,null,null,null,null,null,{"$f":"AK305","v":0},null,null,null,null,null,null,null,null,null,null,0,0]
[null,1,null,null,null,null,null,null,null,null,"No Vest or Harness",null,null,null,"Premium Therafit vest info",null,null,"Static vest info",null,null,null,"Stretch vest info",null,"TheraSleeves",null,null,null,null,null,null,null,null,null,null,null,{"$f":"IFERROR(VLOOKUP($AK306+1,$AK309:$AP373,1,FALSE),AK306)","v":0},null,{"$f":"IFERROR(VLOOKUP($AK306+1,$AK309:$AP372,2,FALSE),\"\")","v":""},{"$f":"IFERROR(VLOOKUP($AK306+1,$AK309:$AP372,3,FALSE),\"\")","v":""},{"$f":"IFERROR(VLOOKUP($AK306+1,$AK309:$AP372,4,FALSE),\"\")","v":""},{"$f":"IFERROR(VLOOKUP($AK306+1,$AK309:$AP372,5,FALSE),\"\")","v":""},null,null,null,null,{"$f":"AJ307","v":0},"COMT","","","Anterior support"]
[null,null,null,null,null,null,null,null,null,"Therafit Vest w/Comfort Straps, Full",null,null,null,null,null,{"$f":"'Pick List'!$L$2","v":"Ext Retail"},null,null,"Therafit Vest w/Comfort Straps, Trim",null,null,null,null,null,{"$f":"'Pick List'!$L$2","v":"Ext Retail"},null,"Retail",null,null,"Used","Retail",null,null,"Used"]
[null,false,{"$f":"B307=81","v":false},null,null,null,null,null,null,null,null,null,null,null,null,null,{"$f":"IF(AB309=VESTINPUT,\"<<<\",IF(AF309=VESTINPUT,\">>>\",\"\"))","v":""},null,null,"Early Intervention, 30601",null,null,null,null,{"$f":"MAX($R309,1)*AH309","v":152},null,null,"99999",null,null,152,"30601",null,{"$f":"CHOOSE($K$2,AE309,$P$5*AE309,$P$6*AE309)","v":152},null,null,{"$f":"IF(AM309=0,AK306,AK306+1)","v":0},{"$f":"\"\"","v":""},{"$f":"IF($C309,\"30601\",0)","v":0},{"$f":"IF($C309,MAX(1,$R309),0)","v":0},{"$f":"\"Vest: \"&IF($C309,\"Therafit w/Comfort Straps, Trim - Early Intervention\",\"\")","v":"Vest: "},{"$f":"IF($C309,$Y309,0)","v":0},null,"E0960"]
[null,{"$f":"B307=63","v":false},{"$f":"B307=82","v":false},null,null,{"$f":"COUNTIF(B309:C372,TRUE)","v":0},null,null,null,null,null,"Small, 30589",null,null,null,{"$f":"MAX($J310,1)*$AD310","v":150},"",null,null,"Small, 30618",null,null,null," ",152,null,150,"30589",null,{"$f":"CHOOSE($K$2,AA310,$P$5*AA310,$P$6*AA310)","v":150},152,"30618",null,152,null,null,{"$f":"IF(AM310=0,AK309,AK309+1)","v":0},{"$f":"\"\"","v":""},{"$f":"IF($B310,\"30589\",IF($C310,\"30618\",0))","v":0},{"$f":"IF($B310,MAX(1,$J310),0)+IF($C310,MAX(1,$R310),0)","v":0},{"$f":"\"Vest: \"&IF($B310,\"Therafit w/Comfort Straps, Full - Small\",\"\")&IF($C310,\"Therafit w/Comfort Straps, Trim - Small\",\"\")","v":"Vest: "},{"$f":"IF($B310,$P310,0)+IF($C310,$Y310,0)","v":0},null,"E0960"]
[null,{"$f":"B307=64","v":false},{"$f":"B307=67","v":false},null,null,null,null,null,null,null,null,"Medium, 30590",null,null,null,{"$f":"MAX($J311,1)*$AD311","v":150},"",null,null,"Medium, 30619",null,null,null,null,152,null,150,"30590",null,{"$f":"CHOOSE($K$2,AA311,$P$5*AA311,$P$6*AA311)","v":150},152,"30619",null,152,null,null,0,{"$f":"\"\"","v":""},{"$f":"IF($B311,\"30590\",IF($C311,\"30619\",0))","v":0},{"$f":"IF($B311,MAX(1,$J311),0)+IF($C311,MAX(1,$R311),0)","v":0},{"$f":"\"Vest: \"&IF($B311,\"Therafit w/Comfort Straps, Full - Medium\",\"\")&IF($C311,\"Therafit w/Comfort Straps, Trim - Medium\",\"\")","v":"Vest: "},{"$f":"IF($B311,$P311,0)+IF($C311,$Y311,0)","v":0},null,"E0960"]
[null,{"$f":"B307=65","v":false},{"$f":"B307=68","v":false},null,null,null,null,null,null,null,null,"Large, 30591",null,null,null,{"$f":"MAX($J312,1)*$AD312","v":150},"",null,null,"Large, 30620",null,null,null,null,152,null,150,"30591",null,{"$f":"CHOOSE($K$2,AA312,$P$5*AA312,$P$6*AA312)","v":150},152,"30620",null,152,null,null,0,{"$f":"\"\"","v":""},{"$f":"IF($B312,\"30591\",IF($C312,\"30620\",0))","v":0},{"$f":"IF($B312,MAX(1,$J312),0)+IF($C312,MAX(1,$R312),0)","v":0},{"$f":"\"Vest: \"&IF($B312,\"Therafit w/Comfort Straps, Full - Large\",\"\")&IF($C312,\"Therafit w/Comfort Straps, Trim - Large\",\"\")","v":"Vest: "},{"$f":"IF($B312,$P312,0)+IF($C312,$Y312,0)","v":0},null,"E0960"]
[null,{"$f":"B307=66","v":false},{"$f":"B307=69","v":false},null,null,null,null,null,null,null,null,"X-Large, 30592",null,null,null,{"$f":"MAX($J313,1)*$AD313","v":150},"",null,null,"X-Large, 30621",null,null,null,null,157,null,150,"30592",null,{"$f":"CHOOSE($K$2,AA313,$P$5*AA313,$P$6*AA313)","v":150},157,"30621",null,157,null,null,0,{"$f":"\"\"","v":""},{"$f":"IF($B313,\"30592\",IF($C313,\"30621\",0))","v":0},{"$f":"IF($B313,MAX(1,$J313),0)+IF($C313,MAX(1,$R313),0)","v":0},{"$f":"\"Vest: \"&IF($B313,\"Therafit w/Comfort Straps, Full - X-Large\",\"\")&IF($C313,\"Therafit w/Comfort Straps, Trim - X-Large\",\"\")","v":"Vest: "},{"$f":"IF($B313,$P313,0)+IF($C313,$Y313,0)","v":0},null,"E0960"]
[null,{"$f":"B307=70","v":false},{"$f":"B307=71","v":false},null,null,null,null,null,null,null,null,"XX-Large, 30593",null,null,null,{"$f":"MAX($J314,1)*$AD314","v":157},"",null,null,"XX-Large, 30622",null,null,null,null,157,null,157,"30593",null,{"$f":"CHOOSE($K$2,AA314,$P$5*AA314,$P$6*AA314)","v":157},157,"30622",null,157,null,null,0,{"$f":"\"\"","v":""},{"$f":"IF($B314,\"30593\",IF($C314,\"30622\",0))","v":0},{"$f":"IF($B314,MAX(1,$J314),0)+IF($C314,MAX(1,$R314),0)","v":0},{"$f":"\"Vest: \"&IF($B314,\"Therafit w/Comfort Straps, Full - XX-Large\",\"\")&IF($C314,\"Therafit w/Comfort Straps, Trim - XX-Large\",\"\")","v":"Vest: "},{"$f":"IF($B314,$P314,0)+IF($C314,$Y314,0)","v":0},null,"E0960"]
[null,null,null,null,null,null,null,null,null,"Therafit Vest w/Extended Straps, Full",null,null,null,null,null,null,null,null,"Therafit Vest w/Extended Straps, Trim",null,null,null,null,null,null,null,"Retail",null,null,"Used","Retail",null,null,"Used",null,null,0]
[null,false,{"$f":"B307=83","v":false},null,null,null,null,null,null,null,null,null,null,null,null,null,{"$f":"IF(AB316=VESTINPUT,\"<<<\",IF(AF316=VESTINPUT,\">>>\",\"\"))","v":""},null,null,"Early Intervention, 30603",null,null,null,null,{"$f":"MAX($R316,1)*AH316","v":152},null,null,"99999",null,null,152,"30603",null,{"$f":"CHOOSE($K$2,AE316,$P$5*AE316,$P$6*AE316)","v":152},null,null,0,null,{"$f":"IF($C316,\"30603\",0)","v":0},{"$f":"IF($C316,MAX(1,$R316),0)","v":0},{"$f":"\"Vest: \"&IF($C316,\"Therafit w/Extended Straps, Trim - Early Intervention\",\"\")","v":"Vest: "},{"$f":"IF($C316,$Y316,0)","v":0},null,"E0960"]
[null,{"$f":"B307=72","v":false},{"$f":"B307=84","v":false},null,null,null,null,null,null,null,null,"Small, 30594",null,null,null,{"$f":"MAX($J317,1)*$AD317","v":150},"",null,null,"Small, 30604",null,null,null," ",152,null,150,30594,null,{"$f":"CHOOSE($K$2,AA317,$P$5*AA317,$P$6*AA317)","v":150},152,"30604",null,152,null,null,0,{"$f":"\"\"","v":""},{"$f":"IF($B317,\"30594\",IF($C317,\"30604\",0))","v":0},{"$f":"IF($B317,MAX(1,$J317),0)+IF($C317,MAX(1,$R317),0)","v":0},{"$f":"\"Vest: \"&IF($B317,\"Therafit w/Extended Straps, Full - Small\",\"\")&IF($C317,\"Therafit w/Extended Straps, Trim - Small\",\"\")","v":"Vest: "},{"$f":"IF($B317,$P317,0)+IF($C317,$Y317,0)","v":0},null,"E0960"]
[null,{"$f":"B307=73","v":false},{"$f":"B307=76","v":false},null,null,null,null,null,null,null,null,"Medium, 30595",null,null,null,{"$f":"MAX($J318,1)*$AD318","v":150},"",null,null,"Medium, 30624",null,null,null,null,152,null,150,30595,null,{"$f":"CHOOSE($K$2,AA318,$P$5*AA318,$P$6*AA318)","v":150},152,"30624",null,152,null,null,0,{"$f":"\"\"","v":""},{"$f":"IF($B318,\"30595\",IF($C318,\"30624\",0))","v":0},{"$f":"IF($B318,MAX(1,$J318),0)+IF($C318,MAX(1,$R318),0)","v":0},{"$f":"\"Vest: \"&IF($B318,\"Therafit w/Extended Straps, Full - Medium\",\"\")&IF($C318,\"Therafit w/Extended Straps, Trim - Medium\",\"\")","v":"Vest: "},{"$f":"IF($B318,$P318,0)+IF($C318,$Y318,0)","v":0},null,"E0960"]
[null,{"$f":"B307=74","v":false},{"$f":"B307=77","v":false},null,null,null,null,null,null,null,null,"Large, 30596",null,null,null,{"$f":"MAX($J319,1)*$AD319","v":150},"",null,null,"Large, 30625",null,null,null,null,152,null,150,30596,null,{"$f":"CHOOSE($K$2,AA319,$P$5*AA319,$P$6*AA319)","v":150},152,"30625",null,152,null,null,0,{"$f":"\"\"","v":""},{"$f":"IF($B319,\"30596\",IF($C319,\"30625\",0))","v":0},{"$f":"IF($B319,MAX(1,$J319),0)+IF($C319,MAX(1,$R319),0)","v":0},{"$f":"\"Vest: \"&IF($B319,\"Therafit w/Extended Straps, Full - Large\",\"\")&IF($C319,\"Therafit w/Extended Straps, Trim - Large\",\"\")","v":"Vest: "},{"$f":"IF($B319,$P319,0)+IF($C319,$Y319,0)","v":0},null,"E0960"]
[null,{"$f":"B307=75","v":false},{"$f":"B307=78","v":false},null,null,null,null,null,null,null,null,"X-Large, 30597",null,null,null,{"$f":"MAX($J320,1)*$AD320","v":157},"",null,null,"X-Large, 30626",null,null,null,null,152,null,157,30597,null,{"$f":"CHOOSE($K$2,AA320,$P$5*AA320,$P$6*AA320)","v":157},152,"30626",null,152,null,null,0,{"$f":"\"\"","v":""},{"$f":"IF($B320,\"30597\",IF($C320,\"30626\",0))","v":0},{"$f":"IF($B320,MAX(1,$J320),0)+IF($C320,MAX(1,$R320),0)","v":0},{"$f":"\"Vest: \"&IF($B320,\"Therafit w/Extended Straps, Full - X-Large\",\"\")&IF($C320,\"Therafit w/Extended Straps, Trim - X-Large\",\"\")","v":"Vest: "},{"$f":"IF($B320,$P320,0)+IF($C320,$Y320,0)","v":0},null,"E0960"]
[null,{"$f":"B307=79","v":false},{"$f":"B307=80","v":false},null,null,null,null,null,null,null,null,"XX-Large, 30598",null,null,null,{"$f":"MAX($J321,1)*$AD321","v":157},"",null,null,"XX-Large, 30627",null,null,null,null,157,null,157,30598,null,{"$f":"CHOOSE($K$2,AA321,$P$5*AA321,$P$6*AA321)","v":157},157,"30627",null,157,null,null,0,{"$f":"\"\"","v":""},{"$f":"IF($B321,\"30598\",IF($C321,\"30627\",0))","v":0},{"$f":"IF($B321,MAX(1,$J321),0)+IF($C321,MAX(1,$R321),0)","v":0},{"$f":"\"Vest: \"&IF($B321,\"Therafit w/Extended Straps, Full - XX-Large\",\"\")&IF($C321,\"Therafit w/Extended Straps, Trim - XX-Large\",\"\")","v":"Vest: "},{"$f":"IF($B321,$P321,0)+IF($C321,$Y321,0)","v":0},null,"E0960"]
[null,null,null,null,null,null,null,null,null,"Male Stretch, Comfort Straps",null,null,null,null,null,null,null,null,"Female Stretch, Comfort Straps",null,null,null,null,null,null,null,"Retail",null,null,"Used","Retail",null,null,"Used",null,null,0]
[null,{"$f":"B307=2","v":false},false,null,null,null,null,null,null,null,null,"X-Small, 30402P",null,null,null,{"$f":"MAX($J323,1)*$AD323","v":130},{"$f":"IF(AB323=VESTINPUT,\"<<<\",\"\")","v":""},null,null,null,null,null,null," ",null,null,130,"30402P",null,{"$f":"CHOOSE($K$2,AA323,$P$5*AA323,$P$6*AA323)","v":130},null,"99999",null,null,null,null,0,{"$f":"\"\"","v":""},{"$f":"IF($B323,\"30402P\",0)","v":0},{"$f":"IF($B323,MAX(1,$J323),0)","v":0},{"$f":"\"Vest: \"&IF($B323,\"Male stretch comfort strap, X-Small\",\"\")","v":"Vest: "},{"$f":"IF($B323,$P323,0)","v":0},null,"E0960"]
[null,{"$f":"B307=3","v":false},{"$f":"B307=7","v":false},null,null,null,null,null,null,null,null,"Small, 30402S",null,null,null,{"$f":"MAX($J324,1)*$AD324","v":130},{"$f":"IF(AB324=VESTINPUT,\"<<<\",IF(AF324=VESTINPUT,\">>>\",\"\"))","v":""},null,null,"Small, 31497S",null,null,null,null,{"$f":"MAX($R324,1)*AH324","v":130},null,130,"30402S",null,{"$f":"CHOOSE($K$2,AA324,$P$5*AA324,$P$6*AA324)","v":130},130,"31497S",null,{"$f":"CHOOSE($K$2,AE324,$P$5*AE324,$P$6*AE324)","v":130},null,null,0,{"$f":"\"\"","v":""},{"$f":"IF($B324,\"30402S\",IF($C324,\"31497S\",0))","v":0},{"$f":"IF($B324,MAX(1,$J324),0)+IF($C324,MAX(1,$R324),0)","v":0},{"$f":"\"Vest: \"&IF($B324,\"Male stretch comfort strap, Small\",\"\")&IF($C324,\"Female stretch comfort strap, Small\",\"\")","v":"Vest: "},{"$f":"IF($B324,$P324,0)+IF($C324,$Y324,0)","v":0},null,"E0960"]
[null,{"$f":"B307=4","v":false},{"$f":"B307=8","v":false},null,null,null,null,null,null,null,null,"Medium, 30402M",null,null,null,{"$f":"MAX($J325,1)*$AD325","v":130},{"$f":"IF(AB325=VESTINPUT,\"<<<\",IF(AF325=VESTINPUT,\">>>\",\"\"))","v":""},null,null,"Medium, 31497M",null,null,null,null,{"$f":"MAX($R325,1)*AH325","v":130},null,130,"30402M",null,{"$f":"CHOOSE($K$2,AA325,$P$5*AA325,$P$6*AA325)","v":130},130,"31497M",null,{"$f":"CHOOSE($K$2,AE325,$P$5*AE325,$P$6*AE325)","v":130},null,null,0,{"$f":"\"\"","v":""},{"$f":"IF($B325,\"30402M\",IF($C325,\"31497M\",0))","v":0},{"$f":"IF($B325,MAX(1,$J325),0)+IF($C325,MAX(1,$R325),0)","v":0},{"$f":"\"Vest: \"&IF($B325,\"Male stretch comfort strap, Medium\",\"\")&IF($C325,\"Female stretch comfort strap, Medium\",\"\")","v":"Vest: "},{"$f":"IF($B325,$P325,0)+IF($C325,$Y325,0)","v":0},null,"E0960"]
[null,{"$f":"B307=5","v":false},{"$f":"B307=9","v":false},null,null,null,null,null,null,null,null,"Large, 30402L",null,null,null,{"$f":"MAX($J326,1)*$AD326","v":130},{"$f":"IF(AB326=VESTINPUT,\"<<<\",IF(AF326=VESTINPUT,\">>>\",\"\"))","v":""},null,null,"Large, 31497L",null,null,null,null,{"$f":"MAX($R326,1)*AH326","v":130},null,130,"30402L",null,{"$f":"CHOOSE($K$2,AA326,$P$5*AA326,$P$6*AA326)","v":130},130,"31497L",null,{"$f":"CHOOSE($K$2,AE326,$P$5*AE326,$P$6*AE326)","v":130},null,null,0,{"$f":"\"\"","v":""},{"$f":"IF($B326,\"30402L\",IF($C326,\"31497L\",0))","v":0},{"$f":"IF($B326,MAX(1,$J326),0)+IF($C326,MAX(1,$R326),0)","v":0},{"$f":"\"Vest: \"&IF($B326,\"Male stretch comfort strap, Large\",\"\")&IF($C326,\"Female stretch comfort strap, Large\",\"\")","v":"Vest: "},{"$f":"IF($B326,$P326,0)+IF($C326,$Y326,0)","v":0},null,"E0960"]
[null,{"$f":"B307=6","v":false},false,null,null,null,null,null,null,null,null,"X-Large, 30402X",null,null,null,{"$f":"MAX($J327,1)*$AD327","v":130},{"$f":"IF(AB327=VESTINPUT,\"<<<\",\"\")","v":""},null,null,null,null,null,null," "," ",null,130,"30402X",null,{"$f":"CHOOSE($K$2,AA327,$P$5*AA327,$P$6*AA327)","v":130},null,"99999",null,null,null,null,0,{"$f":"\"\"","v":""},{"$f":"IF($B327,\"30402X\",0)","v":0},{"$f":"IF($B327,MAX(1,$J327),0)","v":0},{"$f":"\"Vest: \"&IF($B327,\"Male stretch comfort strap, X-Large\",\"\")","v":"Vest: "},{"$f":"IF($B327,$P327,0)","v":0},null,"E0960"]
[null,null,null,null,null,null,null,null,null,"Male Stretch, No-Sew Buckles",null,null,null,null,null,null,null,null,"Female Stretch, No-Sew Buckles",null,null,null,null,null,null,null,null,"Part nos. used in search function only",null,null,null,null,null,null,null,null,0,{"$f":"\"\"","v":""}]
[null,{"$f":"B307=10","v":false},{"$f":"B307=14","v":false},null,null,null,null,null,null,null,null,"Small, 30559",null,null,null,{"$f":"MAX($J329,1)*$AD329","v":130},{"$f":"IF(AB329=VESTINPUT,\"<<<\",IF(AF329=VESTINPUT,\">>>\",\"\"))","v":""},null,null,"Small, 30563",null,null,null,null,{"$f":"MAX($R329,1)*AH329","v":135},null,130,"30559",null,{"$f":"CHOOSE($K$2,AA329,$P$5*AA329,$P$6*AA329)","v":130},135,"30563",null,{"$f":"CHOOSE($K$2,AE329,$P$5*AE329,$P$6*AE329)","v":135},null,null,0,{"$f":"\"\"","v":""},{"$f":"IF($B329,\"30559\",IF($C329,\"30563\",0))","v":0},{"$f":"IF($B329,MAX(1,$J329),0)+IF($C329,MAX(1,$R329),0)","v":0},{"$f":"\"Vest: \"&IF($B329,\"Male stretch no-sew buckle, Small\",\"\")&IF($C329,\"Female stretch no sew buckle, Small\",\"\")","v":"Vest: "},{"$f":"IF($B329,$P329,0)+IF($C329,$Y329,0)","v":0},null,"E0960"]
[null,{"$f":"B307=11","v":false},{"$f":"B307=15","v":false},null,null,null,null,null,null,null,null,"Medium, 30560",null,null,null,{"$f":"MAX($J330,1)*$AD330","v":130},{"$f":"IF(AB330=VESTINPUT,\"<<<\",IF(AF330=VESTINPUT,\">>>\",\"\"))","v":""},null,null,"Medium, 30564",null,null,null,null,{"$f":"MAX($R330,1)*AH330","v":135},null,130,"30560",null,{"$f":"CHOOSE($K$2,AA330,$P$5*AA330,$P$6*AA330)","v":130},135,"30564",null,{"$f":"CHOOSE($K$2,AE330,$P$5*AE330,$P$6*AE330)","v":135},null,null,0,{"$f":"\"\"","v":""},{"$f":"IF($B330,\"30560\",IF($C330,\"30564\",0))","v":0},{"$f":"IF($B330,MAX(1,$J330),0)+IF($C330,MAX(1,$R330),0)","v":0},{"$f":"\"Vest: \"&IF($B330,\"Male stretch no-sew buckle, Medium\",\"\")&IF($C330,\"Female stretch no-sew buckle, Medium\",\"\")","v":"Vest: "},{"$f":"IF($B330,$P330,0)+IF($C330,$Y330,0)","v":0},null,"E0960"]
[null,{"$f":"B307=12","v":false},{"$f":"B307=16","v":false},null,null,null,null,null,null,null,null,"Large, 30561",null,null,null,{"$f":"MAX($J331,1)*$AD331","v":130},{"$f":"IF(AB331=VESTINPUT,\"<<<\",IF(AF331=VESTINPUT,\">>>\",\"\"))","v":""},null,null,"Large, 30565",null,null,null,null,{"$f":"MAX($R331,1)*AH331","v":135},null,130,"30561",null,{"$f":"CHOOSE($K$2,AA331,$P$5*AA331,$P$6*AA331)","v":130},135,"30565",null,{"$f":"CHOOSE($K$2,AE331,$P$5*AE331,$P$6*AE331)","v":135},null,null,0,{"$f":"\"\"","v":""},{"$f":"IF($B331,\"30561\",IF($C331,\"30565\",0))","v":0},{"$f":"IF($B331,MAX(1,$J331),0)+IF($C331,MAX(1,$R331),0)","v":0},{"$f":"\"Vest: \"&IF($B331,\"Male stretch no-sew buckle, Large\",\"\")&IF($C331,\"Female stretch no-sew buckle, Large\",\"\")","v":"Vest: "},{"$f":"IF($B331,$P331,0)+IF($C331,$Y331,0)","v":0},null,"E0960"]
[null,{"$f":"B307=13","v":false},false,null,null,null,null,null,null,null,null,"X-Large, 30562",null,null,null,{"$f":"MAX($J332,1)*$AD332","v":130},{"$f":"IF(AB332=VESTINPUT,\"<<<\",\"\")","v":""},null,null,null,null,null,null," "," ",null,130,"30562",null,{"$f":"CHOOSE($K$2,AA332,$P$5*AA332,$P$6*AA332)","v":130},null,"99999",null,null,null,null,0,{"$f":"\"\"","v":""},{"$f":"IF($B332,\"30562\",0)","v":0},{"$f":"IF($B332,MAX(1,$J332),0)","v":0},{"$f":"\"Vest: \"&IF($B332,\"Male stretch no-sew buckle, X-Large\",\"\")","v":"Vest: "},{"$f":"IF($B332,$P332,0)","v":0},null,"E0960"]
[null,null,null,null,null,null,null,null,null,"Male Stretch, Extended Straps",null,null,null,null,null,null,null,null,"Female Stretch, Extended Straps",null,null,null,null,null,null,null,null,null,null,null,null,null,null,null,null,null,0,{"$f":"\"\"","v":""}]
[null,{"$f":"B307=17","v":false},false,null,null,null,null,null,null,null,null,"X-Small, 30401P",null,null,null,{"$f":"MAX($J334,1)*$AD334","v":130},{"$f":"IF(AB334=VESTINPUT,\"<<<\",\"\")","v":""},null,null,null,null,null,null," "," ",null,130,"30401P",null,{"$f":"CHOOSE($K$2,AA334,$P$5*AA334,$P$6*AA334)","v":130},null,"99999",null,null,null,null,0,{"$f":"\"\"","v":""},{"$f":"IF($B334,\"30401P\",0)","v":0},{"$f":"IF($B334,MAX(1,$J334),0)","v":0},{"$f":"\"Vest: \"&IF($B334,\"Male stretch extended strap, X-Small\",\"\")","v":"Vest: "},{"$f":"IF($B334,$P334,0)","v":0},null,"E0960"]
[null,{"$f":"B307=18","v":false},{"$f":"B307=22","v":false},null,null,null,null,null,null,null,null,"Small, 30401S",null,null,null,{"$f":"MAX($J335,1)*$AD335","v":130},{"$f":"IF(AB335=VESTINPUT,\"<<<\",IF(AF335=VESTINPUT,\">>>\",\"\"))","v":""},null,null,"Small, 30457",null,null,null,null,{"$f":"MAX($R335,1)*AH335","v":130},null,130,"30401S",null,{"$f":"CHOOSE($K$2,AA335,$P$5*AA335,$P$6*AA335)","v":130},130,"30457",null,{"$f":"CHOOSE($K$2,AE335,$P$5*AE335,$P$6*AE335)","v":130},null,null,0,{"$f":"\"\"","v":""},{"$f":"IF($B335,\"30401S\",IF($C335,\"30457\",0))","v":0},{"$f":"IF($B335,MAX(1,$J335),0)+IF($C335,MAX(1,$R335),0)","v":0},{"$f":"\"Vest: \"&IF($B335,\"Male stretch extended strap, Small\",\"\")&IF($C335,\"Female stretch extended strap, Small\",\"\")","v":"Vest: "},{"$f":"IF($B335,$P335,0)+IF($C335,$Y335,0)","v":0},null,"E0960"]
[null,{"$f":"B307=19","v":false},{"$f":"B307=23","v":false},null,null,null,null,null,null,null,null,"Medium, 30401M",null,null,null,{"$f":"MAX($J336,1)*$AD336","v":130},{"$f":"IF(AB336=VESTINPUT,\"<<<\",IF(AF336=VESTINPUT,\">>>\",\"\"))","v":""},null,null,"Medium, 30458",null,null,null,null,{"$f":"MAX($R336,1)*AH336","v":130},null,130,"30401M",null,{"$f":"CHOOSE($K$2,AA336,$P$5*AA336,$P$6*AA336)","v":130},130,"30458",null,{"$f":"CHOOSE($K$2,AE336,$P$5*AE336,$P$6*AE336)","v":130},null,null,0,{"$f":"\"\"","v":""},{"$f":"IF($B336,\"30401M\",IF($C336,\"30458\",0))","v":0},{"$f":"IF($B336,MAX(1,$J336),0)+IF($C336,MAX(1,$R336),0)","v":0},{"$f":"\"Vest: \"&IF($B336,\"Male stretch extended strap, Medium\",\"\")&IF($C336,\"Female stretch extended strap, Medium\",\"\")","v":"Vest: "},{"$f":"IF($B336,$P336,0)+IF($C336,$Y336,0)","v":0},null,"E0960"]
[null,{"$f":"B307=20","v":false},{"$f":"B307=24","v":false},null,null,null,null,null,null,null,null,"Large, 30401L",null,null,null,{"$f":"MAX($J337,1)*$AD337","v":130},{"$f":"IF(AB337=VESTINPUT,\"<<<\",IF(AF337=VESTINPUT,\">>>\",\"\"))","v":""},null,null,"Large, 30459",null,null,null,null,{"$f":"MAX($R337,1)*AH337","v":130},null,130,"30401L",null,{"$f":"CHOOSE($K$2,AA337,$P$5*AA337,$P$6*AA337)","v":130},130,"30459",null,{"$f":"CHOOSE($K$2,AE337,$P$5*AE337,$P$6*AE337)","v":130},null,null,0,{"$f":"\"\"","v":""},{"$f":"IF($B337,\"30401L\",IF($C337,\"30459\",0))","v":0},{"$f":"IF($B337,MAX(1,$J337),0)+IF($C337,MAX(1,$R337),0)","v":0},{"$f":"\"Vest: \"&IF($B337,\"Male stretch extended strap, Large\",\"\")&IF($C337,\"Female stretch extended strap, Large\",\"\")","v":"Vest: "},{"$f":"IF($B337,$P337,0)+IF($C337,$Y337,0)","v":0},null,"E0960"]
[null,{"$f":"B307=21","v":false},false,null,null,null,null,null,null,null,null,"X-Large, 30401X",null,null,null,{"$f":"MAX($J338,1)*$AD338","v":130},{"$f":"IF(AB338=VESTINPUT,\"<<<\",\"\")","v":""},null,null,null,null,null,null," "," ",null,130,"30401X",null,{"$f":"CHOOSE($K$2,AA338,$P$5*AA338,$P$6*AA338)","v":130},null,"99999",null,null,null,null,0,{"$f":"\"\"","v":""},{"$f":"IF($B338,\"30401X\",0)","v":0},{"$f":"IF($B338,MAX(1,$J338),0)","v":0},{"$f":"\"Vest: \"&IF($B338,\"Male stretch extended strap, X-Large\",\"\")","v":"Vest: "},{"$f":"IF($B338,$P338,0)","v":0},null,"E0960"]
[{"$f":"B307","v":1},null,null,null,null,null,null,null,null,"Male Stretch, Fixed Straps",null,null,null,null,null,null,null,null,"Female Stretch, Fixed Straps",null,null,null,null,null,null,null,null,null,null,null,null,null,null,null,null,null,0,{"$f":"\"\"","v":""}]
[null,{"$f":"B307=55","v":false},false,null,null,null,null,null,null,null,null,"X-Small, 30412",null,null,null,{"$f":"MAX($J340,1)*$AD340","v":135},{"$f":"IF(AB340=VESTINPUT,\"<<<\",\"\")","v":""},null,null,null,null,null,null," "," ",null,135,"30412",null,{"$f":"CHOOSE($K$2,AA340,$P$5*AA340,$P$6*AA340)","v":135},null,"99999",null,null,null,null,0,{"$f":"\"\"","v":""},{"$f":"IF($B340,\"30412\",0)","v":0},{"$f":"IF($B340,MAX(1,$J340),0)","v":0},{"$f":"\"Vest: \"&IF($B340,\"Male stretch fixed strap, X-Small\",\"\")","v":"Vest: "},{"$f":"IF($B340,$P340,0)","v":0},null,"E0960"]
[null,{"$f":"B307=56","v":false},{"$f":"B307=60","v":false},null,null,null,null,null,null,null,null,"Small, 30413",null,null,null,{"$f":"MAX($J341,1)*$AD341","v":135},{"$f":"IF(AB341=VESTINPUT,\"<<<\",IF(AF341=VESTINPUT,\">>>\",\"\"))","v":""},null,null,"Small, 30417",null,null,null,null,{"$f":"MAX($R341,1)*AH341","v":135},null,135,"30413",null,{"$f":"CHOOSE($K$2,AA341,$P$5*AA341,$P$6*AA341)","v":135},135,"30417",null,{"$f":"CHOOSE($K$2,AE341,$P$5*AE341,$P$6*AE341)","v":135},null,null,0,{"$f":"\"\"","v":""},{"$f":"IF($B341,\"30413\",IF($C341,\"30417\",0))","v":0},{"$f":"IF($B341,MAX(1,$J341),0)+IF($C341,MAX(1,$R341),0)","v":0},{"$f":"\"Vest: \"&IF($B341,\"Male stretch fixed strap, Small\",\"\")&IF($C341,\"Female stretch fixed strap, Small\",\"\")","v":"Vest: "},{"$f":"IF($B341,$P341,0)+IF($C341,$Y341,0)","v":0},null,"E0960"]
[null,{"$f":"B307=57","v":false},{"$f":"B307=61","v":false},null,null,null,null,null,null,null,null,"Medium, 30414",null,null,null,{"$f":"MAX($J342,1)*$AD342","v":135},{"$f":"IF(AB342=VESTINPUT,\"<<<\",IF(AF342=VESTINPUT,\">>>\",\"\"))","v":""},null,null,"Medium, 30418",null,null,null,null,{"$f":"MAX($R342,1)*AH342","v":135},null,135,"30414",null,{"$f":"CHOOSE($K$2,AA342,$P$5*AA342,$P$6*AA342)","v":135},135,"30418",null,{"$f":"CHOOSE($K$2,AE342,$P$5*AE342,$P$6*AE342)","v":135},null,null,0,{"$f":"\"\"","v":""},{"$f":"IF($B342,\"30414\",IF($C342,\"30418\",0))","v":0},{"$f":"IF($B342,MAX(1,$J342),0)+IF($C342,MAX(1,$R342),0)","v":0},{"$f":"\"Vest: \"&IF($B342,\"Male stretch fixed strap, Medium\",\"\")&IF($C342,\"Female stretch fixed strap, Medium\",\"\")","v":"Vest: "},{"$f":"IF($B342,$P342,0)+IF($C342,$Y342,0)","v":0},null,"E0960"]
[null,{"$f":"B307=58","v":false},{"$f":"B307=62","v":false},null,null,null,null,null,null,null,null,"Large, 30415",null,null,null,{"$f":"MAX($J343,1)*$AD343","v":135},{"$f":"IF(AB343=VESTINPUT,\"<<<\",IF(AF343=VESTINPUT,\">>>\",\"\"))","v":""},null,null,"Large, 30419",null,null,null,null,{"$f":"MAX($R343,1)*AH343","v":135},null,135,"30415",null,{"$f":"CHOOSE($K$2,AA343,$P$5*AA343,$P$6*AA343)","v":135},135,"30419",null,{"$f":"CHOOSE($K$2,AE343,$P$5*AE343,$P$6*AE343)","v":135},null,null,0,{"$f":"\"\"","v":""},{"$f":"IF($B343,\"30415\",IF($C343,\"30419\",0))","v":0},{"$f":"IF($B343,MAX(1,$J343),0)+IF($C343,MAX(1,$R343),0)","v":0},{"$f":"\"Vest: \"&IF($B343,\"Male stretch fixed strap, Large\",\"\")&IF($C343,\"Female stretch fixed strap, Large\",\"\")","v":"Vest: "},{"$f":"IF($B343,$P343,0)+IF($C343,$Y343,0)","v":0},null,"E0960"]
[null,{"$f":"B307=59","v":false},false,null,null,null,null,null,null,null,null,"X-Large, 30416",null,null,null,{"$f":"MAX($J344,1)*$AD344","v":135},{"$f":"IF(AB344=VESTINPUT,\"<<<\",\"\")","v":""},null,null,null,null,null,null," "," ",null,135,"30416",null,{"$f":"CHOOSE($K$2,AA344,$P$5*AA344,$P$6*AA344)","v":135},null,"99999",null,null,null,null,0,{"$f":"\"\"","v":""},{"$f":"IF($B344,\"30416\",0)","v":0},{"$f":"IF($B344,MAX(1,$J344),0)","v":0},{"$f":"\"Vest: \"&IF($B344,\"Male stretch fixed strap, X-Large\",\"\")","v":"Vest: "},{"$f":"IF($B344,$P344,0)","v":0},null,"E0960"]
[null,null,null,null,null,null,null,null,null,"Male Stretch w/ Zipper",null,null,null,null,null,null,null,null,"Female Stretch w/ Zipper",null,null,null,null,null,null,null,null,null,null,null,null,null,null,null,null,null,0,{"$f":"\"\"","v":""}]
[null,{"$f":"B307=25","v":false},{"$f":"B307=31","v":false},null,null,null,null,null,null,null,null,"Zip Up Sm, 30420",null,null,null,{"$f":"MAX($J346,1)*$AD346","v":149},{"$f":"IF(AB346=VESTINPUT,\"<<<\",IF(AF346=VESTINPUT,\">>>\",\"\"))","v":""},null,null,"Zip Up Small, 30423",null,null,null,null,{"$f":"MAX($R346,1)*AH346","v":149},null,149,"30420",null,{"$f":"CHOOSE($K$2,AA346,$P$5*AA346,$P$6*AA346)","v":149},149,"30423",null,{"$f":"CHOOSE($K$2,AE346,$P$5*AE346,$P$6*AE346)","v":149},null,null,0,{"$f":"\"\"","v":""},{"$f":"IF($B346,\"30420\",IF($C346,\"30423\",0))","v":0},{"$f":"IF($B346,MAX(1,$J346),0)+IF($C346,MAX(1,$R346),0)","v":0},{"$f":"\"Vest: \"&IF($B346,\"Male stretch zip up, Small\",\"\")&IF($C346,\"Female stretch zip up, Junior\",\"\")","v":"Vest: "},{"$f":"IF($B346,$P346,0)+IF($C346,$Y346,0)","v":0},null,"E0960"]
[null,{"$f":"B307=26","v":false},{"$f":"B307=32","v":false},null,null,null,null,null,null,null,null,"Zip Up Med, 30421",null,null,null,149,"",null,null,"Zip Up Medium, 30424",null,null,null,null,149,null,149,"30421",null,149,149,"30424",null,149,null,null,0,{"$f":"\"\"","v":""},{"$f":"IF($B347,\"30421\",IF($C347,\"30424\",0))","v":0},0,{"$f":"\"Vest: \"&IF($B347,\"Male stretch zip up, Medium\",\"\")&IF($C347,\"Female stretch zip up, Miss\",\"\")","v":"Vest: "},0,null,"E0960"]
[null,{"$f":"B307=27","v":false},{"$f":"B307=33","v":false},null,null,null,null,null,null,null,null,"Zip Up Lg, 30422",null,null,null,149,"",null,null,"Zip Up Large, 30425",null,null,null,null,149,null,149,"30422",null,149,149,"30425",null,149,null,null,0,{"$f":"\"\"","v":""},{"$f":"IF($B348,\"30422\",IF($C348,\"30425\",0))","v":0},0,{"$f":"\"Vest: \"&IF($B348,\"Male stretch zip up, Large\",\"\")&IF($C348,\"Female stretch zip up, Plus\",\"\")","v":"Vest: "},0,null,"E0960"]
[null,{"$f":"B307=28","v":false},{"$f":"B307=34","v":false},null,null,null,null,null,null,null,null,"Zip Dn Sm, 30426",null,null,null,149,"",null,null,"Zip Down Small, 30429",null,null,null,null,149,null,149,"30426",null,149,149,"30429",null,149,null,null,0,{"$f":"\"\"","v":""},{"$f":"IF($B349,\"30426\",IF($C349,\"30429\",0))","v":0},0,{"$f":"\"Vest: \"&IF($B349,\"Male stretch zip down, Small\",\"\")&IF($C349,\"Female stretch zip down, Junior\",\"\")","v":"Vest: "},0,null,"E0960"]
[null,{"$f":"B307=29","v":false},{"$f":"B307=35","v":false},null,null,null,null,null,null,null,null,"Zip Dn Med, 30427",null,null,null,149,"",null,null,"Zip Down Medium, 30430",null,null,null,null,149,null,149,"30427",null,149,149,"30430",null,149,null,null,0,{"$f":"\"\"","v":""},{"$f":"IF($B350,\"30427\",IF($C350,\"30430\",0))","v":0},0,{"$f":"\"Vest: \"&IF($B350,\"Male stretch zip down, Medium\",\"\")&IF($C350,\"Female stretch zip down, Miss\",\"\")","v":"Vest: "},0,null,"E0960"]
[null,{"$f":"B307=30","v":false},{"$f":"B307=36","v":false},null,null,null,null,null,null,null,null,"Zip Dn Lg, 30428",null,null,null,149,"",null,null,"Zip Down Large, 30431",null,null,null,null,149,null,149,"30428",null,149,149,"30431",null,149,null,null,0,{"$f":"\"\"","v":""},{"$f":"IF($B351,\"30428\",IF($C351,\"30431\",0))","v":0},0,{"$f":"\"Vest: \"&IF($B351,\"Male stretch  zip down, Large\",\"\")&IF($C351,\"Female stretch zip down, Plus\",\"\")","v":"Vest: "},0,null,"E0960"]
[null,null,null,null,null,null,null,null,null,null,null,null,null,null,null,null,null,null,null,null,null,null,null," "," ",null,null,null,null,null,null,null,null,null,null,null,0,{"$f":"\"\"","v":""}]
[null,null,null,null,null,null,null,null,null,"Male Non-Stretch, No-Sew Buckles",null,null,null,null,null,null,null,null,"Female Non-Stretch w/ No-Sew Buckle",null,null,null,null,null,null,null,null,null,null,null,null,null,null,null,null,null,0,{"$f":"\"\"","v":""},null," "]
[null,false,false,null,null,null,null,null,null,null,null,null,null,null,null,null,null,null,null,null,null,null,null," "," ",null,null,null,null,null,null,null,null,null,null,null,0,{"$f":"\"\"","v":""},{"$f":"IF($B354,\"30506\",0)","v":0},{"$f":"IF($B354,MAX(1,$J354),0)","v":0},{"$f":"\"Vest: \"&IF($B354,\"Male non-stretch w/no sew buckle, X-Small\",\"\")","v":"Vest: "},{"$f":"IF($B354,$P354,0)","v":0},null,"E0960"]
[null,{"$f":"B307=37","v":false},{"$f":"B307=41","v":false},null,null,null,null,null,null,null,null,"Small, 30479",null,null,null,{"$f":"MAX($J355,1)*$AD355","v":155},{"$f":"IF(AB355=VESTINPUT,\"<<<\",IF(AF355=VESTINPUT,\">>>\",\"\"))","v":""},null,null,"Small, 30482",null,null,null,null,{"$f":"MAX($R355,1)*AH355","v":155},null,155,"30479",null,{"$f":"CHOOSE($K$2,AA355,$P$5*AA355,$P$6*AA355)","v":155},155,"30482",null,{"$f":"CHOOSE($K$2,AE355,$P$5*AE355,$P$6*AE355)","v":155},null,null,0,{"$f":"\"\"","v":""},{"$f":"IF($B355,\"30479\",IF($C355,\"30482\",0))","v":0},{"$f":"IF($B355,MAX(1,$J355),0)+IF($C355,MAX(1,$R355),0)","v":0},{"$f":"\"Vest: \"&IF($B355,\"Male non-stretch w/no sew buckle, Small\",\"\")&IF($C355,\"Female non-stretch w/no sew buckle, Small\",\"\")","v":"Vest: "},{"$f":"IF($B355,$P355,0)+IF($C355,$Y355,0)","v":0},null,"E0960"]
[null,{"$f":"B307=38","v":false},{"$f":"B307=42","v":false},null,null,null,null,null,null,null,null,"Medium, 30480",null,null,null,{"$f":"MAX($J356,1)*$AD356","v":155},{"$f":"IF(AB356=VESTINPUT,\"<<<\",IF(AF356=VESTINPUT,\">>>\",\"\"))","v":""},null,null,"Medium, 30483",null,null,null,null,{"$f":"MAX($R356,1)*AH356","v":155},null,155,"30480",null,{"$f":"CHOOSE($K$2,AA356,$P$5*AA356,$P$6*AA356)","v":155},155,"30483",null,{"$f":"CHOOSE($K$2,AE356,$P$5*AE356,$P$6*AE356)","v":155},null,null,0,{"$f":"\"\"","v":""},{"$f":"IF($B356,\"30480\",IF($C356,\"30483\",0))","v":0},{"$f":"IF($B356,MAX(1,$J356),0)+IF($C356,MAX(1,$R356),0)","v":0},{"$f":"\"Vest: \"&IF($B356,\"Male non-stretch w/no sew buckle, Medium\",\"\")&IF($C356,\"Female non-stretch w/no sew buckle, Medium\",\"\")","v":"Vest: "},{"$f":"IF($B356,$P356,0)+IF($C356,$Y356,0)","v":0},null,"E0960"]
[null,{"$f":"B307=39","v":false},{"$f":"B307=43","v":false},null,null,null,null,null,null,null,null,"Large, 30481",null,null,null,{"$f":"MAX($J357,1)*$AD357","v":155},{"$f":"IF(AB357=VESTINPUT,\"<<<\",IF(AF357=VESTINPUT,\">>>\",\"\"))","v":""},null,null,"Large, 30484",null,null,null,null,{"$f":"MAX($R357,1)*AH357","v":155},null,155,"30481",null,{"$f":"CHOOSE($K$2,AA357,$P$5*AA357,$P$6*AA357)","v":155},155,"30484",null,{"$f":"CHOOSE($K$2,AE357,$P$5*AE357,$P$6*AE357)","v":155},null,null,0,{"$f":"\"\"","v":""},{"$f":"IF($B357,\"30481\",IF($C357,\"30484\",0))","v":0},{"$f":"IF($B357,MAX(1,$J357),0)+IF($C357,MAX(1,$R357),0)","v":0},{"$f":"\"Vest: \"&IF($B357,\"Male non-stretch w/no sew buckle, Large\",\"\")&IF($C357,\"Female non-stretch w/no sew buckle, Large\",\"\")","v":"Vest: "},{"$f":"IF($B357,$P357,0)+IF($C357,$Y357,0)","v":0},null,"E0960"]
[null,{"$f":"B307=40","v":false},false,null,null,null,null,null,null,null,null,"X-Large, 30507",null,null,null,{"$f":"MAX($J358,1)*$AD358","v":155},{"$f":"IF(AB358=VESTINPUT,\"<<<\",\"\")","v":""},null,null,null,null,null,null," "," ",null,155,"30507",null,{"$f":"CHOOSE($K$2,AA358,$P$5*AA358,$P$6*AA358)","v":155},null,"99999",null,null,null,null,0,{"$f":"\"\"","v":""},{"$f":"IF($B358,\"30507\",0)","v":0},{"$f":"IF($B358,MAX(1,$J358),0)","v":0},{"$f":"\"Vest: \"&IF($B358,\"Male non-stretch w/no sew buckle, X-Large\",\"\")&IF($C358,\"Female non-stretch\",\"\")","v":"Vest: "},{"$f":"IF($B358,$P358,0)","v":0},null,"E0960"]
[null,null,null,null,null,null,null,null,null,"Male Non-Stretch Extended Strap",null,null,null,null,null,null,null,null,"Female Non-Stretch Extended Strap",null,null,null,null,null,null,null,null,null,null,null,null,null,null,null,null,null,0,{"$f":"\"\"","v":""}]
[null,{"$f":"B307=44","v":false},false,null,null,null,null,null,null,null,null,"X-Small, 51044",null,null,null,{"$f":"MAX($J360,1)*$AD360","v":155},{"$f":"IF(AB360=VESTINPUT,\"<<<\",\"\")","v":""},null,null,null,null,null,null,null,null,null,155,"51044",null,{"$f":"CHOOSE($K$2,AA360,$P$5*AA360,$P$6*AA360)","v":155},null,"99999",null,null,null,null,0,{"$f":"\"\"","v":""},{"$f":"IF($B360,\"51044\",0)","v":0},{"$f":"IF($B360,MAX(1,$J360),0)","v":0},{"$f":"\"Vest: \"&IF($B360,\"Male non-stretch extended strap, X-Small\",\"\")","v":"Vest: "},{"$f":"IF($B360,$P360,0)","v":0},null,"E0960"]
[null,{"$f":"B307=45","v":false},{"$f":"B307=49","v":false},null,null,null,null,null,null,null,null,"Small, 51045",null,null,null,{"$f":"MAX($J361,1)*$AD361","v":155},{"$f":"IF(AB361=VESTINPUT,\"<<<\",IF(AF361=VESTINPUT,\">>>\",\"\"))","v":""},null,null,"Small, 51049",null,null,null,null,{"$f":"MAX($R361,1)*AH361","v":155},null,155,"51045",null,{"$f":"CHOOSE($K$2,AA361,$P$5*AA361,$P$6*AA361)","v":155},155,"51049",null,{"$f":"CHOOSE($K$2,AE361,$P$5*AE361,$P$6*AE361)","v":155},null,null,0,{"$f":"\"\"","v":""},{"$f":"IF($B361,\"51045\",IF($C361,\"51049\",0))","v":0},{"$f":"IF($B361,MAX(1,$J361),0)+IF($C361,MAX(1,$R361),0)","v":0},{"$f":"\"Vest: \"&IF($B361,\"Male non-stretch extended strap, Small\",\"\")&IF($C361,\"Female non-stretch extended strap, Small \",\"\")","v":"Vest: "},{"$f":"IF($B361,$P361,0)+IF($C361,$Y361,0)","v":0},null,"E0960"]
[null,{"$f":"B307=46","v":false},{"$f":"B307=50","v":false},null,null,null,null,null,null,null,null,"Medium, 51046",null,null,null,{"$f":"MAX($J362,1)*$AD362","v":155},{"$f":"IF(AB362=VESTINPUT,\"<<<\",IF(AF362=VESTINPUT,\">>>\",\"\"))","v":""},null,null,"Medium, 51050",null,null,null,null,{"$f":"MAX($R362,1)*AH362","v":155},null,155,"51046",null,{"$f":"CHOOSE($K$2,AA362,$P$5*AA362,$P$6*AA362)","v":155},155,"51050",null,{"$f":"CHOOSE($K$2,AE362,$P$5*AE362,$P$6*AE362)","v":155},null,null,0,{"$f":"\"\"","v":""},{"$f":"IF($B362,\"51046\",IF($C362,\"51050\",0))","v":0},{"$f":"IF($B362,MAX(1,$J362),0)+IF($C362,MAX(1,$R362),0)","v":0},{"$f":"\"Vest: \"&IF($B362,\"Male non-stretch extended strap, Medium\",\"\")&IF($C362,\"Female non-stretch extended strap, Medium\",\"\")","v":"Vest: "},{"$f":"IF($B362,$P362,0)+IF($C362,$Y362,0)","v":0},null,"E0960"]
[null,{"$f":"B307=47","v":false},{"$f":"B307=51","v":false},null,null,null,null,null,null,null,null,"Large, 51047",null,null,null,{"$f":"MAX($J363,1)*$AD363","v":155},{"$f":"IF(AB363=VESTINPUT,\"<<<\",IF(AF363=VESTINPUT,\">>>\",\"\"))","v":""},null,null,"Large, 51051",null,null,null,null,{"$f":"MAX($R363,1)*AH363","v":155},null,155,"51047",null,{"$f":"CHOOSE($K$2,AA363,$P$5*AA363,$P$6*AA363)","v":155},155,"51051",null,{"$f":"CHOOSE($K$2,AE363,$P$5*AE363,$P$6*AE363)","v":155},null,null,0,{"$f":"\"\"","v":""},{"$f":"IF($B363,\"51047\",IF($C363,\"51051\",0))","v":0},{"$f":"IF($B363,MAX(1,$J363),0)+IF($C363,MAX(1,$R363),0)","v":0},{"$f":"\"Vest: \"&IF($B363,\"Male non-stretch extended strap, Large\",\"\")&IF($C363,\"Female non-stretch extended strap, Large\",\"\")","v":"Vest: "},{"$f":"IF($B363,$P363,0)+IF($C363,$Y363,0)","v":0},null,"E0960"]
[null,{"$f":"B307=48","v":false},false,null,null,null,null,null,null,null,null,"X-Large, 51048",null,null,null,{"$f":"MAX($J364,1)*$AD364","v":155},{"$f":"IF(AB364=VESTINPUT,\"<<<\",\"\")","v":""},null,null,null,null,null,null," "," ",null,155,"51048",null,{"$f":"CHOOSE($K$2,AA364,$P$5*AA364,$P$6*AA364)","v":155},null,"99999",null,null,null,null,0,{"$f":"\"\"","v":""},{"$f":"IF($B364,\"51048\",0)","v":0},{"$f":"IF($B364,MAX(1,$J364),0)","v":0},{"$f":"\"Vest: \"&IF($B364,\"Male non-stretch extended strap, X-Large\",\"\")","v":"Vest: "},{"$f":"IF($B364,$P364,0)","v":0},null,"E0960"]
[null,null,null,null,null,null,null,null,null,null,null,null,null,null,null,null,null,null,null,null,null,null,null,null,null,null,null,null,null,null,null,null,null,null,null,null,0]
[null,null,null,null,null,null,null,null,null,null,null,null,null,null,null,null,null,null,null,null,null,null,null," "," ",null,null,null,null,null,null,null,null,null,null,null,0,{"$f":"\"\"","v":""}]
[null,null,null,null,null,null,null,null,null,null,null,"X-harness",null,null,"Shoulder harness",null,null,null,null,"Chest straps",null,null,null,null,null,null,null,null,null,null,null,null,null,null,null,null,0,{"$f":"\"\"","v":""}]
[null,{"$f":"B307=52","v":false},null,false,null,null,null,null,null,null,null,{"$f":"IF($B$368,\"Padded X-harness\",\"Padded X-harness\")","v":"Padded X-harness"},null,null,null,null,{"$f":"IF(ISNA(AB368),\"\",\"<<<\")","v":""},null,null,null,null,null,null,{"$f":"Belts!$E$96","v":30519},{"$f":"MAX($J368,1)*AD368","v":163},null,{"$f":"Belts!$F$96","v":163},{"$f":"MATCH(VESTINPUT,{\"30519\",\"30520\",\"30521\"},FALSE)","v":{"$error":"#N/A"}},null,{"$f":"CHOOSE($K$2,AA368,$P$5*AA368,$P$6*AA368)","v":163},null,null,null,null,null,null,0,{"$f":"\"\"","v":""},{"$f":"IF($B368,X368,0)","v":0},{"$f":"IF($B368,MAX(1,$J368),0)","v":0},{"$f":"$L368&\" - \"&Belts!$D$96","v":"Padded X-harness - Small"},{"$f":"IF($B368,$Y368,0)","v":0},null,"E0960"]
[null,{"$f":"B307=53","v":false},null,false,null,null,null,null,null,null,null,{"$f":"IF($B$369,\"Padded shoulder harness\",\"Padded shoulder harness\")","v":"Padded shoulder harness"},null,null,null,null,"+",null,null,null,null,{"$f":"IF(NOT(ISNA(AB369)),\"<<<       \",IF(NOT(ISNA(AB370)),\"                 vvv\",\"\"))","v":""},null,{"$f":"Belts!$E$81","v":61401},{"$f":"MAX($J369,1)*AD369","v":141},null,{"$f":"Belts!$E$87","v":141},{"$f":"MATCH(VESTINPUT,{\"61301\",\"61302\",\"61303\",\"61401\",\"61402\",\"61403\",\"61501\",\"61502\",\"61503\",\"61701\",\"61702\",\"61703\",\"61801\",\"61802\",\"61803\"},FALSE)","v":{"$error":"#N/A"}},null,{"$f":"CHOOSE($K$2,AA369,$P$5*AA369,$P$6*AA369)","v":141},null,null,null,null,null,null,0,{"$f":"\"\"","v":""},{"$f":"IF($B369,X369,0)","v":0},{"$f":"IF($B369,MAX(1,$J369),0)","v":0},{"$f":"$L369&\" - \"&Belts!$D$87&\", w/ \"&Belts!$D$81","v":"Padded shoulder harness - Small, w/ attaching clips"},{"$f":"IF($B369,$Y369,0)","v":0},null,"E0960"]
[null,{"$f":"B307=54","v":false},null,{"$f":"AND(X370=\"NA\",B370)","v":false},null,null,null,null,null,null,{"$f":"IF(D370,\"¢\",\"\")","v":""},{"$f":"IF($B$370,\"Padded chest strap\",\"Padded chest strap\")","v":"Padded chest strap"},null,null,{"$f":"IF(X370=\"NA\",\">>\",\"\")","v":""},null,"+",null,null,null,null,null,null,{"$f":"Belts!$E$104","v":60110},{"$f":"MAX($J370,1)*AD370","v":98},null,{"$f":"Belts!$K$104","v":98},{"$f":"MATCH(VESTINPUT,{\"60110\",\"60113\",\"60116\",\"60119\",\"60147\",\"60150\",\"60153\",\"60157\",\"60111\",\"60114\",\"60117\",\"60120\",\"60123\",\"60124\",\"60148\",\"60151\",\"60154\",\"60158\",\"60112\",\"60115\",\"60118\",\"60121\",\"60149\",\"60152\",\"60155\",\"60159\"},FALSE)","v":{"$error":"#N/A"}},null,{"$f":"CHOOSE($K$2,AA370,$P$5*AA370,$P$6*AA370)","v":98},null,null,null,null,null,null,{"$f":"IF(AM370=0,AK369,AK369+1)","v":0},{"$f":"IF($D370,\">\",\"\")","v":""},{"$f":"IF($B370,X370,0)","v":0},{"$f":"IF($B370,MAX(1,$J370),0)","v":0},{"$f":"IF($B370,Belts!$E$103,\"\")","v":""},{"$f":"IF($B370,$Y370,0)","v":0},null,"E0960"]
[null,null,null,null,null,null,null,null,null,"Anterior support part number",null,null,null,null,null,null,{"$f":"IF(Belts!$C$115>3,\"      X-Large & 2X-Large available in stretch, single D-ring only\",\"\")","v":""}]
[null,{"$f":"B307=85","v":false},null,{"$f":"L372=\"INVALID PART NUMBER\"","v":false},null,null,null,null,null,null,{"$f":"IF(AND(B372,D372),\"¢\",\"\")","v":""},{"$f":"IF(X372<>\"\",IFERROR(VLOOKUP('Pick List'!X372,Parts!$B$263:$D$386,2,FALSE),\"INVALID PART NUMBER\"),\"Enter desired anterior support part number in the box to the right\")","v":"Enter desired anterior support part number in the box to the right"},null,null,null,null,null,null,null,null,null,null,null,null,{"$f":"MAX($J372,1)*AD372","v":0},"   ",{"$f":"IF(AND(B372,NOT(D372),NOT(X372=\"\")),VLOOKUP('Pick List'!X372,Parts!$B$263:$D$386,3,FALSE),0)","v":0},null,null,{"$f":"CHOOSE($K$2,AA372,$P$5*AA372,$P$6*AA372)","v":0},null,null,null,null,null,null,{"$f":"IF(AM372=0,AK370,AK370+1)","v":0},{"$f":"\"\"","v":""},{"$f":"IF(AND($B372,NOT(D372)),X372,0)","v":0},{"$f":"MAX(1,J372)","v":1},{"$f":"L372","v":"Enter desired anterior support part number in the box to the right"},{"$f":"IF($B372,$Y372,0)","v":0},null,"E0960"]
[]
[{"$f":"CHOOSE($B$376,\"\",\"1\",\"1.5\",\"2\",\"1\",\"1.5\",\"1\",\"1.5\",\"1.5\",\"1\",\"1.5\",\"1\",\"1.5\",\"2\",\"1\",\"1.5\",\"2\",\"1.5\",\"9\")&quote","v":"\""},{"$f":"CHOOSE($B$376,\"\",\"1\",\"1.5\",\"2\",\"1\",\"1.5\",\"1\",\"1.5\",\"1.5\",\"1\",\"1.5\",\"1\",\"1.5\",\"2\",\"1\",\"1.5\",\"2\",\"1.5\",\"9\")&quote&\" size belt\"","v":"\" size belt"},null,"<--Fix value for entered belt if used",null,null," ",null,null,null,null,null,null,null,null,"HIP BELTS",null,null,null,null,null,null,null,null,null,"   ",null,null,null,null,null,null,null,null,null,null,null,null,null," "]
[null,false,null,{"$f":"AND(B375,AM375=\"Warning\")","v":false},null,null,null,null,null,null,null,"TheraSleeves",null,null,null,{"$f":"IF($B$377,\"\",SleevesDescBelt)","v":""},null,null,null,null,null,null,null,{"$f":"IF(SleevesMatchBelt=\"NA\",IF($B$375,\"Warning\",\"\"),SleevesMatchBelt)","v":""},{"$f":"MAX(J375,1)*AD375","v":0},null,{"$f":"IF(ISNA(SleevesPriceBelt),0,SleevesPriceBelt)","v":0},null,null,{"$f":"CHOOSE($K$2,AA375,$P$5*AA375,$P$6*AA375)","v":0},null,null,null,null,null,null,{"$f":"IF(B375,AK372+1,AK372)","v":0},{"$f":"IF(D375,\">\",\"\")","v":""},{"$f":"IF($B375,X375,0)","v":0},{"$f":"IF($B375,MAX(1,$J375),0)","v":0},{"$f":"IF($B375,$P375,\"\")","v":""},{"$f":"IF($B375,$Y375,0)","v":0},null,"K0108",null,{"$f":"AK375","v":0},"COMT",{"$f":"AM375","v":0},{"$f":"AN375","v":0},"Belt TheraSleeves"]
[null,1,null,null,null,null,null,null,null,null,null,null,null,null,null,null,null,null,null,null,null,null,null,null,null,null,null,null,null,null,null,null,null,null,null,null,{"$f":"AK375","v":0}]
[null,{"$f":"B376=1","v":true},null,null,null,{"$f":"COUNTIF(B379:B404,TRUE)","v":0},null,null,null,null,"No Hip Belt",null,null,null,null,null,null,null,null,null,null,"TheraSleeves",null,null,null,null,null,null,null,null,null,null,null,null,null,{"$f":"IFERROR(VLOOKUP($AK376+1,$AK379:$AP406,1,FALSE),AK376)","v":0},null,{"$f":"IFERROR(VLOOKUP($AK376+1,$AK379:$AP406,2,FALSE),\"\")","v":""},{"$f":"IFERROR(VLOOKUP($AK376+1,$AK379:$AP406,3,FALSE),\"\")","v":""},{"$f":"IFERROR(VLOOKUP($AK376+1,$AK379:$AP406,4,FALSE),\"\")","v":""},{"$f":"IFERROR(VLOOKUP($AK376+1,$AK379:$AP406,5,FALSE),\"\")","v":""},null,null,null,null,{"$f":"AJ377","v":0},"COMT",{"$f":"AM377","v":""},{"$f":"AN377","v":""},"Belt"]
[null,null,null,{"$f":"COUNTIF(D379:D381,TRUE)>0","v":false},null,null," ",null,null,null,"Padded Hip Belts",null,null,null,null,null,null,null,null,null,null,null,null,"Item #",{"$f":"'Pick List'!$L$2","v":"Ext Retail"},null,"Retail",null,null,"Used",null,null,null,null,null,null,null,null,null," "]
[null,{"$f":"B376=2","v":false},null,{"$f":"AND(B379,X379=\"N/A\")","v":false},null,null,null,{"$f":"B379","v":false},123,null,{"$f":"IF(D379,\"¢\",\"\")","v":""},"1\" webbing",null,null,null,"+   ",null,null,null,null," +",null,null,{"$f":"Belts!$F$9","v":"61001"},{"$f":"MAX($J379,1)*AD379","v":77},null,{"$f":"Belts!G9","v":77},null,null,{"$f":"CHOOSE($K$2,AA379,$P$5*AA379,$P$6*AA379)","v":77},null,null,null,null,null,null,{"$f":"IF(AM379=0,AK376,AK376+1)","v":0},{"$f":"IF(D379,\">\",\"\")","v":""},{"$f":"IF($B379,X379,0)","v":0},{"$f":"MAX(1,J379)","v":1},{"$f":"Belts!$E$9","v":"1\" Belt, 4.25Wx1.75H pad, metal attaching clips+push button buckle"},{"$f":"IF($B379,$Y379,0)","v":0},null,"E0978"]
[null,{"$f":"B376=3","v":false},null,{"$f":"AND(B380,X380=\"N/A\")","v":false},null,null,null,{"$f":"B380","v":false},123,null,{"$f":"IF(D380,\"¢\",\"\")","v":""},"1-1/2\" webbing",null,null,null,"+   ",null,null,null,null," +",null,null,{"$f":"Belts!$F$27","v":"62001"},{"$f":"MAX($J380,1)*AD380","v":85},null,{"$f":"Belts!G27","v":85},null,null,{"$f":"CHOOSE($K$2,AA380,$P$5*AA380,$P$6*AA380)","v":85},null,null,null,null,null,null,{"$f":"IF(AM380=0,AK379,AK379+1)","v":0},{"$f":"IF(D380,\">\",\"\")","v":""},{"$f":"IF($B380,X380,0)","v":0},{"$f":"MAX(1,J380)","v":1},{"$f":"Belts!$E$27","v":"1-1/2\" Belt, 5.25Wx2.25H pad, metal attaching clips+push button buckle"},{"$f":"IF($B380,$Y380,0)","v":0},null,"E0978"]
[null,{"$f":"B376=4","v":false},null,{"$f":"AND(B381,X381=\"N/A\")","v":false},null,null,null,{"$f":"B381","v":false},123,null,"","2\" webbing",null,null,null,"+   ",null,null,null,null," +",null,null,{"$f":"Belts!$F$45","v":"64001"},{"$f":"MAX($J381,1)*AD381","v":91},null,{"$f":"Belts!G45","v":91},null,null,{"$f":"CHOOSE($K$2,AA381,$P$5*AA381,$P$6*AA381)","v":91},null,null,null,null,null,null,0,{"$f":"IF(D381,\">\",\"\")","v":""},{"$f":"IF($B381,X381,0)","v":0},{"$f":"MAX(1,J381)","v":1},{"$f":"Belts!$E$45","v":"2\" Belt, 9.25Wx3H pad, metal attaching clips+push button buckle"},{"$f":"IF($B381,$Y381,0)","v":0},null,"E0978"]
[null,{"$f":"B376=15","v":false},null,{"$f":"AND(B382,X382=\"N/A\")","v":false},null,null,null,null,null,null,"","2\" bariatric",null,"     11.25Wx3H pad",null,null,null,null,null,null," +","push button buckle",null,{"$f":"Belts!$F$63","v":"64301"},{"$f":"MAX($J382,1)*AD382","v":100},null,{"$f":"Belts!G63","v":100},null,null,{"$f":"CHOOSE($K$2,AA382,$P$5*AA382,$P$6*AA382)","v":100},null,null,null,null,null,null,0,{"$f":"IF(D382,\">\",\"\")","v":""},{"$f":"IF($B382,X382,0)","v":0},{"$f":"MAX(1,J382)","v":1},{"$f":"Belts!$E$63","v":"2\" Belt, Bariatric, 11.25Wx3H pads, metal attaching clips+push button buckle"},{"$f":"IF($B382,$Y382,0)","v":0},null,"E0978"]
[null,null,null,null,null,null,null,null,null,null,null,null,null,null,null,null,null,null,null,null,null,null,null,null,null,null,null,null,null,null,null,null,null,null,null,null,0]
[null,null,null,null,null,null,null,null,null,null,"Rear Pull Padded Hip Belts",null,null,null,null,null,null,null,null,null,null,null,null,null,null,null,null,null,null,null,null,null,null,null,null,null,0]
[null,{"$f":"B376=7","v":false},null,null,null,null,null,{"$f":"B385","v":false},null,null,{"$f":"IF(D385,\"¢\",\"\")","v":""},"1\" webbing, 6.25W x 1.75H pad",null,null,null,null,null,null,null,null,"     + ",null,null,{"$f":"Belts!F243","v":"60161"},{"$f":"MAX($J385,1)*AD385","v":87},null,{"$f":"Belts!G243","v":87},null,null,{"$f":"CHOOSE($K$2,AA385,$P$5*AA385,$P$6*AA385)","v":87},null,null,null,null,null,null,0,{"$f":"IF(D385,\">\",\"\")","v":""},{"$f":"IF($B385,X385,0)","v":0},{"$f":"MAX(1,J385)","v":1},{"$f":"Belts!$E$243","v":"1\" Rear Pull Belt, 6.25Wx1.75H pad, metal attaching clips+push button buckle"},{"$f":"IF($B385,$Y385,0)","v":0},null,"E0978"]
[null,{"$f":"B376=8","v":false},null,null,null,null,null,{"$f":"B386","v":false},null,null,{"$f":"IF(D386,\"¢\",\"\")","v":""},"1-1/2\" webbing, 7.25W x 2.25H pad",null,null,null,null,null,null,null,null,"     + ",null,null,{"$f":"Belts!F254","v":"60171"},{"$f":"MAX($J386,1)*AD386","v":95},null,{"$f":"Belts!G254","v":95},null,null,{"$f":"CHOOSE($K$2,AA386,$P$5*AA386,$P$6*AA386)","v":95},null,null,null,null,null,null,0,{"$f":"IF(D386,\">\",\"\")","v":""},{"$f":"IF($B386,X386,0)","v":0},{"$f":"MAX(1,J386)","v":1},{"$f":"Belts!$E$254","v":"1-1/2\" Rear Pull Belt, 7.25Wx2.25H pad, metal attaching clips+push button buckle"},{"$f":"IF($B386,$Y386,0)","v":0},null,"E0978"]
[null,{"$f":"B376=9","v":false},null,null,null,null,null,{"$f":"B387","v":false},null,null,"","1-1/2\" webbing, 9.25W x 2.5H pad",null,null,null,null,null,null,null,null,"     +",null,null,{"$f":"Belts!F265","v":"60181"},{"$f":"MAX($J387,1)*AD387","v":95},null,{"$f":"Belts!G265","v":95},null,null,{"$f":"CHOOSE($K$2,AA387,$P$5*AA387,$P$6*AA387)","v":95},null,null,null,null,null,null,0,{"$f":"IF(D387,\">\",\"\")","v":""},{"$f":"IF($B387,X387,0)","v":0},{"$f":"MAX(1,J387)","v":1},{"$f":"Belts!$E$265","v":"1-1/2\" Rear Pull Belt, 9.25Wx2.5H pad, metal attaching clips+push button buckle"},{"$f":"IF($B387,$Y387,0)","v":0},null,"E0978"]
[null,null,null,null,"unused?",{"$f":"COUNTIF(B398:C405,TRUE)","v":0},null,null,null,null,null,null,null,null,null,null,null,null,null,null,null,null,null,null," ",null,null,null,null,null,null,null,null,null,null,null,0]
[null,null,null,null,null,null,null,null,null,null,"Dual Center Pull Padded Hip Belts",null,null,null,null,null,null,null,null,null,null,null,null,null,null,null,null,null,null,null,null,null,null,null,null,null,{"$f":"IF(AM389=0,AK388,AK388+1)","v":0}]
[null,{"$f":"B376=10","v":false},null,null,null,null,null,{"$f":"B390","v":false},null,null,{"$f":"IF(D390,\"¢\",\"\")","v":""},"1\" webbing",null,null,null,"+   ",null,null,null,null,"     +  side release buckle",null,null,{"$f":"Belts!F286","v":60211},{"$f":"MAX($J390,1)*AD390","v":72},null,{"$f":"Belts!G286","v":72},null,null,{"$f":"CHOOSE($K$2,AA390,$P$5*AA390,$P$6*AA390)","v":72},null,null,null,null,null,null,0,{"$f":"IF(D390,\">\",\"\")","v":""},{"$f":"IF($B390,X390,0)","v":0},{"$f":"MAX(1,J390)","v":1},{"$f":"Belts!$E$286","v":"1\" SR Dual Pull Belt, 4.25Wx1.75H pad, metal attaching clips"},{"$f":"IF($B390,$Y390,0)","v":0},null,"E0978"]
[null,{"$f":"B376=11","v":false},null,null,null,null,null,{"$f":"B391","v":false},null,null,"","1-1/2\" webbing",null,null,null,"+   ",null,null,null,null,"     +  side release buckle",null,null,{"$f":"Belts!F302","v":60231},{"$f":"MAX($J391,1)*AD391","v":79},null,{"$f":"Belts!G302","v":79},null,null,{"$f":"CHOOSE($K$2,AA391,$P$5*AA391,$P$6*AA391)","v":79},null,null,null,null,null,null,0,{"$f":"IF(D391,\">\",\"\")","v":""},{"$f":"IF($B391,X391,0)","v":0},{"$f":"MAX(1,J391)","v":1},{"$f":"Belts!$E$302","v":"1-1/2\" SR Dual Pull Belt, 5.25Wx2.25H pad, metal attaching clips"},{"$f":"IF($B391,$Y391,0)","v":0},null,"E0978"]
[null,null,null,null,null,null,null,null,null,null,null,null,null,null,null,null,null,null,null,null,null,null,null,null,null,null,null,null,null,null,null,null,null,null,null,null,0]
[null,null,null,null,null,null,null,null,null,null,"TheraFit 4 Point Y-Style Hip Belts",null,null,null,null,null,null,null,null,null,null,null,null,null,null,null,null,null,null,null,null,null,null,null,null,null,0]
[null,{"$f":"B376=12","v":false},null,null,null,null,null,null,null,null,{"$f":"IF(D394,\"¢\",\"\")","v":""},"Therafit 4 point Y-style",null,null,null,"+",null,null,null,null,null,null,null,{"$f":"Belts!$F$237","v":60024},{"$f":"MAX($J394,1)*AD394","v":158},null,{"$f":"Belts!$E$237","v":158},null,null,{"$f":"CHOOSE($K$2,AA394,$P$5*AA394,$P$6*AA394)","v":158},null,null,null,null,null,null,0,{"$f":"IF(D394,\">\",\"\")","v":""},{"$f":"IF($B394,X394,0)","v":0},{"$f":"MAX(1,J394)","v":1},{"$f":"Belts!$E$236","v":"Therafit 4 point Y-style belt w/ push button buckle, Small"},{"$f":"IF($B394,$Y394,0)","v":0},null,"E0978"]
[null,null,null,null,null,null,null,null,null,null,"",null,null,null,null,null,null,null,null,null,null,null,null,null,null,null,null,null,null,null,null,null,null,null,null,null,{"$f":"IF(AM395=0,AK394,AK394+1)","v":0},""]
[null,null,null,null,null,null,null,null,null,null,null,null,null,null,null,null,null,null,null,null,null,null,null,null,null,null,null,null,null,null,null,null,null,null,null,null,0]
[null,null,null,null,null,null,null,null,null,null,"TheraFit 4-Point Hip Belts",null,null,null,null,null,null,null,null,null,null,null,null,"Item #",{"$f":"'Pick List'!$L$2","v":"Ext Retail"},null,"Retail",null,null,"Used",null,null,null,null,null,null,0]
[null,{"$f":"B376=5","v":false},null,null,null,null,null,{"$f":"B398","v":false},null,null,null,"1\" webbing",null,null,null,"+   ",null,null,null,null," +",null,null,{"$f":"Belts!$F$210","v":60130},{"$f":"MAX($J398,1)*AD398","v":121},null,{"$f":"Belts!$G$210","v":121},null,null,{"$f":"CHOOSE($K$2,AA398,$P$5*AA398,$P$6*AA398)","v":121},null,null,null,null,null,null,0,{"$f":"\"\"","v":""},{"$f":"IF($B398,X398,0)","v":0},{"$f":"MAX(1,J398)","v":1},{"$f":"Belts!$E$209","v":"1\" 4-Point Belt, 4.25W x 1.75H pad & push button buckle"},{"$f":"IF($B398,$Y398,0)","v":0},null,"E0978"]
[null,{"$f":"B376=6","v":false},null,null,null,null,null,{"$f":"B399","v":false},null,null,null,"1-1/2\" webbing",null,null,null,"+   ",null,null,null,null," +",null,null,{"$f":"Belts!$F$223","v":60132},{"$f":"MAX($J399,1)*AD399","v":121},null,{"$f":"Belts!$G$223","v":121},null,null,{"$f":"CHOOSE($K$2,AA399,$P$5*AA399,$P$6*AA399)","v":121},null,null,null,null,null,null,0,{"$f":"\"\"","v":""},{"$f":"IF($B399,X399,0)","v":0},{"$f":"MAX(1,J399)","v":1},{"$f":"Belts!$E$221","v":"1-1/2\" 4-Point Belt, 5.25W x 2.25H pad & push button buckle"},{"$f":"IF($B399,$Y399,0)","v":0},null,"E0978"]
[null,null,null,null,null,null,null,null,null,null,null,null,null,null,null,null,null,null,null,null,null,null,null,null,null,null,null,null,null,null,null,null,null,null,null,null,0]
[null,null,null,null,null,null,null,null,null,null,"Unpadded Belt",null,null,null,null,null,null,null,null,null,null,null,null,null,null,null,null,null,null,null,null,null,null,null,null,null,0]
[null,{"$f":"B376=13","v":false},null,null,null,null,null,null,null,null,null,"1-1/2\" Single front pull, unpadded belt w/metal clips",null,null,null,null,null,null," +",null,null,null,null,{"$f":"Belts!$I$3","v":"33130"},{"$f":"MAX($J402,1)*AD402","v":45},null,{"$f":"Belts!$J$3","v":45},null,null,{"$f":"CHOOSE($K$2,AA402,$P$5*AA402,$P$6*AA402)","v":45},null,null,null,null,null,null,0,{"$f":"\"\"","v":""},{"$f":"IF($B402,X402,0)","v":0},{"$f":"MAX(1,J402)","v":1},{"$f":"L402&\" & \"&Belts!$H$3","v":"1-1/2\" Single front pull, unpadded belt w/metal clips & push button buckle"},{"$f":"IF($B402,$Y402,0)","v":0},null,"E0978"]
[null,null,null,null,null,null,null,null,null,null,"Belt part number",null,null,null,null,null,null,null,null,null,null,null,null,null,null,null,null,null,null,null,null,null,null,null,null,null,0]
[null,{"$f":"B376=14","v":false},null,{"$f":"L404=\"INVALID PART NUMBER\"","v":false},null,null,null,null,null,null,{"$f":"IF(AND(B404,D404),\"¢\",\"\")","v":""},{"$f":"IF(X404<>\"\",IFERROR(VLOOKUP('Pick List'!X404,Parts!$B$4:$D$255,2,FALSE),\"INVALID PART NUMBER\"),\"Enter a belt part number in the box to the right\")","v":"Enter a belt part number in the box to the right"},null,null,null,null,null,null,null,null,null,null,null,null,{"$f":"MAX($J404,1)*AD404","v":0},"   ",{"$f":"IF(AND(B404,NOT(D404),NOT(X404=\"\")),VLOOKUP('Pick List'!X404,Parts!$B$4:$D$255,3,FALSE),0)","v":0},null,null,{"$f":"CHOOSE($K$2,AA404,$P$5*AA404,$P$6*AA404)","v":0},null,null,null,null,null,null,0,{"$f":"IF(D404,\">\",\"\")","v":""},{"$f":"IF(AND($B404,NOT(D404)),X404,0)","v":0},{"$f":"MAX(1,J404)","v":1},{"$f":"L404","v":"Enter a belt part number in the box to the right"},{"$f":"IF($B404,$Y404,0)","v":0},null,"E0978"]
[null,null,null,null,null,null,null,null,null,null,null,null,null,null,null,null,null,null,null,null,null,null,null,"."]
[null,null,null,null,null,null,null,null,null,null,null,null,null,null,null,null,null,null,null,null,null,null,null,null," ",null,null,null,null,null,null,null,null,null,null,null,null,null,null,null,null,null,null,null,null,null,null,{"$f":"AM406","v":0},0]
[null,null,null,null,null,null,null,null,null,null,null,null,null,null,null,"HIP GUIDES",null,null,null,null,null,{"$f":"IF($V$409=0,4,$V$409)","v":4},{"$f":"IF($W$409=0,4,$W$409)","v":4},{"$f":"IF(D409,\"ISSUES REVIEWED?\",\"     Issues reviewed?\")","v":"     Issues reviewed?"},null,null,{"$f":"IF(AB407,\"+\",\">\")","v":">"},false,"<-allow?",{"$f":"IF(AB407,\"--\",\"?\")","v":"?"},null,null,null,null,null,null,null,null,null,null,{"$f":"IF(Seat!$BD$3,\"   **Too Long?**\",\"\")","v":""},null,null,null,null,null,null,0,0]
[null,null,null,null,null,null,null,null,null,null,null,null,null,null,null,null,null,null,null,null,null,null,null,null,null,null,null,null,null,null,null,null,null,null,null,null,null,null,null,null,null,null,null,null,null,null,null,0,0]
[null,1,null,{"$f":"COUNTIF(D410:D429,TRUE)>0","v":false},null,null,null,null,null,null,null,null,null,null,null,null,null,null,null,null,null,{"$f":"INDEX(V410:V421,MATCH(TRUE(),B410:B421,0))","v":0},{"$f":"INDEX(W410:W421,MATCH(TRUE(),B410:B421,0))","v":0},null,null,null,"Retail",null,null,"Used",null,null,null,null,null,null,{"$f":"AK404","v":0},null,null,null,null,null,null,null,null,null,null,0,0]
[null,{"$f":"B409=1","v":true},null,{"$f":"AND($F$411<>$F$434,B410)","v":false},null,null,null,null,null,{"$f":"IF(D410,\"¢\",\"\")","v":""},"No Hip Guide Pad",null,null,null,null,null,null,null,null,null,null,0,0,"Item #",{"$f":"$L$2","v":"Ext Retail"},null,78,83,87,null,null,"TrU-Spec non-contoured",null,null,null,{"$f":"IFERROR(VLOOKUP($AK409+1,$AK411:$AP429,1,FALSE),AK409)","v":0},null,{"$f":"IFERROR(VLOOKUP($AK409+1,$AK411:$AP421,2,FALSE),\"\")","v":""},{"$f":"IFERROR(VLOOKUP($AK409+1,$AK411:$AP421,3,FALSE),\"\")","v":""},{"$f":"IFERROR(VLOOKUP($AK409+1,$AK411:$AP421,4,FALSE),\"\")","v":""},{"$f":"IFERROR(VLOOKUP($AK409+1,$AK411:$AP421,5,FALSE),\"\")&IF($B$424,\" -- \"&LOWER(Belts!$D$278),\"\")","v":""},null,null,null,null,{"$f":"AJ410","v":0},{"$f":"IF(OR($B$421,$B$422),\"HIP\",\"COMT\")","v":"COMT"},"","",{"$f":"IF(OR($B$421,$B$422),\"Custom hip guide\",\"Hip guide\")","v":"Hip guide"},null,null,{"$f":"VLOOKUP($AJ$410,$AT$411:$BB$421,8,FALSE)","v":3},{"$f":"VLOOKUP($AJ$410,$AT$411:$BB$421,9,FALSE)","v":4}]
[null,{"$f":"B409=2","v":false},null,{"$f":"AND(OR($F$411<>$F$434,$E$420),B411)","v":false},null,{"$f":"COUNTIF(B411:C421,TRUE)","v":0},null,null,null,2,{"$f":"IF(D411,\"¢\",\"\")","v":""},{"$f":"IF($B411,$C$431,\"\")&\"3 x 4 pad\"","v":"3 x 4 pad"},null,null,null,null,null,null,null,null,null,3,4,{"$f":"IF($B411,CHOOSE($B$431,\"50144\",$AF$411,$AF$416,$AF$421),\"50144\")","v":"50144"},{"$f":"MAX($J411,1)*AD411","v":156},null,{"$f":"IF($B411,CHOOSE($B$431,$AA$410,$AG$411,$AG$416,$AG$421),$AA$410)","v":78},null,null,{"$f":"CHOOSE($K$2,AA411,$P$5*AA411,$P$6*AA411)","v":78},null,73001,109,null,null,null,{"$f":"IF(AM411=0,AK409,AK409+1)","v":0},{"$f":"IF(OR($D411,AND($B$422,Seat!$BD$3)),$AA$407,\"\")","v":""},{"$f":"IF($B411,$X411,0)","v":0},{"$f":"IF(B411,$J411,0)","v":0},{"$f":"\"Hip guide: \"&$L411&AO$407","v":"Hip guide: 3 x 4 pad"},{"$f":"IF($B411,$Y411,0)","v":0},null,{"$f":"IF($B$422,\"E0956\",\"E0956\")","v":"E0956"},"=IF(AND($B431,NOT($B$442)),$Y431,0)",{"$f":"AK411","v":0},null,null,null,null,null,null,3,4]
[null,{"$f":"B409=3","v":false},null,{"$f":"AND(OR($F$411<>$F$434,$E$420),B412)","v":false},null,null,null,null,null,2,{"$f":"IF(D412,\"¢\",\"\")","v":""},{"$f":"IF($B412,$C$431,\"\")&\"3 x 5 pad\"","v":"3 x 5 pad"},null,null,null,null,null,null,null,null,null,3,5,{"$f":"IF($B412,CHOOSE($B$431,\"50145\",$AF$411,$AF$416,$AF$421),\"50145\")","v":"50145"},{"$f":"MAX($J412,1)*AD412","v":156},null,{"$f":"IF($B412,CHOOSE($B$431,$AA$410,$AG$411,$AG$416,$AG$421),$AA$410)","v":78},null,null,78,null,null,null,null,null,null,{"$f":"IF(AM412=0,AK411,AK411+1)","v":0},{"$f":"IF(OR($D412,AND($B$422,Seat!$BD$3)),$AA$407,\"\")","v":""},0,0,{"$f":"\"Hip guide: \"&$L412&AO$407","v":"Hip guide: 3 x 5 pad"},{"$f":"IF($B412,$Y412,0)","v":0},null,{"$f":"IF($B$422,\"E0956\",\"E0956\")","v":"E0956"},"<HCPCS switch not being used",0,null,null,null,null,null,null,3,5]
[null,{"$f":"B409=4","v":false},null,false,null,null,null,null,null,2,"",{"$f":"IF($B413,$C$431,\"\")&\"4 x 5 pad\"","v":"4 x 5 pad"},null,null,null,null,null,null,null,null,null,4,5,{"$f":"IF($B413,CHOOSE($B$431,\"50146\",$AF$411,$AF$416,$AF$421),\"50146\")","v":"50146"},156,null,{"$f":"IF($B413,CHOOSE($B$431,$AA$410,$AG$411,$AG$416,$AG$421),$AA$410)","v":78},null,null,78,null,null,null," ",null,null,{"$f":"IF(AM413=0,AK412,AK412+1)","v":0},{"$f":"IF(OR($D413,AND($B$422,Seat!$BD$3)),$AA$407,\"\")","v":""},0,0,"Hip guide: 4 x 5 pad",0,null,"E0956",null,0,null,null,null,null,null,null,4,5]
[null,{"$f":"B409=5","v":false},null,false,null,null,null,null,null,2,"",{"$f":"IF($B414,$C$431,\"\")&\"4 x 6 pad\"","v":"4 x 6 pad"},null,null,null,null,null,null,null,null,null,4,6,{"$f":"IF($B414,CHOOSE($B$431,\"50147\",$AF$411,$AF$416,$AF$421),\"50147\")","v":"50147"},156,null,{"$f":"IF($B414,CHOOSE($B$431,$AA$410,$AG$411,$AG$416,$AG$421),$AA$410)","v":78},null,null,78,null,null,null,null,null,null,{"$f":"IF(AM414=0,AK413,AK413+1)","v":0},{"$f":"IF(OR($D414,AND($B$422,Seat!$BD$3)),$AA$407,\"\")","v":""},0,0,"Hip guide: 4 x 6 pad",0,null,"E0956",null,0,null,null,null,null,null,null,4,6]
[null,{"$f":"B409=6","v":false},null,false,null,null,null,null,null,2,"",{"$f":"IF($B415,$C$431,\"\")&\"4 x 8 pad\"","v":"4 x 8 pad"},null,null,null,{"$f":"IF(AND(B415,$E$424),\"Too long?\",\"\")","v":""},null,null,null,null,null,4,8,{"$f":"IF($B415,CHOOSE($B$431,\"50148\",$AF$411,$AF$416,$AF$421),\"50148\")","v":"50148"},156,null,{"$f":"IF($B415,CHOOSE($B$431,$AA$410,$AG$411,$AG$416,$AG$421),$AA$410)","v":78},null,null,78,null,"TrU-Spec contoured",null,null,null,null,{"$f":"IF(AM415=0,AK414,AK414+1)","v":0},{"$f":"IF(OR($D415,AND($B$422,Seat!$BD$3)),$AA$407,\"\")","v":""},0,0,"Hip guide: 4 x 8 pad",0,null,"E0956",null,0,null,null,null,null,null,null,4,8]
[null,{"$f":"B409=8","v":false},null,false,null,null,null,null,null,2,"",{"$f":"IF($B416,$C$431,\"\")&\"4 x 10 pad\"","v":"4 x 10 pad"},null,null,null,{"$f":"IF(B416,IF($E$424,\"Too long?\",\"Need extra brackets?\"),\"\")","v":""},null,null,null,null,null,4,10,{"$f":"IF($B416,CHOOSE($B$431,\"50246\",$AF$411,$AF$416,$AF$421),\"50246\")","v":"50246"},166,null,{"$f":"IF($B416,CHOOSE($B$431,$AB$410,$AG$411,$AG$416,$AG$421),$AB$410)","v":83},null,null,83,null,73002,140,null,null,null,{"$f":"IF(AM416=0,AK415,AK415+1)","v":0},{"$f":"IF(OR($D416,AND($B$422,Seat!$BD$3)),$AA$407,\"\")","v":""},0,{"$f":"IF(B416,$J416,0)","v":0},"Hip guide: 4 x 10 pad",0,null,"E0956",null,0,null,null,null,null,null,null,4,10]
[null,{"$f":"B409=9","v":false},null,false,null,null,null,null,null,2,"",{"$f":"IF($B417,$C$431,\"\")&\"4 x 12 pad\"","v":"4 x 12 pad"},null,null,null,{"$f":"IF(B417,IF($E$424,\"Too long?\",\"Need extra brackets?\"),\"\")","v":""},null,null,null,null,null,4,12,{"$f":"IF($B417,CHOOSE($B$431,\"50247\",$AF$411,$AF$416,$AF$421),\"50247\")","v":"50247"},166,null,{"$f":"IF($B417,CHOOSE($B$431,$AB$410,$AG$411,$AG$416,$AG$421),$AB$410)","v":83},null,null,83,null,null,null,null,null,null,0,{"$f":"IF(OR($D417,AND($B$422,Seat!$BD$3)),$AA$407,\"\")","v":""},0,{"$f":"IF(B417,$J417,0)","v":0},"Hip guide: 4 x 12 pad",0,null,"E0956",null,0,null,null,null,null,null,null,4,12]
[null,{"$f":"B409=10","v":false},null,false,"Asmbly distance missing",null,null,null,null,2,"",{"$f":"IF($B418,$C$431,\"\")&\"4 x 14 pad\"","v":"4 x 14 pad"},null,null,null,{"$f":"IF(B418,IF($E$424,\"Too long?\",\"Need extra brackets?\"),\"\")","v":""},null,null,null,null,null,4,14,{"$f":"IF($B418,CHOOSE($B$431,\"50268\",$AF$411,$AF$416,$AF$421),\"50268\")","v":"50268"},174,null,{"$f":"IF($B418,CHOOSE($B$431,$AC$410,$AG$411,$AG$416,$AG$421),$AC$410)","v":87},null,null,87,null,null,null," ",null,null,0,{"$f":"IF(OR($D418,AND($B$422,Seat!$BD$3)),$AA$407,\"\")","v":""},0,{"$f":"IF(B418,$J418,0)","v":0},"Hip guide: 4 x 14 pad",0,null,"E0956",null,0,null,null,null,null,null,null,4,14]
[null,{"$f":"B409=11","v":false},null,false,null,null,null,null,null,2,"",{"$f":"IF($B419,$C$431,\"\")&\"4 x 16 pad\"","v":"4 x 16 pad"},null,null,null,{"$f":"IF(B419,IF($E$424,\"Too long?\",\"Need extra brackets?\"),\"\")","v":""},null,null,null,null,null,4,16,{"$f":"IF($B419,CHOOSE($B$431,\"50276\",$AF$411,$AF$416,$AF$421),\"50276\")","v":"50276"},174,null,{"$f":"IF($B419,CHOOSE($B$431,$AC$410,$AG$411,$AG$416,$AG$421),$AC$410)","v":87},null,null,87,null,null,null,null,null,null,0,{"$f":"IF(OR($D419,AND($B$422,Seat!$BD$3)),$AA$407,\"\")","v":""},0,{"$f":"IF(B419,$J419,0)","v":0},"Hip guide: 4 x 16 pad",0,null,"E0956",null,0,null,null,null,null,null,null,4,16]
[null,{"$f":"B409=12","v":false},null,false,{"$f":"AND(AssemblyCode<>1,SEATIDX<>1,$B$409<>1,ShowDistHG,DistanceHG=0)","v":false},null,null,null,null,2,"",{"$f":"IF($B420,$C$431,\"\")&\"4 x 18 pad\"","v":"4 x 18 pad"},null,null,null,{"$f":"IF(B420,IF($E$424,\"Too long?\",\"Need extra brackets?\"),\"\")","v":""},null,null,null,null,null,4,18,{"$f":"IF($B420,CHOOSE($B$431,\"50343\",$AF$411,$AF$416,$AF$421),\"50343\")","v":"50343"},174,null,{"$f":"IF($B420,CHOOSE($B$431,$AC$410,$AG$411,$AG$416,$AG$421),$AC$410)","v":87},null,null,87,null,"Custom hip guide",null,null,null,null,0,{"$f":"IF(OR($D420,AND($B$422,Seat!$BD$3)),$AA$407,\"\")","v":""},0,{"$f":"IF(B420,$J420,0)","v":0},"Hip guide: 4 x 18 pad",0,null,"E0956",null,0,null,null,null,null,null,null,4,18]
["HCPCS switch no impact now",{"$f":"B409=7","v":false},null,{"$f":"OR(AND(B421,$E$420),AND($F$411<>$F$434,B421),AND(B421,OR(Q421=0,T421=0)))","v":false},"contoured seat",null,null,null,null,2,"",{"$f":"IF(B421,$C$431&\" \"&Q421&\" W x \"&T421&\" L\",\"Specify dimensions\")","v":"Specify dimensions"},null,null,null,"Width:",null,"Length:",null,null,{"$f":"IF(U422,\"\",\"\")","v":""},{"$f":"Q421","v":0},{"$f":"T421","v":0},{"$f":"$AF$424","v":73001},{"$f":"MAX($J421,1)*AD421","v":218},null,{"$f":"IF($B421,$AG$424,$AG$411)","v":109},null,null,109,null,73003,150,null,null,null,0,{"$f":"IF(OR($D421,AND($B$422,Seat!$BD$3)),$AA$407,\"\")","v":""},0,0,{"$f":"\"Hip guide: \"&$L421&\" pad\"&$AO$407&IF(AND($U422,NOT(Seat!$BD$3)),\"\",\"\")","v":"Hip guide: Specify dimensions pad"},0,null,"E0956","<oversize msg blanked out",0,"HIP",{"$f":"AM421","v":0},0,"Custom hip guide",null,null,{"$f":"Q421","v":0},{"$f":"T421","v":0}]
[{"$f":"OR(B421,AND(A423,B423),B424,AND(B425,Pads!$M$3),AND(B426,Pads!$T$3),B428,B429)","v":false},{"$f":"OR(B421,B423,B424,AND(B425,Pads!$M$3),AND(B426,Pads!$T$3),B428,B429)","v":false},"<any mod?",null,{"$f":"AND($B$19,Seat!$AN$7)","v":false},{"$f":"COUNTIF(D423:D424,TRUE)","v":0},null,null,null,null,{"$f":"CHOOSE($B$431,\"Available TrU-Spec and custom pad modifications:\",\"TrU-Spec pads incl. fabric changes, other mods at additional cost:\",\"TrU-Spec pads incl. fabric changes, other mods at additional cost:\",\"Pad becomes a custom pad with additonal cost:\")","v":"Available TrU-Spec and custom pad modifications:"},null,null,null,null,null,null,null,null,{"$f":"IF(AND(B421,$E$424),\"Too long?\",\"\")","v":""},{"$f":"AND($B$421,OR($Q$421>4,$T$421>=10))","v":false},null,null,"Item #","Per Pad",null,null,null,null,0,null,null,null," ",null,null,0,null,{"$f":"IF(AND($B431=99,$AN422>0),$W422,0)","v":0},{"$f":"SUM($AN$411:$AN$421)","v":0},{"$f":"\"Hip guide: \"&$V422","v":"Hip guide: "},{"$f":"IF($B422,$AN422*$AD422,0)","v":0},null,"E0956","=IF(AND($B442,$AN442>0),$W442,0)",0,"HIPM",0,0,"Hip guide size mod"]
[{"$f":"NOT(ISNUMBER($T$423))","v":true},false,null,{"$f":"AND($F$411=0,$B423)","v":false},"pos'n warning",null,null,null,null,null,{"$f":"IF(D423,\"¢\",\"\")","v":""},"Additional layer:",null,null,null,null,null,null,null,null,null,null,null,{"$f":"Pads!$C$15","v":71068},{"$f":"AD423","v":26},null,{"$f":"IF(AND($B$423,NOT($A$423)),$T$423,Pads!$D$15)","v":26},null,null,{"$f":"CHOOSE($K$2,AA423,$P$5*AA423,$P$6*AA423)","v":26},null,"Used Values",null," ",null,null,0,{"$f":"IF($D423,$AA$407,\"\")","v":""},{"$f":"IF(AND($B423,$AN423>0),$X423,0)","v":0},{"$f":"SUM($AN$411:$AN$421)","v":0},{"$f":"\"Hip guide: Additional layer of \"&Pads!$B$15","v":"Hip guide: Additional layer of 1/2\" extra soft visco foam"},{"$f":"IF($B423,$AN423*$Y423,0)","v":0},null,"K0108",null,{"$f":"AK423","v":0},"HIPM",0,0,{"$f":"SUBSTITUTE(\"Additional \"&Pads!$B$15,quote,\" in.\")","v":"Additional 1/2 in. extra soft visco foam"},null,{"$f":"Pads!$F$15","v":"05875"},{"$f":"Pads!$E$15","v":0.5}]
[null,false,null,{"$f":"AND($B$424,OR($F$411=0,NOT($E$422)))","v":false},{"$f":"IF(ISNA(Seat!$BD$3),FALSE,Seat!$BD$3)","v":false},null,null,null,null,null,{"$f":"IF(D424,\"¢\",\"\")","v":""},{"$f":"IF(Seat!$AN$7,IF(NOT($B$424),\"Contour pad to match seat?\",\"Pad contoured to match seat\"),\"Contour pad not applicable\")","v":"Contour pad not applicable"},null,null,null,null,null,null,null,null,null,{"$f":"IF(Belts!$E$278,\"inches\",\"\")","v":""},null,71070,{"$f":"AD424","v":0},null,0,"<zero",null,{"$f":"CHOOSE($K$2,AA424,$P$5*AA424,$P$6*AA424)","v":0},null,{"$f":"CHOOSE(B431,AF411,AF411,AF416,AF421)","v":73001},{"$f":"CHOOSE(B431,AG411,AG411,AG416,AG421)","v":109},null,null,null,0,{"$f":"IF(OR($D424,$E424),$AA$407,\"\")","v":""},{"$f":"IF(AND($B424,$AN424>0),$X424,0)","v":0},{"$f":"SUM($AN$411:$AN$421)","v":0},{"$f":"\"Hip guide: \"&L424&\" -- \"&LOWER(Belts!$D$278)","v":"Hip guide: Contour pad not applicable -- align pad with front of seat"},{"$f":"IF($B424,$AN424*$Y424,0)","v":0},null," ",null,{"$f":"AK424","v":0},"HIPM",0,0,"Contour custom hip guide",null,null,{"$f":"BA410","v":3},{"$f":"BB410","v":4},{"$f":"Seat!$AW$4","v":4},{"$f":"Seat!$AY$4","v":0},{"$f":"Seat!$BA$3","v":0},{"$f":"Belts!$F$278","v":0}]
[null,false,null,{"$f":"OR(AND($F$411=0,$B425),AND($B425,Pads!$V$3=1,Pads!$I$3=4))","v":false}," ",null,null,null,null,null,"","Pad contact surface:",null,null,null,null,null,null,null,{"$f":"\"Contact surface = \"&Pads!$J$3","v":"Contact surface = SMOOTH DARTEX"},null,null,null,{"$f":"IF($B425,Pads!$K$3,\"\")","v":""},{"$f":"AD425","v":0},null,{"$f":"0*$AA$17/2","v":0},"<zeroout",null,{"$f":"CHOOSE($K$2,AA425,$P$5*AA425,$P$6*AA425)","v":0},null,null,null,null,null,null,0,{"$f":"IF(D425,$AA$407,\"\")","v":""},{"$f":"IF(AND($B425,$AN425>0),IF(LEN($X425)<2,\"MISSING\",IF($X425<>\"Standard\",$X425,0)),0)","v":0},{"$f":"SUM($AN$411:$AN$421)","v":0},{"$f":"IF($B425,\"Hip guide: \"&T425,\"\")","v":""},{"$f":"IF($B425,$AN425*$Y425,0)","v":0},null," ",null,{"$f":"AK425","v":0},"HIPM",0,0,"Contact surface"]
[null,false,null,{"$f":"OR(AND($F$411=0,$B426),AND($B426,Pads!$V$3=1,Pads!$P$3=4))","v":false}," ",null,null,null,null,null,"","Non-contact surface:",null,null,null,null,null,null,null,{"$f":"\"Non-contact surface = \"&Pads!$Q$3","v":"Non-contact surface = NEOPRENE"},null,null,null,{"$f":"IF($B426,Pads!$R$3,\"\")","v":""},{"$f":"AD426","v":0},null,0,"<zero",null,{"$f":"CHOOSE($K$2,AA426,$P$5*AA426,$P$6*AA426)","v":0},null,null,null,null,null,null,0,{"$f":"IF(D426,$AA$407,\"\")","v":""},{"$f":"IF(AND($B426,$AN426>0),IF(LEN($X426)<2,\"MISSING\",IF($X426<>\"Standard\",$X426,0)),0)","v":0},{"$f":"SUM($AN$411:$AN$421)","v":0},{"$f":"IF($B426,\"Hip guide: \"&T426,\"\")","v":""},{"$f":"IF($B426,$AN426*$Y426,0)","v":0},null," ",null,{"$f":"AK426","v":0},"HIPM",{"$f":"AM426","v":0},{"$f":"AN426","v":0},"Non-contact surface"]
[null,null,null,null,null,null,null,null,null,null,null,{"$f":"IF(ISBLANK($L$428),\"Enter description of modification, retail price and item # below:\",\"Other modification:\")","v":"Other modification:"},null,null,null,null,null,null,null,null,null,null,"Retail/pad","Item #","Per Pad"]
[null,false,null,{"$f":"AND($F$411=0,$B428)","v":false}," ",null,null,null,null,null,{"$f":"IF(D428,\"¢\",\"\")","v":""},"Mushroom foam",null,null,null,null,null,null,null,null,null,null,39,"71069",{"$f":"AD428","v":39},null,{"$f":"W428","v":39},null,null,{"$f":"CHOOSE($K$2,AA428,$P$5*AA428,$P$6*AA428)","v":39},null,null,null,null,null,null,{"$f":"IF(AM428=0,AK426,AK426+1)","v":0},{"$f":"IF(OR(D428,E428),$AA$407,\"\")","v":""},{"$f":"IF($B428,IF(LEN(X428)>0,$X428,\"UNK\"),0)","v":0},{"$f":"SUM($AN$411:$AN$421)","v":0},{"$f":"\"Hip guide: \"&L428","v":"Hip guide: Mushroom foam"},{"$f":"IF($B428,$AN428*$Y428,0)","v":0},null,null,null,{"$f":"AK428","v":0},"HIPM",0,0,{"$f":"SUBSTITUTE(SUBSTITUTE(L428,quote,\" in.\"),comma,\" -\")","v":"Mushroom foam"}]
[null,false,null,{"$f":"OR(AND($F$411=0,$B429),AND($B$429,OR(T429=0,V429=0)))","v":false},null,null,null,null,null,{"$f":"IF(D429,\"¢\",\"\")","v":""},{"$f":"IF($F$411>0,\"Custom armpads attached to hip guides (pair)\",\"Armpads not applicable\")","v":"Armpads not applicable"},null,null,null,null,null,null,null,"Armpad width:",4,"Length:",8,null,50140,{"$f":"AD429","v":277},null,277,null,null,{"$f":"CHOOSE($K$2,AA429,$P$5*AA429,$P$6*AA429)","v":277},null,null,null,null,null,null,{"$f":"IF(AM429=0,AK428,AK428+1)","v":0},{"$f":"IF($D429,$AA$407,\"\")","v":""},{"$f":"IF(AND($B429,$AN429>0),$X429,0)","v":0},1,{"$f":"IF($B429,\"Armpads on hip guides (pair) \"&T429&\"\"\" W x \"&V429&\"\"\" L \"&IF(ISBLANK(N430),\"\",\" -- \"&N430),\"\")","v":""},{"$f":"IF($B429,$Y429,0)","v":0},null,"K0108",null,{"$f":"AK429","v":0},"ARMP",{"$f":"AM429","v":0},1,"Armpads attached to hip guides",{"$f":"SUBSTITUTE($N$430,quote,\" in.\")","v":""},null,{"$f":"T429","v":4},{"$f":"V429","v":8}]
[null,"Level","Name",null,null,null,null,null,null,null,null,null,"Specify foam:"]
["Four Levels->",{"$f":"IF(NOT($B$422),1,IF($B$429,4,IF(AND(NOT(B424),OR(B423,B428,AND(B425,Pads!$M$3),AND(B426,Pads!$T$3),$B$421)),2,IF(B424,3,4))))","v":1},{"$f":"CHOOSE($B$431,\"\",\"TrU-Spec \",\"TrU-Spec contoured \",\"Custom \")","v":""},null,null,null,null,null,null,{"$f":"IF(Seat!$BD$2>0,\"Default useable seat=\"&Seat!$BD$2&quote,\"\")","v":""},null,null,null,{"$f":"Seat!$AS$1&IF(Design!$AB$49<>1,\"  LLD\",\"\")&IF(Design!$AB$52<>1,\"  Notches=\"&Design!$Q$14,\"\")&IF($AG$433<>\"N/A\",\"  Hip width=\"&$AG$433,\"\")","v":"No seat.    Assume 2\" thick back."}]
[null,1,null,null,null,null,null,null,null,null,null,null,null,null,null,{"$f":"INDEX(P433:P445,MATCH(TRUE(),$B$433:$B$445,0))","v":""},null,null,null,null,null,{"$f":"INDEX(V433:V445,MATCH(TRUE(),$B$433:$B$445,0))","v":0},{"$f":"INDEX(W433:W445,MATCH(TRUE(),$B$433:$B$445,0))","v":0},null,null,null,"Retail",null,null,"Used",null,null,null,null,null,null,{"$f":"AK429","v":0},null,null,null,null,null,null,null,null,null,null,0,0]
[null,{"$f":"B432=1","v":true},null,{"$f":"AND($F$434<>$F$411,B433)","v":false},null,null,null,null,null,{"$f":"IF(D433,\"¢\",\"\")","v":""},"No Hip Guide Bracket",null,null,null,null,{"$f":"IF(SEATIDX<>1,Seat!$BJ$2,\"\")","v":""},null,null,null,null,null,0,0,"Item #",{"$f":"$L$2","v":"Ext Retail"},null,null,null,null,null,null,"hip width=",{"$f":"IF(AND($B$432<>1,SEATIDX<>1),Design!$BA$140+$AG434-2*$AG435-2*$AG436,\"N/A\")","v":"N/A"},null,null,{"$f":"IFERROR(VLOOKUP($AK432+1,$AK434:$AP445,1,FALSE),AK432)","v":0},null,{"$f":"IFERROR(VLOOKUP($AK432+1,$AK434:$AP445,2,FALSE),\"\")","v":""},{"$f":"IFERROR(VLOOKUP($AK432+1,$AK434:$AP445,3,FALSE),\"\")","v":""},{"$f":"IFERROR(VLOOKUP($AK432+1,$AK434:$AP445,4,FALSE),\"\")","v":""},{"$f":"IFERROR(VLOOKUP($AK432+1,$AK434:$AP445,5,FALSE),\"\")","v":""},null,null,null,null,{"$f":"AJ433","v":0},"COMT","","","Hip guide brkt"]
[null,{"$f":"B432=2","v":false},null,false,null,{"$f":"COUNTIF(B434:C445,TRUE)","v":0},null,null,null,2,{"$f":"IF(D434,\"¢\",\"\")","v":""},"3x5 Flush fixed bracket",null,null,null,{"$f":"IF(AND(SEATIDX>1,NOT(Design!$BE$140)),IF($W434<Seat!$BS$4,\"Brkt too short\",\"\")&IF($V434>(Seat!$BS$4+$V$407),\"Brkt too tall\",\"\"),\"\")","v":""},null,null,null,null,null,5,3,50171,{"$f":"MAX($J434,1)*AD434","v":44},null,22,null,null,{"$f":"CHOOSE($K$2,AA434,$P$5*AA434,$P$6*AA434)","v":22},null,"add for foam=",0.25,null,null,null,{"$f":"IF(AM434=0,AK432,AK432+1)","v":0},{"$f":"IF($D434,$AA$407,IF(LEFT($P434,1)=\"B\",$AD$407,\"\"))","v":""},{"$f":"IF($B434,$X434,0)","v":0},{"$f":"IF($B434,$J434,0)","v":0},{"$f":"\"Hip guide: \"&L434&Seat!$BJ$3","v":"Hip guide: 3x5 Flush fixed bracket (must fit 0\" thick seat)"},{"$f":"IF($B434,$Y434,0)","v":0},null,"Incl w/pad"]
[null,{"$f":"B432=3","v":false},null,false,null,null,null,null,null,2,{"$f":"IF(D435,\"¢\",\"\")","v":""},"3x6 Flush fixed bracket",null,null,null,{"$f":"IF(AND(SEATIDX>1,NOT(Design!$BE$140)),IF($W435<Seat!$BS$4,\"Brkt too short\",\"\")&IF($V435>(Seat!$BS$4+$V$407),\"Brkt too tall\",\"\"),\"\")","v":""},null,null,null,null,null,6,4,50172,44,null,22,null,null,22,null,"thickness=",{"$f":"1+IF($B$423,Pads!$E$15,0)","v":1},null,null,null,{"$f":"IF(AM435=0,AK434,AK434+1)","v":0},{"$f":"IF($D435,$AA$407,IF(LEFT($P435,1)=\"B\",$AD$407,\"\"))","v":""},0,0,{"$f":"\"Hip guide: \"&L435&Seat!$BJ$3","v":"Hip guide: 3x6 Flush fixed bracket (must fit 0\" thick seat)"},0,null,"Incl w/pad"]
[null,{"$f":"B432=4","v":false},null,false,null,null,null,null,null,2,"","3x8 Flush fixed bracket",null,null,null,{"$f":"IF(AND(SEATIDX>1,NOT(Design!$BE$140)),IF($W436<Seat!$BS$4,\"Brkt too short\",\"\")&IF($V436>(Seat!$BS$4+$V$407),\"Brkt too tall\",\"\"),\"\")","v":""},null,null,null,null,null,8,6,50173,44,null,22,null,null,22,null,"offset=",{"$f":"MAX(AG437:AG445)","v":0},null,null,null,{"$f":"IF(AM436=0,AK435,AK435+1)","v":0},"",0,0,{"$f":"\"Hip guide: \"&L436&Seat!$BJ$3","v":"Hip guide: 3x8 Flush fixed bracket (must fit 0\" thick seat)"},0,null,"Incl w/pad"]
[null,{"$f":"B432=5","v":false},null,false,null,null,null,null,null,2,"","1\" offset-in fixed bracket",null,null,null,{"$f":"IF(AND(SEATIDX>1,NOT(Design!$BE$140)),IF($W437<Seat!$BS$4,\"Brkt too short\",\"\")&IF($V437>(Seat!$BS$4+$V$407),\"Brkt too tall\",\"\"),\"\")","v":""},null,null,null,null,null,{"$f":"IF(X437=50175,4,IF(X437=50176,5,6))","v":5},{"$f":"IF(X437=50179,3,2.25)","v":2.25},{"$f":"IF(Seat!$BS$4<=2.25,IF($V$407<4,50175,50176),50179)","v":50176},44,null,22,null,null,22,null,null,{"$f":"IF($B437,1,0)","v":0},null,null,null,{"$f":"IF(AM437=0,AK436,AK436+1)","v":0},"",0,0,{"$f":"\"Hip guide: \"&L437&Seat!$BJ$3","v":"Hip guide: 1\" offset-in fixed bracket (must fit 0\" thick seat)"},0,null,"Incl w/pad"]
[null,{"$f":"B432=6","v":false},null,false,null,null,null,null,null,2,"","2\" offset-in fixed bracket",null,null,null,{"$f":"IF(AND(SEATIDX>1,NOT(Design!$BE$140)),IF($W438<Seat!$BS$4,\"Brkt too short\",\"\")&IF($V438>(Seat!$BS$4+$V$407),\"Brkt too tall\",\"\"),\"\")","v":""},null,null,null,null,null,{"$f":"IF(X438=50166,4,IF(X438=50167,5,6))","v":5},{"$f":"IF(X438=50181,3,2.25)","v":2.25},{"$f":"IF(Seat!$BS$4<=2.25,IF($V$407<4,50166,50167),50181)","v":50167},44,null,22,null,null,22,null,null,{"$f":"IF($B438,2,0)","v":0},null,null,null,{"$f":"IF(AM438=0,AK437,AK437+1)","v":0},"",0,0,{"$f":"\"Hip guide: \"&L438&Seat!$BJ$3","v":"Hip guide: 2\" offset-in fixed bracket (must fit 0\" thick seat)"},0,null,"Incl w/pad"]
[null,{"$f":"B432=8","v":false},null,false,null,null,null,null,null,2,"","1\" offset-in adjustable angle brkt",null,null,null,{"$f":"IF(AND(SEATIDX>1,NOT(Design!$BE$140)),IF($W439<Seat!$BS$4,\"Brkt too short\",\"\")&IF($V439>(Seat!$BS$4+$V$407),\"Brkt too tall\",\"\"),\"\")","v":""},null,null,null,null,null,6,3,50235,{"$f":"MAX($J439,1)*AD439","v":260},null,130,null,null,130,null,null,{"$f":"IF($B439,1,0)","v":0},null,null,null,{"$f":"IF(AM439=0,AK438,AK438+1)","v":0},"",0,0,{"$f":"\"Hip guide: \"&L439&Seat!$BJ$3","v":"Hip guide: 1\" offset-in adjustable angle brkt (must fit 0\" thick seat)"},0,null,"Incl w/pad"]
[null,{"$f":"B432=9","v":false},null,false,null,null,null,null,null,2,"","2\" offset-in adjustable angle brkt",null,null,null,{"$f":"IF(AND(SEATIDX>1,NOT(Design!$BE$140)),IF($W440<Seat!$BS$4,\"Brkt too short\",\"\")&IF($V440>(Seat!$BS$4+$V$407),\"Brkt too tall\",\"\"),\"\")","v":""},null,null,null,null,null,6,3,50236,{"$f":"MAX($J440,1)*AD440","v":260},null,130,null,null,130,null,null,{"$f":"IF($B440,2,0)","v":0},null,null,null,0,"",0,0,{"$f":"\"Hip guide: \"&L440&Seat!$BJ$3","v":"Hip guide: 2\" offset-in adjustable angle brkt (must fit 0\" thick seat)"},0,null,"Incl w/pad"]
[null,{"$f":"B432=7","v":false},null,false,null,null,null,null,null,2,"","Removable flush bracket",null,null,null,{"$f":"IF(AND(SEATIDX>1,NOT(Design!$BE$140)),IF($W441<Seat!$BS$4,\"Brkt too short\",\"\")&IF($V441>(Seat!$BS$4+$V$407),\"Brkt too tall\",\"\"),\"\")","v":""},null,null,null,null,null,0,4.5,50240,270,null,135,null,null,135,null,null,null,null,null,null,0,"",0,0,{"$f":"\"Hip guide: \"&L441&Seat!$BJ$3","v":"Hip guide: Removable flush bracket (must fit 0\" thick seat)"},0,null,"E1028"]
[null,{"$f":"B432=10","v":false},null,false,null,null,null,null,null,2,"","Removable 1\" offset-in brkt",null,null,null,{"$f":"IF(AND(SEATIDX>1,NOT(Design!$BE$140)),IF($W442<Seat!$BS$4,\"Brkt too short\",\"\")&IF($V442>(Seat!$BS$4+$V$407),\"Brkt too tall\",\"\"),\"\")","v":""},null,null,null,null,null,0,4.5,50241,270,null,135,null,null,135,null,null,{"$f":"IF($B442,1,0)","v":0},null,null,null,0,"",0,0,{"$f":"\"Hip guide: \"&L442&Seat!$BJ$3","v":"Hip guide: Removable 1\" offset-in brkt (must fit 0\" thick seat)"},0,null,"E1028"]
[null,{"$f":"B$432=11","v":false},null,false,null,null,null,null,null,2,"","Removable 1-1/2\" offset-in brkt",null,null,null,{"$f":"IF(AND(SEATIDX>1,NOT(Design!$BE$140)),IF($W443<Seat!$BS$4,\"Brkt too short\",\"\")&IF($V443>(Seat!$BS$4+$V$407),\"Brkt too tall\",\"\"),\"\")","v":""},null,null,null,null,null,0,4.5,50245,270,null,135,null,null,135,null,null,{"$f":"IF($B443,1.5,0)","v":0},null,null,null,0,"",0,0,{"$f":"\"Hip guide: \"&L443&Seat!$BJ$3","v":"Hip guide: Removable 1-1/2\" offset-in brkt (must fit 0\" thick seat)"},0,null,"E1028"]
[null,{"$f":"B$432=12","v":false},null,false,null,null,null,null,null,2,"","Removable 2\" offset-in brkt",null,null,null,{"$f":"IF(AND(SEATIDX>1,NOT(Design!$BE$140)),IF($W444<Seat!$BS$4,\"Brkt too short\",\"\")&IF($V444>(Seat!$BS$4+$V$407),\"Brkt too tall\",\"\"),\"\")","v":""},null,null,null,null,null,0,4.5,50242,{"$f":"MAX($J444,1)*AD444","v":270},null,135,null,null,135,null,null,{"$f":"IF($B444,2,0)","v":0},null,null,null,0,"",0,0,{"$f":"\"Hip guide: \"&L444&Seat!$BJ$3","v":"Hip guide: Removable 2\" offset-in brkt (must fit 0\" thick seat)"},0,null,"E1028"]
[null,{"$f":"B$432=13","v":false},null,{"$f":"AND($F$434<>$F$411,B445)","v":false},0,null,null,null,null,2,{"$f":"IF(D445,\"¢\",\"\")","v":""},{"$f":"LOCKGUIDEMSG","v":"Locking removable brkt"},null,null,null,null,{"$f":"IF(AND(SEATIDX>1,NOT(Design!$BE$140),ISERROR('Hip Guides'!C2)),\"Locking removable brkt too short\",\"\")","v":""},null,null,null,null,0,0,{"$f":"IF(WANTCHANNEL=1,IFERROR('Hip Guides'!$C$2,'Hip Guides'!$O$2),IFERROR('Hip Guides'!$C$19,'Hip Guides'!$O$19))","v":34320},{"$f":"MAX($J445,1)*AD445","v":420},null,{"$f":"CHOOSE(WANTCHANNEL,210,220)","v":210},"formula",null,210,null,null,{"$f":"IF($B445,'Hip Guides'!$S$3,0)","v":0},null,null,null,{"$f":"IF(AM445=0,AK444,AK444+1)","v":0},{"$f":"IF($D445,$AA$407,IF(LEFT($Q445,1)=\"B\",$AD$407,\"\"))","v":""},0,0,{"$f":"\"Hip guide: \"&SUBSTITUTE('Hip Guides'!$P$14,\"FLUSH\",\"\")&Seat!$BJ$3","v":"Hip guide: Locking removable brkt (must fit 0\" thick seat)"},0,null,"E1028",null,null,null,{"$f":"AM445","v":0},0]
[null,null,null,null,null,null,null,null,null,null,null,{"$f":"Q445","v":""},null,null,null,null,null,null,null,null,null,null,null,null,null,null,null,null,null,null,null,null,null,null,null,null,null,null,null,null,null,null,null,null,null,null,null,0,0]
[null,null,null,null,null,null,null,null,null,null,null,null,null,null,null,"ABDUCTOR",null,null,null,null,null,null,null,{"$f":"IF(D448,\"ISSUES REVIEWED?\",\"     Issues reviewed?\")","v":"     Issues reviewed?"},null,null,{"$f":"IF(AB447,\"+\",\">\")","v":">"},false,"<-allow?",{"$f":"IF(AB447,\"--\",\"?\")","v":"?"},null,null,null,null,null,null,null,null,null,null,null,null,null,null,null,null,null,0,0]
[null,1,null,{"$f":"COUNTIF(D450:D460,TRUE)>0","v":false},null,{"$f":"F450+F459","v":0},null,null,null,null,null,null,null,null,null,null,null,null,null,null,null,null,null,null,null,null,null,null,null,null,null,null,null,null,null,null,{"$f":"AK445","v":0},null,null,null,null,null,null,null,null,null,null,0,0]
[null,{"$f":"B448=1","v":true},null,{"$f":"AND($F$450<>$F$459,B449)","v":false},null,null,null,null,null,{"$f":"IF(D449,\"¢\",\"\")","v":""},"No Abductor Pad",null,null,{"$f":"IF(AND(Design!$AD$50,'Pick List'!$F$448>0),\"**Abductor T-nuts omitted on DESIGN screen.**\",\"\")","v":""},null,null,null,null,null,null,null,null,null,"Item #",{"$f":"$L$2","v":"Ext Retail"},null,"Retail","Prim","Cost","Used",null,null,null,null,null,{"$f":"IFERROR(VLOOKUP($AK448+1,$AK450:$AP454,1,FALSE),AK448)","v":0},null,{"$f":"IFERROR(VLOOKUP($AK448+1,$AK450:$AP454,2,FALSE),\"\")","v":""},{"$f":"IFERROR(VLOOKUP($AK448+1,$AK450:$AP454,3,FALSE),\"\")","v":""},{"$f":"IFERROR(VLOOKUP($AK448+1,$AK450:$AP454,4,FALSE),\"\")","v":""},{"$f":"IFERROR(VLOOKUP($AK448+1,$AK450:$AP454,5,FALSE),\"\")","v":""},null,null,null,null,{"$f":"AJ449","v":0},{"$f":"IF(AT449>AT433,\"ABD\",\"COMT\")","v":"COMT"},{"$f":"AM449&\".00\"","v":".00"},"",{"$f":"IF($B$454,\"Custom abductor pad\",\"Abductor pad\")","v":"Abductor pad"},null,{"$f":"IF($B$454,SUBSTITUTE(SUBSTITUTE($L$456,quote,\" in.\"),comma,\" -\"),\"\")","v":""},{"$f":"IF($B$454,$Q$454,\"\")","v":""},{"$f":"IF($B$454,$T$454,\"\")","v":""}]
[null,{"$f":"B448=2","v":false},null,{"$f":"AND(B450,OR(Design!$AD$50,$F$450<>$F$459))","v":false},null,{"$f":"COUNTIF(B450:C454,TRUE)","v":0},null,null,null,null,{"$f":"IF(D450,\"¢\",\"\")","v":""},"Gel 4.25L x 3H x 2.5 Trim pad with cover",null,null,null,null,null,null,null,null,null,null,null,50288,{"$f":"MAX(J450,1)*AD450","v":145},null,145,null,null,{"$f":"CHOOSE($K$2,AA450,$P$5*AA450,$P$6*AA450)","v":145},null,null,null,null,null,null,{"$f":"IF(AM450=0,AK448,AK448+1)","v":0},{"$f":"IF($D450,$AA$447,\"\")","v":""},{"$f":"IF($B450,$X450,0)","v":0},{"$f":"MAX($J450,1)","v":1},{"$f":"\"Abductor: \"&$L450","v":"Abductor: Gel 4.25L x 3H x 2.5 Trim pad with cover"},{"$f":"IF($B450,$Y450,0)","v":0},null,"E0957"]
[null,{"$f":"B448=3","v":false},null,{"$f":"AND(B451,OR(Design!$AD$50,$F$450<>$F$459))","v":false},null,null,null,null,null,null,{"$f":"IF(D451,\"¢\",\"\")","v":""},"Small 4L x 3H x 3.5 -3 taper pad with cover",null,null,null,null,null,null,null,null,null,null,null,50285,{"$f":"MAX(J451,1)*AD451","v":135},null,135,null,null,{"$f":"CHOOSE($K$2,AA451,$P$5*AA451,$P$6*AA451)","v":135},null,null,null,null,null,null,{"$f":"IF(AM451=0,AK450,AK450+1)","v":0},{"$f":"IF($D451,$AA$447,\"\")","v":""},{"$f":"IF($B451,$X451,0)","v":0},{"$f":"MAX($J451,1)","v":1},{"$f":"\"Abductor: \"&$L451","v":"Abductor: Small 4L x 3H x 3.5 -3 taper pad with cover"},{"$f":"IF($B451,$Y451,0)","v":0},null,"E0957"]
[null,{"$f":"B448=4","v":false},null,{"$f":"AND(B452,OR(Design!$AD$50,$F$450<>$F$459))","v":false},null,null,null,null,null,null,"","Medium 6L x 3H x 4 -3 taper pad with cover",null,null,null,null,null,null,null,null,null,null,null,50286,{"$f":"MAX(J452,1)*AD452","v":135},null,135,null,null,{"$f":"CHOOSE($K$2,AA452,$P$5*AA452,$P$6*AA452)","v":135},null,null,null,null,null,null,{"$f":"IF(AM452=0,AK451,AK451+1)","v":0},{"$f":"IF($D452,$AA$447,\"\")","v":""},{"$f":"IF($B452,$X452,0)","v":0},{"$f":"MAX($J452,1)","v":1},{"$f":"\"Abductor: \"&$L452","v":"Abductor: Medium 6L x 3H x 4 -3 taper pad with cover"},{"$f":"IF($B452,$Y452,0)","v":0},null,"E0957"]
[null,{"$f":"B448=5","v":false},null,{"$f":"AND(B453,OR(Design!$AD$50,$F$450<>$F$459))","v":false},null,null,null,null,null,null,"","Large 6L x 3H x 4.5 -3 taper pad with cover",null,null,null,null,null,null,null,null,null,null,null,50287,{"$f":"MAX(J453,1)*AD453","v":135},null,135,null,null,{"$f":"CHOOSE($K$2,AA453,$P$5*AA453,$P$6*AA453)","v":135},null,null,null,null,null,null,{"$f":"IF(AM453=0,AK452,AK452+1)","v":0},{"$f":"IF($D453,$AA$447,\"\")","v":""},{"$f":"IF($B453,$X453,0)","v":0},{"$f":"MAX($J453,1)","v":1},{"$f":"\"Abductor: \"&$L453","v":"Abductor: Large 6L x 3H x 4.5 -3 taper pad with cover"},{"$f":"IF($B453,$Y453,0)","v":0},null,"E0957"]
[null,{"$f":"B448=6","v":false},null,{"$f":"AND(B454,OR(Design!$AD$50,$F$450<>$F$459))","v":false},null,null,null,null,null,null,"",{"$f":"IF(B454,\"Custom size \"&Q454&\"\"\" W x \"&T454&\"\"\" L\",\"Custom size abductor pad\")","v":"Custom size abductor pad"},null,null,null,"Max width:",null,null,"Length:",null,null,null,null,50037,{"$f":"MAX(J454,1)*AD454","v":369},null,369,{"$f":"$P$5*AA454","v":369},126,{"$f":"INDEX(AA454:AC454,1,$K$2)","v":369},"fixed cost 8/1/.21",null,null,null,null,null,{"$f":"IF(AM454=0,AK453,AK453+1)","v":0},{"$f":"IF($D454,$AA$447,\"\")","v":""},{"$f":"IF($B454,$X454,0)","v":0},{"$f":"MAX($J454,1)","v":1},{"$f":"\"Abductor: \"&$L454&\" \"&$L$456","v":"Abductor: Custom size abductor pad "},{"$f":"IF($B454,$Y454,0)","v":0},null,"E0957"]
[null,null,null,null,null,null,null,null,null,null,null,null,null,null,null,null,null,null,null,null,null,null,null,null,null,null,null,null,".",null,null,null,null,null,null,null,null,null,null,null,null,null,null,null,null,null,null,{"$f":"AM455","v":0},{"$f":"AN455","v":0}]
[null,null,null,null,null,null,null,null,null,null,null,null,null,null,null,null,null,null,null,null,null,null,null,null,null,null,null,null,null,null,null,null,null,null,null,null,null,null,null,null,null,null,null,null,null,null,null,0,0]
[null,1,null,null,null,null,null,null,null,null,null,null,null,null,null,null,null,null,null,null,null,null,null,null,null,null,null,null,null,null,null,null,null,null,null,null,null,null,null,null,null,null,null,null,null,null,null,0,0]
[null,{"$f":"B457=1","v":true},null,{"$f":"AND($F$450<>$F$459,B458)","v":false},null,null,null,null,null,{"$f":"IF(D458,\"¢\",\"\")","v":""},"No Abductor Hardware",null,null,null,null,null,null,null,null,null,null,null,null,"Item #",{"$f":"$L$2","v":"Ext Retail"},null,"Retail",null,null,"Used",null,null,null,null,null,null,{"$f":"AK454","v":0},{"$f":"IFERROR(VLOOKUP($AK458+1,$AK459:$AP460,2,FALSE),\"\")","v":""},{"$f":"IFERROR(VLOOKUP($AK458+1,$AK459:$AP460,3,FALSE),\"\")","v":""},{"$f":"IFERROR(VLOOKUP($AK458+1,$AK459:$AP460,4,FALSE),\"\")","v":""},{"$f":"IFERROR(VLOOKUP($AK458+1,$AK459:$AP460,5,FALSE),\"\")","v":""}]
[null,{"$f":"B457=2","v":false},null,{"$f":"AND(B459,OR(Design!$AD$50,$F$450<>$F$459))","v":false},null,{"$f":"COUNTIF(B459:C460,TRUE)","v":0},null,null,null,null,{"$f":"IF(D459,\"¢\",\"\")","v":""},"Flip-down hardware",null,null,null,null,null,null,null,null,null,null,null,50180,{"$f":"MAX(J459,1)*AD459","v":172},null,172,null,null,{"$f":"CHOOSE($K$2,AA459,$P$5*AA459,$P$6*AA459)","v":172},null,null,null,null,null,null,{"$f":"IF(AM459=0,AK458,AK458+1)","v":0},{"$f":"IF($D459,$AA$447,\"\")","v":""},{"$f":"IF($B459,$X459,0)","v":0},{"$f":"MAX($J459,1)","v":1},{"$f":"\"Abductor: \"&L459","v":"Abductor: Flip-down hardware"},{"$f":"IF($B459,$Y459,0)","v":0},null,"E1028",null,{"$f":"AK459","v":0},{"$f":"IF(AT459>AT449,IF(AU449=\"COMT\",\"ABD\",\"ABDM\"),AU449)","v":"COMT"},{"$f":"AM459&\".00\"","v":"0.00"},1,"Abductor hdw"]
["seat too thick",{"$f":"B457=3","v":false},null,{"$f":"OR(AND(B460,OR(Design!$AD$50,$F$450<>$F$459,$A$461)))","v":false},null,null,null,null,null,null,{"$f":"IF(D460,\"¢\",\"\")","v":""},{"$f":"\"Push button hardware for \"&IF($W$460>0,$W$460,(SEATBASETHICK+Seat!$BN$6))&quote&\" thick seat\"","v":"Push button hardware for 2\" thick seat"},null,null,null,null,null,null,null,null,null,{"$f":"IF($A$461,\"Max seat thickness for PB hdw is 5.5 in.       \",IF(AND($B$460,$A$463),\"Override total seat thickness for PB hdw:\",\"\"))","v":""},null,{"$f":"IF($W$460>0,CHOOSE(MATCH($W$460,{0,1.625,3,4.25,5.6}),\"50700\",\"50700\",\"50701\",\"50702\",\"N/A \"),CHOOSE(MATCH(SEATBASETHICK+Seat!$BN$6,{0,1.625,3,4.25,5.6}),\"50700\",\"50700\",\"50701\",\"50702\",\"N/A\"))","v":"50700"},{"$f":"MAX(J460,1)*AD460","v":264},null,264,null,null,{"$f":"CHOOSE($K$2,AA460,$P$5*AA460,$P$6*AA460)","v":264},null,null,null,null,null,null,{"$f":"IF(AM460=0,AK459,AK459+1)","v":0},{"$f":"IF($D460,$AA$447,\"\")","v":""},{"$f":"IF($B460,$X460,0)","v":0},{"$f":"MAX($J460,1)","v":1},{"$f":"\"Abductor: \"&L460","v":"Abductor: Push button hardware for 2\" thick seat"},{"$f":"IF($B460,$Y460,0)","v":0},null,"E1028",null,{"$f":"AK460","v":0},{"$f":"IF(AT460>AT459,IF(AU459=\"COMT\",\"ABD\",\"ABDM\"),AU459)","v":"COMT"},{"$f":"AM460&\".00\"","v":"0.00"},1,"Abductor hdw"]
[{"$f":"OR($W$460> 5.5,(SEATBASETHICK+Seat!$BN$6)>5.5)","v":false},null,null,null,null,null,null,null,null,null,null,null,null,null,null,null,null,null,null,null,null,null,null,null,null,null,null,null,null,null,null,null,null,null,null,null,null,null,null,null,null,null,null,null,null,null,null,0,0]
["Need seat thickness",null,null,null,null,null,null,null,null,null,null,null,null,null,null,"ADDUCTORS",null,null,null,null,null,null,null,{"$f":"IF(D463,\"ISSUES REVIEWED?\",\"     Issues reviewed?\")","v":"     Issues reviewed?"},null,null,{"$f":"IF(AB462,\"+\",\">\")","v":">"},false,"<-allow?",{"$f":"IF(AB462,\"--\",\"?\")","v":"?"},null,null,null,null,null,null,null,null,null,null,null,null,null,null,null,null,null,0,0]
[{"$f":"AND(SEATIDX<>1,NOT(FOAMSREQD))","v":false},1,null,{"$f":"COUNTIF(D464:D490,TRUE)>0","v":false},null,null,null,null,null,null,null,null,null,null,null,null,null,null,null,null,null,{"$f":"INDEX(V464:V470,MATCH(TRUE(),$B$464:$B$470,0))","v":4},{"$f":"INDEX(W464:W470,MATCH(TRUE(),$B$464:$B$470,0))","v":5},null,null,null,78,"starting retail price for standard pad",null,null,null,null,null,null,null,null,null,null,null,null,null,null,null,null,null,null,null,0,0]
[null,{"$f":"B463=1","v":true},null,{"$f":"AND($F$465<>$F$480,B464)","v":false},null,null,null,null,null,{"$f":"IF(D464,\"¢\",\"\")","v":""},"No Adductor Pad",null,null,null,null,null,null,null,null,null,null,4,5,"Item #",{"$f":"$L$2","v":"Ext Retail"},null,"Retail",null,null,"Used",null,null,null,null,null,null,{"$f":"AK460","v":0},{"$f":"IFERROR(VLOOKUP($AK464+1,$AK465:$AP473,2,FALSE),\"\")","v":""},{"$f":"IFERROR(VLOOKUP($AK464+1,$AK465:$AP473,3,FALSE),\"\")","v":""},{"$f":"IFERROR(VLOOKUP($AK464+1,$AK465:$AP473,4,FALSE),\"\")","v":""},{"$f":"IFERROR(VLOOKUP($AK464+1,$AK465:$AP473,5,FALSE),\"\")","v":""}]
[null,{"$f":"B463=2","v":false},null,false,null,{"$f":"COUNTIF(B465:C470,TRUE)","v":0},null,null,null,2,{"$f":"IF(D465,\"¢\",\"\")","v":""},{"$f":"IF($B465,$C$477,\"\")&\"3 x 4 pad\"","v":"3 x 4 pad"},null,null,null,null,null,null,null,null,null,3,4,{"$f":"IF($B465,CHOOSE($C$475,\"50270\",$AF$466,$AF$469),\"50270\")","v":"50270"},{"$f":"MAX($J465,1)*AD465","v":156},null,{"$f":"IF($B465,CHOOSE($C$475,$AA$463,$AG$466,$AG$469),$AA$463)","v":78},null,null,{"$f":"CHOOSE($K$2,AA465,$P$5*AA465,$P$6*AA465)","v":78},null,"TrU-Spec",null,null,null,null,{"$f":"IF(AM465=0,AK464,AK464+1)","v":0},{"$f":"IF($D465,$AA$462,\"\")","v":""},{"$f":"IF($B465,$X465,0)","v":0},{"$f":"IF($B465,$J465,0)","v":0},{"$f":"\"Adductor: \"&$L465","v":"Adductor: 3 x 4 pad"},{"$f":"IF($B465,$Y465,0)","v":0},null,"E0956",null,{"$f":"AK465","v":0},{"$f":"IF($B$472,\"ADD\",\"COMT\")","v":"COMT"},0,0,{"$f":"IF($B$472,\"Custom adductor pad\",\"Adductor Pad\")","v":"Adductor Pad"},null,null,3,4]
[null,{"$f":"B463=3","v":false},null,false,null,null,null,null,null,2,{"$f":"IF(D466,\"¢\",\"\")","v":""},{"$f":"IF($B466,$C$477,\"\")&\"3 x 5 pad\"","v":"3 x 5 pad"},null,null,null,null,null,null,null,null,null,3,5,{"$f":"IF($B466,CHOOSE($C$475,\"50271\",$AF$466,$AF$469),\"50271\")","v":"50271"},156,null,{"$f":"IF($B466,CHOOSE($C$475,$AA$463,$AG$466,$AG$469),$AA$463)","v":78},null,null,78,null,73004,109,null,null,null,0,"",0,0,"Adductor: 3 x 5 pad",0,null,"E0956",null,0,{"$f":"IF($B$472,\"ADD\",\"COMT\")","v":"COMT"},0,0,{"$f":"IF($B$472,\"Custom adductor pad\",\"Adductor Pad\")","v":"Adductor Pad"},null,null,3,5]
[null,{"$f":"B463=4","v":false},null,false,null,null,null,null,null,2,"",{"$f":"IF($B467,$C$477,\"\")&\"4 x 5 pad\"","v":"4 x 5 pad"},null,null,null,null,null,null,null,null,null,4,5,{"$f":"IF($B467,CHOOSE($C$475,\"50272\",$AF$466,$AF$469),\"50272\")","v":"50272"},156,null,{"$f":"IF($B467,CHOOSE($C$475,$AA$463,$AG$466,$AG$469),$AA$463)","v":78},null,null,78,null,null,null,null,null,null,0,"",0,0,"Adductor: 4 x 5 pad",0,null,"E0956",null,0,{"$f":"IF($B$472,\"ADD\",\"COMT\")","v":"COMT"},0,0,{"$f":"IF($B$472,\"Custom adductor pad\",\"Adductor Pad\")","v":"Adductor Pad"},null,null,4,5]
[null,{"$f":"B463=5","v":false},null,false,null,null,null,null,null,2,"",{"$f":"IF($B468,$C$477,\"\")&\"4 x 6 pad\"","v":"4 x 6 pad"},null,null,null,null,null,null,null,null,null,4,6,{"$f":"IF($B468,CHOOSE($C$475,\"50273\",$AF$466,$AF$469),\"50273\")","v":"50273"},156,null,{"$f":"IF($B468,CHOOSE($C$475,$AA$463,$AG$466,$AG$469),$AA$463)","v":78},null,null,78,null,"Custom",null,null,null,null,0,"",0,0,"Adductor: 4 x 6 pad",0,null,"E0956",null,0,{"$f":"IF($B$472,\"ADD\",\"COMT\")","v":"COMT"},0,0,{"$f":"IF($B$472,\"Custom adductor pad\",\"Adductor Pad\")","v":"Adductor Pad"},null,null,4,6]
[null,{"$f":"B463=6","v":false},null,false,null,null,null,null,null,2,"",{"$f":"IF($B469,$C$477,\"\")&\"4 x 8 pad\"","v":"4 x 8 pad"},null,null,null,null,null,null,null,null,null,4,8,{"$f":"IF($B469,CHOOSE($C$475,\"50275\",$AF$466,$AF$469),\"50275\")","v":"50275"},156,null,{"$f":"IF($B469,CHOOSE($C$475,$AA$463,$AG$466,$AG$469),$AA$463)","v":78},null,null,78,null,73005,168,null,null,null,0,"",0,0,"Adductor: 4 x 8 pad",0,null,"E0956",null,0,{"$f":"IF($B$472,\"ADD\",\"COMT\")","v":"COMT"},0,0,{"$f":"IF($B$472,\"Custom adductor pad\",\"Adductor Pad\")","v":"Adductor Pad"},null,null,4,8]
[null,{"$f":"B463=7","v":false},null,{"$f":"OR(AND($F$465<>$F$480,B470),AND(B470,OR(Q470=0,T470=0)))","v":false},null,null,null,null,null,2,"",{"$f":"IF(B470,$C$477&\"flat \"&Q470&\" W x \"&T470&\" L pad\",\"TrU-Spec pad, specify size\")","v":"TrU-Spec pad, specify size"},null,null,null,"Width:",null,null,"Length:",null,{"$f":"IF($T$471,\"\",\"\")","v":""},{"$f":"Q470","v":0},{"$f":"T470","v":0},{"$f":"IF($B470,CHOOSE($C$475,$AF$466,$AF$466,$AF$469),$AF$466)","v":73004},218,null,{"$f":"IF($B470,CHOOSE($C$475,$AG$466,$AG$466,$AG$469),$AG$466)","v":109},null,null,109,null,"(unused, all mods in truspec)",null,null,null,null,0,"",0,0,"Adductor: TrU-Spec pad, specify size",0,null,"E0956","<oversize msg blanked out",0,"ADD",0,0,"Custom adductor",null,null,{"$f":"Q470","v":0},{"$f":"T470","v":0}]
[null,null,null,null,null,null,null,null,null,null,null,null,null,null,null,null,null,null,null,{"$f":"AND($B$470,OR($Q$470>4,$T$470>=10))","v":false},null,null,null,null,null,null,null,null,null,null,null,null,null,null,null,null,0]
["any mod->",{"$f":"OR(B470,B473,AND(B474,Pads!$M$4),AND(B475,Pads!$T$4),B477)","v":false},{"$f":"AND(B472,NOT(B473),NOT(B477))","v":false},null,null,{"$f":"COUNTIF(D473:D473,TRUE)","v":0},null,null,null,null,{"$f":"IF(AND($B$472,NOT($B$470)),$C$477&\"pads incl. fabric changes, other mods at additional cost\",IF($B$472,\"TrU-Spec pads incl. fabric changes, other mods at additional cost\",\"Available modifications:\"))","v":"Available modifications:"},null,null,null,null,null,null,null,null,null,null,{"$f":"IF($V$463>4,\"Large\",IF($W$463>=14,\"Large\",IF($W$463>=10,\"Medium\",\"Small\")))","v":"Small"},{"$f":"IF($V$463>4,\"71103\",IF($W$463>=14,\"71103\",IF($W$463>=10,\"71102\",\"71101\")))","v":"71101"},"Item #","Per Pad",null,{"$f":"IF($V$463>4,152,IF($W$463>=14,152,IF($W$463>=10,138,124)))","v":124},"<-any custom price",null,{"$f":"CHOOSE($K$2,AA472,$P$5*AA472,$P$6*AA472)","v":124},null,null,null,null,null,null,0,null,{"$f":"IF(AND($B472,$AN472>99),$W472,0)","v":0},{"$f":"SUM($AN$465:$AN$470)","v":0},{"$f":"\"Adductor: \"&$V472&\" base, foam and pad\"","v":"Adductor: Small base, foam and pad"},null,null,null,null,null,"ADDM",{"$f":"AM472","v":0},{"$f":"AN472","v":0},"Adductor size mod"]
[null,false,"surfc only",{"$f":"AND($B473,$F$465=0)","v":false},null,null,null,null,null,null,{"$f":"IF(D473,\"¢\",\"\")","v":""},"Additional layer:",null,null,null,null,null,null,null,null,null,null,null,{"$f":"Pads!$C$29","v":71068},{"$f":"AD473","v":26},null,{"$f":"Pads!$D$29","v":26},null,null,{"$f":"CHOOSE($K$2,AA473,$P$5*AA473,$P$6*AA473)","v":26},null,null,null,null,null,null,0,{"$f":"IF($D473,$AA$462,\"\")","v":""},{"$f":"IF(AND($B473,$AN473>0),$X473,0)","v":0},{"$f":"SUM($AN$465:$AN$470)","v":0},{"$f":"\"Adductor: Additional layer of \"&Pads!$B$29","v":"Adductor: Additional layer of 1/2\" extra soft visco foam"},{"$f":"IF($B473,$AN473*$Y473,0)","v":0},null," ",null,0,"ADDM",0,0,{"$f":"SUBSTITUTE(\"Additional \"&Pads!$B$29,quote,\" in.\")","v":"Additional 1/2 in. extra soft visco foam"},null,{"$f":"Pads!$F$29","v":"05875"},{"$f":"Pads!$E$29","v":0.5}]
[null,false,"Level",{"$f":"OR(AND($F$465=0,$B474),AND($B474,Pads!$V$3=1,Pads!$I$4=4))","v":false}," ",null,null,null,null,null,{"$f":"IF(D474,\"¢\",\"\")","v":""},"Pad contact surface:",null,null,null,null,null,null,null,{"$f":"\"Contact surface = \"&Pads!$J$4","v":"Contact surface = SMOOTH DARTEX"},null,null,null,{"$f":"IF($B474,Pads!$K$4,\"\")","v":""},{"$f":"AD474","v":0},null,{"$f":"0*$AA$17/2","v":0},"<zeroout",null,{"$f":"CHOOSE($K$2,AA474,$P$5*AA474,$P$6*AA474)","v":0},null,null,null,null,null,null,{"$f":"IF(AM474=0,AK473,AK473+1)","v":0},{"$f":"IF(D474,$AA$462,\"\")","v":""},{"$f":"IF(AND($B474,$AN474>0),IF(LEN($X474)<2,\"MISSING\",IF($X474<>\"Standard\",$X474,0)),0)","v":0},{"$f":"SUM($AN$465:$AN$470)","v":0},{"$f":"IF($B474,\"Adductor: \"&T474,\"\")","v":""},{"$f":"IF($B474,$AN474*$Y474,0)","v":0},null," ",null,{"$f":"AK474","v":0},"ADDM",0,0,"Contact surface"]
[null,false,{"$f":"IF(NOT($B$472),1,IF(OR(B473,AND(B474,Pads!$M$4),AND(B475,Pads!$T$4),$B$470,B477),2,3))","v":1},{"$f":"OR(AND($F$465=0,$B475),AND($B475,Pads!$V$3=1,Pads!$P$4=4))","v":false}," ",null,null,null,null,null,"","Non-contact surface:",null,null,null,null,null,null,null,{"$f":"\"Non-contact surface = \"&Pads!$Q$4","v":"Non-contact surface = NEOPRENE"},null,null,null,{"$f":"IF($B475,Pads!$R$4,\"\")","v":""},{"$f":"AD475","v":0},null,0,"<zero",null,{"$f":"CHOOSE($K$2,AA475,$P$5*AA475,$P$6*AA475)","v":0},null,null,null,null,null,null,{"$f":"IF(AM475=0,AK474,AK474+1)","v":0},{"$f":"IF(D475,$AA$462,\"\")","v":""},{"$f":"IF(AND($B475,$AN475>0),IF(LEN($X475)<2,\"MISSING\",IF($X475<>\"Standard\",$X475,0)),0)","v":0},{"$f":"SUM($AN$465:$AN$470)","v":0},{"$f":"IF($B475,\"Adductor: \"&T475,\"\")","v":""},{"$f":"IF($B475,$AN475*$Y475,0)","v":0},null," ",null,{"$f":"AK475","v":0},"ADDM",{"$f":"AM475","v":0},{"$f":"AN475","v":0},"Non-contact surface"]
[null,null,"Name",null,null,null,null,null,null,null,null,{"$f":"IF(ISBLANK($L$477),\"Enter description, retail price and item # below:\",\"Other modification:\")","v":"Other modification:"},null,null,null,null,null,null,null,null,null,null,"Retail/Pad","Item #","Per Pad"]
[null,false,{"$f":"CHOOSE($C$475,\"\",\"TrU-Spec \",\"Custom \")","v":""},{"$f":"AND($F$465=0,$B477)","v":false}," ",null,null,null,null,null,{"$f":"IF(D477,\"¢\",\"\")","v":""},"Mushroom foam",null,null,null,null,null,null,null,null,null,null,39,"71069",{"$f":"AD477","v":39},null,{"$f":"W477","v":39},null,null,{"$f":"CHOOSE($K$2,AA477,$P$5*AA477,$P$6*AA477)","v":39},null,null,null,null,null,null,{"$f":"IF(AM477=0,AK475,AK475+1)","v":0},{"$f":"IF(OR(D477,E477),$AA$462,\"\")","v":""},{"$f":"IF($B477,IF(LEN(X477)>0,$X477,\"UNK\"),0)","v":0},{"$f":"SUM($AN$465:$AN$470)","v":0},{"$f":"\"Adductor: \"&L477","v":"Adductor: Mushroom foam"},{"$f":"IF($B477,$AN477*$Y477,0)","v":0},null,null,null,{"$f":"AK477","v":0},"ADDM",{"$f":"AM477","v":0},{"$f":"AN477","v":0},{"$f":"SUBSTITUTE(SUBSTITUTE(L477,quote,\" in.\"),comma,\" -\")","v":"Mushroom foam"}]
[null,1,null,null,null,null,null,null,null,null,null,null,null,null,null,{"$f":"INDEX(P479:P490,MATCH(TRUE(),$B$479:$B$490,0))","v":""},null,null,null,null,null,{"$f":"INDEX(V479:V490,MATCH(TRUE(),$B$479:$B$490,0))","v":0},{"$f":"INDEX(W479:W490,MATCH(TRUE(),$B$479:$B$490,0))","v":0},null,null,null,null,null,null,null,null,null,null,null,null,null,{"$f":"AK477","v":0},null,null," ",null,null,null,null,null,null,null,0," "]
[null,{"$f":"B478=1","v":true},null,{"$f":"AND($F$465<>$F$480,B479)","v":false},null,null,null,null,null,{"$f":"IF(D479,\"¢\",\"\")","v":""},"No Adductor Hardware",null,null,null,null,{"$f":"IF(SEATIDX<>1,Seat!$BR$2,\"\")","v":""},null,null,null,null,null,0,0,"Item #",{"$f":"$L$2","v":"Ext Retail"},null,"Retail",null,null,"Used",null,null,null,null,null,{"$f":"IFERROR(VLOOKUP($AK478+1,$AK480:$AP490,1,FALSE),AK478)","v":0},null,{"$f":"IFERROR(VLOOKUP($AK478+1,$AK480:$AP490,2,FALSE),\"\")","v":""},{"$f":"IFERROR(VLOOKUP($AK478+1,$AK480:$AP490,3,FALSE),\"\")","v":""},{"$f":"IFERROR(VLOOKUP($AK478+1,$AK480:$AP490,4,FALSE),\"\")","v":""},{"$f":"IFERROR(VLOOKUP($AK478+1,$AK480:$AP490,5,FALSE),\"\")","v":""},null,null,null,null,{"$f":"AJ479","v":0},"COMT",{"$f":"AM479","v":""},{"$f":"AN479","v":""},"Adductor brkt"]
[null,{"$f":"B478=2","v":false},null,false,null,{"$f":"COUNTIF(B480:C490,TRUE)","v":0},null,null,null,2,{"$f":"IF(D480,\"¢\",\"\")","v":""},"3x5 Flush fixed bracket",null,null,null,{"$f":"IF(AND(SEATIDX>1,NOT(Design!$BE$140)),IF($W480<Seat!$BI$4,\"Too short\",\"\")&IF($V480>(Seat!$BI$4+$V$463),\"Too tall\",\"\"),\"\")","v":""},null,null,null,null,null,5,3,50171,{"$f":"MAX(J480,1)*AD480","v":44},null,22,null,null,{"$f":"CHOOSE($K$2,AA480,$P$5*AA480,$P$6*AA480)","v":22},null,null,null,null,null,null,{"$f":"IF(AM480=0,AK478,AK478+1)","v":0},{"$f":"IF($D480,$AA$462,IF(LEFT($P480,1)=\"T\",$AD$462,\"\"))","v":""},{"$f":"IF($B480,$X480,0)","v":0},{"$f":"IF($B480,$J480,0)","v":0},{"$f":"\"Adductor: \"&L480&Seat!$BR$3","v":"Adductor: 3x5 Flush fixed bracket (must fit 0\" thick seat)"},{"$f":"IF($B480,$Y480,0)","v":0},null,"K0108"]
[null,{"$f":"B478=3","v":false},null,false,null,null,null,null,null,2,{"$f":"IF(D481,\"¢\",\"\")","v":""},"3x6 Flush fixed bracket",null,null,null,{"$f":"IF(AND(SEATIDX>1,NOT(Design!$BE$140)),IF($W481<Seat!$BI$4,\"Too short\",\"\")&IF($V481>(Seat!$BI$4+$V$463),\"Too tall\",\"\"),\"\")","v":""},null,null,null,null,null,6,4,50172,44,null,22,null,null,22,null,null,null,null,null,null,{"$f":"IF(AM481=0,AK480,AK480+1)","v":0},{"$f":"IF($D481,$AA$462,IF(LEFT($P481,1)=\"T\",$AD$462,\"\"))","v":""},0,0,{"$f":"\"Adductor: \"&L481&Seat!$BR$3","v":"Adductor: 3x6 Flush fixed bracket (must fit 0\" thick seat)"},0,null,"K0108"]
[null,{"$f":"B478=4","v":false},null,false,null,null,null,null,null,2,"","3x8 Flush fixed bracket",null,null,null,{"$f":"IF(AND(SEATIDX>1,NOT(Design!$BE$140)),IF($W482<Seat!$BI$4,\"Too short\",\"\")&IF($V482>(Seat!$BI$4+$V$463),\"Too tall\",\"\"),\"\")","v":""},null,null,null,null,null,8,6,50173,44,null,22,null,null,22,null,null,null,null,null,null,{"$f":"IF(AM482=0,AK481,AK481+1)","v":0},"",0,0,{"$f":"\"Adductor: \"&L482&Seat!$BR$3","v":"Adductor: 3x8 Flush fixed bracket (must fit 0\" thick seat)"},0,null,"K0108"]
[null,{"$f":"B478=5","v":false},null,false,null,null,null,null,null,2,"","1\" offset-in fixed bracket",null,null,null,{"$f":"IF(AND(SEATIDX>1,NOT(Design!$BE$140)),IF($W483<Seat!$BI$4,\"Too short\",\"\")&IF($V483>(Seat!$BI$4+$V$463),\"Too tall\",\"\"),\"\")","v":""},null,null,null,null,null,{"$f":"IF(X483=50179,6,5)","v":5},{"$f":"IF(X483=50179,3,2.25)","v":2.25},{"$f":"IF(Seat!$BI$4<=2.25,50176,50179)","v":50176},44,null,22,null,null,22,null,null,null,null,null,null,{"$f":"IF(AM483=0,AK482,AK482+1)","v":0},"",0,0,{"$f":"\"Adductor: \"&L483&Seat!$BR$3","v":"Adductor: 1\" offset-in fixed bracket (must fit 0\" thick seat)"},0,null,"K0108"]
[null,{"$f":"B$478=6","v":false},null,false,null,null,null,null,null,2,"","2\" offset-in fixed bracket",null,null,null,{"$f":"IF(AND(SEATIDX>1,NOT(Design!$BE$140)),IF($W484<Seat!$BI$4,\"Too short\",\"\")&IF($V484>(Seat!$BI$4+$V$463),\"Too tall\",\"\"),\"\")","v":""},null,null,null,null,null,{"$f":"IF(X484=50181,6,5)","v":5},{"$f":"IF(X484=50181,3,2.25)","v":2.25},{"$f":"IF(Seat!$BI$4<=2.25,50167,50181)","v":50167},44,null,22,null,null,22,null,null,null,null,null,null,{"$f":"IF(AM484=0,AK483,AK483+1)","v":0},"",0,0,{"$f":"\"Adductor: \"&L484&Seat!$BR$3","v":"Adductor: 2\" offset-in fixed bracket (must fit 0\" thick seat)"},0,null,"K0108"]
[null,{"$f":"B$478=8","v":false},null,false,null,null,null,null,null,2,"","1\" offset-in adjustable angle brkt",null,null,null,{"$f":"IF(AND(SEATIDX>1,NOT(Design!$BE$140)),IF($W485<Seat!$BI$4,\"Too short\",\"\")&IF($V485>(Seat!$BI$4+$V$463),\"Too tall\",\"\"),\"\")","v":""},null,null,null,null,null,6,3,50235,{"$f":"MAX(J485,1)*AD485","v":260},null,130,null,null,130,null,null,null,null,null,null,0,"",0,0,{"$f":"\"Adductor: \"&L485&Seat!$BR$3","v":"Adductor: 1\" offset-in adjustable angle brkt (must fit 0\" thick seat)"},0,null,"E0956"]
[null,{"$f":"B$478=9","v":false},null,false,null,null,null,null,null,2,"","2\" offset-in adjustable angle brkt",null,null,null,{"$f":"IF(AND(SEATIDX>1,NOT(Design!$BE$140)),IF($W486<Seat!$BI$4,\"Too short\",\"\")&IF($V486>(Seat!$BI$4+$V$463),\"Too tall\",\"\"),\"\")","v":""},null,null,null,null,null,6,3,50236,{"$f":"MAX(J486,1)*AD486","v":260},null,130,null,null,130,null,null,null,null,null,null,0,"",0,0,{"$f":"\"Adductor: \"&L486&Seat!$BR$3","v":"Adductor: 2\" offset-in adjustable angle brkt (must fit 0\" thick seat)"},0,null,"E0956"]
[null,{"$f":"B478=7","v":false},null,false,null,null,null,null,null,2,"","Removable flush bracket",null,null,null,{"$f":"IF(AND(SEATIDX>1,NOT(Design!$BE$140)),IF($W487<Seat!$BI$4,\"Too short\",\"\")&IF($V487>(Seat!$BI$4+$V$463),\"Too tall\",\"\"),\"\")","v":""},null,null,null,null,null,0,3.5,50240,258,null,129,null,null,129,null,null,null,null,null,null,0,"",0,0,{"$f":"\"Adductor: \"&L487&Seat!$BR$3","v":"Adductor: Removable flush bracket (must fit 0\" thick seat)"},0,null,"E1028"]
[null,{"$f":"B$478=10","v":false},null,false,null,null,null,null,null,2,"","Removable 1\" offset-in bracket",null,null,null,{"$f":"IF(AND(SEATIDX>1,NOT(Design!$BE$140)),IF($W488<Seat!$BI$4,\"Too short\",\"\")&IF($V488>(Seat!$BI$4+$V$463),\"Too tall\",\"\"),\"\")","v":""},null,null,null,null,null,0,3.5,50241,{"$f":"MAX(J488,1)*AD488","v":258},null,129,null,null,129,null,null,null,null,null,null,0,"",0,0,{"$f":"\"Adductor: \"&L488&Seat!$BR$3","v":"Adductor: Removable 1\" offset-in bracket (must fit 0\" thick seat)"},0,null,"E1028"]
[null,{"$f":"B$478=11","v":false},null,false,null,null,null,null,null,2,"","Removable 1-1/2\" offset-in brkt",null,null,null,{"$f":"IF(AND(SEATIDX>1,NOT(Design!$BE$140)),IF($W489<Seat!$BI$4,\"Too short\",\"\")&IF($V489>(Seat!$BI$4+$V$463),\"Too tall\",\"\"),\"\")","v":""},null,null,null,null,null,0,3.5,50245,{"$f":"MAX(J489,1)*AD489","v":258},null,129,null,null,129,null,null,null,null,null,null,0,"",0,0,{"$f":"\"Adductor: \"&L489&Seat!$BR$3","v":"Adductor: Removable 1-1/2\" offset-in brkt (must fit 0\" thick seat)"},0,null,"E1028"]
[null,{"$f":"B$478=12","v":false},null,false,null,null,null,null,null,2,"","Removable 2\" offset-in bracket",null,null,null,{"$f":"IF(AND(SEATIDX>1,NOT(Design!$BE$140)),IF($W490<Seat!$BI$4,\"Too short\",\"\")&IF($V490>(Seat!$BI$4+$V$463),\"Too tall\",\"\"),\"\")","v":""},null,null,null,null,null,0,3.5,50242,{"$f":"MAX(J490,1)*AD490","v":258},null,129,null,null,129,null,null,null,null,null,null,0,"",0,0,{"$f":"\"Adductor: \"&L490&Seat!$BR$3","v":"Adductor: Removable 2\" offset-in bracket (must fit 0\" thick seat)"},0,null,"E1028"]
[null,null,null,null,null,null,null,null,null,null,null,null,null,null,null,null,null,null,null,null,null,null,null,null,null,null,null,null,null,null,null,null,null,null,null,null,null,null,null,null,null,null,null,null,null,null,null,null,0]
[null,1,null,{"$f":"COUNTIF(D494:D495,TRUE)>0","v":false},null,null,null,null,null,null,null,null,null,null,null,"KNEE ADDUCTORS"]
[]
[null,{"$f":"B492=1","v":true},null,false,null,null,null,null,null,{"$f":"IF(D494,\"¢\",\"\")","v":""},"No Knee Adductor",null,null,null,null,null,null,null,null,null,null,null,null,"Item #",{"$f":"$L$2","v":"Ext Retail"},null,"Retail",null,null,"Used",null,null,null,null,null,null,{"$f":"AK490","v":0},{"$f":"IFERROR(VLOOKUP($AK494+1,$AK495:$AP498,2,FALSE),\"\")","v":""},{"$f":"IFERROR(VLOOKUP($AK494+1,$AK495:$AP498,3,FALSE),\"\")","v":""},{"$f":"IFERROR(VLOOKUP($AK494+1,$AK495:$AP498,4,FALSE),\"\")","v":""},{"$f":"IFERROR(VLOOKUP($AK494+1,$AK495:$AP498,5,FALSE),\"\")","v":""}]
[null,{"$f":"B492=2","v":false},null,false,null,{"$f":"COUNTIF(B495:C497,TRUE)","v":0},null,{"$f":"B495","v":false},null,null,{"$f":"IF(D495,\"¢\",\"\")","v":""},"Multi-axis",null,null,null,null,null,null,null,null,null,null,null,{"$f":"Belts!$E$135","v":50280},{"$f":"MAX(J495,1)*AD495","v":474},null,{"$f":"Belts!$I$125","v":474},null,null,{"$f":"CHOOSE($K$2,AA495,$P$5*AA495,$P$6*AA495)","v":474},null,null,null,null,null,null,{"$f":"IF(AM495=0,AK494,AK494+1)","v":0},{"$f":"\"\"","v":""},{"$f":"IF($B495,$X495,0)","v":0},{"$f":"MAX(1,$J495)","v":1},{"$f":"Belts!$D$126","v":"Multi-axis knee adductor w/ 3 x 4 pad for 1\" cane, pair"},{"$f":"IF($B495,$Y495,0)","v":0},null,"K0108",null,{"$f":"AK495","v":0},"COMT",0,1,"Knee adductor"]
[null,null,null,null,null,null,null,null,null,null,null,{"$f":"Belts!$D$134","v":"Knee adductor covers w/ gel insert for 3 x 4 pad"},null,null,null,null,null,null,null,null,null,null,null,{"$f":"Belts!$I$135","v":{"$error":"#N/A"}},{"$f":"$Y$502","v":238}]
[null,{"$f":"B492=3","v":false},null,false,null,null,null,null,null,null,{"$f":"IF(D497,\"¢\",\"\")","v":""},"Flip-down",null,null,null,null,null,null,null,null,null,null,null,{"$f":"Belts!$J$160","v":30248},{"$f":"MAX(J497,1)*AD497","v":570},null,{"$f":"Belts!$J$161","v":570},null,null,{"$f":"CHOOSE($K$2,AA497,$P$5*AA497,$P$6*AA497)","v":570},null,null,null,null,null,null,{"$f":"IF(AM497=0,AK495,AK495+1)","v":0},{"$f":"\"\"","v":""},0,{"$f":"MAX($J$497,1)","v":1},{"$f":"Belts!$D$144","v":"Flip-down knee adductor w/ short arm & 1 in. tubing adaptor, pair"},0,null,"E1028",null,{"$f":"AK497","v":0},"KNEE",0,1,"Knee adductor"]
[null,null,null,null,null,null,null,null,null,null,{"$f":"IF(D498,\"O\",\"\")","v":""},{"$f":"Belts!$D$150","v":"3 x 4 pad w/ Neoprene cover"},null,null,null,null,null,null,null,null,null,null,null,{"$f":"Belts!$E$151","v":50490},{"$f":"$Y$503","v":222},null,null,null,null,null,null,null,null,null,null,null,{"$f":"IF(AM498=0,AK497,AK497+1)","v":0},null,null,null,null,null,null,null,null,null,null,0,0]
[null,null,null,null,null,null,null,null,null,null,null,null,null,null,null,null,null,null,null,null,null,null,null,null,null,null,null,"HIDDEN ROWS BELOW",null,null,null,null,null,null,null,null,null,{"$f":"\"\"","v":""},null,null,null,null,null,null,null,{"$f":"AK499","v":0},null,0,0]
[null,0,null,null,null,null,null,null,null,null,null,null,null,null,null,null,null,null,null,null,null,null,null,null,null,null,null,null,null,null,null,null,null,null,null,null,null,null,null,null,null,null,null,null,null,{"$f":"AK500","v":0},null,0,0]
[null,null,null,null,null,null,null,null,null,null,null,null,null,null,null,null,null,null,null,null,null,null,null,null,null,null,null,null,null,null,null,null,null,null,null,null,{"$f":"AK498","v":0},null,{"$f":"IFERROR(VLOOKUP($AK501+1,$AK502:$AP503,3,FALSE),\"\")","v":""},{"$f":"IFERROR(VLOOKUP($AK501+1,$AK502:$AP503,4,FALSE),\"\")","v":""},{"$f":"IFERROR(VLOOKUP($AK501+1,$AK502:$AP503,5,FALSE),\"\")","v":""}]
[null,{"$f":"AND(B495,IF(ISNA(Belts!$I$135),FALSE,TRUE))","v":false},null,null,null,null,null,null,null,null,null,{"$f":"Belts!$D$134","v":"Knee adductor covers w/ gel insert for 3 x 4 pad"},null,null,null,null,null,null,null,null,null,null,null,{"$f":"IF(B502,Belts!$I$135,\"\")","v":""},{"$f":"Belts!$I$126*AD502*MAX($J$495,1)","v":238},null,119,null,null,{"$f":"CHOOSE($K$2,AA502,$P$5*AA502,$P$6*AA502)","v":119},null,null,null,null,null,null,{"$f":"IF(AM502=0,AK501,AK501+1)","v":0},{"$f":"\"\"","v":""},0,{"$f":"Belts!$I$126*MAX($J$495,1)","v":2},{"$f":"Belts!$D$134","v":"Knee adductor covers w/ gel insert for 3 x 4 pad"},0,null,"E0956",null,{"$f":"AK502","v":0},"COMT",0,2,"Knee adductor cover"]
[null,{"$f":"AND(B497,IF(ISNA(Belts!$H$151),FALSE,TRUE))","v":false},null,null,null,null,null,null,null,null,null,{"$f":"Belts!$D$150","v":"3 x 4 pad w/ Neoprene cover"},null,null,null,null,null,null,null,null,null,null,null,{"$f":"IF(B503,Belts!$E$151,\"\")","v":""},{"$f":"Belts!$I$144*AD503*MAX($J$497,1)","v":222},null,{"$f":"Belts!$F$151","v":111},null,null,{"$f":"CHOOSE($K$2,AA503,$P$5*AA503,$P$6*AA503)","v":111},null,null,null,null,null,null,{"$f":"IF(AM503=0,AK502,AK502+1)","v":0},{"$f":"\"\"","v":""},0,{"$f":"Belts!$I$144*MAX($J$497,1)","v":2},{"$f":"Belts!$D$150","v":"3 x 4 pad w/ Neoprene cover"},0,null,"E0956",null,{"$f":"AK503","v":0},"KNEEM",0,2,"Knee adductor pad & cover"]
[null,null,null,null,null,null,null,null,null,null,null,null,null,null,null,null,null,null,null,null,null,null,null,null,null,null,null,null,null,{"$f":"CHOOSE($K$2,AA504,$P$5*AA504,$P$6*AA504)","v":0},null,null,null,null,null,null,null,null,null,null,null,null,null," ",null,null,null,0,0]
[null,null,null,null,null,null,null,null,null,null,null,null,null,null,null,null,null,null,null,null,null,null,null,null,null,null,null,null,null,null,null,null,null,null,null,null,null,null,null,null,null,null,null,null,null,null,null,0,0]
[null,1,null,null,null,null,null,null,null,null,null,null,null,null,null,"SHOE HOLDERS & FOOTBOXES",null,null,null,null,null,null,null,null,null,null,null,null,null,null,null,null,null,null,null,null,null,null,null,null,null,null,null,null,null,null,null,0,0]
[null,null,null,null,null,null,null,null,null,null,null,null,null,null,null,null,null,null,null,null,null,null,null,null,null,null,null,null,null,null,null,null,null,null,null,null,{"$f":"AK503","v":0},null,null,null,null,null,null,null,null,null,null,0,0]
[null,{"$f":"B506=1","v":true},null,{"$f":"COUNTIF(D509:E541,TRUE)>0","v":false},null,null,null,null,null,null,"No Shoe Holders or Footboxes",null,null,null,null,null,null,null,null,null,null,null,null,"Item #",{"$f":"$L$2","v":"Ext Retail"},null,"Retail",null,null,"Used",null,null,null,null,null,{"$f":"IFERROR(VLOOKUP($AK507+1,$AK510:$AP540,1,FALSE),AK507)","v":0},null,{"$f":"IFERROR(VLOOKUP($AK507+1,$AK510:$AP540,2,FALSE),\"\")","v":""},{"$f":"IFERROR(VLOOKUP($AK507+1,$AK510:$AP540,3,FALSE),\"\")","v":""},{"$f":"IFERROR(VLOOKUP($AK507+1,$AK510:$AP540,4,FALSE),\"\")","v":""},{"$f":"IFERROR(VLOOKUP($AK507+1,$AK510:$AP540,5,FALSE),\"\")","v":""},null,null,null,null,{"$f":"AJ508","v":0},"COMT",{"$f":"AM508","v":""},{"$f":"AN508","v":""},"Foot support"]
[null,null,null,null,null,null,null,null,null,"Molded Shoe Holders"]
[null,{"$f":"B506=2","v":false},null,null,null,null,null,null,null,null,null,"Shoeholder with plain straps - Small, pair",null,null,null,null,null,null,null,null,null,null,null,"30293",{"$f":"MAX(J510,1)*AD510","v":145},null,145,null,null,{"$f":"CHOOSE($K$2,AA510,$P$5*AA510,$P$6*AA510)","v":145},null,null,null,null,null,null,{"$f":"IF(AM510=0,AK507,AK507+1)","v":0},{"$f":"\"\"","v":""},{"$f":"IF($B510,X510,0)","v":0},{"$f":"MAX(1,$J510)","v":1},"Shoeholder with plain straps - Small, pair",{"$f":"IF($B510,$Y510,0)","v":0},null,"K0108"]
[null,{"$f":"B506=3","v":false},null,null,null,null,null,null,null,null,null,"Shoeholder with plain straps - Medium, pair",null,null,null,null,null,null,null,null,null,null,null,"30303",145,null,145,null,null,145,null,null,null,null,null,null,{"$f":"IF(AM511=0,AK510,AK510+1)","v":0},{"$f":"\"\"","v":""},0,1,"Shoeholder with plain straps - Medium, pair",0,null,"K0108"]
[null,{"$f":"B506=4","v":false},null,null,null,null,null,null,null,null,null,"Shoeholder with plain straps - Large, pair",null,null,null,null,null,null,null,null,null,null,null,"30309",145,null,145,null,null,145,null,null,null,null,null,null,0,{"$f":"\"\"","v":""},0,1,"Shoeholder with plain straps - Large, pair",0,null,"K0108"]
[null,{"$f":"B506=5","v":false},null,null,null,null,null,null,null,null,null,"Shoeholder with plain straps - X-Large, pair",null,null,null,null,null,null,null,null,null,null,null,"30316",145,null,145,null,null,145,null,null,null,null,null,null,0,{"$f":"\"\"","v":""},0,1,"Shoeholder with plain straps - X-Large, pair",0,null,"K0108"]
[null,{"$f":"B506=6","v":false},null,null,null,null,null,null,null,null,null,"Shoeholder with padded straps - Small, pair",null,null,null,null,null,null,null,null,null,null,null,"30233",160,null,160,null,null,160,null,null,null,null,null,null,0,{"$f":"\"\"","v":""},0,1,"Shoeholder with padded straps - Small, pair",0,null,"K0108"]
[null,{"$f":"B506=7","v":false},null,null,null,null,null,null,null,null,null,"Shoeholder with padded straps - Medium, pair",null,null,null,null,null,null,null,null,null,null,null,"30234",160,null,160,null,null,160,null,null,null,null,null,null,0,{"$f":"\"\"","v":""},0,1,"Shoeholder with padded straps - Medium, pair",0,null,"K0108"]
[null,{"$f":"B506=8","v":false},null,null,null,null,null,null,null,null,null,"Shoeholder with padded straps - Large, pair",null,null,null,null,null,null,null,null,null,null,null,"30235",160,null,160,null,null,160,null,null,null,null,null,null,0,{"$f":"\"\"","v":""},0,1,"Shoeholder with padded straps - Large, pair",0,null,"K0108"]
[null,{"$f":"B506=9","v":false},null,null,null,null,null,null,null,null,null,"Shoeholder with padded straps - X-Large, pair",null,null,null,null,null,null,null,null,null,null,null,"30236",160,null,160,null,null,160,null,null,null,null,null,null,0,{"$f":"\"\"","v":""},0,1,"Shoeholder with padded straps - X-Large, pair",0,null,"K0108"]
[null,null,null,null,null,null,null,null,null,null,null,null,null,null,null,null,null,null,null,null,null,null,null," "," ",null," ",null,null,null,null,null,null,null,null,null,0]
[null,null,null,null,null,null,null,null,null,"Shoe Sandals",null,null,null,null,null,null,null,null,null,null,null,null,null,null,null,null,null,null,null,null,null,null,null,null,null,null,{"$f":"IF(AM519=0,AK518,AK518+1)","v":0}]
[null,{"$f":"B506=10","v":false},null,{"$f":"AND(B520,Belts!$C$378=1)","v":false},null,null,null,null,null,null,{"$f":"IF(D520,\"¢\",\"\")","v":""},{"$f":"Belts!$F$378","v":"X-Small, Pair"},null,null,null,null,null,null,null,null,null,null,null,{"$f":"Belts!$E$378","v":30649},{"$f":"MAX(J520,1)*AD520","v":260},null,260,null,null,{"$f":"CHOOSE($K$2,AA520,$P$5*AA520,$P$6*AA520)","v":260},null,null,null,null,null,null,0,{"$f":"IF(D520,\">\",\"\")","v":""},0,1,{"$f":"Belts!$H378","v":"Shoe Sandals, X-Small, Pair"},{"$f":"IF($B520,$Y520,0)","v":0},null,"K0108"]
[null,{"$f":"IF(AND(B520,NOT(ISNA(Belts!$K$378))),TRUE,FALSE)","v":false},null,null,null,null,null,null,null,null,null,{"$f":"Belts!$L$378","v":0},null,null,null,null,null,null,null,null,null,null,null,{"$f":"IF(ISNA(Belts!$K$378),\"\",Belts!$G$378)","v":""},{"$f":"MAX(J521,1)*AD521","v":95},null,95,null,null,{"$f":"CHOOSE($K$2,AA521,$P$5*AA521,$P$6*AA521)","v":95},null,null,null,null,null,null,0,{"$f":"\"\"","v":""},0,{"$f":"AN520","v":1},{"$f":"Belts!$M378","v":0},{"$f":"IF($B521,$Y521,0)","v":0},null,"K0108",null,{"$f":"AK521","v":0},"COMT",{"$f":"AM521","v":0},{"$f":"AN521","v":1},"Shoe Sandal inserts"]
[null,null,null,null,null,null,null,null,null,null,null,null,null,null,null,null,null,null,null,null,null,null,null," "," ",null," "]
[null,null,null,null,null,null,null,null,null,"FootSure Ankle Support",null,null,null,null,null,null,null,null,null,null,null,null,null,null,null,null,null,null,null,null,null,null,null,null,null,null,{"$f":"IF(AM523=0,AK521,AK521+1)","v":0}]
[null,{"$f":"B506=21","v":false},null,false,null,null,null,null,null,null,{"$f":"IF(D524,\"¢\",\"\")","v":""},{"$f":"Belts!$D$339&\" w/ \"&LOWER(Belts!$D$353&\", \"&Belts!$D$347)","v":"Small w/ buckle, pair"},null,null,null,null,null,null,null,null,null,null,null,{"$f":"Belts!$G$338","v":60251},{"$f":"MAX(J524,1)*AD524","v":168},null,{"$f":"Belts!$G$347","v":168},null,null,{"$f":"CHOOSE($K$2,AA524,$P$5*AA524,$P$6*AA524)","v":168},null,null,null,null,null,null,0,{"$f":"\"\"","v":""},{"$f":"IF($B524,X524,0)","v":0},1,{"$f":"Belts!$E$339","v":"FootSure ankle supports w/ buckle, Small"},{"$f":"IF($B524,$Y524,0)","v":0},null,"K0108"]
[null,null,null,null,null,null,null,null,null,null,null,null,null,null,null,null,null,null,null,null,null,null,null,null,null,null,null,null,null,null,null,null,null,null,null,null,0]
[null,null,null,null,null,null,null,null,null,"Padded Footboxes",null,null,null,null,null,null,null,null,null,null,null,null,null,null,null,null,null,null,null,null,null,null,null,null,null,null,0]
[null,{"$f":"B506=11","v":false},null,null,null,null,null,null,null,null,null,"Full, small 14\" ",null,null,null,null,null,null,null,null,null,null,null,30111,{"$f":"MAX(J527,1)*AD527","v":279},null,279,null,null,{"$f":"CHOOSE($K$2,AA527,$P$5*AA527,$P$6*AA527)","v":279},null,null,null,null,null,null,0,{"$f":"\"\"","v":""},0,1,"Padded full footbox - small 14\"",{"$f":"IF($B527,$Y527,0)","v":0},null,"K0108"]
[null,{"$f":"B506=12","v":false},null,null,null,null,null,null,null,null,null,"Full, medium 16\" ",null,null,null,null,null,null,null,null,null,null,null,30112,300,null,300,null,null,300,null,null,null,null,null,null,0,{"$f":"\"\"","v":""},0,1,"Padded full footbox - medium 16\"",0,null,"K0108"]
[null,{"$f":"B506=13","v":false},null,null,null,null,null,null,null,null,null,"Full, large 18\" ",null,null,null,null,null,null,null,null,null,null,null,30113,300,null,300,null,null,300,null,null,null,null,null,null,0,{"$f":"\"\"","v":""},0,1,"Padded full footbox - large 18\"",0,null,"K0108"]
[null,{"$f":"B506=14","v":false},null,null,null,null,null,null,null,null,null,"Split, small 14\" ",null,null,null,null,null,null,null,null,null,null,null,30152,373,null,373,null,null,373,null,null,null,null,null,null,0,{"$f":"\"\"","v":""},0,1,"Padded split footboxes - small 14\"",0,null,"K0108"]
[null,{"$f":"B506=15","v":false},null,null,null,null,null,null,null,null,null,"Split, medium 16\" ",null,null,null,null,null,null,null,null,null,null,null,30153,378,null,378,null,null,378,null,null,null,null,null,null,0,{"$f":"\"\"","v":""},0,1,"Padded split footboxes - medium 16\"",0,null,"K0108"]
[null,{"$f":"B506=16","v":false},null,null,null,null,null,null,null,null,null,"Split, large 18\" ",null,null,null,null,null,null,null,null,null,null,null,30154,384,null,384,null,null,384,null,null,null,null,null,null,0,{"$f":"\"\"","v":""},0,1,"Padded split footboxes - large 18\"",0,null,"K0108"]
[]
[null,null,null,null,null,null,null,null,null,"FlexSure Feet",null,null,null,null,null,null,null,null,null,null,null,null,null,null,null,null,null,null,null,null,null,null,null,null,null,null,{"$f":"IF(AM534=0,AK532,AK532+1)","v":0}]
[null,{"$f":"B506=17","v":false},null,{"$f":"AND(B535,Belts!$C$359=1)","v":false},null,null,null,null,null,null,{"$f":"IF(D535,\"X\",\"\")","v":""},{"$f":"Belts!$F$359","v":"Choose FlexSure Feet size"},null,null,null,null,null,null,null,null,null,null,null,{"$f":"Belts!$E$359","v":"MISSING"},{"$f":"MAX(J535,1)*AD535","v":300},null,300,null,null,{"$f":"CHOOSE($K$2,AA535,$P$5*AA535,$P$6*AA535)","v":300},null,null,null,null,null,null,0,{"$f":"IF(D535,\">\",\"\")","v":""},0,1,{"$f":"Belts!$H359","v":"Choose FlexSure Feet size"},{"$f":"IF($B535,$Y535,0)","v":0},null,"K0108"]
[null,{"$f":"IF(AND(B535,NOT(ISNA(Belts!$K$359))),TRUE,FALSE)","v":false},null,null,null,null,null,null,null,null,null,{"$f":"Belts!$L$359","v":0},null,null,null,null,null,null,null,null,null,null,null,{"$f":"IF(ISNA(Belts!$K$359),\"\",Belts!$G$359)","v":""},{"$f":"IF(ISNA(Belts!$K$359),\"\",MAX(J536,1)*AD536)","v":""},null,84,null,null,{"$f":"CHOOSE($K$2,AA536,$P$5*AA536,$P$6*AA536)","v":84},null,null,null,null,null,null,0,{"$f":"IF(E536,\">\",\"\")","v":""},0,{"$f":"AN535","v":1},{"$f":"Belts!$M359","v":0},0,null,"K0108",null,{"$f":"AK536","v":0},"COMT",{"$f":"AM536","v":0},{"$f":"AN536","v":1},"FlexSure Feet inserts"]
[null,null,null,null,null,null,null,null,null,"Toe Straps",null,null,null,null,null,null,null,null,null,null,null,null,null,null,null,null,null,null,null,null,null,null,null,null,null,null,0]
[null,{"$f":"B506=18","v":false},null,null,null,null,null,null,null,null,null,"Small, 15\" long end-to-end, pair",null,null,null,null,null,null,null,null,null,null,null,30489,{"$f":"MAX(J538,1)*AD538","v":50},null,50,null,null,{"$f":"CHOOSE($K$2,AA538,$P$5*AA538,$P$6*AA538)","v":50},null,null,null,null,null,null,0,{"$f":"\"\"","v":""},0,1,"Toe Straps - small, pair",0,null,"E0952"]
[null,{"$f":"B506=19","v":false},null,null,null,null,null,null,null,null,null,"Medium, 17\" long end-to-end, pair",null,null,null,null,null,null,null,null,null,null,null,30490,{"$f":"MAX(J539,1)*AD539","v":50},null,50,null,null,{"$f":"CHOOSE($K$2,AA539,$P$5*AA539,$P$6*AA539)","v":50},null,null,null,null,null,null,0,{"$f":"\"\"","v":""},0,1,"Toe Straps - medium, pair",0,null,"E0952"]
[null,{"$f":"B506=20","v":false},null,null,null,null,null,null,null,null,null,"Large, 19\" long end-to-end, pair",null,null,null,null,null,null,null,null,null,null,null,30491,{"$f":"MAX(J540,1)*AD540","v":50},null,50,null,null,{"$f":"CHOOSE($K$2,AA540,$P$5*AA540,$P$6*AA540)","v":50},null,null,null,null,null,null,0,{"$f":"\"\"","v":""},0,1,"Toe Straps - large, pair",0,null,"E0952"]
[null,null,null,null,null,null,null,null,null,null,null,null,null,null,null,null,null,null,null,null,null,null,null,null,null,null,null,null,null,null,null,null,null,null,null,null,null,null,null,null,null,0]
[null,null,null,null,null,null,null,null,null,null,null,null,null,null,null,null,null,null,null,null,null,null,null,null,null,null,null,null,null,null,null,null,null,null,null,null,null,null,null,null,null,null,null,null,null,null,null,{"$f":"AM542","v":0},0]
[null,1,null,null,null,null,null,null,null,"Tray Specifications",null,null,null,"Attaching Hardware Specs",null,null,null,"TRAYS",null,null,null,null,null,null,null,null,null,null,null,null,null,null,null,null,null,null,null,null,null,null,null,null,null,null,null,null,null,0,0]
[null,{"$f":"B543=1","v":true},false,{"$f":"COUNTIF(D546:D562,TRUE)>0","v":false},null,null,null,null,null,null,"No Tray",null,{"$f":"IF(BACKLBW>0,\"Back LBW=\"&BACKLBW,\"\")&IF(MINBCO>0,\"   BCO to clear pads=\"&MINBCO,\"\")","v":""},null,null,null,null,"Show tray and hardware price separately",null,null,null,null,null,"Item #",{"$f":"'Pick List'!$L$2","v":"Ext Retail"},null,"Retail","Primary","Best Cost","Second","Seatg","Used",null,null,null,null,{"$f":"AK540","v":0},{"$f":"IFERROR(VLOOKUP($AK544+1,$AK545:$AP553,2,FALSE),\"\")","v":""},{"$f":"IF($B546,AM546,IF($B550,AM550,IF($B$553,AM553,\"\")))","v":""},{"$f":"IF($B546,AN546,IF($B550,AN550,IF($B$553,AN553,\"\")))","v":""},{"$f":"IF($B546,AO546,IF($B550,AO550,IF($B$553,AO553,\"\")))","v":""}]
[null,null,{"$f":"IF($X$546=\"Custom\",FALSE,$C$544)","v":false},null,null,null,null,null,null,null,null,{"$f":"\"TRAY MAKER: \"&'Tray Maker'!S35&\" + \"&'Tray Maker'!$S$73&\" + \"&'Tray Maker'!$S$96&\" + \"&'Tray Maker'!$S$66&\" + \"&'Tray Maker'!$S$53&\" + \"&'Tray Maker'!$S$44","v":"TRAY MAKER: 3/8\" Clear + Best: NA + Lg Stock: NA + No rim + EZ Lock Clamps + Attached"},null,null,null,null,null,null,null,null,null,null,null,null,null,null,0.8,"= % of clamp retail subtracted from tray combo",null,null,null,null,null,"hdw digit",null,null,0,null,null,null,null,null,null,null,null,null,null,0,0]
[null,{"$f":"B543=2","v":false},null,{"$f":"AND($B$546,'Tray Maker'!$C$8=\"NA\")","v":false},null,null,null,null,null,null,{"$f":"IF(D546,\"¢\",\"\")","v":""},{"$f":"IF('Tray Maker'!$C$8=\"NA\",\"Tray Configuration is Invalid\",'Tray Maker'!$C$8)","v":"Tray Configuration is Invalid"},null,null,null,null,null,null,null,null,null,null,null,{"$f":"'Tray Maker'!$I$8","v":"UNAVAIL"},{"$f":"MAX(J546,1)*(AF546-AF547)","v":0},null,{"$f":"IF(LEFT(X546,1)=\"T\",TrayPrices!$B$5,0)","v":0},{"$f":"IF(LEFT(X546,1)=\"T\",TrayPrices!C5,0)","v":0},{"$f":"IF(LEFT(X546,1)=\"T\",TrayPrices!D5,0)","v":0},{"$f":"IF(LEFT(X546,1)=\"T\",TrayPrices!E5,0)","v":0},{"$f":"IF(LEFT(X546,1)=\"T\",TrayPrices!F5,0)","v":0},{"$f":"INDEX($AA546:$AC546,1,$K$2)","v":0},null,{"$f":"IF(LEFT(X546,1)=\"T\",MID(X546,6,1),0)","v":0},null,null,0,{"$f":"IF(D546,\">\",\"\")","v":""},{"$f":"IF($B546,X546,0)","v":0},{"$f":"MAX(1,$J546)","v":1},{"$f":"IF(LEFT($X$546,1)=\"T\",$L546,IF($X$546=\"Custom\",\"Custom Tray: \"&'Tray Maker'!$I$9,\"Tray Configuration Invalid\"))","v":"Tray Configuration Invalid"},{"$f":"IF($B546,$Y546,0)","v":0},null,{"$f":"IF($C$545,\"E0950\",IF(RIGHT('Tray Maker'!$I$8,1)=\"X\",\"E0950\",\"E0950+E1028\"))","v":"E0950+E1028"},null,{"$f":"AK546","v":0},"COMT",0,1,"Tray"]
[null,{"$f":"IF($AH$546<>\"0\",B546,FALSE)","v":false},null,null,null,null,null,null,null,{"$f":"J546","v":0},null,{"$f":"IF($C$545,CHOOSE($AH546+1,\"No attaching hardware\",\"EZ Lock attaching clamps for Tray\",\"Top Drop attaching clamps for Tray\",\"Tube Lock attaching clamps for Tray\",\"1-1/8 in. U-Slide attaching clamps for Tray\",\"1-1/2 in. U-Slide attaching hardware for Tray\",\"Hook-N-Loop straps for attaching tray\"),\"\")","v":""},null,null,null,null,null,null,null,null,null,null,null,{"$f":"IF($C$545,CHOOSE($AH546+1,\"\",\"EZ-Lock\",\"Top Drop\",\"Tube Lock\",\"U-Slide 1-1/8\",\"U-Slide 1-1/2\",\"Straps\"),0)","v":0},{"$f":"MAX(J547,1)*IF($C$545,$AF$547,0)","v":0},null,{"$f":"IF($C$545,$AA$545*CHOOSE(AH546+1,0,127,173,135,88,88,20),0)","v":0},{"$f":"$P$5*AA547","v":0},{"$f":"$P$6*AA547","v":0},null,null,{"$f":"MIN(INDEX($AA547:$AC547,1,$K$2),AF546)","v":0},null,null,null,null,0,{"$f":"\"\"","v":""},{"$f":"IF($B547,X547,0)","v":0},{"$f":"MAX(1,$J547)","v":1},{"$f":"$L547","v":""},{"$f":"IF($B547,$Y547,0)","v":0},null,"E1028",null,{"$f":"AK547","v":0},"REM",{"$f":"IF($B547,\"Clamps\",\"\")","v":""},{"$f":"AN547","v":1},{"$f":"AM547","v":0}]
[null,null,null,null,null,null,null,null,null,null,null,null,null,null,null,null,null,null,null,null,null,null,null,null,null,null,"hardware price in formula above",null,null,null,null,null,null,null,null,null,0,null,null,null,null,null,null,null,null,null,null,{"$f":"AM548","v":0},0]
[null,null,null,null,{"$f":"OR(B546,B550,B553)","v":false},null,null,null,null,null,null,"Trays w/ control cutouts, padded trays & misc trays (you must choose appropriate size)",null,null,null,null,null,null,null,null,null,null,null,null,null,null,"Retail","Primary","Best Cost","Second","Seatg","Used",null,"hdw digit",null,null,0,null,null,null,null,null,null,null,null,{"$f":"AK549","v":0},null,{"$f":"AM549","v":0},0]
[null,{"$f":"B543=3","v":false},null,null,null,null,null,null,null,null,null,null,null,null,null,null,null,null,null,null,null,null,null,{"$f":"OtherTrays!$C$2","v":"T40246U"},{"$f":"MAX(J550,1)*(AF550-AF551)","v":151},null,{"$f":"OtherTrays!$D$2","v":151},{"$f":"OtherTrays!$E$2","v":151},{"$f":"OtherTrays!$F$2","v":151},{"$f":"OtherTrays!$G$2","v":151},{"$f":"OtherTrays!$H$2","v":46.39},{"$f":"INDEX(AA550:AC550,1,$K$2)","v":151},null,{"$f":"MID(X550,6,1)","v":"6"},null,null,0,{"$f":"\"\"","v":""},{"$f":"IF($B550,X550,0)","v":0},{"$f":"MAX(1,$J550)","v":1},{"$f":"OtherTrays!$B$2","v":"Clear 1/4\" 18W x 19D tray w/ 12x6 BC, aluminum rim, straps"},{"$f":"IF($B550,$Y550,0)","v":0},null,{"$f":"IF($C$545,\"E0950\",\"E0950+E1028\")","v":"E0950+E1028"},null,{"$f":"AK550","v":0},"COMT",{"$f":"AM550","v":0},1,"Tray"]
[null,{"$f":"IF($AH$550<>\"0\",B550,FALSE)","v":false},null,null,null,null,null,null,null,{"$f":"J550","v":0},null,{"$f":"IF($C$545,CHOOSE($AH550+1,\"No attaching hardware\",\"EZ Lock attaching clamps for Tray\",\"Top Drop attaching clamps for Tray\",\"Tube Lock attaching clamps for Tray\",\"1-1/8 in. U-Slide attaching clamps for Tray\",\"1-1/2 in. U-Slide attaching hardware for Tray\",\"Hook-N-Loop straps for attaching tray\"),\"\")","v":""},null,null,null,null,null,null,null,null,null,null,null,{"$f":"IF($C$545,CHOOSE($AH550+1,\"\",\"EZ-Lock\",\"Top Drop\",\"Tube Lock\",\"U-Slide 1-1/8\",\"U-Slice 1-1/2\",\"Straps\"),0)","v":0},{"$f":"MAX(J551,1)*IF($C$545,$AF$551,0)","v":0},null,{"$f":"IF($C$545,$AA$545*CHOOSE(AH550+1,0,127,173,135,88,88,20),0)","v":0},{"$f":"$P$5*AA551","v":0},{"$f":"$P$6*AA551","v":0},null,null,{"$f":"MIN(INDEX(AA551:AC551,1,$K$2),AF550)","v":0},null,null,null,null,0,{"$f":"\"\"","v":""},{"$f":"IF($B551,X551,0)","v":0},{"$f":"MAX(1,$J551)","v":1},{"$f":"$L$551","v":""},{"$f":"IF($B551,$Y551,0)","v":0},null,"E1028",null,{"$f":"AK551","v":0},"REM",{"$f":"IF($B551,\"Clamps\",\"\")","v":""},1,{"$f":"AM551","v":0}]
[null,null,null,null,null,null,null,null,null,null,null,null,"Description of other standard tray",null,null,null,null,null,null,null,"HCPCS",null,"Retail","Item #",{"$f":"'Pick List'!$L$2","v":"Ext Retail"},null,"hardware price in formula above",null,null,null,null,null,null,null,null,null,0,null,null,null,null,null,null,null,null,null,null,{"$f":"AM552","v":0},0]
[null,{"$f":"B543=4","v":false},null,{"$f":"AND(B553,OR(ISBLANK(M553),NOT(ISNUMBER(W553)),ISBLANK(X553)))","v":false},"all/none",null,null,null,null,null,null,"Tray:",null,null,null,null,null,null,null,null,null,null,null,null,{"$f":"IF(ISNA(AD553),\"\",MAX(K553,1)*AD553)","v":0},null,{"$f":"W553","v":0},null,null,{"$f":"CHOOSE($K$2,AA553,$P$5*AA553,$P$6*AA553)","v":0},null,null,null,null,null,null,0,{"$f":"IF(D553,\">\",\"\")","v":""},{"$f":"IF($B553,IF(ISBLANK($X553),\"MISSING\",$X553),0)","v":0},{"$f":"MAX(1,K553)","v":1},{"$f":"M553","v":0},{"$f":"IF($B553,$Y553,0)","v":0},null,{"$f":"U553","v":0},null,{"$f":"AK553","v":0},"COMT",0,1,{"$f":"SUBSTITUTE(SUBSTITUTE(AO553,quote,\" in.\"),comma,\" -\")","v":"0"}]
[null,{"$f":"AND($B$553,NOT(AND(ISBLANK(M554),ISBLANK(W554),ISBLANK(X554))))","v":false},null,{"$f":"AND($B$553,NOT($E$554))","v":false},{"$f":"OR(AND(ISBLANK(M554),ISBLANK(W554),ISBLANK(X554)),AND(NOT(ISBLANK(M554)),NOT(ISBLANK(W554)),NOT(ISBLANK(X554))))","v":true},null,null,null,null,null,null,"Hdw:",null,null,null,null,null,null,null,null,null,null,null,null,{"$f":"IF(ISNA(AD554),\"\",MAX(K554,1)*AD554)","v":0},null,{"$f":"W554","v":0},null,null,{"$f":"CHOOSE($K$2,AA554,$P$5*AA554,$P$6*AA554)","v":0},null,null,null,null,null,null,0,{"$f":"IF(D554,\">\",\"\")","v":""},{"$f":"IF($B554,IF(ISBLANK($X554),\"MISSING\",$X554),0)","v":0},{"$f":"MAX(1,K554)","v":1},{"$f":"M554","v":0},{"$f":"IF($B554,$Y554,0)","v":0},null,{"$f":"U554","v":0},null,{"$f":"AK554","v":0},"COMT",0,1,{"$f":"SUBSTITUTE(SUBSTITUTE(AO554,quote,\" in.\"),comma,\" -\")","v":"0"}]
[null,null,null,null,null,null,null,null,null,null,null,null,null,null,null,null,null,null,null,null,null,null,"Retail","Item #",{"$f":"'Pick List'!$L$2","v":"Ext Retail"},null,null,null,null,null,null,null,null,null,null,null,0]
[null,false,null,{"$f":"OR(AND(B556,OR(ISBLANK(L556),NOT(ISNUMBER(W556)),ISBLANK(X556))),AND(B556,NOT($E$549)))","v":false},null,null,null,null,null,null,{"$f":"IF(D556,\"¢\",\"\")","v":""},null,null,null,null,null,null,null,null,null,null,null,null,null,{"$f":"IF(ISNA(AD556),\"\",MAX(J556,1)*AD556)","v":0},null,{"$f":"W556","v":0},null,null,{"$f":"CHOOSE($K$2,AA556,$P$5*AA556,$P$6*AA556)","v":0},null,null,null,null,null,null,{"$f":"IF(AM556=0,AK555,AK555+1)","v":0},{"$f":"IF(D556,\">\",\"\")","v":""},{"$f":"IF($B556,IF(ISBLANK($X556),\"MISSING\",$X556),0)","v":0},{"$f":"MAX(1,$J556)","v":1},{"$f":"IF(AND($B$556,ISBLANK(L556)),\"Information not provided\",L556)","v":0},{"$f":"IF($B556,$Y556,0)","v":0},null,{"$f":"U556","v":0},{"$f":"IF($B556,IF(ISBLANK($X556),\"___MISSING   \",\"___\"&$J556&\"|\"&$X556&\"   \"),\"\")","v":""},{"$f":"AK556","v":0},"COMT",{"$f":"AM556","v":0},{"$f":"AN556","v":1},{"$f":"SUBSTITUTE(SUBSTITUTE(AO556,quote,\" in.\"),comma,\" -\")","v":"0"}]
[null,false,null,{"$f":"AND(NOT($E$549),$B557)","v":false},null,null,null,null,null,null,{"$f":"IF(D557,\"¢\",\"\")","v":""},"Separate tray attaching hardware:",null,null,null,null,null,null,null,null,null,null,null,{"$f":"IF('Tray Maker'!$T$134=0,\"\",'Tray Maker'!$T$134)","v":31098},{"$f":"IF(ISNA(AD557),\"\",MAX(J557,1)*AD557)","v":143},null,{"$f":"'Tray Maker'!$U$134","v":143},null,null,{"$f":"CHOOSE($K$2,AA557,$P$5*AA557,$P$6*AA557)","v":143},null,null,null,null,null,null,{"$f":"IF(AM557=0,AK556,AK556+1)","v":0},{"$f":"IF(D557,\">\",\"\")","v":""},{"$f":"IF($B557,X557,0)","v":0},1,{"$f":"'Tray Maker'!$S$134","v":"EZ Lock Clamps"},0,null,{"$f":"U557","v":0},{"$f":"IF($B557,IF(ISBLANK($X557),\"___MISSING   \",\"___\"&$J557&\"|\"&$X557&\"   \"),\"\")","v":""},{"$f":"AK557","v":0},"COMT",{"$f":"AM557","v":0},{"$f":"AN557","v":1},{"$f":"SUBSTITUTE(SUBSTITUTE(AO557,quote,\" in.\"),comma,\" -\")","v":"EZ Lock Clamps"}]
[null,false,null,{"$f":"OR(AND(NOT($E$549),$B558),$F$558>1)","v":false},null,{"$f":"COUNTIF(B558:B559,TRUE)","v":0},null,null,null,null,"","4\" x 5\" Gel Elbow Pads, pair",null,null,null,null,null,null,null,null,null,null,null,50155,{"$f":"MAX(J558,1)*AD558","v":174},null,174,{"$f":"$P$5*AA558","v":174},{"$f":"$P$6*AA558","v":174},{"$f":"INDEX(AA558:AC558,1,$K$2)","v":174},null,null,null,null,null,null,{"$f":"IF(AM558=0,AK557,AK557+1)","v":0},"",0,1,{"$f":"IF($B558,$L558,\"\")","v":""},0,null,"K0108",null,{"$f":"AK558","v":0},"COMT",0,1,"4 in. x 5 in. Gel elbow pads"]
[null,false,null,{"$f":"OR(AND(NOT($E$549),$B559),$F$558>1)","v":false},null,null,null,null,null,null,"","5\" x 8\" Gel Elbow Pads, pair",null,null,null,null,null,null,null,null,null,null,null,50156,{"$f":"MAX(J559,1)*AD559","v":174},null,174,{"$f":"$P$5*AA559","v":174},{"$f":"$P$6*AA559","v":174},{"$f":"INDEX(AA559:AC559,1,$K$2)","v":174},null,null,null,null,null,null,0,"",0,1,{"$f":"IF($B559,$L559,\"\")","v":""},0,null,"K0108",null,0,"COMT",0,1,"5 in. x 8 in. Gel elbow pads"]
[null,false,null,{"$f":"AND(NOT($E$549),$B560)","v":false},null,null,null,null,null,null,"","Tray Back Strap",null,null,null,null,null,null,null,null,null,null,null,31882,{"$f":"MAX(J560,1)*AD560","v":23},null,23,{"$f":"$P$5*AA560","v":23},{"$f":"$P$6*AA560","v":23},{"$f":"INDEX(AA560:AC560,1,$K$2)","v":23},null,null,null,null,null,null,0,"",0,1,{"$f":"IF($B560,$L560,\"\")","v":""},0,null,"K0108",null,0,"COMT",0,1,"Tray back strap"]
[null,false,null,{"$f":"AND(OR($B$550,NOT($E$549)),$B561)","v":false},null,null,null,null,null,null,"",{"$f":"IF(B550,\"Standard padded overlay not available\",IF(B553,\"Padded overlay for custom tray\",IF('Tray Maker'!$BL$75=\"NA\",\"**Standard padded overlay not available***\",\"Padded overlay for \"&$X$546&\" tray\")))","v":"**Standard padded overlay not available***"},null,null,null,null,null,null,null,null,null,null,null,{"$f":"IF($B550,\"NA\",IF($B$553,\"52700\",IF('Tray Maker'!$BL$75=\"NA\",\"NA\",'Tray Maker'!$BL$75)))","v":"NA"},{"$f":"MAX(J561,1)*AD561","v":279},null,{"$f":"IF($B$553,412,279)","v":279},{"$f":"$P$5*AA561","v":279},{"$f":"$P$6*AA561","v":279},{"$f":"INDEX(AA561:AC561,1,$K$2)","v":279},null,null,null,null,null,null,{"$f":"IF(AM561=0,AK560,AK560+1)","v":0},"",0,1,{"$f":"IF($B561,$L561,\"\")","v":""},0,null," ",null,0,"COMT",0,1,{"$f":"IF($AM$561=\"32700\",\"Custom padded overlay\",\"Padded Overlay\")","v":"Padded Overlay"},null,{"$f":"$AM$544","v":""}]
[null,false,null,{"$f":"AND(NOT($E$549),$B562)","v":false},null,null,null,null,null,null,"","Hook-N-Loop Straps, pair",null,null,null,null,null,null,null,null,null,null,null,31091,{"$f":"MAX(J562,1)*AD562","v":14},null,14,{"$f":"$P$5*AA562","v":14},{"$f":"$P$6*AA562","v":14},{"$f":"INDEX(AA562:AC562,1,$K$2)","v":14},null,null,null,null,null,null,{"$f":"IF(AM562=0,AK561,AK561+1)","v":0},"",0,1,{"$f":"IF($B562,$L562,\"\")","v":""},0,null,"K0108",null,0,"COMT",0,1,"Hook-n-loop straps"]
[null,null,null,null,null,null,null,null,null,null,null,null,null,null,null,null,null,null,null,null,null,null,null,null,null,null,null,null,null,null,null,null,null,null,null,null,{"$f":"IF(AM563=0,AK562,AK562+1)","v":0},{"$f":"IF(ISNUMBER(SEARCH(\"Required\",$AO$563,1)),\">\",\"\")","v":""},{"$f":"Form!Z1","v":0},{"$f":"CHOOSE(MATCH(Form!$Y$1,{\"s\",\"b\",\"c\",\"a\",\"I\"},0),1,1,1,1,1)","v":1},{"$f":"Form!AA1","v":""},{"$f":"IF(Form!$A$4,$AQ$563,0)","v":0},{"$f":"Form!X1","v":0}," ","\"<--ASMBLY (0 if no back or seat)",0,"COMT",{"$f":"Form!$Z$1","v":0},1,{"$f":"$AO$563","v":""}]
[null,null,null,null,null,null,null,null,null,null,null,"Remarks or other instructions:",null,null,null,null,null,null,null,null,null,null,null,null,null,null,null,null,null,null,null,null,null,null,null,null,null,null,null,"(all qty of 1 now but leave formula just in case)",null,null,null,null,null,null,null,{"$f":"AM564","v":0},"(all qty of 1 now but leave formula just in case)"]
[null,{"$f":"AND(L565<>\" \",NOT(ISBLANK(L565)))","v":false},null,null,null,null,null,null,null,null,"1.",null,null,null,null,null,null,null,null,null,null,null,null," ",null,null,null,null,null,null,null,null,null,null,null,null,{"$f":"IF(B565,AK563+1,AK563)","v":0},{"$f":"\"\"","v":""},{"$f":"IF(B565,\"Remark\",\"\")","v":""},null,{"$f":"IF($B565,$L565,\"\")","v":""}," ",null,null,null,{"$f":"AK565","v":0},"REM",{"$f":"AM565","v":""},0,{"$f":"SUBSTITUTE(SUBSTITUTE($L565,quote,\" in.\"),comma,\" -\")","v":""}]
[null,{"$f":"AND(L566<>\" \",NOT(ISBLANK(L566)))","v":false},null,null,null,null,null,null,null,null,"2.",null,null,null,null,null,null,null,null,null,null,null,null," ",null,null,null,null,null,null,null,null,null,null,null,null,{"$f":"IF(B566,AK565+1,AK565)","v":0},{"$f":"\"\"","v":""},{"$f":"IF(B566,\"Remark\",\"\")","v":""}," ",{"$f":"IF($B566,$L566,\"\")","v":""}," ",null,null,null,{"$f":"AK566","v":0},"REM",{"$f":"AM566","v":""}," ",{"$f":"SUBSTITUTE(SUBSTITUTE($L566,quote,\" in.\"),comma,\" -\")","v":""}]
[null,{"$f":"AND(L567<>\" \",NOT(ISBLANK(L567)))","v":false},null,null,null,null,null,null,null,null,"3.",null,null,null,null,null,null,null,null,null,null,null,null," ",null,null,null,null,null,null,null,null,null,null,null,null,{"$f":"IF(B567,AK566+1,AK566)","v":0},{"$f":"\"\"","v":""},{"$f":"IF(B567,\"Remark\",\"\")","v":""}," ",{"$f":"IF($B567,$L567,\"\")","v":""}," ",null,null,null,{"$f":"AK567","v":0},"REM",{"$f":"AM567","v":""}," ",{"$f":"SUBSTITUTE(SUBSTITUTE($L567,quote,\" in.\"),comma,\" -\")","v":""}]
[null,null,null,null,null,null,null,null,{"$f":"Revdate","v":"5.1 1/20/22"},null,null,null,null,null,null,null,null,null,null,null,null,null,null,null,null,null,null,null,null,null,null,null,null,null,null,null,{"$f":"AK567+1","v":1},"<-Used for export to have a line nujber for the END row.",null,null,null,{"$f":"SUM(AP14:AP563)","v":0},"TOTAL PRICE",null,null,{"$f":"AK568","v":1},"REM"]
[null,null,null,null,null,null,null,null,null,null,null,null,null,null,null,null,null,null,null,null,null,null,null,null,null,null,null,null,null,null,null,null,null,null,null,null,null,null,"=IF(Form!$Y$1=\"b\",\"59900\",IF(Form!$Y$1=\"c\",\"59901\",0))",null,"=IF(Form!$Y$1=\"b\",\"Basic seating system assembly\",IF(Form!$Y$1=\"c\",\"Complete seating system assembly\",\"\"))",null,"=IF($AQ$8>0,IF(Form!$Y$1=\"b\",30,IF(Form!$Y$1=\"c\",60,0)),0)"]

{"sheet":"Diagram","index":2,"n_rows":52,"n_cols":26,"rows_kept":52,"cut":false,"hidden":false,"merged":[[32,6,32,11],[30,7,30,10],[31,6,31,11],[38,2,38,4],[35,2,35,4],[36,2,36,4],[37,2,37,4],[35,6,35,11],[33,7,33,10],[36,6,36,11],[34,6,34,11],[37,6,37,11],[30,2,30,4],[49,15,50,22],[44,7,44,10],[38,6,38,7],[43,7,43,10],[39,8,39,9],[38,10,38,11],[42,13,42,16],[43,13,43,14],[18,6,18,11],[3,4,3,13],[1,5,1,21],[11,7,11,10],[12,7,12,10],[5,7,5,10],[10,7,10,10],[8,2,8,4],[8,9,9,13],[6,7,7,10],[29,7,29,10],[19,14,19,15],[32,13,33,16],[13,6,13,11],[17,7,17,10],[15,14,15,17],[15,6,15,11],[16,14,16,17],[14,6,14,11],[23,14,23,15],[24,14,24,15],[25,6,25,11],[14,14,14,17],[22,7,22,10],[23,6,23,11],[20,14,20,15]]}
[]
[" ",null,null,null,null,{"$f":"Design!$L$5&\"     \"&Design!$E$5&IF(ISTEXT(Design!$S$5),\"    RTS: \"&Design!$S$5,\"\")&IF(NOT(ISBLANK(Design!$O$5)),\"    PO: \"&Design!$O$5,\"\")&\"     \"&TEXT(NOW(),\"MM/DD/YY  HH:MM\")&IF(LEN(Orderno)>0,\"   Ref: \"&Orderno,\"\")&IF(LEN(Form!$F$6)>0,\"   Order: \"&Form!$F$6,\"\")&\" \"&CSR&\" TSA \"&Revdate","v":"          01/20/22  13:53  TSA 5.1 1/20/22"}]
[null,null,null,null,null,null,null,null,null,null,null,null,null,null,null,null,null,null,null,{"$f":"IF(ISBLANK(Design!$E$7),\"\",\"Mark For: \"&Design!$E$7)&IF('Pick List'!$B$15,\"       \"&'Pick List'!$J$15,\"\")","v":""}]
[null,null,null,null,{"$f":"Form!AA1","v":""},null,null,null,null,null,null,null,null,null,null,null,null,null,null,null,{"$f":"Design!$E$11","v":0},null," "]
[{"$f":"AND('Pick List'!$B$16,OR('Pick List'!$B$19,'Pick List'!$B$47))","v":false},null,{"$f":"IF(A5,\"[_]  Contact: \"&Pads!$J$36,\"\")","v":""},null,null,null,null,null,null,null,null,null,null,null,null,null,null,null,null,{"$f":"'Pick List'!$AL$176","v":""},{"$f":"'Pick List'!AO176","v":""},null," "]
[{"$f":"AND('Pick List'!$B$17,OR('Pick List'!$B$19,'Pick List'!$B$47))","v":false},null,{"$f":"IF(A6,\"[_]  Non-contact: \"&Pads!$Q$36,\"\")","v":""},null,null,null,null,{"$f":"IF(NOT('Pick List'!$B$176),'Pick List'!$AM176&\" hdw\",\"\")","v":""},null,null,null,null,null,null,null,null,null,null,null,{"$f":"'Pick List'!$AL$184","v":""},{"$f":"'Pick List'!AO184&IF(AND('Pick List'!$B205,'Pick List'!$B210,Pads!$K$21<>\"Standard\"),\", CS=\"&Pads!$J$21,\"\")&IF(AND('Pick List'!$B205,'Pick List'!$B211,Pads!$R$21<>\"Standard\"),\", NC=\"&Pads!$Q$21,\"\")","v":""},null," "]
[{"$f":"AND('Pick List'!$B$47,'Pick List'!C62=2,OR('Pick List'!$B$19,'Pick List'!$B$47))","v":false},null,{"$f":"IF(A7,\"[_]   Back Zipper on Bottom\",\"\")","v":""},null,null,null,null,{"$f":"IF(NOT('Pick List'!$B$184),'Pick List'!$AM184&\" pads\",\"\")","v":""},null,null,null,null,null,null,null,null,null,null,null,null,{"$f":"IF('Pick List'!$B$304,\"Strap positioning guides\",\"\")","v":""},null," "]
[null,null,null,null,null,null,null,null,null,null,null,null,null,null,null,null,null,null,null,{"$f":"'Pick List'!$AL$47","v":""},{"$f":"'Pick List'!AO47","v":""},null," "]
[null,null,"Back Layers of Foam",null,null,null,null,null,null,{"$f":"IF('Pick List'!$B$304,\"  \"&'Pick List'!$AM$304&\" strap guides\",\"\")","v":""},null,null,null,null,null,null,null,null,null,{"$f":"'Pick List'!$AL48","v":""},{"$f":"'Pick List'!AO48&IF(AND('Pick List'!$B$47,'Pick List'!$B$70),\" + extra cover\",\"\")","v":""},null," "]
[null,null,{"$f":"IF('Pick List'!AO53=\"\",\"\",RIGHT('Pick List'!AO53,LEN('Pick List'!AO53)-SEARCH(\"-\",'Pick List'!AO53)-1))","v":""},null,null,null,null,null,null,null,null,null,null,null,null,null,null,null,null,{"$f":"'Pick List'!$AL49","v":""},{"$f":"'Pick List'!AO49","v":""},null," "]
[null,null,{"$f":"IF('Pick List'!AO54=\"\",\"\",RIGHT('Pick List'!AO54,LEN('Pick List'!AO54)-SEARCH(\"-\",'Pick List'!AO54)-1))","v":""},null,null,null,null,{"$f":"IF('Pick List'!$B$47,'Pick List'!$AM47&\" Back\",\"\")","v":""},null,null,null,null,{"$f":"IF('Pick List'!$B$51,\" \"&Design!$O$55&\"\"\" W x \"&Design!$P$56&\"\"\" H\",\"\")","v":""},null,null,null,null,null,null,{"$f":"'Pick List'!$AL50","v":""},{"$f":"'Pick List'!AO50","v":""},null," "]
[null,null,{"$f":"IF('Pick List'!AO55=\"\",\"\",RIGHT('Pick List'!AO55,LEN('Pick List'!AO55)-SEARCH(\"-\",'Pick List'!AO55)-1))","v":""},null,null,null,null,{"$f":"IF('Pick List'!$B$47,Design!$AR$125,\"\")","v":""},null,null,null,null,null,null,null,null,null,null,null,{"$f":"'Pick List'!$AL51","v":""},{"$f":"'Pick List'!AO51","v":""},null," "]
[null,null,null,null,null,null,null,{"$f":"IF('Pick List'!$B$47,IF('Pick List'!$B$84,\"No hdw\",IF('Pick List'!$B$85,\"No hdw\",'Pick List'!$AM83&IF('Pick List'!$AM$83=\"\",\"\",\" hdw\"))),\"\")","v":""},null,null,null,null,{"$f":"IF('Pick List'!$B$237,\"  \"&'Pick List'!$AM$238&\" sleeves\",\"\")","v":""},null,null,null,null,null,null,{"$f":"'Pick List'!$AL52","v":""},{"$f":"'Pick List'!AO52","v":""},null," "]
[null,null,null,null,{"$f":"IF(AND(AssemblyCode<>1,'Pick List'!$B$238<>1,BACKSHAPE<>1),IF(BackChannel=1,\"Pad top \"&PadTop&\"\"\" above seat\",\"Install on channels\"&IF(PadTop>0,\", top=\"&PadTop,\"\")),IF(PadTop>0,\"Pad top \"&PadTop&\"\"\" above seat?\",\"\"))","v":""},null,{"$f":"IF('Pick List'!$B$238<>1,IF('Pick List'!$AG$236>0,\" Chest width=\"&'Pick List'!$AG$236,\" Chest width N/A\"),\"\")","v":""},null,null,null,null,null,null,null,null,null,null,null,null,{"$f":"IF(ISNUMBER(SEARCH(\"BACK\",'Pick List'!AO83)),'Pick List'!AL83,\"\")","v":""},{"$f":"IF('Pick List'!$B$47,IF('Pick List'!$B$84,\"No back attaching hardware selected\",'Pick List'!AO83),\"\")","v":""},null," "]
[null,null,null,null,null,{"$f":"IF('Pick List'!$A$250,\"CLEARANCE?\",\"\")","v":""},{"$f":"IF(AND('Pick List'!$B$47,Design!$AB$15>1),INDEX(Design!$AC$29:$AC$31,Design!$AB$15),\"\")","v":""},null,null,null,null,null,null,null,{"$f":"IF(LEN('Pick List'!$AM234)>1,'Pick List'!$AM234,\"\")&IF(AND(LEN('Pick List'!$AM234)>1,LEN('Pick List'!$AM235)>1),\"+\",\"\")&'Pick List'!$AM235","v":""},null,null,null,null,{"$f":"IF(LEN('Pick List'!$AM234)>1,'Pick List'!$AL$234,\"\")&IF(LEN('Pick List'!$AM235)>1,'Pick List'!$AL$235,\"\")","v":""},{"$f":"IF(OR(LEN('Pick List'!$AM234)>1,LEN('Pick List'!$AM235)>1),\"LTS: \",\"\")&IF(LEN('Pick List'!$AM234)>1,SUBSTITUTE('Pick List'!AO234,\"LTS: \",\"\"),\"\")&IF(AND(LEN('Pick List'!$AM234)>1,LEN('Pick List'!$AM235)>1),\" + \",\"\")&SUBSTITUTE('Pick List'!AO235,\"LTS: \",\"\")","v":""},null," "]
[null,null,null,null,null,null,{"$f":"IF(AND('Pick List'!$B$47,'Pick List'!$B$70),'Pick List'!$J$70,\"\")","v":""},null,null,null,null,null,null,null,{"$f":"IF(LEN('Pick List'!$AM236)>1,'Pick List'!$AM236,\"\")&IF(AND(LEN('Pick List'!$AM236)>1,LEN('Pick List'!$AM237)>1),\"+\",\"\")&'Pick List'!$AM237","v":""},null,null,null,null,{"$f":"IF(LEN('Pick List'!$AM236)>1,'Pick List'!$AL$236,\"\")&IF(LEN('Pick List'!$AM237)>1,'Pick List'!$AL$237,\"\")","v":""},{"$f":"IF(OR(LEN('Pick List'!$AM236)>1,LEN('Pick List'!$AM237)>1),\"LTS: \",\"\")&IF(LEN('Pick List'!$AM236)>1,SUBSTITUTE('Pick List'!AO236,\"LTS: \",\"\"),\"\")&IF(AND(LEN('Pick List'!$AM236)>1,LEN('Pick List'!$AM237)>1),\" + \",\"\")&SUBSTITUTE('Pick List'!AO237,\"LTS: \",\"\")","v":""},null," "]
[null,null,null,null,null,{"$f":"IF('Pick List'!$B$543<>1,\"Total arms=\"&ARMSVAR&\"  \",\"\")","v":""},null,null,null,null,null,null,null,null,{"$f":"IF('Pick List'!$AM$272=\"\",\"\",'Pick List'!$AM272&\" pad\"&IF('Pick List'!$B282,\"+mods\",\"\"))","v":""},null,null,null,null,{"$f":"IF('Pick List'!$F$272>0,'Pick List'!$AL$272&'Pick List'!$AL$284&'Pick List'!$AL$285,\"\")","v":""},{"$f":"IF('Pick List'!$F$272>0,'Pick List'!AO272&IF(AND('Pick List'!$B284,Pads!$K$2<>\"Standard\"),\", CS=\"&Pads!$J$2,\"\")&IF(AND('Pick List'!$B285,Pads!$R$2<>\"Standard\"),\", NC=\"&Pads!$Q$2,\"\"),\"\")","v":""},null," "]
[null,null,null,null,null,null,null,{"$f":"'Pick List'!$AM307&IF('Pick List'!$B$305,\"+\"&'Pick List'!$AM$305,\"\")","v":""},null,null,null,null,null,null,{"$f":"IF('Pick List'!$B$299,\" + Combo Lateral\",\"\")","v":""},null,null,null,null,{"$f":"'Pick List'!$AL$307&'Pick List'!$AL$305","v":""},{"$f":"'Pick List'!AO307&IF('Pick List'!$B$305,\" w/ TheraSleeves \"&'Pick List'!$AM$305,\"\")","v":""},null," "]
[null,null,null,null,null,null,{"$f":"IF(AND('Pick List'!$B$47,'Pick List'!$B$63),\"Lumbar Support\",\"\")","v":""},null,null,null,null,null,null,null,{"$f":"IF('Pick List'!$E$549,'Pick List'!$AM544&\" Tray\",\"\")","v":""},null,null,null,null,{"$f":"'Pick List'!$AL$544","v":""},{"$f":"'Pick List'!AO544","v":""},null," "]
[null,null,{"$f":"IF('Pick List'!$E$63>0,\"Other Back Mods:\",\"\")","v":""},null,null,null,null,null,null,null,null,null,null,null,{"$f":"'Pick List'!$AM556","v":0},null,null,null,null,{"$f":"'Pick List'!$AL556","v":""},{"$f":"IF('Pick List'!$B$556,'Pick List'!AO556,\"\")","v":""},null," "]
[null,null,{"$f":"IF(AND('Pick List'!$B$47,'Pick List'!$B63),\"[_]   \"&RIGHT('Pick List'!AO63,LEN('Pick List'!AO63)-SEARCH(\":\",'Pick List'!AO63)-1),\"\")","v":""},null,null,null,null,null,null,null,null,null,null,null,{"$f":"'Pick List'!$AM557","v":0},null,null,null,null,{"$f":"'Pick List'!$AL557","v":""},{"$f":"IF('Pick List'!$B557,'Pick List'!AO557,\"\")","v":""},null," "]
[null,null,{"$f":"IF(AND('Pick List'!$B$47,'Pick List'!$B64),\"[_]   \"&RIGHT('Pick List'!AO64,LEN('Pick List'!AO64)-SEARCH(\":\",'Pick List'!AO64)-1),\"\")","v":""},null,null,null,null,null,null,null,null,{"$f":"IF(AND('Pick List'!$B$47,Design!$AB$48),\"- - - - - - Biangular Back- - - - - -  \",\"\")","v":""},null,null,{"$f":"IF('Pick List'!$B$558,'Pick List'!$AM558,\"\")&IF(AND('Pick List'!$B$558,'Pick List'!$B$559),\"+\",\"\")&IF('Pick List'!$B$559,'Pick List'!$AM559,\"\")","v":""},null,null,null,null,{"$f":"'Pick List'!$AL558&IF('Pick List'!$B$559,'Pick List'!AL559,\"\")","v":""},{"$f":"'Pick List'!AO558&IF(AND('Pick List'!$B$558,'Pick List'!$B$559),\" plus \",\"\")&IF('Pick List'!$B$559,'Pick List'!AO559,\"\")","v":""},null," "]
[null,null,{"$f":"IF(AND('Pick List'!$B$47,'Pick List'!$B66),\"[_]   \"&RIGHT('Pick List'!AO66,LEN('Pick List'!AO66)-SEARCH(\":\",'Pick List'!AO66)-1),\"\")","v":""},null,null,null,null,{"$f":"IF(BACKLBW>0,\"Back LBW=\"&BACKLBW&quote,\"\")","v":""},null,null,null,null,null,null,{"$f":"IF('Pick List'!$B$561,'Pick List'!$AM561&\" Overlay\",\"\")","v":""},null,null,null,null,{"$f":"'Pick List'!$AL561","v":""},{"$f":"'Pick List'!AO561","v":""},null," "]
[null,null,{"$f":"IF(AND('Pick List'!$B$47,'Pick List'!$B67),\"[_]   \"&RIGHT('Pick List'!AO67,LEN('Pick List'!AO67)-SEARCH(\":\",'Pick List'!AO67)-1),\"\")","v":""},null,null,null,{"$f":"IF(MINBCO>0,\"BCO to clear pads=\"&MINBCO&quote,\"\")","v":""},null,null,null,null,null,null,null,{"$f":"'Pick List'!$AM560","v":0},null,null,null,null,{"$f":"'Pick List'!$AL560","v":""},{"$f":"'Pick List'!AO560","v":""},null," "]
[null,null,{"$f":"IF('Pick List'!$B69,\"[_]   \"&RIGHT('Pick List'!AO69,LEN('Pick List'!AO69)-SEARCH(\":\",'Pick List'!AO69)-1),\"\")","v":""},null,null,null,null,null,null,null,null,null,null,null,{"$f":"'Pick List'!$AM562","v":0},null,null,null,null,{"$f":"'Pick List'!$AL562","v":""},{"$f":"'Pick List'!AO562","v":""},null," "]
[null,null,null,null,null,null,{"$f":"IF(AND('Pick List'!$B$47,'Pick List'!$B$68),IF('Pick List'!$AN$68>1,'Pick List'!$AN$68&\"@ \",\"\")&'Pick List'!$AM68&\" spreader bar\",\"\")","v":""},null,null,null,null,null,{"$f":"IF('Pick List'!$B$83,\"   Seat-to-back Hinge\",\"\")","v":""},null,null,null,null,null,null,{"$f":"'Pick List'!AL68","v":""},{"$f":"'Pick List'!AO68","v":""},null," "]
[null,null,null,null,null,null,null,null,null,null,null,null,null,null,null,null,null,null,null,null,null,null," "]
[null,null,null,null,null,null,null,null,null,null,null,null,null,null,{"$f":"IF('Pick List'!$AM377=\"\",\"\",'Pick List'!$AM377&\" belt\")","v":""},null,null,null,null,{"$f":"'Pick List'!AL377","v":""},{"$f":"'Pick List'!AO377","v":""},null," "]
[{"$f":"AND('Pick List'!$B$60,'Pick List'!$B$47)","v":false},null,{"$f":"IF(A29,\"[_]  Contact: \"&Pads!$H$52,\"\")","v":""},null,null,null,null,null,null,null,null,null,null,null,{"$f":"IF(AND('Pick List'!$B$375,'Pick List'!$AM$375<>\"\",'Pick List'!$AM$375<>\"Warning\"),'Pick List'!$AM$375&\" sleeves\",\"\")","v":""},null,null,null,null,{"$f":"'Pick List'!AL375","v":""},{"$f":"'Pick List'!AO375","v":""},null," "]
[{"$f":"AND('Pick List'!$B$61,'Pick List'!$B$47)","v":false},null,{"$f":"IF(A30,\"[_]  Non-contact: \"&Pads!$O$53,\"\")","v":""},null,null,null,null,{"$f":"IF('Pick List'!$B$19,CHOOSE(Y30,\"\",\"  Growth notches   \"&Design!$Q$14,\"  Hidden notches   \"&Design!$Q$14),\"\")","v":""},null,null,null,null,null,{"$f":"IF(NOT('Pick List'!$B$433),'Pick List'!$AM433&\" bracket\",\"\")","v":""},null,null,null,null,null,{"$f":"'Pick List'!AL433","v":""},{"$f":"'Pick List'!AO433","v":""},null," ",null,{"$f":"Design!$AB$52","v":1},"Growth notches choice"]
[null,null,{"$f":"IF(CONTIDX=3,\"Front Layers of Foam\",\"Seat Layers of Foam\")","v":"Seat Layers of Foam"},null,null,null,null,{"$f":"IF('Pick List'!$B$19,'Pick List'!$AM19&\" Seat\",\"\")","v":""},null,null,null,{"$f":"IF(AND(Design!$AB$52<>1,'Pick List'!$B$19),Design!$R$13,\"\")","v":""},null,{"$f":"IF(NOT('Pick List'!$B$410),'Pick List'!$AM410&\" pad\"&IF('Pick List'!$B$422,\" w/ mods\",\"\"),\"\")","v":""},null,null,null,null,null,{"$f":"IF('Pick List'!$F$411>0,'Pick List'!AL410&'Pick List'!$AL$425&'Pick List'!$AL$426,\"\")","v":""},{"$f":"IF('Pick List'!$F$411>0,SUBSTITUTE(SUBSTITUTE('Pick List'!AO410,\" of seat\",\"\"),\" pad\",\"\")&IF(AND('Pick List'!$B425,Pads!$K$3<>\"Standard\"),\", CS=\"&Pads!$L$3,\"\")&IF(AND('Pick List'!$B426,Pads!$R$3<>\"Standard\"),\", NC=\"&Pads!$S$3,\"\"),\"\")","v":""},null," "]
[{"$f":"IF('Pick List'!$B$19,CONTIDX,0)","v":0},null,{"$f":"IF('Pick List'!AO25=\"\",\"\",RIGHT('Pick List'!AO25,LEN('Pick List'!AO25)-SEARCH(\"-\",'Pick List'!AO25)-1))","v":""},null,null,null,{"$f":"IF('Pick List'!$B$19,Design!AR139,\"\")","v":""},null,null,null,null,null,null,{"$f":"IF('Pick List'!$B$429,'Pick List'!$AM429&\" armpads\",\"\")","v":""},null,null,null,null,null,{"$f":"'Pick List'!AL429","v":""},{"$f":"'Pick List'!AO429","v":""},null," "]
[null,null,{"$f":"IF('Pick List'!AO26=\"\",\"\",RIGHT('Pick List'!AO26,LEN('Pick List'!AO26)-SEARCH(\"-\",'Pick List'!AO26)-1))","v":""},null,null,null,{"$f":"IF(SEATIDX<>1,\"Spec usable=\"&TEXT(UsableDepth,\"#0.0#\")&IF(Seat!$BD$2>0,\"   Default=\"&ROUND(Seat!$BD$2,3),\"\"),\"\")","v":""},null,null,null,null,null,null,{"$f":"IF(AND(SEATIDX<>1,'Pick List'!$B$409<>1),IF(AssemblyCode<>1,Belts!$D$278,IF('Pick List'!$U$424>0,Belts!$D$278&\"?\",\"\")),\"\")","v":""},null,null,null,null,null,{"$f":"'Pick List'!AL19","v":""},{"$f":"'Pick List'!AO19","v":""},null," "]
[null,null,{"$f":"IF('Pick List'!AO27=\"\",\"\",RIGHT('Pick List'!AO27,LEN('Pick List'!AO27)-SEARCH(\"-\",'Pick List'!AO27)-1))","v":""},null,null,null,null,{"$f":"IF('Pick List'!$B$19,IF('Pick List'!$B$84,\"No hdw\",IF('Pick List'!$B$85,\"No hdw\",'Pick List'!$AM84&IF('Pick List'!$AM$84=\"\",\"\",\" hdw\"))),\"\")","v":""},null,null,null,null,null,null,null,null,null,null,null,{"$f":"'Pick List'!$AL20","v":""},{"$f":"'Pick List'!AO20&IF(AND('Pick List'!$B$19,'Pick List'!$B$44),\" + extra cover\",\"\")","v":""},null," "]
[null,null,{"$f":"IF('Pick List'!$B$32,OtherSeatMod,\"\")","v":""},null,null,null,{"$f":"IF('Pick List'!$AG$433<>\"N/A\",\"  Hip width=\"&'Pick List'!$AG$433,\"\")","v":""},null,null,null,null,null,null,null,null,null,null,null,null,{"$f":"'Pick List'!$AL21","v":""},{"$f":"'Pick List'!AO21","v":""},null," "]
[null,null,{"$f":"IF(AND('Pick List'!$B$19,CONTIDX=3),\"Rear Layers of Foam\",\"\")","v":""},null,null,null,{"$f":"IF('Pick List'!$B$31,\"Seat Channels Attached\",\"\")","v":""},null,null,null,null,null,null,null,null,null,null,null,null,{"$f":"'Pick List'!$AL22","v":""},{"$f":"IF(AND('Pick List'!B22,FOAMSREQD),'Pick List'!AO22,\"\")","v":""},null," "]
[null,null,{"$f":"IF('Pick List'!AO28=\"\",\"\",RIGHT('Pick List'!AO28,LEN('Pick List'!AO28)-SEARCH(\"-\",'Pick List'!AO28)-1))","v":""},null,null,null,{"$f":"IF(AND('Pick List'!$B$19,'Pick List'!$B$44),'Pick List'!$J$44,\"\")","v":""},null,null,null,null,null,null,null,null,null,null,null,null,{"$f":"'Pick List'!$AL23","v":""},{"$f":"'Pick List'!AO23","v":""},null," "]
[null,null,{"$f":"IF('Pick List'!AO29=\"\",\"\",RIGHT('Pick List'!AO29,LEN('Pick List'!AO29)-SEARCH(\"-\",'Pick List'!AO29)-1))","v":""},null,null,null,{"$f":"IF('Pick List'!$B$24,\"Oversized Dimensions\",\"\")","v":""},null,null,null,null,null,null,null,null,null,null,null,null,{"$f":"IF(ISNUMBER(SEARCH(\"SEAT\",'Pick List'!AO83)),'Pick List'!AL83,'Pick List'!AL84)","v":""},{"$f":"IF('Pick List'!$B$19,IF('Pick List'!$B$84,\"No seat attaching hardware selected\",IF(LEFT('Pick List'!AO83,4)=\"SEAT\",'Pick List'!AO83,'Pick List'!AO84)),\"\")","v":""},null," ",null,{"$f":"Design!$AB$54","v":false},"Right shortened"]
[null,null,{"$f":"IF('Pick List'!AO30=\"\",\"\",RIGHT('Pick List'!AO30,LEN('Pick List'!AO30)-SEARCH(\"-\",'Pick List'!AO30)-1))","v":""},null,null,null,{"$f":"Design!$S$20","v":""},null,null,null,{"$f":"Design!$U$20","v":""},null,null,null,null,null,null,null,null,null,null,null," ",null,{"$f":"Design!$AB$55","v":false},"Left shortened"]
[null,null,null,null,null,null,null,{"$f":"Design!$Q$21","v":1},{"$f":"IF(AND('Pick List'!$B$19,Design!$AB$50),\"T-nuts\",\"\")","v":""},null,{"$f":"Design!$W$21","v":1},null,null,{"$f":"IF(NOT('Pick List'!$B$479),'Pick List'!$AM479&\" bracket\",\"\")","v":""},null,null,null,null,null,{"$f":"'Pick List'!AL479","v":""},{"$f":"'Pick List'!AO479","v":""},null," ",null,{"$f":"SEATIDX","v":1},"If > 1 then a seat was selected"]
[null,null,null,null,null,null,{"$f":"IF(AND('Pick List'!$B$19,'Pick List'!$B$39),'Pick List'!$BV$38,\"\")","v":""},null,null,null,null,null,null,{"$f":"IF(NOT('Pick List'!$B$464),'Pick List'!$AM464&\" pad\"&IF('Pick List'!$B$472,\" w/ mods\",\"\"),\"\")","v":""},null,null,null,null,null,{"$f":"IF('Pick List'!$F$465>0,'Pick List'!AL464&'Pick List'!$AL$474&'Pick List'!$AL$475,\"\")","v":""},{"$f":"IF('Pick List'!$F$465>0,'Pick List'!AO464&IF(AND('Pick List'!$B474,Pads!$K$4<>\"Standard\"),\", CS=\"&Pads!$J$4,\"\")&IF(AND('Pick List'!$B475,Pads!$R$4<>\"Standard\"),\", NC=\"&Pads!$Q$4,\"\"),\"\")","v":""},null," "]
[null,null,{"$f":"IF('Pick List'!E35>0,\"Other Seat Mods:\",\"\")","v":""},null,null,null,null,{"$f":"Design!$S$22","v":""},null,null,{"$f":"Design!$U$22","v":""},null,null,null,null,null,null,null,null,null,null,null," ",null,{"$f":"AND(BACKSHAPE=3,Design!$AB$47)","v":false},"Scapular cutouts"]
[null,null,{"$f":"IF(AND('Pick List'!$B$19,'Pick List'!$B35),\"[_]   \"&RIGHT('Pick List'!AO35,LEN('Pick List'!AO35)-SEARCH(\":\",'Pick List'!AO35)-1),\"\")","v":""},null,null,null,null,null,null,null,null,null,null,{"$f":"IF(NOT('Pick List'!$B$494),'Pick List'!$AM494,\"\")","v":""},null,null,null,null,null,{"$f":"'Pick List'!AL494","v":""},{"$f":"'Pick List'!AO494","v":""},null," "]
[null,null,{"$f":"IF(AND('Pick List'!$B$19,'Pick List'!$B36),\"[_]   \"&RIGHT('Pick List'!AO36,LEN('Pick List'!AO36)-SEARCH(\":\",'Pick List'!AO36)-1),\"\")","v":""},null,null,null,null,{"$f":"IF(NOT('Pick List'!$B$458),'Pick List'!$AM458&\" bracket\",\"\")","v":""},null,null,null,null,null,{"$f":"IF(NOT('Pick List'!$B$501),'Pick List'!$AM501,\"\")","v":""},null,null,null,null,null,{"$f":"'Pick List'!AL501","v":0},{"$f":"'Pick List'!AO501","v":""},null," "]
[null,{"$f":"IF(AND('Pick List'!$B$19,'Pick List'!$B37),'Pick List'!$AL37,\"\")","v":""},{"$f":"IF(AND('Pick List'!$B$19,'Pick List'!$B37),\"[_]   \"&'Pick List'!AO37,\"\")","v":""},null,null,null,null,{"$f":"IF(NOT('Pick List'!$B$449),'Pick List'!$AM449&\" abductor\",\"\")","v":""},null,null,null,null,null,null,null,null,null,null,null,{"$f":"'Pick List'!AL458","v":""},{"$f":"'Pick List'!AO458","v":""},null," "]
[null,{"$f":"IF(AND('Pick List'!$B$19,'Pick List'!$B$38),'Pick List'!$AL38,\"\")","v":""},{"$f":"IF(AND('Pick List'!$B$19,'Pick List'!$B38),\"[_]   \"&RIGHT('Pick List'!AO38,LEN('Pick List'!AO38)-SEARCH(\":\",'Pick List'!AO38)-1),\"\")","v":""},null,null,null,null,null,null,null,null,null,null,null,null,null,null,null,null,{"$f":"'Pick List'!AL449","v":""},{"$f":"'Pick List'!AO449","v":""},null," "]
[null,{"$f":"IF(AND('Pick List'!$B$19,'Pick List'!$B$39),'Pick List'!$AL39,\"\")","v":""},{"$f":"IF(AND('Pick List'!$B$19,'Pick List'!$B39),\"[_]   \"&RIGHT('Pick List'!AO39,LEN('Pick List'!AO39)-SEARCH(\":\",'Pick List'!AO39)-1),\"\")","v":""},null,null,null,null,null,null,null,null,null,null,null,null,null,null,null,null,null,null,null," "]
[null,{"$f":"IF(AND('Pick List'!$B$19,'Pick List'!$B40),'Pick List'!$AL40,\"\")","v":""},{"$f":"IF(AND('Pick List'!$B$19,'Pick List'!$B40),\"[_]   \"&RIGHT('Pick List'!AO40,LEN('Pick List'!AO40)-SEARCH(\":\",'Pick List'!AO40)-1),\"\")","v":""},null,null,null,null,null,null,null,null,null,null,null,null,null,null,null,null,null,null,null," "]
[null,null,{"$f":"IF(AND('Pick List'!$B$19,'Pick List'!$B41),\"[_]   \"&RIGHT('Pick List'!AO41,LEN('Pick List'!AO41)-SEARCH(\":\",'Pick List'!AO41)-1),\"\")","v":""},null,null,null,null,null,null,null,null,null,{"$f":"'Pick List'!$AM508&IF('Pick List'!$B$536,\" + \"&Belts!$K$359,\"\")&IF('Pick List'!$B$521,\" + \"&Belts!$K$378,\"\")","v":""},null,null,null,null,null,null,{"$f":"'Pick List'!AL508","v":""},{"$f":"'Pick List'!AO508&IF(OR('Pick List'!$B$521,'Pick List'!$B$536),\" -- with padded inserts\",\"\")","v":""},null," "]
[null,null,{"$f":"IF(AND('Pick List'!$B$19,'Pick List'!$B42),\"[_]   \"&RIGHT('Pick List'!AO42,LEN('Pick List'!AO42)-SEARCH(\":\",'Pick List'!AO42)-1),\"\")","v":""},null,null,null,null,null,null,null,null,null,null,null,null,{"$f":"Form!$I$7&\"  \"&'Pick List'!L565&\"  \"&'Pick List'!L566&\"  \"&'Pick List'!L567","v":"      "}]
[null,null,{"$f":"IF(AND('Pick List'!$B$19,'Pick List'!$B43),\"[_]   \"&RIGHT('Pick List'!AO43,LEN('Pick List'!AO43)-SEARCH(\":\",'Pick List'!AO43)-1),\"\")","v":""}]
[null,null,{"$f":"\"OTHER ITEMS:  \"&'Pick List'!$AM$103","v":"OTHER ITEMS:  "}]

{"sheet":"Form","index":3,"n_rows":82,"n_cols":27,"rows_kept":82,"cut":false,"hidden":false,"merged":[[5,5,5,6],[2,8,3,8],[4,5,4,6],[14,13,17,13]]}
[{"$f":"FALSE","v":false},true,null,null,null,null,null,null,null,null,null,null,null,{"$f":"CHOOSE($U$1,\"\",\"Basic Opt Assembly\",\"Install on Chair\",\"Complete Assembly\",\"Installation Incl\")","v":""},null,null,{"$f":"SEARCH(\"[\",CELL(\"filename\",T1),1)+1","v":78},{"$f":"SEARCH(\"]\",CELL(\"filename\",T1),1)","v":90},{"$f":"R1-Q1","v":12},null,1,{"$f":"INDEX(V3:V7,$U$1,1)","v":"Therafin Standard Assembly"},null,{"$f":"INDEX(X3:X7,$U$1,1)","v":0},{"$f":"INDEX(Y3:Y7,$U$1,1)","v":"S"},{"$f":"INDEX(Z3:Z7,$U$1,1)","v":0},{"$f":"INDEX(AA3:AA7,$U$1,1)&IF(AssemblyCode<>1,IF(ISBLANK(UsableDepth),\"  *** Usable seat depth required on Design screen ***\",\".  Usable seat depth = \"&TEXT(UsableDepth,\"#0.0#\")),\"\")","v":""}]
[{"$f":"NOT(A1)","v":true},null,null,null,null,null,null,null,null,null,{"$f":"\"FILE: \"&MID(CELL(\"filename\",T1),Q3,S3)","v":"FILE: TSA 5.1.xlsm"},null,"Subject: ",{"$f":"$S$5&\" \"&Design!$E$7&\"-\"&MID(CELL(\"filename\",A1),Q3,S3)","v":"ORDER -TSA 5.1.xlsm"}]
[{"$f":"FALSE","v":false},null,null,null,null,null,null,null,{"$f":"\"       Phone: 800-843-7234  Fax: 888-479-1515  www.Therafin.com\"","v":"       Phone: 800-843-7234  Fax: 888-479-1515  www.Therafin.com"},null,{"$f":"\"TSA \"&Revdate&IF(ISNUMBER($D$7),\"-\",\"\")&TEXT(100*D7,\"##\")&TEXT(100*D8,\"##\")&IF(ISBLANK(CSR),\"\",\"-\"&CSR)","v":"TSA 5.1 1/20/22"},null,"#1: ","order@therafin.com",null,null,{"$f":"SEARCH(\"[\",CELL(\"filename\",A1),1)+1","v":78},{"$f":"SEARCH(\"]\",CELL(\"filename\",A1),1)","v":90},{"$f":"R3-Q3","v":12},null,1,"Therafin Standard Assembly",null,0,"S",0]
[{"$f":"NOT(A3)","v":true},null,null,null,null,null,null,null,null,"TF#:",null,null,"#2: ",null,null,null,null,"PList Title","Subj Title",null,2,{"$f":"\"Basic Assembly \"&IF(X4>0,\"$\"&X4,\"\")","v":"Basic Assembly "},null,{"$f":"K75","v":0},"B",59900,"Basic assembly"]
[{"$f":"IF($H$72>0,\"End of \"&LOWER($R$5)&\" (Freight Included)\",\"End of \"&LOWER($R$5))","v":"End of order"},"<=msg",null,null,null,{"$f":"TEXT(NOW(),\"MM/DD/YY HH:MM\")","v":"01/20/22 13:53"},null,null,{"$f":"R5","v":"ORDER"},null,"   ORDER?",null,"#3: ",null,null,null,{"$f":"IF(S8,2,1)","v":2},{"$f":"INDEX(R6:R7,$Q5,1)","v":"ORDER"},{"$f":"INDEX(S6:S7,$Q5,1)","v":"ORDER"},null,3,{"$f":"\"Installation on Chair \"&IF(X5>0,\"$\"&X5,\"\")","v":"Installation on Chair "},null,{"$f":"K76","v":0},"C","59901*","WC supplied"]
["for print  offset",null,null,"Enter Disc%",null,null,null,null,{"$f":"Design!$L$5&\"     \"&Design!$E$5&IF(ISTEXT(Design!$S$5),\"    RTS: \"&Design!$S$5,\"\")&IF(NOT(ISBLANK(Design!$O$5)),\"    PO#: \"&Design!$O$5,\"\")","v":"     "},null,null,null,null,null,null,null,1,"QUOTE","QUOTE",null,4,{"$f":"\"Complete Assembly \"&IF(X6>0,\"$\"&X6,\"\")","v":"Complete Assembly "},null,{"$f":"K77","v":0},"A",59901,"Complete assembly"]
[{"$f":"A10+9","v":10},null,null,null,{"$f":"IF(ISNUMBER(D7),\"\",\"<=Primary?\")","v":"<=Primary?"},null,null,null,null,null,null,null,null,null," ",null,2,"ORDER","ORDER",null,5,"Installation included",null,{"$f":"K78","v":0},"I",59902,"Installation included"]
[44,null,null,null,{"$f":"IF(ISNUMBER(D8),\"\",\"<=Secondary?\")","v":"<=Secondary?"},null,null,null,{"$f":"IF(ISBLANK(Design!$E$7),\"\",\"Mark For: \"&Design!$E$7)","v":""},null,null,null,null,"Combine attaching hdw prices w/back & seat",null,null,null,"Is this an order?",true,null,{"$f":"\"C:\\QWINT\\QWinput.CSV\"","v":"C:\\QWINT\\QWinput.CSV"}]
[{"$f":"A10-1","v":0}]
[{"$f":"MAX('Pick List'!AK14:AK567)+1","v":1},null," ",null,null,null,"Item","Qty","Description","HCPCS",{"$f":"'Pick List'!$N$2","v":"Retail"},null,null,"Combine modifications with the back & seat",null,null,{"$f":"MID(CELL(\"filename\",A1),FIND(\"[\",CELL(\"filename\",A1))+1,FIND(\"]\",CELL(\"filename\",A1))-FIND(\"[\",CELL(\"filename\",A1))-1)","v":"TSA 5.1.xlsm"},null,null,null,{"$f":"\"C:\\TSAINT\\EX\"&$F$6&\".CSV\"","v":"C:\\TSAINT\\EX.CSV"}]
[1,{"$f":"IF($A11=$A$10,$A$5,\"\")","v":"End of order"},"FOR",{"$f":"MATCH($A11,'Pick List'!$AK$14:$AK$567,0)","v":{"$error":"#N/A"}},{"$f":"IF($A11<$A$10,INDEX('Pick List'!$AL$14:AL$567,$D11),\"\")","v":""},{"$f":"IF($A11<=($A$10-1),$A11,\"\")","v":""},{"$f":"IF($A11<$A$10,INDEX('Pick List'!$AM$14:AM$567,$D11),\"\")","v":""},{"$f":"IF($A11<$A$10,INDEX('Pick List'!$AN$14:AN$567,$D11),\"\")","v":""},{"$f":"IF($A11<$A$10,INDEX('Pick List'!$AO$14:AO$567,$D11),B11)","v":"End of order"},{"$f":"IF($A11<$A$10,INDEX('Pick List'!$AR$14:AR$567,$D11),\"\")","v":""},{"$f":"IF($A11<$A$10,INDEX('Pick List'!$AP$14:$AP$567,$D11),IF(LEFT(I11,3)=\"End\",'Pick List'!$AP$568,\"\"))","v":0},null,null,null,null,null,null,null,null,null,"=\"Export of \"&LEFT(Q10,SEARCH(\".\",Q10,1)-1)&\".csv\""]
[{"$f":"A11+1","v":2},{"$f":"IF($A12=$A$10,$A$5,\"\")","v":""}," ",{"$f":"MATCH($A12,'Pick List'!$AK$14:$AK$567,0)","v":{"$error":"#N/A"}},{"$f":"IF($A12<$A$10,INDEX('Pick List'!$AL$14:AL$567,$D12),\"\")","v":""},{"$f":"IF($A12<=($A$10-1),$A12,\"\")","v":""},{"$f":"IF($A12<$A$10,INDEX('Pick List'!$AM$14:AM$567,$D12),\"\")","v":""},{"$f":"IF($A12<$A$10,INDEX('Pick List'!$AN$14:AN$567,$D12),\"\")","v":""},{"$f":"IF($A12<$A$10,INDEX('Pick List'!$AO$14:AO$567,$D12),B12)","v":""},{"$f":"IF($A12<$A$10,INDEX('Pick List'!$AR$14:AR$567,$D12),\"\")","v":""},{"$f":"IF($A12<$A$10,INDEX('Pick List'!$AP$14:$AP$567,$D12),IF(LEFT(I12,3)=\"End\",'Pick List'!$AP$568,\"\"))","v":""},null,null,null,null,null,null,"Does PO# exist?",{"$f":"OR(ISTEXT(Design!O5),ISNUMBER(Design!O5))","v":false},null,{"$f":"CELL(\"filename\",A1)","v":"C:\\Users\\jiml\\SyncedFolder\\Lefler Jim's Files (20190320 124849)\\MY DATA\\TSA\\[TSA 5.1.xlsm]Form"},null,null,null,null,null," "]
[{"$f":"A12+1","v":3},""," ",{"$f":"MATCH($A13,'Pick List'!$AK$14:$AK$567,0)","v":{"$error":"#N/A"}},{"$f":"IF($A13<$A$10,INDEX('Pick List'!$AL$14:AL$567,$D13),\"\")","v":""},{"$f":"IF($A13<=($A$10-1),$A13,\"\")","v":""},{"$f":"IF($A13<$A$10,INDEX('Pick List'!$AM$14:AM$567,$D13),\"\")","v":""},{"$f":"IF($A13<$A$10,INDEX('Pick List'!$AN$14:AN$567,$D13),\"\")","v":""},{"$f":"IF($A13<$A$10,INDEX('Pick List'!$AO$14:AO$567,$D13),B13)","v":""},{"$f":"IF($A13<$A$10,INDEX('Pick List'!$AR$14:AR$567,$D13),\"\")","v":""},{"$f":"IF($A13<$A$10,INDEX('Pick List'!$AP$14:$AP$567,$D13),IF(LEFT(I13,3)=\"End\",'Pick List'!$AP$568,\"\"))","v":""},null,null,null,null,null,null,null,null,null,"=SUBSTITUTE(SUBSTITUTE(LEFT(CELL(\"filename\",A1),FIND(\"]\",CELL(\"filename\",A1))),\"[\",\"\"),\"]\",\"\")",null,null,null,null,null," "]
[4,""," ",{"$f":"MATCH($A14,'Pick List'!$AK$14:$AK$567,0)","v":{"$error":"#N/A"}},{"$f":"IF($A14<$A$10,INDEX('Pick List'!$AL$14:AL$567,$D14),\"\")","v":""},"",{"$f":"IF($A14<$A$10,INDEX('Pick List'!$AM$14:AM$567,$D14),\"\")","v":""},{"$f":"IF($A14<$A$10,INDEX('Pick List'!$AN$14:AN$567,$D14),\"\")","v":""},{"$f":"IF($A14<$A$10,INDEX('Pick List'!$AO$14:AO$567,$D14),B14)","v":""},{"$f":"IF($A14<$A$10,INDEX('Pick List'!$AR$14:AR$567,$D14),\"\")","v":""},{"$f":"IF($A14<$A$10,INDEX('Pick List'!$AP$14:$AP$567,$D14),IF(LEFT(I14,3)=\"End\",'Pick List'!$AP$568,\"\"))","v":""},null,null,"Optional text for body of email:",null,null,null,null,null,null,"=SUBSTITUTE(SUBSTITUTE(SUBSTITUTE(LEFT(CELL(\"filename\",A1),FIND(\"]\",CELL(\"filename\",A1))),\"[\",\"Export of \"),\"]\",\"\"),\".xls\",\".csv\")",null,null,null,null,null," "]
[5,""," ",{"$f":"MATCH($A15,'Pick List'!$AK$14:$AK$567,0)","v":{"$error":"#N/A"}},{"$f":"IF($A15<$A$10,INDEX('Pick List'!$AL$14:AL$567,$D15),\"\")","v":""},"",{"$f":"IF($A15<$A$10,INDEX('Pick List'!$AM$14:AM$567,$D15),\"\")","v":""},{"$f":"IF($A15<$A$10,INDEX('Pick List'!$AN$14:AN$567,$D15),\"\")","v":""},{"$f":"IF($A15<$A$10,INDEX('Pick List'!$AO$14:AO$567,$D15),B15)","v":""},{"$f":"IF($A15<$A$10,INDEX('Pick List'!$AR$14:AR$567,$D15),\"\")","v":""},{"$f":"IF($A15<$A$10,INDEX('Pick List'!$AP$14:$AP$567,$D15),IF(LEFT(I15,3)=\"End\",'Pick List'!$AP$568,\"\"))","v":""}]
[6,""," ",{"$f":"MATCH($A16,'Pick List'!$AK$14:$AK$567,0)","v":{"$error":"#N/A"}},{"$f":"IF($A16<$A$10,INDEX('Pick List'!$AL$14:AL$567,$D16),\"\")","v":""},"",{"$f":"IF($A16<$A$10,INDEX('Pick List'!$AM$14:AM$567,$D16),\"\")","v":""},{"$f":"IF($A16<$A$10,INDEX('Pick List'!$AN$14:AN$567,$D16),\"\")","v":""},{"$f":"IF($A16<$A$10,INDEX('Pick List'!$AO$14:AO$567,$D16),B16)","v":""},{"$f":"IF($A16<$A$10,INDEX('Pick List'!$AR$14:AR$567,$D16),\"\")","v":""},{"$f":"IF($A16<$A$10,INDEX('Pick List'!$AP$14:$AP$567,$D16),IF(LEFT(I16,3)=\"End\",'Pick List'!$AP$568,\"\"))","v":""}]
[7,""," ",{"$f":"MATCH($A17,'Pick List'!$AK$14:$AK$567,0)","v":{"$error":"#N/A"}},{"$f":"IF($A17<$A$10,INDEX('Pick List'!$AL$14:AL$567,$D17),\"\")","v":""},"",{"$f":"IF($A17<$A$10,INDEX('Pick List'!$AM$14:AM$567,$D17),\"\")","v":""},{"$f":"IF($A17<$A$10,INDEX('Pick List'!$AN$14:AN$567,$D17),\"\")","v":""},{"$f":"IF($A17<$A$10,INDEX('Pick List'!$AO$14:AO$567,$D17),B17)","v":""},{"$f":"IF($A17<$A$10,INDEX('Pick List'!$AR$14:AR$567,$D17),\"\")","v":""},{"$f":"IF($A17<$A$10,INDEX('Pick List'!$AP$14:$AP$567,$D17),IF(LEFT(I17,3)=\"End\",'Pick List'!$AP$568,\"\"))","v":""}]
[8,""," ",{"$f":"MATCH($A18,'Pick List'!$AK$14:$AK$567,0)","v":{"$error":"#N/A"}},{"$f":"IF($A18<$A$10,INDEX('Pick List'!$AL$14:AL$567,$D18),\"\")","v":""},"",{"$f":"IF($A18<$A$10,INDEX('Pick List'!$AM$14:AM$567,$D18),\"\")","v":""},{"$f":"IF($A18<$A$10,INDEX('Pick List'!$AN$14:AN$567,$D18),\"\")","v":""},{"$f":"IF($A18<$A$10,INDEX('Pick List'!$AO$14:AO$567,$D18),B18)","v":""},{"$f":"IF($A18<$A$10,INDEX('Pick List'!$AR$14:AR$567,$D18),\"\")","v":""},{"$f":"IF($A18<$A$10,INDEX('Pick List'!$AP$14:$AP$567,$D18),IF(LEFT(I18,3)=\"End\",'Pick List'!$AP$568,\"\"))","v":""}]
[9,""," ",{"$f":"MATCH($A19,'Pick List'!$AK$14:$AK$567,0)","v":{"$error":"#N/A"}},{"$f":"IF($A19<$A$10,INDEX('Pick List'!$AL$14:AL$567,$D19),\"\")","v":""},"",{"$f":"IF($A19<$A$10,INDEX('Pick List'!$AM$14:AM$567,$D19),\"\")","v":""},{"$f":"IF($A19<$A$10,INDEX('Pick List'!$AN$14:AN$567,$D19),\"\")","v":""},{"$f":"IF($A19<$A$10,INDEX('Pick List'!$AO$14:AO$567,$D19),B19)","v":""},{"$f":"IF($A19<$A$10,INDEX('Pick List'!$AR$14:AR$567,$D19),\"\")","v":""},{"$f":"IF($A19<$A$10,INDEX('Pick List'!$AP$14:$AP$567,$D19),IF(LEFT(I19,3)=\"End\",'Pick List'!$AP$568,\"\"))","v":""}]
[10,""," ",{"$f":"MATCH($A20,'Pick List'!$AK$14:$AK$567,0)","v":{"$error":"#N/A"}},{"$f":"IF($A20<$A$10,INDEX('Pick List'!$AL$14:AL$567,$D20),\"\")","v":""},"",{"$f":"IF($A20<$A$10,INDEX('Pick List'!$AM$14:AM$567,$D20),\"\")","v":""},{"$f":"IF($A20<$A$10,INDEX('Pick List'!$AN$14:AN$567,$D20),\"\")","v":""},{"$f":"IF($A20<$A$10,INDEX('Pick List'!$AO$14:AO$567,$D20),B20)","v":""},{"$f":"IF($A20<$A$10,INDEX('Pick List'!$AR$14:AR$567,$D20),\"\")","v":""},{"$f":"IF($A20<$A$10,INDEX('Pick List'!$AP$14:$AP$567,$D20),IF(LEFT(I20,3)=\"End\",'Pick List'!$AP$568,\"\"))","v":""}]
[11,""," ",{"$f":"MATCH($A21,'Pick List'!$AK$14:$AK$567,0)","v":{"$error":"#N/A"}},{"$f":"IF($A21<$A$10,INDEX('Pick List'!$AL$14:AL$567,$D21),\"\")","v":""},"",{"$f":"IF($A21<$A$10,INDEX('Pick List'!$AM$14:AM$567,$D21),\"\")","v":""},{"$f":"IF($A21<$A$10,INDEX('Pick List'!$AN$14:AN$567,$D21),\"\")","v":""},{"$f":"IF($A21<$A$10,INDEX('Pick List'!$AO$14:AO$567,$D21),B21)","v":""},{"$f":"IF($A21<$A$10,INDEX('Pick List'!$AR$14:AR$567,$D21),\"\")","v":""},{"$f":"IF($A21<$A$10,INDEX('Pick List'!$AP$14:$AP$567,$D21),IF(LEFT(I21,3)=\"End\",'Pick List'!$AP$568,\"\"))","v":""},null,null,{"$f":"IF(Design!$AB$7,\"**Enter usable seat depth on Design screen**\",\"\")","v":""}]
[12,""," ",{"$f":"MATCH($A22,'Pick List'!$AK$14:$AK$567,0)","v":{"$error":"#N/A"}},{"$f":"IF($A22<$A$10,INDEX('Pick List'!$AL$14:AL$567,$D22),\"\")","v":""},"",{"$f":"IF($A22<$A$10,INDEX('Pick List'!$AM$14:AM$567,$D22),\"\")","v":""},{"$f":"IF($A22<$A$10,INDEX('Pick List'!$AN$14:AN$567,$D22),\"\")","v":""},{"$f":"IF($A22<$A$10,INDEX('Pick List'!$AO$14:AO$567,$D22),B22)","v":""},{"$f":"IF($A22<$A$10,INDEX('Pick List'!$AR$14:AR$567,$D22),\"\")","v":""},{"$f":"IF($A22<$A$10,INDEX('Pick List'!$AP$14:$AP$567,$D22),IF(LEFT(I22,3)=\"End\",'Pick List'!$AP$568,\"\"))","v":""}]
[13,""," ",{"$f":"MATCH($A23,'Pick List'!$AK$14:$AK$567,0)","v":{"$error":"#N/A"}},{"$f":"IF($A23<$A$10,INDEX('Pick List'!$AL$14:AL$567,$D23),\"\")","v":""},"",{"$f":"IF($A23<$A$10,INDEX('Pick List'!$AM$14:AM$567,$D23),\"\")","v":""},{"$f":"IF($A23<$A$10,INDEX('Pick List'!$AN$14:AN$567,$D23),\"\")","v":""},{"$f":"IF($A23<$A$10,INDEX('Pick List'!$AO$14:AO$567,$D23),B23)","v":""},{"$f":"IF($A23<$A$10,INDEX('Pick List'!$AR$14:AR$567,$D23),\"\")","v":""},{"$f":"IF($A23<$A$10,INDEX('Pick List'!$AP$14:$AP$567,$D23),IF(LEFT(I23,3)=\"End\",'Pick List'!$AP$568,\"\"))","v":""},null,null,{"$f":"\"           Export to \"&RANAME","v":"           Export to EXTERNAL FILE"}]
[14,""," ",{"$f":"MATCH($A24,'Pick List'!$AK$14:$AK$567,0)","v":{"$error":"#N/A"}},{"$f":"IF($A24<$A$10,INDEX('Pick List'!$AL$14:AL$567,$D24),\"\")","v":""},"",{"$f":"IF($A24<$A$10,INDEX('Pick List'!$AM$14:AM$567,$D24),\"\")","v":""},{"$f":"IF($A24<$A$10,INDEX('Pick List'!$AN$14:AN$567,$D24),\"\")","v":""},{"$f":"IF($A24<$A$10,INDEX('Pick List'!$AO$14:AO$567,$D24),B24)","v":""},{"$f":"IF($A24<$A$10,INDEX('Pick List'!$AR$14:AR$567,$D24),\"\")","v":""},{"$f":"IF($A24<$A$10,INDEX('Pick List'!$AP$14:$AP$567,$D24),IF(LEFT(I24,3)=\"End\",'Pick List'!$AP$568,\"\"))","v":""},null,null,{"$f":"RADIR&\"\\\"&RANAME&\".CSV\"","v":"C:\\TSAEXPORT\\EXTERNAL FILE.CSV"}]
[15,""," ",{"$f":"MATCH($A25,'Pick List'!$AK$14:$AK$567,0)","v":{"$error":"#N/A"}},{"$f":"IF($A25<$A$10,INDEX('Pick List'!$AL$14:AL$567,$D25),\"\")","v":""},"",{"$f":"IF($A25<$A$10,INDEX('Pick List'!$AM$14:AM$567,$D25),\"\")","v":""},{"$f":"IF($A25<$A$10,INDEX('Pick List'!$AN$14:AN$567,$D25),\"\")","v":""},{"$f":"IF($A25<$A$10,INDEX('Pick List'!$AO$14:AO$567,$D25),B25)","v":""},{"$f":"IF($A25<$A$10,INDEX('Pick List'!$AR$14:AR$567,$D25),\"\")","v":""},{"$f":"IF($A25<$A$10,INDEX('Pick List'!$AP$14:$AP$567,$D25),IF(LEFT(I25,3)=\"End\",'Pick List'!$AP$568,\"\"))","v":""}]
[16,""," ",{"$f":"MATCH($A26,'Pick List'!$AK$14:$AK$567,0)","v":{"$error":"#N/A"}},{"$f":"IF($A26<$A$10,INDEX('Pick List'!$AL$14:AL$567,$D26),\"\")","v":""},"",{"$f":"IF($A26<$A$10,INDEX('Pick List'!$AM$14:AM$567,$D26),\"\")","v":""},{"$f":"IF($A26<$A$10,INDEX('Pick List'!$AN$14:AN$567,$D26),\"\")","v":""},{"$f":"IF($A26<$A$10,INDEX('Pick List'!$AO$14:AO$567,$D26),B26)","v":""},{"$f":"IF($A26<$A$10,INDEX('Pick List'!$AR$14:AR$567,$D26),\"\")","v":""},{"$f":"IF($A26<$A$10,INDEX('Pick List'!$AP$14:$AP$567,$D26),IF(LEFT(I26,3)=\"End\",'Pick List'!$AP$568,\"\"))","v":""}]
[17,""," ",{"$f":"MATCH($A27,'Pick List'!$AK$14:$AK$567,0)","v":{"$error":"#N/A"}},{"$f":"IF($A27<$A$10,INDEX('Pick List'!$AL$14:AL$567,$D27),\"\")","v":""},"",{"$f":"IF($A27<$A$10,INDEX('Pick List'!$AM$14:AM$567,$D27),\"\")","v":""},{"$f":"IF($A27<$A$10,INDEX('Pick List'!$AN$14:AN$567,$D27),\"\")","v":""},{"$f":"IF($A27<$A$10,INDEX('Pick List'!$AO$14:AO$567,$D27),B27)","v":""},{"$f":"IF($A27<$A$10,INDEX('Pick List'!$AR$14:AR$567,$D27),\"\")","v":""},{"$f":"IF($A27<$A$10,INDEX('Pick List'!$AP$14:$AP$567,$D27),IF(LEFT(I27,3)=\"End\",'Pick List'!$AP$568,\"\"))","v":""}]
[18,""," ",{"$f":"MATCH($A28,'Pick List'!$AK$14:$AK$567,0)","v":{"$error":"#N/A"}},{"$f":"IF($A28<$A$10,INDEX('Pick List'!$AL$14:AL$567,$D28),\"\")","v":""},"",{"$f":"IF($A28<$A$10,INDEX('Pick List'!$AM$14:AM$567,$D28),\"\")","v":""},{"$f":"IF($A28<$A$10,INDEX('Pick List'!$AN$14:AN$567,$D28),\"\")","v":""},{"$f":"IF($A28<$A$10,INDEX('Pick List'!$AO$14:AO$567,$D28),B28)","v":""},{"$f":"IF($A28<$A$10,INDEX('Pick List'!$AR$14:AR$567,$D28),\"\")","v":""},{"$f":"IF($A28<$A$10,INDEX('Pick List'!$AP$14:$AP$567,$D28),IF(LEFT(I28,3)=\"End\",'Pick List'!$AP$568,\"\"))","v":""}]
[19,""," ",{"$f":"MATCH($A29,'Pick List'!$AK$14:$AK$567,0)","v":{"$error":"#N/A"}},{"$f":"IF($A29<$A$10,INDEX('Pick List'!$AL$14:AL$567,$D29),\"\")","v":""},"",{"$f":"IF($A29<$A$10,INDEX('Pick List'!$AM$14:AM$567,$D29),\"\")","v":""},{"$f":"IF($A29<$A$10,INDEX('Pick List'!$AN$14:AN$567,$D29),\"\")","v":""},{"$f":"IF($A29<$A$10,INDEX('Pick List'!$AO$14:AO$567,$D29),B29)","v":""},{"$f":"IF($A29<$A$10,INDEX('Pick List'!$AR$14:AR$567,$D29),\"\")","v":""},{"$f":"IF($A29<$A$10,INDEX('Pick List'!$AP$14:$AP$567,$D29),IF(LEFT(I29,3)=\"End\",'Pick List'!$AP$568,\"\"))","v":""}]
[20,""," ",{"$f":"MATCH($A30,'Pick List'!$AK$14:$AK$567,0)","v":{"$error":"#N/A"}},{"$f":"IF($A30<$A$10,INDEX('Pick List'!$AL$14:AL$567,$D30),\"\")","v":""},"",{"$f":"IF($A30<$A$10,INDEX('Pick List'!$AM$14:AM$567,$D30),\"\")","v":""},{"$f":"IF($A30<$A$10,INDEX('Pick List'!$AN$14:AN$567,$D30),\"\")","v":""},{"$f":"IF($A30<$A$10,INDEX('Pick List'!$AO$14:AO$567,$D30),B30)","v":""},{"$f":"IF($A30<$A$10,INDEX('Pick List'!$AR$14:AR$567,$D30),\"\")","v":""},{"$f":"IF($A30<$A$10,INDEX('Pick List'!$AP$14:$AP$567,$D30),IF(LEFT(I30,3)=\"End\",'Pick List'!$AP$568,\"\"))","v":""}]
[21,""," ",{"$f":"MATCH($A31,'Pick List'!$AK$14:$AK$567,0)","v":{"$error":"#N/A"}},{"$f":"IF($A31<$A$10,INDEX('Pick List'!$AL$14:AL$567,$D31),\"\")","v":""},"",{"$f":"IF($A31<$A$10,INDEX('Pick List'!$AM$14:AM$567,$D31),\"\")","v":""},{"$f":"IF($A31<$A$10,INDEX('Pick List'!$AN$14:AN$567,$D31),\"\")","v":""},{"$f":"IF($A31<$A$10,INDEX('Pick List'!$AO$14:AO$567,$D31),B31)","v":""},{"$f":"IF($A31<$A$10,INDEX('Pick List'!$AR$14:AR$567,$D31),\"\")","v":""},{"$f":"IF($A31<$A$10,INDEX('Pick List'!$AP$14:$AP$567,$D31),IF(LEFT(I31,3)=\"End\",'Pick List'!$AP$568,\"\"))","v":""}]
[22,""," ",{"$f":"MATCH($A32,'Pick List'!$AK$14:$AK$567,0)","v":{"$error":"#N/A"}},{"$f":"IF($A32<$A$10,INDEX('Pick List'!$AL$14:AL$567,$D32),\"\")","v":""},"",{"$f":"IF($A32<$A$10,INDEX('Pick List'!$AM$14:AM$567,$D32),\"\")","v":""},{"$f":"IF($A32<$A$10,INDEX('Pick List'!$AN$14:AN$567,$D32),\"\")","v":""},{"$f":"IF($A32<$A$10,INDEX('Pick List'!$AO$14:AO$567,$D32),B32)","v":""},{"$f":"IF($A32<$A$10,INDEX('Pick List'!$AR$14:AR$567,$D32),\"\")","v":""},{"$f":"IF($A32<$A$10,INDEX('Pick List'!$AP$14:$AP$567,$D32),IF(LEFT(I32,3)=\"End\",'Pick List'!$AP$568,\"\"))","v":""}]
[23,""," ",{"$f":"MATCH($A33,'Pick List'!$AK$14:$AK$567,0)","v":{"$error":"#N/A"}},{"$f":"IF($A33<$A$10,INDEX('Pick List'!$AL$14:AL$567,$D33),\"\")","v":""},"",{"$f":"IF($A33<$A$10,INDEX('Pick List'!$AM$14:AM$567,$D33),\"\")","v":""},{"$f":"IF($A33<$A$10,INDEX('Pick List'!$AN$14:AN$567,$D33),\"\")","v":""},{"$f":"IF($A33<$A$10,INDEX('Pick List'!$AO$14:AO$567,$D33),B33)","v":""},{"$f":"IF($A33<$A$10,INDEX('Pick List'!$AR$14:AR$567,$D33),\"\")","v":""},{"$f":"IF($A33<$A$10,INDEX('Pick List'!$AP$14:$AP$567,$D33),IF(LEFT(I33,3)=\"End\",'Pick List'!$AP$568,\"\"))","v":""}]
[24,""," ",{"$f":"MATCH($A34,'Pick List'!$AK$14:$AK$567,0)","v":{"$error":"#N/A"}},{"$f":"IF($A34<$A$10,INDEX('Pick List'!$AL$14:AL$567,$D34),\"\")","v":""},"",{"$f":"IF($A34<$A$10,INDEX('Pick List'!$AM$14:AM$567,$D34),\"\")","v":""},{"$f":"IF($A34<$A$10,INDEX('Pick List'!$AN$14:AN$567,$D34),\"\")","v":""},{"$f":"IF($A34<$A$10,INDEX('Pick List'!$AO$14:AO$567,$D34),B34)","v":""},{"$f":"IF($A34<$A$10,INDEX('Pick List'!$AR$14:AR$567,$D34),\"\")","v":""},{"$f":"IF($A34<$A$10,INDEX('Pick List'!$AP$14:$AP$567,$D34),IF(LEFT(I34,3)=\"End\",'Pick List'!$AP$568,\"\"))","v":""}]
[25,""," ",{"$f":"MATCH($A35,'Pick List'!$AK$14:$AK$567,0)","v":{"$error":"#N/A"}},{"$f":"IF($A35<$A$10,INDEX('Pick List'!$AL$14:AL$567,$D35),\"\")","v":""},"",{"$f":"IF($A35<$A$10,INDEX('Pick List'!$AM$14:AM$567,$D35),\"\")","v":""},{"$f":"IF($A35<$A$10,INDEX('Pick List'!$AN$14:AN$567,$D35),\"\")","v":""},{"$f":"IF($A35<$A$10,INDEX('Pick List'!$AO$14:AO$567,$D35),B35)","v":""},{"$f":"IF($A35<$A$10,INDEX('Pick List'!$AR$14:AR$567,$D35),\"\")","v":""},{"$f":"IF($A35<$A$10,INDEX('Pick List'!$AP$14:$AP$567,$D35),IF(LEFT(I35,3)=\"End\",'Pick List'!$AP$568,\"\"))","v":""}]
[26,""," ",{"$f":"MATCH($A36,'Pick List'!$AK$14:$AK$567,0)","v":{"$error":"#N/A"}},{"$f":"IF($A36<$A$10,INDEX('Pick List'!$AL$14:AL$567,$D36),\"\")","v":""},"",{"$f":"IF($A36<$A$10,INDEX('Pick List'!$AM$14:AM$567,$D36),\"\")","v":""},{"$f":"IF($A36<$A$10,INDEX('Pick List'!$AN$14:AN$567,$D36),\"\")","v":""},{"$f":"IF($A36<$A$10,INDEX('Pick List'!$AO$14:AO$567,$D36),B36)","v":""},{"$f":"IF($A36<$A$10,INDEX('Pick List'!$AR$14:AR$567,$D36),\"\")","v":""},{"$f":"IF($A36<$A$10,INDEX('Pick List'!$AP$14:$AP$567,$D36),IF(LEFT(I36,3)=\"End\",'Pick List'!$AP$568,\"\"))","v":""}]
[27,""," ",{"$f":"MATCH($A37,'Pick List'!$AK$14:$AK$567,0)","v":{"$error":"#N/A"}},{"$f":"IF($A37<$A$10,INDEX('Pick List'!$AL$14:AL$567,$D37),\"\")","v":""},"",{"$f":"IF($A37<$A$10,INDEX('Pick List'!$AM$14:AM$567,$D37),\"\")","v":""},{"$f":"IF($A37<$A$10,INDEX('Pick List'!$AN$14:AN$567,$D37),\"\")","v":""},{"$f":"IF($A37<$A$10,INDEX('Pick List'!$AO$14:AO$567,$D37),B37)","v":""},{"$f":"IF($A37<$A$10,INDEX('Pick List'!$AR$14:AR$567,$D37),\"\")","v":""},{"$f":"IF($A37<$A$10,INDEX('Pick List'!$AP$14:$AP$567,$D37),IF(LEFT(I37,3)=\"End\",'Pick List'!$AP$568,\"\"))","v":""}]
[28,""," ",{"$f":"MATCH($A38,'Pick List'!$AK$14:$AK$567,0)","v":{"$error":"#N/A"}},{"$f":"IF($A38<$A$10,INDEX('Pick List'!$AL$14:AL$567,$D38),\"\")","v":""},"",{"$f":"IF($A38<$A$10,INDEX('Pick List'!$AM$14:AM$567,$D38),\"\")","v":""},{"$f":"IF($A38<$A$10,INDEX('Pick List'!$AN$14:AN$567,$D38),\"\")","v":""},{"$f":"IF($A38<$A$10,INDEX('Pick List'!$AO$14:AO$567,$D38),B38)","v":""},{"$f":"IF($A38<$A$10,INDEX('Pick List'!$AR$14:AR$567,$D38),\"\")","v":""},{"$f":"IF($A38<$A$10,INDEX('Pick List'!$AP$14:$AP$567,$D38),IF(LEFT(I38,3)=\"End\",'Pick List'!$AP$568,\"\"))","v":""}]
[29,""," ",{"$f":"MATCH($A39,'Pick List'!$AK$14:$AK$567,0)","v":{"$error":"#N/A"}},{"$f":"IF($A39<$A$10,INDEX('Pick List'!$AL$14:AL$567,$D39),\"\")","v":""},"",{"$f":"IF($A39<$A$10,INDEX('Pick List'!$AM$14:AM$567,$D39),\"\")","v":""},{"$f":"IF($A39<$A$10,INDEX('Pick List'!$AN$14:AN$567,$D39),\"\")","v":""},{"$f":"IF($A39<$A$10,INDEX('Pick List'!$AO$14:AO$567,$D39),B39)","v":""},{"$f":"IF($A39<$A$10,INDEX('Pick List'!$AR$14:AR$567,$D39),\"\")","v":""},{"$f":"IF($A39<$A$10,INDEX('Pick List'!$AP$14:$AP$567,$D39),IF(LEFT(I39,3)=\"End\",'Pick List'!$AP$568,\"\"))","v":""}]
[30,""," ",{"$f":"MATCH($A40,'Pick List'!$AK$14:$AK$567,0)","v":{"$error":"#N/A"}},{"$f":"IF($A40<$A$10,INDEX('Pick List'!$AL$14:AL$567,$D40),\"\")","v":""},"",{"$f":"IF($A40<$A$10,INDEX('Pick List'!$AM$14:AM$567,$D40),\"\")","v":""},{"$f":"IF($A40<$A$10,INDEX('Pick List'!$AN$14:AN$567,$D40),\"\")","v":""},{"$f":"IF($A40<$A$10,INDEX('Pick List'!$AO$14:AO$567,$D40),B40)","v":""},{"$f":"IF($A40<$A$10,INDEX('Pick List'!$AR$14:AR$567,$D40),\"\")","v":""},{"$f":"IF($A40<$A$10,INDEX('Pick List'!$AP$14:$AP$567,$D40),IF(LEFT(I40,3)=\"End\",'Pick List'!$AP$568,\"\"))","v":""}]
[31,""," ",{"$f":"MATCH($A41,'Pick List'!$AK$14:$AK$567,0)","v":{"$error":"#N/A"}},{"$f":"IF($A41<$A$10,INDEX('Pick List'!$AL$14:AL$567,$D41),\"\")","v":""},"",{"$f":"IF($A41<$A$10,INDEX('Pick List'!$AM$14:AM$567,$D41),\"\")","v":""},{"$f":"IF($A41<$A$10,INDEX('Pick List'!$AN$14:AN$567,$D41),\"\")","v":""},{"$f":"IF($A41<$A$10,INDEX('Pick List'!$AO$14:AO$567,$D41),B41)","v":""},{"$f":"IF($A41<$A$10,INDEX('Pick List'!$AR$14:AR$567,$D41),\"\")","v":""},{"$f":"IF($A41<$A$10,INDEX('Pick List'!$AP$14:$AP$567,$D41),IF(LEFT(I41,3)=\"End\",'Pick List'!$AP$568,\"\"))","v":""}]
[32,""," ",{"$f":"MATCH($A42,'Pick List'!$AK$14:$AK$567,0)","v":{"$error":"#N/A"}},{"$f":"IF($A42<$A$10,INDEX('Pick List'!$AL$14:AL$567,$D42),\"\")","v":""},"",{"$f":"IF($A42<$A$10,INDEX('Pick List'!$AM$14:AM$567,$D42),\"\")","v":""},{"$f":"IF($A42<$A$10,INDEX('Pick List'!$AN$14:AN$567,$D42),\"\")","v":""},{"$f":"IF($A42<$A$10,INDEX('Pick List'!$AO$14:AO$567,$D42),B42)","v":""},{"$f":"IF($A42<$A$10,INDEX('Pick List'!$AR$14:AR$567,$D42),\"\")","v":""},{"$f":"IF($A42<$A$10,INDEX('Pick List'!$AP$14:$AP$567,$D42),IF(LEFT(I42,3)=\"End\",'Pick List'!$AP$568,\"\"))","v":""}]
[33,""," ",{"$f":"MATCH($A43,'Pick List'!$AK$14:$AK$567,0)","v":{"$error":"#N/A"}},{"$f":"IF($A43<$A$10,INDEX('Pick List'!$AL$14:AL$567,$D43),\"\")","v":""},"",{"$f":"IF($A43<$A$10,INDEX('Pick List'!$AM$14:AM$567,$D43),\"\")","v":""},{"$f":"IF($A43<$A$10,INDEX('Pick List'!$AN$14:AN$567,$D43),\"\")","v":""},{"$f":"IF($A43<$A$10,INDEX('Pick List'!$AO$14:AO$567,$D43),B43)","v":""},{"$f":"IF($A43<$A$10,INDEX('Pick List'!$AR$14:AR$567,$D43),\"\")","v":""},{"$f":"IF($A43<$A$10,INDEX('Pick List'!$AP$14:$AP$567,$D43),IF(LEFT(I43,3)=\"End\",'Pick List'!$AP$568,\"\"))","v":""}]
[34,""," ",{"$f":"MATCH($A44,'Pick List'!$AK$14:$AK$567,0)","v":{"$error":"#N/A"}},{"$f":"IF($A44<$A$10,INDEX('Pick List'!$AL$14:AL$567,$D44),\"\")","v":""},"",{"$f":"IF($A44<$A$10,INDEX('Pick List'!$AM$14:AM$567,$D44),\"\")","v":""},{"$f":"IF($A44<$A$10,INDEX('Pick List'!$AN$14:AN$567,$D44),\"\")","v":""},{"$f":"IF($A44<$A$10,INDEX('Pick List'!$AO$14:AO$567,$D44),B44)","v":""},{"$f":"IF($A44<$A$10,INDEX('Pick List'!$AR$14:AR$567,$D44),\"\")","v":""},{"$f":"IF($A44<$A$10,INDEX('Pick List'!$AP$14:$AP$567,$D44),IF(LEFT(I44,3)=\"End\",'Pick List'!$AP$568,\"\"))","v":""}]
[35,""," ",{"$f":"MATCH($A45,'Pick List'!$AK$14:$AK$567,0)","v":{"$error":"#N/A"}},{"$f":"IF($A45<$A$10,INDEX('Pick List'!$AL$14:AL$567,$D45),\"\")","v":""},"",{"$f":"IF($A45<$A$10,INDEX('Pick List'!$AM$14:AM$567,$D45),\"\")","v":""},{"$f":"IF($A45<$A$10,INDEX('Pick List'!$AN$14:AN$567,$D45),\"\")","v":""},{"$f":"IF($A45<$A$10,INDEX('Pick List'!$AO$14:AO$567,$D45),B45)","v":""},{"$f":"IF($A45<$A$10,INDEX('Pick List'!$AR$14:AR$567,$D45),\"\")","v":""},{"$f":"IF($A45<$A$10,INDEX('Pick List'!$AP$14:$AP$567,$D45),IF(LEFT(I45,3)=\"End\",'Pick List'!$AP$568,\"\"))","v":""}]
[36,""," ",{"$f":"MATCH($A46,'Pick List'!$AK$14:$AK$567,0)","v":{"$error":"#N/A"}},{"$f":"IF($A46<$A$10,INDEX('Pick List'!$AL$14:AL$567,$D46),\"\")","v":""},"",{"$f":"IF($A46<$A$10,INDEX('Pick List'!$AM$14:AM$567,$D46),\"\")","v":""},{"$f":"IF($A46<$A$10,INDEX('Pick List'!$AN$14:AN$567,$D46),\"\")","v":""},{"$f":"IF($A46<$A$10,INDEX('Pick List'!$AO$14:AO$567,$D46),B46)","v":""},{"$f":"IF($A46<$A$10,INDEX('Pick List'!$AR$14:AR$567,$D46),\"\")","v":""},{"$f":"IF($A46<$A$10,INDEX('Pick List'!$AP$14:$AP$567,$D46),IF(LEFT(I46,3)=\"End\",'Pick List'!$AP$568,\"\"))","v":""}]
[37,""," ",{"$f":"MATCH($A47,'Pick List'!$AK$14:$AK$567,0)","v":{"$error":"#N/A"}},{"$f":"IF($A47<$A$10,INDEX('Pick List'!$AL$14:AL$567,$D47),\"\")","v":""},"",{"$f":"IF($A47<$A$10,INDEX('Pick List'!$AM$14:AM$567,$D47),\"\")","v":""},{"$f":"IF($A47<$A$10,INDEX('Pick List'!$AN$14:AN$567,$D47),\"\")","v":""},{"$f":"IF($A47<$A$10,INDEX('Pick List'!$AO$14:AO$567,$D47),B47)","v":""},{"$f":"IF($A47<$A$10,INDEX('Pick List'!$AR$14:AR$567,$D47),\"\")","v":""},{"$f":"IF($A47<$A$10,INDEX('Pick List'!$AP$14:$AP$567,$D47),IF(LEFT(I47,3)=\"End\",'Pick List'!$AP$568,\"\"))","v":""}]
[38,""," ",{"$f":"MATCH($A48,'Pick List'!$AK$14:$AK$567,0)","v":{"$error":"#N/A"}},{"$f":"IF($A48<$A$10,INDEX('Pick List'!$AL$14:AL$567,$D48),\"\")","v":""},"",{"$f":"IF($A48<$A$10,INDEX('Pick List'!$AM$14:AM$567,$D48),\"\")","v":""},{"$f":"IF($A48<$A$10,INDEX('Pick List'!$AN$14:AN$567,$D48),\"\")","v":""},{"$f":"IF($A48<$A$10,INDEX('Pick List'!$AO$14:AO$567,$D48),B48)","v":""},{"$f":"IF($A48<$A$10,INDEX('Pick List'!$AR$14:AR$567,$D48),\"\")","v":""},{"$f":"IF($A48<$A$10,INDEX('Pick List'!$AP$14:$AP$567,$D48),IF(LEFT(I48,3)=\"End\",'Pick List'!$AP$568,\"\"))","v":""}]
[{"$f":"A48+1","v":39},""," ",{"$f":"MATCH($A49,'Pick List'!$AK$14:$AK$567,0)","v":{"$error":"#N/A"}},{"$f":"IF($A49<$A$10,INDEX('Pick List'!$AL$14:AL$567,$D49),\"\")","v":""},"",{"$f":"IF($A49<$A$10,INDEX('Pick List'!$AM$14:AM$567,$D49),\"\")","v":""},{"$f":"IF($A49<$A$10,INDEX('Pick List'!$AN$14:AN$567,$D49),\"\")","v":""},{"$f":"IF($A49<$A$10,INDEX('Pick List'!$AO$14:AO$567,$D49),B49)","v":""},{"$f":"IF($A49<$A$10,INDEX('Pick List'!$AR$14:AR$567,$D49),\"\")","v":""},{"$f":"IF($A49<$A$10,INDEX('Pick List'!$AP$14:$AP$567,$D49),IF(LEFT(I49,3)=\"End\",'Pick List'!$AP$568,\"\"))","v":""}]
[{"$f":"A49+1","v":40},""," ",{"$f":"MATCH($A50,'Pick List'!$AK$14:$AK$567,0)","v":{"$error":"#N/A"}},{"$f":"IF($A50<$A$10,INDEX('Pick List'!$AL$14:AL$567,$D50),\"\")","v":""},"",{"$f":"IF($A50<$A$10,INDEX('Pick List'!$AM$14:AM$567,$D50),\"\")","v":""},{"$f":"IF($A50<$A$10,INDEX('Pick List'!$AN$14:AN$567,$D50),\"\")","v":""},{"$f":"IF($A50<$A$10,INDEX('Pick List'!$AO$14:AO$567,$D50),B50)","v":""},{"$f":"IF($A50<$A$10,INDEX('Pick List'!$AR$14:AR$567,$D50),\"\")","v":""},{"$f":"IF($A50<$A$10,INDEX('Pick List'!$AP$14:$AP$567,$D50),IF(LEFT(I50,3)=\"End\",'Pick List'!$AP$568,\"\"))","v":""}]
[{"$f":"A50+1","v":41},""," ",{"$f":"MATCH($A51,'Pick List'!$AK$14:$AK$567,0)","v":{"$error":"#N/A"}},{"$f":"IF($A51<$A$10,INDEX('Pick List'!$AL$14:AL$567,$D51),\"\")","v":""},"",{"$f":"IF($A51<$A$10,INDEX('Pick List'!$AM$14:AM$567,$D51),\"\")","v":""},{"$f":"IF($A51<$A$10,INDEX('Pick List'!$AN$14:AN$567,$D51),\"\")","v":""},{"$f":"IF($A51<$A$10,INDEX('Pick List'!$AO$14:AO$567,$D51),B51)","v":""},{"$f":"IF($A51<$A$10,INDEX('Pick List'!$AR$14:AR$567,$D51),\"\")","v":""},{"$f":"IF($A51<$A$10,INDEX('Pick List'!$AP$14:$AP$567,$D51),IF(LEFT(I51,3)=\"End\",'Pick List'!$AP$568,\"\"))","v":""}]
[42,""," ",{"$f":"MATCH($A52,'Pick List'!$AK$14:$AK$567,0)","v":{"$error":"#N/A"}},{"$f":"IF($A52<$A$10,INDEX('Pick List'!$AL$14:AL$567,$D52),\"\")","v":""},"",{"$f":"IF($A52<$A$10,INDEX('Pick List'!$AM$14:AM$567,$D52),\"\")","v":""},{"$f":"IF($A52<$A$10,INDEX('Pick List'!$AN$14:AN$567,$D52),\"\")","v":""},{"$f":"IF($A52<$A$10,INDEX('Pick List'!$AO$14:AO$567,$D52),B52)","v":""},{"$f":"IF($A52<$A$10,INDEX('Pick List'!$AR$14:AR$567,$D52),\"\")","v":""},{"$f":"IF($A52<$A$10,INDEX('Pick List'!$AP$14:$AP$567,$D52),IF(LEFT(I52,3)=\"End\",'Pick List'!$AP$568,\"\"))","v":""}]
[43,""," ",{"$f":"MATCH($A53,'Pick List'!$AK$14:$AK$567,0)","v":{"$error":"#N/A"}},{"$f":"IF($A53<$A$10,INDEX('Pick List'!$AL$14:AL$567,$D53),\"\")","v":""},"",{"$f":"IF($A53<$A$10,INDEX('Pick List'!$AM$14:AM$567,$D53),\"\")","v":""},{"$f":"IF($A53<$A$10,INDEX('Pick List'!$AN$14:AN$567,$D53),\"\")","v":""},{"$f":"IF($A53<$A$10,INDEX('Pick List'!$AO$14:AO$567,$D53),B53)","v":""},{"$f":"IF($A53<$A$10,INDEX('Pick List'!$AR$14:AR$567,$D53),\"\")","v":""},{"$f":"IF($A53<$A$10,INDEX('Pick List'!$AP$14:$AP$567,$D53),IF(LEFT(I53,3)=\"End\",'Pick List'!$AP$568,\"\"))","v":""}]
[44,""," ",{"$f":"MATCH($A54,'Pick List'!$AK$14:$AK$567,0)","v":{"$error":"#N/A"}},{"$f":"IF($A54<$A$10,INDEX('Pick List'!$AL$14:AL$567,$D54),\"\")","v":""},"",{"$f":"IF($A54<$A$10,INDEX('Pick List'!$AM$14:AM$567,$D54),\"\")","v":""},{"$f":"IF($A54<$A$10,INDEX('Pick List'!$AN$14:AN$567,$D54),\"\")","v":""},{"$f":"IF($A54<$A$10,INDEX('Pick List'!$AO$14:AO$567,$D54),B54)","v":""},{"$f":"IF($A54<$A$10,INDEX('Pick List'!$AR$14:AR$567,$D54),\"\")","v":""},{"$f":"IF($A54<$A$10,INDEX('Pick List'!$AP$14:$AP$567,$D54),IF(LEFT(I54,3)=\"End\",'Pick List'!$AP$568,\"\"))","v":""}]
[45,""," ",{"$f":"MATCH($A55,'Pick List'!$AK$14:$AK$567,0)","v":{"$error":"#N/A"}},{"$f":"IF($A55<$A$10,INDEX('Pick List'!$AL$14:AL$567,$D55),\"\")","v":""},"",{"$f":"IF($A55<$A$10,INDEX('Pick List'!$AM$14:AM$567,$D55),\"\")","v":""},{"$f":"IF($A55<$A$10,INDEX('Pick List'!$AN$14:AN$567,$D55),\"\")","v":""},{"$f":"IF($A55<$A$10,INDEX('Pick List'!$AO$14:AO$567,$D55),B55)","v":""},{"$f":"IF($A55<$A$10,INDEX('Pick List'!$AR$14:AR$567,$D55),\"\")","v":""},{"$f":"IF($A55<$A$10,INDEX('Pick List'!$AP$14:$AP$567,$D55),IF(LEFT(I55,3)=\"End\",'Pick List'!$AP$568,\"\"))","v":""}]
[46,""," ",{"$f":"MATCH($A56,'Pick List'!$AK$14:$AK$567,0)","v":{"$error":"#N/A"}},{"$f":"IF($A56<$A$10,INDEX('Pick List'!$AL$14:AL$567,$D56),\"\")","v":""},"",{"$f":"IF($A56<$A$10,INDEX('Pick List'!$AM$14:AM$567,$D56),\"\")","v":""},{"$f":"IF($A56<$A$10,INDEX('Pick List'!$AN$14:AN$567,$D56),\"\")","v":""},{"$f":"IF($A56<$A$10,INDEX('Pick List'!$AO$14:AO$567,$D56),B56)","v":""},{"$f":"IF($A56<$A$10,INDEX('Pick List'!$AR$14:AR$567,$D56),\"\")","v":""},{"$f":"IF($A56<$A$10,INDEX('Pick List'!$AP$14:$AP$567,$D56),IF(LEFT(I56,3)=\"End\",'Pick List'!$AP$568,\"\"))","v":""}]
[47,""," ",{"$f":"MATCH($A57,'Pick List'!$AK$14:$AK$567,0)","v":{"$error":"#N/A"}},{"$f":"IF($A57<$A$10,INDEX('Pick List'!$AL$14:AL$567,$D57),\"\")","v":""},"",{"$f":"IF($A57<$A$10,INDEX('Pick List'!$AM$14:AM$567,$D57),\"\")","v":""},{"$f":"IF($A57<$A$10,INDEX('Pick List'!$AN$14:AN$567,$D57),\"\")","v":""},{"$f":"IF($A57<$A$10,INDEX('Pick List'!$AO$14:AO$567,$D57),B57)","v":""},{"$f":"IF($A57<$A$10,INDEX('Pick List'!$AR$14:AR$567,$D57),\"\")","v":""},{"$f":"IF($A57<$A$10,INDEX('Pick List'!$AP$14:$AP$567,$D57),IF(LEFT(I57,3)=\"End\",'Pick List'!$AP$568,\"\"))","v":""}]
[48,""," ",{"$f":"MATCH($A58,'Pick List'!$AK$14:$AK$567,0)","v":{"$error":"#N/A"}},{"$f":"IF($A58<$A$10,INDEX('Pick List'!$AL$14:AL$567,$D58),\"\")","v":""},"",{"$f":"IF($A58<$A$10,INDEX('Pick List'!$AM$14:AM$567,$D58),\"\")","v":""},{"$f":"IF($A58<$A$10,INDEX('Pick List'!$AN$14:AN$567,$D58),\"\")","v":""},{"$f":"IF($A58<$A$10,INDEX('Pick List'!$AO$14:AO$567,$D58),B58)","v":""},{"$f":"IF($A58<$A$10,INDEX('Pick List'!$AR$14:AR$567,$D58),\"\")","v":""},{"$f":"IF($A58<$A$10,INDEX('Pick List'!$AP$14:$AP$567,$D58),IF(LEFT(I58,3)=\"End\",'Pick List'!$AP$568,\"\"))","v":""}]
[49,""," ",{"$f":"MATCH($A59,'Pick List'!$AK$14:$AK$567,0)","v":{"$error":"#N/A"}},{"$f":"IF($A59<$A$10,INDEX('Pick List'!$AL$14:AL$567,$D59),\"\")","v":""},"",{"$f":"IF($A59<$A$10,INDEX('Pick List'!$AM$14:AM$567,$D59),\"\")","v":""},{"$f":"IF($A59<$A$10,INDEX('Pick List'!$AN$14:AN$567,$D59),\"\")","v":""},{"$f":"IF($A59<$A$10,INDEX('Pick List'!$AO$14:AO$567,$D59),B59)","v":""},{"$f":"IF($A59<$A$10,INDEX('Pick List'!$AR$14:AR$567,$D59),\"\")","v":""},{"$f":"IF($A59<$A$10,INDEX('Pick List'!$AP$14:$AP$567,$D59),IF(LEFT(I59,3)=\"End\",'Pick List'!$AP$568,\"\"))","v":""}]
[50,""," ",{"$f":"MATCH($A60,'Pick List'!$AK$14:$AK$567,0)","v":{"$error":"#N/A"}},{"$f":"IF($A60<$A$10,INDEX('Pick List'!$AL$14:AL$567,$D60),\"\")","v":""},"",{"$f":"IF($A60<$A$10,INDEX('Pick List'!$AM$14:AM$567,$D60),\"\")","v":""},{"$f":"IF($A60<$A$10,INDEX('Pick List'!$AN$14:AN$567,$D60),\"\")","v":""},{"$f":"IF($A60<$A$10,INDEX('Pick List'!$AO$14:AO$567,$D60),B60)","v":""},{"$f":"IF($A60<$A$10,INDEX('Pick List'!$AR$14:AR$567,$D60),\"\")","v":""},{"$f":"IF($A60<$A$10,INDEX('Pick List'!$AP$14:$AP$567,$D60),IF(LEFT(I60,3)=\"End\",'Pick List'!$AP$568,\"\"))","v":""}]
[51,""," ",{"$f":"MATCH($A61,'Pick List'!$AK$14:$AK$567,0)","v":{"$error":"#N/A"}},{"$f":"IF($A61<$A$10,INDEX('Pick List'!$AL$14:AL$567,$D61),\"\")","v":""},"",{"$f":"IF($A61<$A$10,INDEX('Pick List'!$AM$14:AM$567,$D61),\"\")","v":""},{"$f":"IF($A61<$A$10,INDEX('Pick List'!$AN$14:AN$567,$D61),\"\")","v":""},{"$f":"IF($A61<$A$10,INDEX('Pick List'!$AO$14:AO$567,$D61),B61)","v":""},{"$f":"IF($A61<$A$10,INDEX('Pick List'!$AR$14:AR$567,$D61),\"\")","v":""},{"$f":"IF($A61<$A$10,INDEX('Pick List'!$AP$14:$AP$567,$D61),IF(LEFT(I61,3)=\"End\",'Pick List'!$AP$568,\"\"))","v":""}]
[52,""," ",{"$f":"MATCH($A62,'Pick List'!$AK$14:$AK$567,0)","v":{"$error":"#N/A"}},{"$f":"IF($A62<$A$10,INDEX('Pick List'!$AL$14:AL$567,$D62),\"\")","v":""},"",{"$f":"IF($A62<$A$10,INDEX('Pick List'!$AM$14:AM$567,$D62),\"\")","v":""},{"$f":"IF($A62<$A$10,INDEX('Pick List'!$AN$14:AN$567,$D62),\"\")","v":""},{"$f":"IF($A62<$A$10,INDEX('Pick List'!$AO$14:AO$567,$D62),B62)","v":""},{"$f":"IF($A62<$A$10,INDEX('Pick List'!$AR$14:AR$567,$D62),\"\")","v":""},{"$f":"IF($A62<$A$10,INDEX('Pick List'!$AP$14:$AP$567,$D62),IF(LEFT(I62,3)=\"End\",'Pick List'!$AP$568,\"\"))","v":""}]
[53,""," ",{"$f":"MATCH($A63,'Pick List'!$AK$14:$AK$567,0)","v":{"$error":"#N/A"}},{"$f":"IF($A63<$A$10,INDEX('Pick List'!$AL$14:AL$567,$D63),\"\")","v":""},"",{"$f":"IF($A63<$A$10,INDEX('Pick List'!$AM$14:AM$567,$D63),\"\")","v":""},{"$f":"IF($A63<$A$10,INDEX('Pick List'!$AN$14:AN$567,$D63),\"\")","v":""},{"$f":"IF($A63<$A$10,INDEX('Pick List'!$AO$14:AO$567,$D63),B63)","v":""},{"$f":"IF($A63<$A$10,INDEX('Pick List'!$AR$14:AR$567,$D63),\"\")","v":""},{"$f":"IF($A63<$A$10,INDEX('Pick List'!$AP$14:$AP$567,$D63),IF(LEFT(I63,3)=\"End\",'Pick List'!$AP$568,\"\"))","v":""}]
[54,""," ",{"$f":"MATCH($A64,'Pick List'!$AK$14:$AK$567,0)","v":{"$error":"#N/A"}},{"$f":"IF($A64<$A$10,INDEX('Pick List'!$AL$14:AL$567,$D64),\"\")","v":""},"",{"$f":"IF($A64<$A$10,INDEX('Pick List'!$AM$14:AM$567,$D64),\"\")","v":""},{"$f":"IF($A64<$A$10,INDEX('Pick List'!$AN$14:AN$567,$D64),\"\")","v":""},{"$f":"IF($A64<$A$10,INDEX('Pick List'!$AO$14:AO$567,$D64),B64)","v":""},{"$f":"IF($A64<$A$10,INDEX('Pick List'!$AR$14:AR$567,$D64),\"\")","v":""},{"$f":"IF($A64<$A$10,INDEX('Pick List'!$AP$14:$AP$567,$D64),IF(LEFT(I64,3)=\"End\",'Pick List'!$AP$568,\"\"))","v":""}]
[55,""," ",{"$f":"MATCH($A65,'Pick List'!$AK$14:$AK$567,0)","v":{"$error":"#N/A"}},{"$f":"IF($A65<$A$10,INDEX('Pick List'!$AL$14:AL$567,$D65),\"\")","v":""},"",{"$f":"IF($A65<$A$10,INDEX('Pick List'!$AM$14:AM$567,$D65),\"\")","v":""},{"$f":"IF($A65<$A$10,INDEX('Pick List'!$AN$14:AN$567,$D65),\"\")","v":""},{"$f":"IF($A65<$A$10,INDEX('Pick List'!$AO$14:AO$567,$D65),B65)","v":""},{"$f":"IF($A65<$A$10,INDEX('Pick List'!$AR$14:AR$567,$D65),\"\")","v":""},{"$f":"IF($A65<$A$10,INDEX('Pick List'!$AP$14:$AP$567,$D65),IF(LEFT(I65,3)=\"End\",'Pick List'!$AP$568,\"\"))","v":""}]
[56,""," ",{"$f":"MATCH($A66,'Pick List'!$AK$14:$AK$567,0)","v":{"$error":"#N/A"}},{"$f":"IF($A66<$A$10,INDEX('Pick List'!$AL$14:AL$567,$D66),\"\")","v":""},"",{"$f":"IF($A66<$A$10,INDEX('Pick List'!$AM$14:AM$567,$D66),\"\")","v":""},{"$f":"IF($A66<$A$10,INDEX('Pick List'!$AN$14:AN$567,$D66),\"\")","v":""},{"$f":"IF($A66<$A$10,INDEX('Pick List'!$AO$14:AO$567,$D66),B66)","v":""},{"$f":"IF($A66<$A$10,INDEX('Pick List'!$AR$14:AR$567,$D66),\"\")","v":""},{"$f":"IF($A66<$A$10,INDEX('Pick List'!$AP$14:$AP$567,$D66),IF(LEFT(I66,3)=\"End\",'Pick List'!$AP$568,\"\"))","v":""}]
[57,""," ",{"$f":"MATCH($A67,'Pick List'!$AK$14:$AK$567,0)","v":{"$error":"#N/A"}},{"$f":"IF($A67<$A$10,INDEX('Pick List'!$AL$14:AL$567,$D67),\"\")","v":""},"",{"$f":"IF($A67<$A$10,INDEX('Pick List'!$AM$14:AM$567,$D67),\"\")","v":""},{"$f":"IF($A67<$A$10,INDEX('Pick List'!$AN$14:AN$567,$D67),\"\")","v":""},{"$f":"IF($A67<$A$10,INDEX('Pick List'!$AO$14:AO$567,$D67),B67)","v":""},{"$f":"IF($A67<$A$10,INDEX('Pick List'!$AR$14:AR$567,$D67),\"\")","v":""},{"$f":"IF($A67<$A$10,INDEX('Pick List'!$AP$14:$AP$567,$D67),IF(LEFT(I67,3)=\"End\",'Pick List'!$AP$568,\"\"))","v":""}]
[58,""," ",{"$f":"MATCH($A68,'Pick List'!$AK$14:$AK$567,0)","v":{"$error":"#N/A"}},{"$f":"IF($A68<$A$10,INDEX('Pick List'!$AL$14:AL$567,$D68),\"\")","v":""},"",{"$f":"IF($A68<$A$10,INDEX('Pick List'!$AM$14:AM$567,$D68),\"\")","v":""},{"$f":"IF($A68<$A$10,INDEX('Pick List'!$AN$14:AN$567,$D68),\"\")","v":""},{"$f":"IF($A68<$A$10,INDEX('Pick List'!$AO$14:AO$567,$D68),B68)","v":""},{"$f":"IF($A68<$A$10,INDEX('Pick List'!$AR$14:AR$567,$D68),\"\")","v":""},{"$f":"IF($A68<$A$10,INDEX('Pick List'!$AP$14:$AP$567,$D68),IF(LEFT(I68,3)=\"End\",'Pick List'!$AP$568,\"\"))","v":""}]
[59,""," ",{"$f":"MATCH($A69,'Pick List'!$AK$14:$AK$567,0)","v":{"$error":"#N/A"}},{"$f":"IF($A69<$A$10,INDEX('Pick List'!$AL$14:AL$567,$D69),\"\")","v":""},"",{"$f":"IF($A69<$A$10,INDEX('Pick List'!$AM$14:AM$567,$D69),\"\")","v":""},{"$f":"IF($A69<$A$10,INDEX('Pick List'!$AN$14:AN$567,$D69),\"\")","v":""},{"$f":"IF($A69<$A$10,INDEX('Pick List'!$AO$14:AO$567,$D69),B69)","v":""},{"$f":"IF($A69<$A$10,INDEX('Pick List'!$AR$14:AR$567,$D69),\"\")","v":""},{"$f":"IF($A69<$A$10,INDEX('Pick List'!$AP$14:$AP$567,$D69),IF(LEFT(I69,3)=\"End\",'Pick List'!$AP$568,\"\"))","v":""}]
[null,null," "]
[null,null,null,null,null,null,null,null,null,null,null,"826T8861"]
[null,null,null,null,null,null,"Add for freight:",null,"(Amount added to both back and seat)"]
[]
[]
[null,null,null,null,null,null,null,null,null,"Assembly",null,null,null,"Export Parameters"]
[null,null,null,null,null,null,null,null,null,"Installation on Chair",null,null,null,"Directory:"]
[null,null,null,null,null,null,null,null,null,"Complete Assembly",0,null,null,"C:\\TSAEXPORT"]
[null,null,null,null,null,null,null,null,null,"Installation Included",0,null,null,"Filename:"]
[null,null,null,null,null,null,null,null,null,null,null,null,null,"EXTERNAL FILE"]
[null,null,null,null,null,null,null,null,null,null,null,null,null,"Price to export:"]
[null,null,null,null,null,null,null,null,null,null,null,null,null,"Cost"]
[null,null,null,null,null,null,null,null,null,null,null,null,null,"Include HCPCS for back & seat mods:"]

{"sheet":"Tray Maker","index":4,"n_rows":146,"n_cols":70,"rows_kept":146,"cut":false,"hidden":false,"merged":[[2,15,2,18],[72,38,72,43],[21,2,21,3],[22,2,22,3],[23,2,23,3],[24,2,24,3],[25,2,25,3],[26,2,26,3],[31,21,31,22],[19,2,19,3],[20,2,20,3],[17,2,17,3],[2,10,2,11],[8,8,8,9],[11,2,11,8],[2,4,2,7],[15,2,15,4],[18,2,18,3]]}
[]
["TRAY MAKER",null,null,null,null,null,null,null,null,null,null,null,null,null,null,null,{"$f":"CHAIRWIDTH","v":0},"CHAIR WIDTH"]
[null,null,null,null,"Therafin Tray Maker",null,null,null,null,null,"Chair width",null,null,null,null,"Parse input tray number into components",null,null,null,null,null,null,null,null,null,null,null,null,null,null,null,null,null,null,null,null,null,null,null,null,null,null,null,null,null,null,null,null,null,null,null,null,null,null,null,null,null,null,null,null,null,"Padded overlay table below"]
[null,null,"Choice for wheelchair total arm width:",null,null,null,null,null,null,null,{"$f":"CHAIRWIDTH","v":0},null,null,null,null,"Tray material index to lookup",{"$f":"MID(TRAYINPUT,2,1)","v":""}]
[null,null,null,null,null,{"$f":"$U$116","v":" For EZ Lock clamps, assumes width including arms is 4\" to 5\" more than chair width. "},null,null,null,null,null,null,null,null,null,"Tray size index to lookup table",{"$f":"MID(TRAYINPUT,3,1)+1","v":{"$error":"#VALUE!"}}]
[null,null,{"$f":"IF(BACKLBW>0,\"Back lesser body width = \"&BACKLBW&quote,\"\")&IF(MINBCO>0,\"    Minimum body cutout to clear LTS pads = \"&MINBCO&quote,\"\")","v":""},null,null,null,null,{"$f":"IF('Tray Maker'!$BL$75=\"NA\",\"\",\"Matching padded overlay:\")","v":""},{"$f":"IF('Tray Maker'!$BL$75=\"NA\",\"\",'Tray Maker'!$BL$75)","v":""},{"$f":"IF($BL$75=\"NA\",\"\",'Pick List'!$AA$561)","v":""},{"$f":"IF($BL$75=\"NA\",\"\",'Pick List'!$P$6*'Pick List'!$AA$561)","v":""},null,null,null,null,"Cutout index to lookup table",{"$f":"MID(TRAYINPUT,4,1)+Q11","v":{"$error":"#VALUE!"}},"Add index to first std size"]
[null,null,"Description",{"$f":"IF(OR(NOT(AB50),ISNA(AH43)),\"INVALID CONFIGURATION\",IF(AH43,\"\",\"INVALID ONFIGURATION\"))&IF(AG53,\"\",\" - CLAMP NOT AVAILABLE ATTACHED\")&IF(AND($AH$43,NOT($AB$50)),\" PRE-ATTACHED\",\"\")","v":"INVALID CONFIGURATION"},null,null,null,null,"Part #","Retail",{"$f":"IF(TrayPrices!$D$1,\"Seating Price\",\"Cost\")","v":"Cost"},null,null,null,null,"Rim PVC or no index to table",{"$f":"IF(MID(TRAYINPUT,5,1)=\"1\",2,1)","v":1},"Rim = 2, no = 1"]
[null,null,{"$f":"IF($AH$43,$W$35&\" \"&$W$73&\" Tray w/\"&$AA$95&IF($R$66=1,\"\",\", \"&$S$66)&IF($R$53=1,\"\",\", \"&$W$53&\" \"&$X$44),\"NA\")","v":"NA"},null,null,null,null,null,{"$f":"IF($AH$43,IF(ISERROR(TrayInfo!$A$2),\"Custom\",\"T\"&TrayInfo!I2&$T$66&$AE$53&$V$44),\"UNAVAIL\")","v":"UNAVAIL"},{"$f":"IF($AH$43,IF(ISERROR(TrayInfo!$A$2),\" -- \",TrayPrices!$B$5),\"NA\")","v":"NA"},{"$f":"IF($AH$43,IF(ISERROR(TrayInfo!$A$2),\" Quote \",FIXED(TrayPrices!$D$5,2)),\"NA\")","v":"NA"},null,null,null,null,"Hardware index to table",{"$f":"MID(TRAYINPUT,6,1)+1","v":{"$error":"#VALUE!"}}]
[null,null,"Material, Rim & Clamps:",null,null,null,null,null,{"$f":"IF(AND($AH$43,ISERROR(TrayInfo!$A$2)),$V$35&\"-\"&$U$73&\"-\"&$U$96&\"-\"&$T$66&\"-\"&$AE$53&$V$44,\"\")","v":""},null,null,null,null,null,null,"Attached or not index",{"$f":"IF(MID(TRAYINPUT,7,1)=\"A\",2,1)","v":1},"Attached = 2, not = 1"]
[null,null,"Tray size & Body Cutout:"]
[null,null,null,{"$f":"$AU$73","v":"This is the smallest tray that fits the chair."},null,null,{"$f":"$AD$96","v":"This is the largest stock cutout for this tray."},null,null,null,null,null,null,null,null,"Index to first std body cutout=",{"$f":"MATCH(1,AL98:AL113,0)-1","v":{"$error":"#N/A"}}]
[null,null,{"$f":"$AH$53","v":"Includes EZ Lock Clamps. Tray comes with clamps already attached."}]
[]
[]
[]
[null,null,"Pick List of Wheelchairs & Total Arm Width",null,null,null," Quick Start Instructions:"]
[null,null,"Description",null,"inches",null," 1. CHAIR WIDTH is entered on the DESIGN screen.  Use the arrow buttons to change it here."]
[1,null,"Total width of both arm pads=3\"",null,3,null," 2. Choose USE TYPICAL ARM WIDTH or ENTER TOTAL ARM WIDTH and enter the value."]
[2,null,"Total width of both arm pads=3.5\"",null,3.5,null," 3. Choose a tray MATERIAL."]
[3,null,"Total width of both arm pads=4\"",null,4,null," 4. Choose PVC RIM or NO RIM."]
[4,null,"Total width of both arm pads=4.5\"",null,4.5,null," 5. Choose a CLAMP and ATTACHED or UNATTACHED."]
[5,null,"Total width of both arm pads=5\"",null,5,null," 6. Choose BEST tray size to automatically pick a tray that will fit."]
[6,null,"Total width of both arm pads=5.5\"",null,5.5,null," 7. Choose SM STOCK or LG STOCK to automatically pick from the stock cutouts available."]
[7,null,"Total width of both arm pads=6\"",null,6]
[8,null," ",null,0,null,"NOTE: \"NA\" in a picklist or RED BORDERS indicate an INVALID choice.  Change the tray size,"]
[9,null," ",null,0,null,"change the clamp or change the body cutout size. For very small chairs or large chairs, use the"]
[10,null," ",null,0,null,"option to enter the actual total arm width and/or choose unattached clamps."]
[null,null," "]
[]
[null,null," ",null,null,null,null,null,null,null,null,3]
[null,null," "]
[null,null,null,null,null,null,null,null,null,null,null,null,null,null,null,null,null,"KEY=",{"$f":"IF($AH$43,$V$35&$Z$53&$U$73&$U$96,\"NA\")","v":"NA"},null,null,null,null,null,"Enter addtl amount"]
[null,null,null,null,null,null,null,null,null,null,null,null,null,null,null,null,null,null,null,null,null,null,null,"Add for arms",{"$f":"IF($Y$34,$Z$34,IF(CHAIRCONFIG=1,0,$T$115))","v":0}]
[null,null,null,null,null,null,null,null,null,null,null,null,null,null,null,null,null,"TRAY MATERIAL",null,null,null,null,null,"Use spinner=",false,{"$f":"AH45/10","v":4.3}]
[null,null,null,null,null,null,null,null,null,null,null,null,null,null,null,null,null,"1",{"$f":"INDEX(S37:S41,$R$35,1)","v":"3/8\" Clear"},{"$f":"INDEX(T37:T41,$R$35,1)","v":""},null,{"$f":"INDEX(V37:V41,$R$35,1)","v":"C"},{"$f":"INDEX(W37:W41,$R$35,1)","v":"3/8\" Clear"},null,null,null,"Hole distance",{"$f":"TW-$AB$51","v":{"$error":"#VALUE!"}},null,null,null,null,{"$f":"IF(CHAIRCONFIG=1,$AJ$53,IF(CHAIRCONFIG=2,$Y$33,$T$115))","v":4.5},"<-ARM WIDTH USED BELOW"]
[null,null,null,null,null,null,null,null,null,null,null,null,null,null,null,null,null,"IDX","Material pick list","Prefix","Valid","Mat'l Code","Material Description",null,null,null,"Tube Lock Short",{"$f":"AB35+AD58-AB58","v":{"$error":"#VALUE!"}},{"$f":"ROUND(AB37-AB36,3)","v":{"$error":"#VALUE!"}},null,null,null,"(Small chairs can't have narrow arms)",null,null,null,null,null,null,null,null,null,null,{"$f":"X73","v":"NA"}]
[null,null,null,null,null,null,null,null,null,null,null,null,null,null,null,null,null,1,{"$f":"T37&W37","v":"3/8\" Clear"},{"$f":"IF(U37,\"\",\"NA - \")","v":""},true,"C","3/8\" Clear",null,null,null,"Outside-to-outside",{"$f":"OTO","v":4.5},null,null,null,null,"CW arm min met",{"$f":"IF(OR(AND(CW=10,ARMSVAR>=3.9),AND(CW=11,ARMSVAR>=3.5),AND(CW=12,ARMSVAR>=2.5),CW>12),TRUE(),FALSE())","v":false}]
[null,null,null,null,null,null,null,null,null,null,null,null,null,null,null,null,null,2,{"$f":"T38&W38","v":"3/8\" Grey"},{"$f":"IF(U38,\"\",\"NA - \")","v":""},true,"G","3/8\" Grey",null,null,null,"Tube Lock Long",{"$f":"AB35+AD58+AC58","v":{"$error":"#VALUE!"}},{"$f":"ROUND(AB38-AB37,3)","v":{"$error":"#VALUE!"}},null,null,null,"Box checked",false,"<- I DON'T THINK THIS IS USED",null,null,null,null,null,null,null,null,{"$f":"\"Chair width = \"&$Q$2","v":"Chair width = 0"}]
[null,null,null,null,null,null,null,null,null,null,null,null,null,null,null,null,null,3,{"$f":"T39&W39","v":"3/8\" Black"},{"$f":"IF(U39,\"\",\"NA - \")","v":""},true,"B","3/8\" Black",null,null,null,"Top Drop Short",{"$f":"AB35+AD57-AB57","v":{"$error":"#VALUE!"}},{"$f":"ROUND(AB40-AB39,3)","v":{"$error":"#VALUE!"}},null,null,null,"Outside-to-outside",{"$f":"IF(CHAIRCONFIG=1,$Q$2+$AJ$53,IF(CHAIRCONFIG=2,$Q$2+$Y$33,$Q$2+T115))","v":4.5},"<- Value based on choice of Typical, Specify or other Drop Down pick)",null,null,null,null,null,null,null,null,{"$f":"\"Outside to outside = \"&AH39","v":"Outside to outside = 4.5"}]
[null,null,null,null,null,null,null,null,null,null,null,null,null,null,null,null,null,4,{"$f":"T40&W40","v":"Padded"},{"$f":"IF(U40,\"\",\"NA - \")","v":""},true,"D","Padded",null,null,null,"Outside-to-outside",{"$f":"OTO","v":4.5},null,null,null,null,"Minimum arm width",4,null,null,null,null,null,null,null,null,null,{"$f":"\"Holes \"&(TW-$AB$51)&\"\"\" apart\"","v":{"$error":"#VALUE!"}}]
[null,null,null,null,null,null,null,null,null,null,null,null,null,null,null,null,null,5,{"$f":"T41&W41","v":"3/8\" Woodgrain Laminate"},{"$f":"IF(U41,\"\",\"NA - \")","v":""},true,"W","3/8\" Woodgrain Laminate",null,null,null,"Top Drop Long",{"$f":"AB35+AD57+AC57","v":{"$error":"#VALUE!"}},{"$f":"ROUND(AB41-AB40,3)","v":{"$error":"#VALUE!"}},null,null,null,{"$f":"\"Clamps min. \"&($AH$39-$Y$53)&\"\"\" apart\"","v":"Clamps min. -0.9\" apart"}]
[null,null,null,null,null,null,null,null,null,null,null,null,null,null,null,null,null,null,null,null,null,null,null,null,null,null,"EZ Lock Short",{"$f":"AB35+AD56-AB56","v":{"$error":"#VALUE!"}},{"$f":"ROUND(AB43-AB42,3)","v":{"$error":"#VALUE!"}},null,null,null,{"$f":"\"Clamps max. \"&($AH$39+$X$53)&\"\"\" apart\"","v":"Clamps max. 5\" apart"}]
[null,null,null,null,null,null,null,null,null,null,null,null,null,null,null,null,null,"PRICE GROUP",null,null,null,null,"Different for \"Tray Only\"",null,null,null,"Outside-to-outside",{"$f":"OTO","v":4.5},null,null,null,null,"Choices are valid",{"$f":"AND($U$53,$V$53,$V$73,$V$96,$AH$37,$AG$53)","v":false},null,null,null,null,null,null,null,{"$f":"Y73","v":"NA"}]
[null,null,null,null,null,null,null,null,null,null,null,null,null,null,null,null,2,{"$f":"IF(R53=1,1,$Q$44)","v":2},{"$f":"INDEX(S46:S50,$R$44,1)","v":"Attached"},{"$f":"INDEX(T46:T50,$R$44,1)","v":""},null,{"$f":"INDEX(V46:V50,$R$44,1)","v":"A"},{"$f":"INDEX(W46:W50,$R$44,1)","v":"Attached"},{"$f":"INDEX(X46:X50,$R$44,1)","v":"Attached"},{"$f":"INDEX(Y46:Y50,$R$44,1)","v":12},null,"EZ Lock Long",{"$f":"AB35+AD56+AC56","v":{"$error":"#VALUE!"}},{"$f":"ROUND(AB44-AB43,3)","v":{"$error":"#VALUE!"}},null,null,null,null,null,null,null,null,null,null,null,null,null,null,{"$f":"X96","v":99}]
[null,null,null,null,null,null,null,null,null,null,null,null,null,null,null,null,null,"IDX","Price Group Pick List","Prefix","Valid","Price code","Price group description",null,"Price Add",null,"U Slides Short",{"$f":"AB35+AD59-AB59","v":{"$error":"#VALUE!"}},{"$f":"ROUND(AB46-AB45,3)","v":{"$error":"#VALUE!"}},null,null,null,"Add for arms spinner",43]
[null,null,null,null,null,null,null,null,null,null,null,null,null,null,null,null,null,1,{"$f":"T46&W46","v":"Unattached"},{"$f":"IF(U46,\"\",\"NA - \")","v":""},true,{"$f":"IF($R$53=1,\"X\",\"U\")","v":"U"},{"$f":"IF($R$53=1,\"Not applicable\",\"Unattached\")","v":"Unattached"},"Unattached",0,null,"Outside-to-outside",{"$f":"OTO","v":4.5},null,null,null,null,"Holes to outside",{"$f":"(TW-(TW-$AB$51))/2","v":{"$error":"#VALUE!"}},null,null,null,null,null,null,null,null,null,null,null,{"$f":"ROUND($AH$47,2)&\"*\"&ROUND($AH$46,2)","v":{"$error":"#VALUE!"}}]
[null,null,null,null,null,null,null,null,null,null,null,null,null,null,null,null,null,2,{"$f":"T47&W47","v":"Attached"},{"$f":"IF(U47,\"\",\"NA - \")","v":""},true,{"$f":"IF($R$53=1,\"X\",\"A\")","v":"A"},{"$f":"IF($R$53=1,\"Not applicable\",\"Attached\")","v":"Attached"},"Attached",12,null,"U Slides Long",{"$f":"AB35+AD59+AC59","v":{"$error":"#VALUE!"}},{"$f":"ROUND(AB47-AB46,3)","v":{"$error":"#VALUE!"}},null,null,null,"Cutout to holes",{"$f":"(TW-$AB$51-CO)/2","v":{"$error":"#VALUE!"}},null,null,null,null,null,null,null,null,null,null,{"$f":"Y96","v":0}]
[null,null,null,null,null,null,null,null,null,null,null,null,null,null,null,null,null,3,{"$f":"T48&W48","v":"NA - "},{"$f":"IF(U48,\"\",\"NA - \")","v":"NA - "},null,null,null,null,0]
[null,null,null,null,null,null,null,null,null,null,null,null,null,null,null,null,null,4,{"$f":"T49&W49","v":"NA - "},{"$f":"IF(U49,\"\",\"NA - \")","v":"NA - "},null,null,null,null,0,null,null,null,null,null,null,null,null,null,null,null,null,null,null,null,null,null,null,null,null,{"$f":"(X73-X96)/2","v":{"$error":"#VALUE!"}}]
[null,null,null,null,null,null,null,null,null,null,null,null,null,null,null,null,null,5,{"$f":"T50&W50","v":"NA - "},{"$f":"IF(U50,\"\",\"NA - \")","v":"NA - "},null,null,null,null,0,null,null,{"$f":"IF(TW=\"NA\",FALSE,OR(AND(OTO<=(TW-$AB$51+ADDFH+MORE),(TW-$AB$51+ADDFH-LESS)<=OTO),$V$44=\"U\"))","v":false},"<=hole location okay or UNATTACHED which is always okay"]
[null,null,null,null,null,null,null,null,null,null,null,null,null,null,null,null,null,null,null," ",null,null,null,null,null,null,null,5,"<=amount to subtract from CW for holes"]
[null,null,null,null,null,null,null,null,null,null,null,null,null,null,null,null,null,"CLAMPS",null,null,null,null,null,null,null,null,null,null,null,null,null,null,null,"Below are is the text of messages used"]
[null,null,null,null,null,null,null,null,null,null,null,null,null,null,null,null,null,2,{"$f":"INDEX(S55:S62,$R$53,1)","v":"EZ Lock Clamps"},"",false,false,"EZ Lock Clamps",0.5,5.4,"EZ",0.05,1.5,1.5,3,1,true,true,"Includes EZ Lock Clamps. Tray comes with clamps already attached.","For EZ Lock clamps, assumes width including arms is 4\" to 5\" more than chair width. ",4.5,"Cost","Multiplier","Cost"]
[null,null,null,null,null,null,null,null,null,null,null,null,null,null,null,null,null,"IDX","Clamp Pick List","Prefix","Meets outside test","Meets inside test","Clamp Description","Min extra outside","Min extra inside","Sortkey chars","Tolerance","LESS","MORE","Dist from holes to Outside","Part#","Std tray exists?","Avail based on attached?","Caution message","Typical Width Msg","Typical Arm Width to Add"]
[null,null,null,null,null,null,null,null,null,null,null,null,null,null,null,null,null,1,"Tray Only",{"$f":"IF(AND(U55,V55,AG55),\"\",\"NA - \")","v":"NA - "},{"$f":"TRUE()","v":true},{"$f":"IF(ISNA((OTO-CO)>=Y55),FALSE,IF((OTO-CO)>=Y55,TRUE,FALSE))","v":false},"No clamps",0,0,"XX",0.05,9,9,0,0,{"$f":"TRUE()","v":true},{"$f":"TRUE()","v":true},"HOOK & LOOP STRAPS (#31091) MUST BE ORDERED SEPARATELY.","Assumes use of Hook & Loop straps to attach tray to chair.",0,{"$f":"AL55*AM55","v":0},1,0]
[null,null,null,null,null,null,null,null,null,null,null,null,null,null,null,null,null,2,{"$f":"T56&W56","v":"EZ Lock Clamps"},{"$f":"IF(AG56,IF($R$73=1,\"\",IF(AND(U56,V56,AG56),\"\",\"NA - \")))","v":""},{"$f":"IF(TW=\"na\",FALSE,IF(ISNA((TW-X56)>=OTO),FALSE,IF((TW-X56)>=OTO,TRUE,FALSE)))","v":false},false,"EZ Lock Clamps",0.5,5.4,"EZ",0.05,1.5,1.5,3,1,{"$f":"TRUE()","v":true},{"$f":"TRUE()","v":true},{"$f":"IF($V$44=\"U\",\"Includes EZ Lock Clamps. Attaching holes are NOT drilled when clamps are ordered unattached.\",\"Includes EZ Lock Clamps. Tray comes with clamps already attached.\")","v":"Includes EZ Lock Clamps. Tray comes with clamps already attached."},"For EZ Lock clamps, assumes width including arms is 4\" to 5\" more than chair width. ",4.5,8.23306,1,8.23306]
[null,null,null,null,null,null,null,null,null,null,null,null,null,null,null,null,null,3,{"$f":"T57&W57","v":"Top Drop Clamps"},{"$f":"IF(AG57,IF($R$73=1,\"\",IF(AND(U57,V57,AG57),\"\",\"NA - \")))","v":""},{"$f":"IF(TW=\"na\",FALSE,IF(ISNA((TW-X57)>=OTO),FALSE,IF((TW-X57)>=OTO,TRUE,FALSE)))","v":false},false,"Top Drop Clamps",3,4,"TD",0.05,4.5,6.25E-2,3,2,{"$f":"TRUE()","v":true},{"$f":"TRUE()","v":true},{"$f":"IF($V$44=\"U\",\"Includes Top Drop Clamps. Attaching holes are NOT drilled when clamps are ordered unattached.\",\"Includes Top Drop Clamps. Tray comes with clamps already attached.\")","v":"Includes Top Drop Clamps. Tray comes with clamps already attached."},"For Top Drop clamps, assumes width including arms is 4\" to 5\" more than chair width. ",4.5,11.783743999999999,1.4,8.4169599999999996]
[null,null,null,null,null,null,null,null,null,null,null,null,null,null,null,null,null,4,{"$f":"T58&W58","v":"Tube Lock Clamps"},{"$f":"IF(AG58,IF($R$73=1,\"\",IF(AND(U58,V58,AG58),\"\",\"NA - \")))","v":""},{"$f":"IF(TW=\"na\",FALSE,IF(ISNA((TW-X58)>=OTO),FALSE,IF((TW-X58)>=OTO,TRUE,FALSE)))","v":false},false,"Tube Lock Clamps",0.5,5.4,"TL",0.05,1.5,1.5,3,3,{"$f":"TRUE()","v":true},{"$f":"TRUE()","v":true},{"$f":"IF($V$44=\"U\",\"Includes Tube Lock Clamps. Attaching holes are NOT drilled when clamps are ordered unattached.\",\"Includes Tube Lock Clamps. Tray comes with clamps already attached.\")","v":"Includes Tube Lock Clamps. Tray comes with clamps already attached."},"For Tube Lock clamps, assumes width incl. arms is 2\" to 3.5\" more than chair & at least 14.5\"",3,9.7997599999999991,1,9.7997599999999991]
[null,null,null,null,null,null,null,null,null,null,null,null,null,null,null,null,null,5,{"$f":"T59&W59","v":"1-1/8\" Thick U Slides"},{"$f":"IF(AG59,IF($R$73=1,\"\",IF(AND(U59,V59,AG59),\"\",\"NA - \")))","v":""},{"$f":"IF(TW=\"na\",FALSE,IF(ISNA((TW-X59)>=OTO),FALSE,IF((TW-X59)>=OTO,TRUE,FALSE)))","v":false},false,"1-1/8\" Thick U Slides",0,5,"U1",0,1.875,1,3,4,{"$f":"TRUE","v":true},{"$f":"TRUE()","v":true},{"$f":"IF($V$44=\"U\",\"ENSURE THAT THE U-SLIDE THICKNESS FITS THE CHAIR ARMS. Attaching holes are NOT drilled when clamps are ordered unattached.\",\"ENSURE THAT THE U-SLIDE THICKNESS FITS THE CHAIR ARMS. Tray comes with clamps already attached.\")","v":"ENSURE THAT THE U-SLIDE THICKNESS FITS THE CHAIR ARMS. Tray comes with clamps already attached."},"For U Slides, assumes width including arms is 4\" to 5\" more than chair width. ",4.5,10.79,1,10.79]
[null,null,null,null,null,null,null,null,null,null,null,null,null,null,null,null,null,6,{"$f":"T60&W60","v":"1-1/2\" Thick U Slides"},{"$f":"IF(AG60,IF($R$73=1,\"\",IF(AND(U60,V60,AG60),\"\",\"NA - \")))","v":""},{"$f":"IF(TW=\"na\",FALSE,IF(ISNA((TW-X60)>=OTO),FALSE,IF((TW-X60)>=OTO,TRUE,FALSE)))","v":false},false,"1-1/2\" Thick U Slides",0,5,"U2",0,1.875,1,3,5,{"$f":"TRUE","v":true},{"$f":"TRUE()","v":true},{"$f":"IF($V$44=\"U\",\"ENSURE THAT THE U-SLIDE THICKNESS FITS THE CHAIR ARMS. Attaching holes are NOT drilled when clamps are ordered unattached.\",\"ENSURE THAT THE U-SLIDE THICKNESS FITS THE CHAIR ARMS. Tray comes with clamps already attached.\")","v":"ENSURE THAT THE U-SLIDE THICKNESS FITS THE CHAIR ARMS. Tray comes with clamps already attached."},"For U Slides, assumes width including arms is 4\" to 5\" more than chair width. ",4.5,10.78,1,10.78]
[null,null,null,null,null,null,null,null,null,null,null,null,null,null,null,null,null,7,null,null,null,null,null,null,null,"00",0,9,9,null,null,null,null,null," "]
[null,null,null,null,null,null,null,null,null,null,null,null,null,null,null,null,null,8,null,null,null,null,null,null,null,"00",0,9,9,null,null,null,null,null," "]
[null,null,null,null,null,null,null,null,null,null,null,null,null,null,null,null,null,1,"No clamps",{"$f":"IF(AND(U63,V63),\"\",\"NA - \")","v":""},{"$f":"TRUE()","v":true},{"$f":"TRUE()","v":true},"No clamps",0,0,"<< row not used>>",null,9,9,null,null,"was FALSE before uslides trays std"," old U slide formula was =$V$32=\"U\""]
[null,null,null,null,null,null,null,null,null,null,null,null,null,null,null,null,null,null,null,null,null,null,null,null,null,null,null,null,null,null,null,null,null,null,null,"HL",{"$f":"AL64*AM64","v":2.1542620000000001},1.1000000000000001,1.95842]
[null,null,null,null,null,null,null,null,null,null,null,null,null,null,null,null,null,"RIM"]
[null,null,null,null,null,null,null,null,null,null,null,null,null,null,null,null,null,1,{"$f":"INDEX(S68:S70,$R$66,1)","v":"No rim"},{"$f":"INDEX(T68:T70,$R$66,1)","v":"0"},{"$f":"INDEX(U68:U70,$R$66,1)","v":0}]
[null,null,null,null,null,null,null,null,null,null,null,null,null,null,null,null,null,"IDX","Clamp Pick List","Part # chars","Price Add"]
[null,null,null,null,null,null,null,null,null,null,null,null,null,null,null,null,null,1,"No rim","0",0]
[null,null,null,null,null,null,null,null,null,null,null,null,null,null,null,null,null,2,"PVC rim","1",42,null,null,null,null,null,null,null,null,null,null,"Alphabetic equivalent to chair size=",{"$f":"IF(AND(CW>9,CW<31),CHOOSE(CW-9,\"A\",\"B\",\"C\",\"D\",\"E\",\"F\",\"G\",\"H\",\"I\",\"J\",\"K\",\"L\",\"M\",\"N\",\"O\",\"P\",\"Q\",\"R\",\"S\",\"T\",\"U\"),\"Z\")","v":"Z"},null,null,null,null,null,null,null,null,null,null,null,null,null,null,null,null,null,null,null,"Cost per square foot"]
[null,null,null,null,null,null,null,null,null,null,null,null,null,null,null,null,null,3,"1/4\" Aluminum","2",0,null,"Info, tray must exceed this=",{"$f":"OTO+XO+TOL","v":5.05},null,null,null,null,null,null,null,null,null,null,null,null,null,null,null,null,null,null,null,null,null,null,null,null,null,null,null,null,7.05,1.6328149999999999,1.6328149999999999]
[]
[null,null,null,null,null,null,null,null,null,null,null,null,null,null,null,null,null,"TRAY SIZES",null,null,null,{"$f":"IF(ISNA(VLOOKUP(TRUE,V76:Z92,5,FALSE)),18,VLOOKUP(TRUE,V76:Z92,5,FALSE))","v":18},"<-index to smallest that works",null,null,null,null,null,null,null,null,"     V--Below is always true unless TYPICAL configuration is chosen",null,null,null,null,null,null,null,null,null,null,null,null,null,null,null,"Stuff to compute material cost of tray size",null,null,null,null,"Multiplier for costs used"]
[null,null,null,null,null,null,null,null,null,null,null,null,null,null,null,null,{"$f":"INDEX(Q75:Q91,$R$73,1)","v":0},1,"Best: NA","Best: ",0,false,"NA","NA","NA",null,null,null,null,null,null,null,null,null,null,null,null,null,"CHAIR WIDTHS THAT WORK WITH THIS TRAY SIZE",null,null,null,null,null,"Feed US cols to the left",null,{"$f":"INDEX(AU75:AU91,$R$73,1)","v":"This is the smallest tray that fits the chair."}," ",{"$f":"INDEX($AW$75:$AW$91,$R$73,1)","v":0},{"$f":"INDEX($AX$75:$AX$91,$R$73,1)","v":0},{"$f":"INDEX($AY$75:$AY$91,$R$73,1)","v":0},null,1,1.6,1.6]
[null,null,null,null,null,null,null,null,null,null,null,null,null,null,null,null,"Size","Row","Tray Pick List","Prefix","Part# chars","Meets width + other tests incl TYPICAL","Available tray sizes given material and price group","Width","Depth","Row","Size Description","Width","Depth","Meets mat'l test","Valid Matl's","Meets  Typical Test","Meets HL Typical Test","Meets EZ Typical Test","Meets TD Typical Test","Meets TL Typical Test","Meets US Typical Test","Meets US Typical Test","Works with HL & CW","Works with EZ & CW","Works with TD & CW","Works with TL & CW","Works with  thin U1 & CW","Works with  thick U2 & CW","Works with  US Attached","Works with  US Unattached","Message under picklist","Size Descr","PC cost","Gr Cost","Blk Cost",null,"PC cost","Gr Cost","Blk Cost",null,null,null,null,"PADDED OVERLAY THAT CORRESPONDS TO STOCK TRAY SHAPES AND CUTOUT SIZES"]
[null,null,null,null,null,null,null,null,null,null,null,null,null,null,null,null,{"$f":"INDEX(Q75:Q92,$V$72,1)","v":0},1,{"$f":"T75&W75","v":"Best: NA"},"Best: ",{"$f":"INDEX(U75:U92,$V$72,1)","v":0},{"$f":"INDEX(V75:V92,$V$72,1)","v":false},{"$f":"INDEX(W75:W92,$V$72,1)","v":"NA"},{"$f":"INDEX(X75:X92,$V$72,1)","v":"NA"},{"$f":"INDEX(Y75:Y92,$V$72,1)","v":"NA"},1,{"$f":"INDEX(AA75:AA92,$V$72,1)","v":"NA"},{"$f":"INDEX(AB75:AB92,$V$72,1)","v":0},{"$f":"INDEX(AC75:AC92,$V$72,1)","v":0},null,null,null,null,null,null,null,null,null,null,null,null,null,null,null,null,null,"This is the smallest tray that fits the chair.",{"$f":"AA75","v":"NA"},{"$f":"INDEX(BA75:BA92,$V$72,1)","v":0},{"$f":"INDEX(BB75:BB92,$V$72,1)","v":0},{"$f":"INDEX(BC75:BC92,$V$72,1)","v":0},null,null,null,null,null,null,null,null,"Column for shape chosen=",{"$f":"HLOOKUP($W$73,BJ76:BR77,2,FALSE)","v":{"$error":"#N/A"}},null,"Matching overlay=",{"$f":"IF(ISERROR(VLOOKUP(BH77,BI78:BR89,BI75,FALSE)),\"NA\",VLOOKUP(BH77,BI78:BR89,BI75,FALSE))","v":"NA"}]
[null,null,null,null,null,null,null,null,null,null,null,null,null,null,null,null,1,2,{"$f":"T76&W76","v":"NA - 18W x 16D"},{"$f":"IF(V76,\"\",\"NA - \")","v":"NA - "},1816,{"$f":"AND(AD76,AF76,X76>=(OTO+XO+TOL))","v":false},{"$f":"IF(AD76,AA76,\"\")","v":"18W x 16D"},{"$f":"IF($AD76,AB76,0)","v":18},{"$f":"IF($AD76,AC76,\"\")","v":16},2,"18W x 16D",18,16,{"$f":"NOT(ISERROR(SEARCH($V$35,AE76,1)))","v":true},"BCG",{"$f":"IF($Q$116<>1,TRUE(),INDEX(AG76:AL76,1,$R$53))","v":false},{"$f":"NOT(ISERROR(SEARCH($AG$69,AM76,1)))","v":false},false,true,false,false,false,"BCD","BC","Z","BCD",{"$f":"IF($V$44=\"A\",$AS76,$AT76)","v":"BC"},{"$f":"IF($V$44=\"A\",$AS76,$AT76)","v":"BC"},"BC","BCD","Choose \"Best\" for smallest tray that fits.","18W x 16D",{"$f":"BA76*$BA$73","v":14.1},{"$f":"BB76*$BB$73","v":5.2250079999999999},{"$f":"BC76*$BC$73","v":5.2250079999999999},null,{"$f":"BA$70*($AB76*$AC76)/144","v":14.1},3.2656299999999998,3.2656299999999998,null,null,null,null,null,"Cutout","18W x 16D","20W x 18D","21W x 18D","22W x 21D","23.5W x 22D","25.5W x 22D","27.5W x 23.5D","29.5W x 23.5D","31.5W x 23.5D"]
[null,null,null,null,null,null,null,null,null,null,null,null,null,null,null,null,2,3,{"$f":"T77&W77","v":"NA - 20W x 18D"},{"$f":"IF(V77,\"\",\"NA - \")","v":"NA - "},"2018",false,{"$f":"IF(AD77,AA77,\"\")","v":"20W x 18D"},20,18,3,"20W x 18D",20,18,true,"BCG",false,false,false,false,false,false,false,"BCDEF","DE","BC","EFG",{"$f":"IF($V$44=\"A\",$AS77,$AT77)","v":"DE"},"DE","DE","BCDEF","Choose \"Best\" for smallest tray that fits.","20W x 18D",{"$f":"BA77*$BA$73","v":17.625},6.5312600000000005,6.5312600000000005,null,17.625,4.0820375000000002,4.0820375000000002,null,null,null,"Cutout chosen=",{"$f":"$AA$96","v":0},null,2,3,4,5,6,7,8,9,10]
[null,null,null,null,null,null,null,null,null,null,null,null,null,null,null,null,3,4,"NA - 21W x 18D",{"$f":"IF(V78,\"\",\"NA - \")","v":"NA - "},"2118",false,"21W x 18D",21,18,4,"21W x 18D",21,18,true,"BCG",false,false,false,false,false,false,false,"EFG","EF","BCD","GH","EF","EF","EF","EFG","Choose \"Best\" for smallest tray that fits.","21W x 18D",{"$f":"BA78*$BA$73","v":18.506250000000001},6.8578230000000007,6.8578230000000007,null,18.506250000000001,4.2861393750000003,4.2861393750000003,null,null,null,null,1,"8.5 x 5",30178,"NA","NA","NA","NA","NA","NA","NA","NA"]
[null,null,null,null,null,null,null,null,null,null,null,null,null,null,null,null,4,5,"NA - 22W x 21D","NA - ","2221",false,"22W x 21D",22,21,5,"22W x 21D",22,21,true,"BCG",false,false,false,false,false,false,false,"GH","FG","CDE","HI","G","G","G","GH","Choose \"Best\" for smallest tray that fits.","22W x 21D",{"$f":"BA79*$BA$73","v":22.618749999999999},8.3817836666666672,8.3817836666666672,null,22.618749999999999,5.2386147916666665,5.2386147916666665,null,null,null,null,2,"9 x 6",30179,30180,"NA","NA","NA","NA","NA","NA","NA"]
[null,null,null,null,null,null,null,null,null,null,null,null,null,null,null,null,5,6,"NA - 23.5W x 22D","NA - ","2322",false,"23.5W x 22D",23.5,22,6,"23.5W x 22D",23.5,22,true,"BCG",false,false,false,false,false,false,false,"HI","GHI","DEF","IJ","H","H","H","HI","Choose \"Best\" for smallest tray that fits.","23.5W x 22D",{"$f":"0.97*BA80*$BA$73","v":24.552114583333335},9.379615055555556,9.379615055555556,null,25.311458333333334,5.8622594097222223,5.8622594097222223,null,null,null,null,3,"10 x 7","NA",30181,30183,"NA","NA","NA","NA","NA","NA"]
[null,null,null,null,null,null,null,null,null,null,null,null,null,null,null,null,6,7,"NA - 25.5W x 22D","NA - ","2522",false,"25.5W x 22D",25.5,22,7,"25.5W x 22D",25.5,22,true,"BCG",false,false,false,false,false,false,false,"IJK","IJK","FGH","KL","IJ","IJ","IJ","IJK","Choose \"Best\" for smallest tray that fits.","25.5W x 22D",{"$f":"BA81*$BA$73","v":27.465624999999999},10.177880166666666,10.177880166666666,null,27.465624999999999,6.3611751041666658,6.3611751041666658,null,null,null,null,4,"12 x 6","NA","NA",30184,"NA","NA","NA","NA","NA","NA"]
[null,null,null,null,null,null,null,null,null,null,null,null,null,null,null,null,7,8,"NA - 27.5W x 23.5D","NA - ","2723",false,"27.5W x 23.5D",27.5,23.5,8,"27.5W x 23.5D",27.5,23.5,true,"BCG",false,false,false,false,false,false,false,"JKLM","KLM","HIJ","M","KLM","KLM","KLM","JKLM","Choose \"Best\" for smallest tray that fits.","27.5W x 23.5D",{"$f":"BA82*$BA$73","v":31.639322916666668},11.724518819444445,11.724518819444445,null,31.639322916666668,7.3278242621527774,7.3278242621527774,null,null,null,null,5,"12 x 7","NA",30182,30185,30187,"NA","NA","NA","NA","NA"]
[null,null,null,null,null,null,null,null,null,null,null,null,null,null,null,null,8,9,"NA - 29.5W x 23.5D","NA - ","2923",false,"29.5W x 23.5D",29.5,23.5,9,"29.5W x 23.5D",29.5,23.5,true,"BCG",false,false,false,false,false,false,false,"LMNO","NO","JKL","MNOP","MNO","MNO","MNO","LMNO","Choose \"Best\" for smallest tray that fits.","29.5W x 23.5D",{"$f":"BA83*$BA$73","v":33.940364583333327},12.577211097222222,12.577211097222222,null,33.940364583333327,7.860756935763888,7.860756935763888,null,null,null,null,6,"13 x 8","NA","NA",30186,30188,30189,"NA","NA","NA","NA"]
[null,null,null,null,null,null,null,null,null,null,null,null,null,null,null,null,9,10,"NA - 31.5W x 23.5D","NA - ","3123",false,"31.5W x 23.5D",31.5,23.5,10,"31.5W x 23.5D",31.5,23.5,true,"BCG",false,false,false,false,false,false,false,"NOPQ","PQ","LM","MNOPQ","OPQ","OPQ","OPQ","NOPQ","Choose \"Best\" for smallest tray that fits.","31.5W x 23.5D",{"$f":"BA84*$BA$73","v":36.241406249999997},13.429903374999999,13.429903374999999,null,36.241406249999997,8.3936896093749986,8.3936896093749986,null,null,null,null,7,"14 x 9","NA","NA","NA","NA",30190,"NA","NA","NA","NA"]
[null,null,null,null,null,null,null,null,null,null,null,null,null,null,null,null,null,11,null,null,null,null,null,null,null,11,null,null,null,null,null,null,null,null,null,null,null,null,null,null,null,null,null,null,null,null," ",null,null,null,null,null,null,null,null,null,null,null,null,8,"15 x 9","NA","NA","NA","NA",30191,30192,"NA","NA","NA"]
[null,null,null,null,null,null,null,null,null,null,null,null,null,null,null,null,null,12,null,null,null,null,null,null,null,12,null,null,null,null,null,null,null,null,null,null,null,null,null,null,null,null,null,null,null,null," ",null,null,null,null,null,null,null,null,null,null,null,null,9,"16 x 10","NA","NA","NA","NA","NA",30193,"NA","NA","NA"]
[null,null,null,null,null,null,null,null,null,null,null,null,null,null,null,null,null,13,null,null,null,null,null,null,null,13,null,null,null,null,null,null,null,null,null,null,null,null,null,null,null,null,null,null,null,null," ",null,null,null,null,null,null,null,null,null,null,null,null,10,"17 x 10","NA","NA","NA","NA","NA",30194,30195,"NA","NA"]
[null,null,null,null,null,null,null,null,null,null,null,null,null,null,null,null,null,14,null,null,null,null,null,null,null,14,null,null,null,null,null,null,null,null,null,null,null,null,null,null,null,null,null,null,null,null," ",null,null,null,null,null,null,null,null,null,null,null,null,11,"18 x 10","NA","NA","NA","NA","NA","NA",30196,"NA","NA"]
[null,null,null,null,null,null,null,null,null,null,null,null,null,null,null,null,null,15,null,null,null,null,null,null,null,15,null,null,null,null,null,null,null,null,null,null,null,null,null,null,null,null,null,null,null,null," ",null,null,null,null,null,null,null,null,null,null,null,null,12,"19 x 10","NA","NA","NA","NA","NA","NA",30197,30198,30199]
[null,null,null,null,null,null,null,null,null,null,null,null,null,null,null,null,null,16,null,null,null,null,null,null,null,16,null,null,null,null,null,null,null,null,null,null,null,null,null,null,null,null,null,null,null,null," "]
[null,null,null,null,null,null,null,null,null,null,null,null,null,null,null,null,null,17,null,null,null,null,null,null,null,17,null,null,null,null,null,null,null,null,null,null,null,null,null,null,null,null,null,null,null,null," "]
[null,null,null,null,null,null,null,null,null,null,null,null,null,null,null,null,null,18,null,null,null,false,"NA","NA","NA",18,"NA",null,null,null,null,null,null,null,null,null,null,null,null,null,null,null,null,null,null,null," "]
[]
[null,null,null,null,null,null,null,null,null,null,null,null,null,null,null,null,null,null,"Allow attached hdw w/ no body cutout?",{"$f":"$L$30=\"ALLOW\"","v":false},null,{"$f":"MIN($AH$39-Y53,CW)","v":-0.90000000000000036},"<-target best cutout width",null,null,null,null,null,null,null,null,null,null,"FIX BELOW IF ADD/DELETE A CUTOUT SIZE"]
[null,null,null,null,null,null,null,null,null,null,null,null,null,null,null,null,null,"CUTOUTS",null,"<-wo asterisk",null,{"$f":"IF(ISNA(VLOOKUP(V94,X101:Z113,3)),$R$113,VLOOKUP(V94,X101:Z113,3))","v":16},"<-index to best match haschair",null,null,null,{"$f":"$AA$96&\" Cutout\"","v":"0 Cutout"},null,null,null,null,null,null,"Min row of stock cutout=",{"$f":"IF(ISERR($AM$95),16,$AM$95)","v":16},{"$f":"\"(value is \"&$R$113&\" if min is 99)\"","v":"(value is 16 if min is 99)"},null,null,{"$f":"IF(MIN($AJ$101:$AJ$112)=99,$R$113,MIN($AJ$101:$AJ$112))","v":16}]
[null,null,null,null,null,null,null,null,null,null,null,null,null,null,null,null,null,3,{"$f":"INDEX(S98:S113,$R$96,1)","v":"Lg Stock: NA"},"Lg Stock: ","NA",false,"NA",99,0,3,{"$f":"INDEX(AA98:AA113,$R$96,1)","v":0},null,null,{"$f":"INDEX(AD98:AD113,$R$96,1)","v":"This is the largest stock cutout for this tray."},null," ",null,"Max row of stock cutout=",{"$f":"IF(ISERR($AM$96),16,$AM$96)","v":16},{"$f":"\"(value is \"&$R$113&\" if max is 0)\"","v":"(value is 16 if max is 0)"},null,null,{"$f":"IF(MAX($AK$101:$AK$112)=0,$R$113,MAX($AK$101:$AK$112))","v":16}]
[null,null,null,null,null,null,null,null,null,null,null,null,null,null,null,null,null,"Row","Cutout Pick List","Prefix","Part # chars","Meets price & clearance test?","Available cutouts","Width","Depth","IDX","Cutout Sizes","Width","Depth","Message Under Picklist",null,null,null,null,{"$f":"MATCH(\"*\",AI98:AI113,0)","v":1},null,null,{"$f":"MATCH(1,AL98:AL113,0)","v":{"$error":"#N/A"}}]
[null,null,null,null,null,null,null,null,null,null,null,null,null,null,null,null,null,1,{"$f":"T98&W98","v":"NA - No cutout"},{"$f":"IF(V98,\"\",\"NA - \")","v":"NA - "},"0000",{"$f":"OR($R$53=1,$Q$44=1,$T$94)","v":false},"No cutout",0,0,1,"No",null,null,"This tray does not have a body cutout."," ",null,null,{"$f":"$V$35&$Z$53&$U$73&$U98","v":"CEZ00000"},{"$f":"IF(V98,IF(ISNA(VLOOKUP(AH98,TrayInfo!$C$4:$D$561,2,FALSE)),\"\",\"*\"),\"\")","v":""},{"$f":"IF($AI98=\"*\",$R98,99)","v":99},{"$f":"IF($AI98=\"*\",$R98,0)","v":0},{"$f":"IF($AI98=\"*\",1,0)","v":0}]
[null,null,null,null,null,null,null,null,null,null,null,null,null,null,null,null,null,2,{"$f":"IF($AF$53,T99&AI99&W99,\"CHOOSE CUTOUT\")","v":"Sm Stock: NA"},"Sm Stock: ",{"$f":"INDEX(U101:U113,$AI$95-3,1)","v":"NA"},{"$f":"INDEX(V101:V113,$AI$95-3,1)","v":false},{"$f":"INDEX(S101:S113,$AI$95-3,1)","v":"NA"},{"$f":"INDEX(X$101:X$113,$AI$95-3,1)","v":99},{"$f":"INDEX(Y$101:Y$113,$AI$95-3,1)","v":0},2,{"$f":"INDEX(AA$101:AA$113,$AI$95-3,1)","v":0},null,null,"This is the smallest stock cutout for this tray."," ",null,null,null,null,null,null,{"$f":"IF($AI99=\"*\",1,0)","v":0}]
[null,null,null,null,null,null,null,null,null,null,null,null,null,null,null,null,null,3,{"$f":"IF($AF$53,T100&AI100&W100,\"CHOOSE CUTOUT\")","v":"Lg Stock: NA"},"Lg Stock: ",{"$f":"INDEX(U101:U113,$AI$96-3,1)","v":"NA"},{"$f":"INDEX(V101:V113,$AI$96-3,1)","v":false},{"$f":"INDEX(S101:S113,$AI$96-3,1)","v":"NA"},{"$f":"INDEX(X$101:X$113,$AI$96-3,1)","v":99},{"$f":"INDEX(Y$101:Y$113,$AI$96-3,1)","v":0},3,{"$f":"INDEX(AA$101:AA$113,$AI$96-3,1)","v":0},null,null,"This is the largest stock cutout for this tray."," ",null,null,null,null,null,null,0]
[null,null,null,null,null,null,null,null,null,null,null,null,null,null,null,null,null,4,{"$f":"AI101&T101&W101","v":"NA - 8.5 x 5"},{"$f":"IF(V101,\"\",\"NA - \")","v":"NA - "},"0805",{"$f":"IF(TW=\"na\",FALSE,IF(AND(OTO>=(X101+XI),(TW-X101)>=2*MAW,X101<=CW),TRUE,FALSE))","v":false},"8.5 x 5",8.5,5,4,"8.5 x 5",8.5,5,{"$f":"IF(AI101=\"*\",\"This is a stock body cutout.\",\"This is a custom-sized body cutout.\")","v":"This is a custom-sized body cutout."}," ",null,null,{"$f":"$V$35&$Z$53&$U$73&$U101","v":"CEZ00805"},{"$f":"IF(V101,IF(ISNA(VLOOKUP(AH101,TrayInfo!$C$4:$D$561,2,FALSE)),\"\",\"*\"),\"\")","v":""},{"$f":"IF($AI101=\"*\",$R101,99)","v":99},{"$f":"IF($AI101=\"*\",$R101,0)","v":0},0]
[null,null,null,null,null,null,null,null,null,null,null,null,null,null,null,null,null,5,"NA - 9 x 6",{"$f":"IF(V102,\"\",\"NA - \")","v":"NA - "},"0906",false,"9 x 6",9,6,5,"9 x 6",9,6,"This is a custom-sized body cutout."," ",null,null,"CEZ00906",{"$f":"IF(V102,IF(ISNA(VLOOKUP(AH102,TrayInfo!$C$4:$D$561,2,FALSE)),\"\",\"*\"),\"\")","v":""},{"$f":"IF($AI102=\"*\",$R102,99)","v":99},0,0]
[null,null,null,null,null,null,null,null,null,null,null,null,null,null,null,null,null,6,"NA - 10 x 7","NA - ","1007",false,"10 x 7",10,7,6,"10 x 7",10,7,"This is a custom-sized body cutout."," ",null,null,"CEZ01007",{"$f":"IF(V103,IF(ISNA(VLOOKUP(AH103,TrayInfo!$C$4:$D$561,2,FALSE)),\"\",\"*\"),\"\")","v":""},{"$f":"IF(AI103=\"*\",R103,99)","v":99},0,0]
[null,null,null,null,null,null,null,null,null,null,null,null,null,null,null,null,null,7,"NA - 12 x 6","NA - ","1206",false,"12 x 6",12,6,7,"12 x 6",12,6,"This is a custom-sized body cutout."," ",null,null,"CEZ01206",{"$f":"IF(V104,IF(ISNA(VLOOKUP(AH104,TrayInfo!$C$4:$D$561,2,FALSE)),\"\",\"*\"),\"\")","v":""},99,0,0]
[null,null,null,null,null,null,null,null,null,null,null,null,null,null,null,null,null,8,"NA - 12 x 7","NA - ","1207",false,"12 x 7",12,7,8,"12 x 7",12,7,"This is a custom-sized body cutout."," ",null,null,"CEZ01207",{"$f":"IF(V105,IF(ISNA(VLOOKUP(AH105,TrayInfo!$C$4:$D$561,2,FALSE)),\"\",\"*\"),\"\")","v":""},99,0,0]
[null,null,null,null,null,null,null,null,null,null,null,null,null,null,null,null,null,9,"NA - 13 x 8","NA - ","1308",false,"13 x 8",13,8,9,"13 x 8",13,8,"This is a custom-sized body cutout."," ",null,null,"CEZ01308",{"$f":"IF(V106,IF(ISNA(VLOOKUP(AH106,TrayInfo!$C$4:$D$561,2,FALSE)),\"\",\"*\"),\"\")","v":""},99,0,0]
[null,null,null,null,null,null,null,null,null,null,null,null,null,null,null,null,null,10,"NA - 14 x 9","NA - ","1409",false,"14 x 9",14,9,10,"14 x 9",14,9,"This is a custom-sized body cutout."," ",null,null,"CEZ01409",{"$f":"IF(V107,IF(ISNA(VLOOKUP(AH107,TrayInfo!$C$4:$D$561,2,FALSE)),\"\",\"*\"),\"\")","v":""},99,0,0]
[null,null,null,null,null,null,null,null,null,null,null,null,null,null,null,null,null,11,"NA - 15 x 9","NA - ","1509",false,"15 x 9",15,9,11,"15 x 9",15,9,"This is a custom-sized body cutout."," ",null,null,"CEZ01509",{"$f":"IF(V108,IF(ISNA(VLOOKUP(AH108,TrayInfo!$C$4:$D$561,2,FALSE)),\"\",\"*\"),\"\")","v":""},99,0,0]
[null,null,null,null,null,null,null,null,null,null,null,null,null,null,null,null,null,12,"NA - 16 x 10","NA - ","1610",false,"16 x 10",16,10,12,"16 x 10",16,10,"This is a custom-sized body cutout."," ",null,null,"CEZ01610",{"$f":"IF(V109,IF(ISNA(VLOOKUP(AH109,TrayInfo!$C$4:$D$561,2,FALSE)),\"\",\"*\"),\"\")","v":""},99,0,0]
[null,null,null,null,null,null,null,null,null,null,null,null,null,null,null,null,null,13,"NA - 17 x 10","NA - ","1710",false,"17 x 10",17,10,13,"17 x 10",17,10,"This is a custom-sized body cutout."," ",null,null,"CEZ01710",{"$f":"IF(V110,IF(ISNA(VLOOKUP(AH110,TrayInfo!$C$4:$D$561,2,FALSE)),\"\",\"*\"),\"\")","v":""},99,0,0]
[null,null,null,null,null,null,null,null,null,null,null,null,null,null,null,null,null,14,"NA - 18 x 10","NA - ","1810",false,"18 x 10",18,10,14,"18 x 10",18,10,"This is a custom-sized body cutout."," ",null,null,"CEZ01810",{"$f":"IF(V111,IF(ISNA(VLOOKUP(AH111,TrayInfo!$C$4:$D$561,2,FALSE)),\"\",\"*\"),\"\")","v":""},99,0,0]
[null,null,null,null,null,null,null,null,null,null,null,null,null,null,null,null,null,15,"NA - 19 x 10","NA - ","1910",false,"19 x 10",19,10,15,"19 x 10",19,10,"This is a custom-sized body cutout."," ",null,null,"CEZ01910",{"$f":"IF(V112,IF(ISNA(VLOOKUP(AH112,TrayInfo!$C$4:$D$561,2,FALSE)),\"\",\"*\"),\"\")","v":""},99,0,0]
[null,null,null,null,null,null,null,null,null,null,null,null,null,null,null,null,null,16,"NA","NA - ","NA",false,"NA",99,null,16,null,null,null,null," ",null,null,null,null,null,null,0]
[null,null,null,null,null,null,null,null,null,null,null,null,null,null,null,null,null,null,null,null,null,null,null,null,null,null,null,null,null,null," "]
[null,null,null,null,null,null,null,null,null,null,null,null,null,null,null,null,null,"CHAIR CONFIGURATION",null,{"$f":"INDEX(T117:T128,Q116)","v":0}]
[null,null,null,null,null,null,null,null,null,null,null,null,null,null,null,null,1,null,"Description","inches",{"$f":"INDEX(U117:U128,CHAIRCONFIG,1)","v":" For EZ Lock clamps, assumes width including arms is 4\" to 5\" more than chair width. "}]
[null,null,null,null,null,null,null,null,null,null,null,null,null,null,null,null,null,1,"USE TYPICAL ARM WIDTH",null,{"$f":"\" \"&AI53","v":" For EZ Lock clamps, assumes width including arms is 4\" to 5\" more than chair width. "}]
[null,null,null,null,null,null,null,null,null,null,null,null,null,null,null,null,null,2,"Enter Total Width of Armpads",{"$f":"ARMS","v":0}," <= Enter the total width of both arms in inches (e.g. 4.25)"]
[null,null,null,null,null,null,null,null,null,null,null,null,null,null,null,null,null,3,{"$f":"IF(LEN(C18)>1,C18,\"Unused\")","v":"Total width of both arm pads=3\""},{"$f":"IF(E18>0,E18,0)","v":3},{"$f":"IF(LEN(C18)>1,$U$130,$U$131)","v":" Use the total arm width entered for this chair in the table below."}]
[null,null,null,null,null,null,null,null,null,null,null,null,null,null,null,null,null,4,{"$f":"IF(LEN(C19)>1,C19,\"Unused\")","v":"Total width of both arm pads=3.5\""},3.5,{"$f":"IF(LEN(C19)>1,$U$130,$U$131)","v":" Use the total arm width entered for this chair in the table below."}]
[null,null,null,null,null,null,null,null,null,null,null,null,null,null,null,null,null,5,"Total width of both arm pads=4\"",4," Use the total arm width entered for this chair in the table below."]
[null,null,null,null,null,null,null,null,null,null,null,null,null,null,null,null,null,6,"Total width of both arm pads=4.5\"",4.5," Use the total arm width entered for this chair in the table below."]
[null,null,null,null,null,null,null,null,null,null,null,null,null,null,null,null,null,7,"Total width of both arm pads=5\"",5," Use the total arm width entered for this chair in the table below."]
[null,null,null,null,null,null,null,null,null,null,null,null,null,null,null,null,null,8,"Total width of both arm pads=5.5\"",5.5," Use the total arm width entered for this chair in the table below."]
[null,null,null,null,null,null,null,null,null,null,null,null,null,null,null,null,null,9,"Total width of both arm pads=6\"",6," Use the total arm width entered for this chair in the table below."]
[null,null,null,null,null,null,null,null,null,null,null,null,null,null,null,null,null,10,"Unused",0," Enter a chair name and total arm width in the table below."]
[null,null,null,null,null,null,null,null,null,null,null,null,null,null,null,null,null,11,"Unused",0," Enter a chair name and total arm width in the table below."]
[null,null,null,null,null,null,null,null,null,null,null,null,null,null,null,null,null,12,"Unused",0," Enter a chair name and total arm width in the table below."]
[]
[null,null,null,null,null,null,null,null,null,null,null,null,null,null,null,null,null,null,null,null," Use the total arm width entered for this chair in the table below."]
[null,null,null,null,null,null,null,null,null,null,null,null,null,null,null,null,null,null,null,null," Enter a chair name and total arm width in the table below."]
[]
[]
[null,null,null,null,null,null,null,null,null,null,null,null,null,null,null,null,null,2,{"$f":"INDEX(S136:S145,$R134,1)","v":"EZ Lock Clamps"},{"$f":"INDEX(T136:T145,$R134,1)","v":31098},{"$f":"INDEX(U136:U145,$R134,1)","v":143}]
[null,null,null,null,null,null,null,null,null,null,null,null,null,null,null,null,null,null,"Clamp Description"]
[null,null,null,null,null,null,null,null,null,null,null,null,null,null,null,null,null,1,"No clamps"]
[null,null,null,null,null,null,null,null,null,null,null,null,null,null,null,null,null,2,"EZ Lock Clamps",31098,143]
[null,null,null,null,null,null,null,null,null,null,null,null,null,null,null,null,null,3,"Top Drop Clamps",31070,194]
[null,null,null,null,null,null,null,null,null,null,null,null,null,null,null,null,null,4,"Tube Lock Clamps",31072,152]
[null,null,null,null,null,null,null,null,null,null,null,null,null,null,null,null,null,5,"1-1/8\" Thick U Slides",32798,99]
[null,null,null,null,null,null,null,null,null,null,null,null,null,null,null,null,null,6,"1-1/4\" Thick U Slides",32794,99]
[null,null,null,null,null,null,null,null,null,null,null,null,null,null,null,null,null,7,"1-1/2\" Thick U Slides",32797,99]
[null,null,null,null,null,null,null,null,null,null,null,null,null,null,null,null,null,8,"1-1/8\" Thick Z Slides",32799,53]
[null,null,null,null,null,null,null,null,null,null,null,null,null,null,null,null,null,9,"1-1/8\" Z Slides 14 Inch",32747,108]
[null,null,null,null,null,null,null,null,null,null,null,null,null,null,null,null,null,10,"1-1/2\" Thick Z Slides",32800,53]
[null,null,null,null,null,null,null,null,null,null,null,null,null,null,null,null,null,11,"No clamps"]

{"sheet":"Seat","index":5,"n_rows":74,"n_cols":72,"rows_kept":74,"cut":false,"hidden":true,"merged":[[4,5,4,6],[1,20,1,22],[40,44,40,48],[3,32,3,34],[6,36,6,38],[33,52,34,53],[34,44,34,48],[33,44,33,48],[41,52,41,53],[57,32,57,34],[46,44,46,48]]}
[null,null,null,null,null,null,null,null,null,null,null,null,null,null,null,null,null,null,null,null,null,null,"Additional gusset if foam-in-place chosen-->",{"$f":"IF(AND(OR($B$7=16,$B$7=17),Design!$AO140,SEATIDX<>1),Design!$J$20,0)","v":0},"<-0 if no seat or base only",null,null,null,null,{"$f":"INDEX($AC$34:$AE$43,$AD$2,3)","v":0},"<--Foam over std thickness",null,null,{"$f":"IF(AD3-AD2=0.25,\"70175\",INDEX($AC$34:$AH$43,$AD$2,6))","v":"Foam"},"<-foam up charge phantom or \"FOAM\"",null,null,null,null,null,null,null,null,null,{"$f":"IF(SEATIDX<>1,\"Seat \"&SEATDEPTH&\" deep.  \",\"No seat.  \")&IF(AND(BACKIDX<>1,BACKCONFIG<>2),\"Back=\"&$AU$2&\" thick \"&\"(base=\"&$AB$52&\"  foam=\"&BACKFOAMTHICK&IF(Design!$BF$127>0,\"  wedge=\"&Design!$BF$127,\"\")&IF($AB$55>0,\"  add gusset=\"&$AB$55,\"\")&\")\"&\"  Back LBW=\"&Seat!$T$50&\" thick.\"&\"  STB hinge=\"&'Pick List'!$G$83,\"  Assume 2\"&quote&\" thick back.\")","v":"No seat.    Assume 2\" thick back."},null,null,null,null,{"$f":"'Pick List'!$BB$410","v":4},null,null,null,null,"Base+foam+contour+gusset=",{"$f":"IF(AND(BACKIDX<>1,BACKCONFIG<>2),BACKFOAMTHICK+Design!$BF$127+$AB$52+$AB$55,2)","v":2},"(assume 2\" if no back or base only)",null,null,null," ","Messages below used in hip guide and adductor bracket warnings and use a minimum amt when vinyl covered base chosen",null,null,null,null,null,null,null,null,{"$f":"IF(SEATIDX=5,\"Assume \",\"\")","v":""}]
[null,null,"Contoured seat so add for crosslink and enable depth adjustable option = ",{"$f":"AND(CONTIDX>3,Seat!$B7<16)","v":false},null,null,"Shelf changed text=",{"$f":"IF(OR(ISNUMBER(Design!$N$38),ISNUMBER(Design!$N$40)),\"**\",\"\")","v":""},"<= (Adds \"**\" to contour desc to denote that the leg length or pelvic length is not standard)",null,null,null,null,null,null,null,null,null,null,null,"Front and rear thicknesses on PAT seat do not match=",null,null,{"$f":"AND(CONTIDX=3,Seat!AB26<>(Seat!AA5+Seat!AB5))","v":false},null,null,null,null,"Rounds to next integer. 1/4\" treated like 1/2\"",{"$f":"MIN(IF(AD3>Q3,ROUND((AD3-Q3)/0.5,0),0)+1,10)","v":1},"<--Index to extra foam table below to point to retail adder",null,null,null,"(Phantom overriden if only .25\" difference)",null,null,null,null,null,null,null,null,null,"Back edge thickness in lower serif area=",null,{"$f":"$AB$52+BACKFOAMTHICK+Design!$BF$127+$AB$55","v":2},null,null,null,null,null,{"$f":"'Pick List'!$BA$410+$BL$27-$BI$27","v":3},null,"Useable seat dist=",{"$f":"MAX(0,SEATDEPTH-$BD$1-$BD$5)","v":0},"(considering hinge if any)",null,null,null,"#1",{"$f":"IF(SEATIDX=5,\"Assume seat is \",\"Seat is \")&IF($BS$4=$BI$4,$BI$4&quote&\" incl channel (if any)\",$BS$4&quote& \" to \"&$BI$4&quote&\" thick\")","v":"Seat is 0\" incl channel (if any)"},null,null,null,null,null,null,"#3",{"$f":"IF(SEATIDX=5,\"Assume maximum seat thickness is \",\"Maximum seat thickness is \")&$BI$4&quote","v":"Maximum seat thickness is 0\""},1.5,"<- Input minimum thickness to use for hip guide and adductor bracket length when vinyl base only"]
[null,"SEAT FOAM PARAMETERS",null,null,null,null,null,null,null,null,null,null,null,null,null,"Max thickness before phantom applies-->",2,null,null,null,null,null,null,null,null,null,null,null,null,{"$f":"MAX($AC$6,$AB$27)","v":2},"<--Total thickness of layers that we do not always charge for (max of front or back if planar anti0thrust)",null,null,null,null,null,null,null,null,null,null,null,null,null,null,null,null,{"$f":"'Pick List'!$BA$410","v":3},null,null,null,{"$f":"Belts!$F$278","v":0},{"$f":"BI27-BL27","v":0},null,"Pad pos'n warning=",{"$f":"AND('Pick List'!$B$19,(('Pick List'!$BB$410-Belts!$F$278)>$BD$2))","v":false},"(pad length-overhang)>usuable)",null,null,null,"#2",{"$f":"IF(SEATIDX=5,\" (assume \",\" (must fit \")&IF($BS$4=$BI$4,$BI$4&quote&\" thick seat)\",$BS$4&quote&\" to \"&$BI$4&quote&\" thick seat)\")","v":" (must fit 0\" thick seat)"},null,null,null,null,null,null,"#4",{"$f":"IF(SEATIDX=5,\" (assume \",\" (must fit \")&$BI$4&quote&\" thick seat)\"","v":" (must fit 0\" thick seat)"},{"$f":"IF(SEATIDX=5,BS2,0)","v":0},"<- Minimum thickness used for hip guide and adductor bracket when vinyl base only"]
[null,null,null,null,null,null,null,null,"Custom",null,"Before","This","After",null,null,null,"Custom",null,"Before","This","After",null,null,null,"Custom",null,"Before","This","Seat thickness wo/contour",null,null,null,"Spinners",null,null,null,null,null,null,null,null,null,null,null,null,null,null,null,{"$f":"'Pick List'!$BB$410-Belts!$F$278-SEATDEPTH+$BK$27","v":4},{"$f":"SEATDEPTH-$BK$27-$BJ$27","v":0},{"$f":"BJ27+Belts!$F$278","v":0},null,null,null,null,null,null,null,null,null,{"$f":"MAX($BS$3,$BI$27+SEATBASETHICK+IF(Design!$AB$16,0.375,0))","v":0},"<-\"C\" distance plus amt for wood and/or crosslink in cushion + channel if any = length adductor must handle (OR MINIMUM)",null,null,null,null,null,null,null,null,{"$f":"MAX($BS$3,$BL$27+SEATBASETHICK+IF(Design!$AB$16,0.375,0))","v":0},"<-\"F\" distance plus amt for wood and/or crosslink in cushion + channel if any = length hip guide must handle (OR MINIMUM)"]
[null,{"$f":"CHOOSE($B$7,1,1,1,2,2,2,2,3,3,3,3,4,4,4,4,5,5)","v":1},"<= type of seat for formatting (UPDATE IF ADD ROWS TO TABLE)",null,null,"Custom contour and/or foams? ->",null,{"$f":"IF(OR(INDEX(H9:H25,B7)=1,INDEX(H9:H25,B7)=2),TRUE(),FALSE())","v":false},10,"BOTTOM LAYER",0,{"$f":"INDEX(K9:K25,$B$7)","v":1},{"$f":"K5+L5","v":1},"always charge?","extra thick phantom",null,4,"MIDDLE LAYER",{"$f":"M5","v":1},{"$f":"INDEX(S9:S25,$B$7)","v":1},{"$f":"S5+T5","v":2},"always charge?","extra thick phantom",null,32,"TOP LAYER",{"$f":"U5","v":2},{"$f":"INDEX(AA9:AA25,$B$7)","v":0},{"$f":"MAX((AA5+AB5),AB26)","v":2},"always charge?",null,null,4,2,8,null,null,null,null,null,null,null,null,null,null,null,null,null,null,null,null,null,null,null,"Offset hinge depth, if any=",{"$f":"'Pick List'!G83","v":0},"(contour thickness at widest part of the back, not LBW)",null,null,null,null,null,null,"Functional assumes 2\" shorter than full depth (NOT USING USER VALUE)"]
[null,null,{"$f":"SUBSTITUTE(SUBSTITUTE(C7,quote,\"\"),comma,\" -\")","v":"NA"},null,null,null,null,null,{"$f":"INDEX(I9:I26,$B$7)","v":10},{"$f":"SUBSTITUTE(J7,quote,\" in.\")","v":"NA"},0,{"$f":"IF(N6,0,L5)","v":1},{"$f":"K6+L6","v":1},{"$f":"VLOOKUP(I$6,SeatFoams,11)","v":false},{"$f":"IF(N6,\"\",IF(M6=$AD$3,$AH$1,\"Foam\"))","v":"Foam"},null,{"$f":"INDEX(Q9:Q26,$B$7)","v":4},{"$f":"SUBSTITUTE(R7,quote,\" in.\")","v":"NA"},{"$f":"M6","v":1},{"$f":"IF(V6,0,T5)","v":1},{"$f":"S6+T6","v":2},{"$f":"VLOOKUP(Q$6,SeatFoams,11)","v":false},{"$f":"IF(V6,\"\",IF(U6=$AD$3,$AH$1,\"Foam\"))","v":"Foam"},null,{"$f":"INDEX(Y9:Y26,$B$7)","v":32},{"$f":"SUBSTITUTE(Z7,quote,\" in.\")","v":"NA"},{"$f":"U6","v":2},{"$f":"IF(AD6,0,AB5)","v":0},{"$f":"AA6+AB6","v":2},{"$f":"VLOOKUP(Y$6,SeatFoams,11)","v":false},{"$f":"IF(AD6,\"\",IF(AC6=$AD$3,$AH$1,\"Foam\"))","v":"Foam"},null,{"$f":"AG5/2","v":2},{"$f":"AH5/2","v":1},{"$f":"AI5/2","v":4},null,null,null,null,null,null,null,null,null,null,null,null,null,null,null,null,null,null,null,null,null,null,null,"Seat depth","Chair width",null,{"$f":"SEATDEPTH-2","v":-2},0.33,"<-D% of seat depth",null,{"$f":"IF(FOAMSREQD,$BN$7,2)","v":2},"<- H for abductor height required without base (assume minimum of 2\" if foams not required)"]
[null,1,{"$f":"INDEX(C9:C25,CONTIDX)","v":"NA"},"-",1,0,0,0,null,{"$f":"IF(FOAMSREQD,INDEX(J9:J25,CONTIDX),\"NA\")","v":"NA"},null,null,{"$f":"IF(N6,INDEX(M9:M26,CONTIDX),IF(M6=$AD$3,$AD$1,0))","v":0},null,{"$f":"IF(INDEX(O9:O25,CONTIDX)=\" \",O6,INDEX(O9:O25,CONTIDX))","v":"Foam"},{"$f":"INDEX(P9:P25,CONTIDX,1)","v":"05890"},null,{"$f":"IF(FOAMSREQD,INDEX(R9:R25,CONTIDX),\"NA\")","v":"NA"},null,null,{"$f":"IF(V6,INDEX(U9:U26,CONTIDX),IF(U6=$AD$3,$AD$1,0))","v":0},null,{"$f":"IF(INDEX(W9:W25,CONTIDX)=\" \",W6,INDEX(W9:W25,CONTIDX))","v":"Foam"},{"$f":"INDEX(X9:X25,CONTIDX,1)","v":"05887"},null,{"$f":"IF(FOAMSREQD,INDEX(Z9:Z25,CONTIDX),\"NA\")","v":"NA"},null,null,{"$f":"IF(AD6,INDEX(AC9:AC26,CONTIDX),IF(AC6=$AD$3,$AD$1,0))","v":0},null,{"$f":"IF(INDEX(AE9:AE25,CONTIDX)=\" \",AE6,INDEX(AE9:AE25,CONTIDX))","v":"Foam"},{"$f":"INDEX(AF9:AF25,CONTIDX,1)","v":"FIP"},{"$f":"INDEX(AG9:AG25,CONTIDX,1)","v":0},null,null,null,"=1 if okay to modify",null,null,{"$f":"INDEX(AN9:AN25,CONTIDX,1)","v":false},null,null,null,null,null,null,null,null,null,null,null,null,null,null,null,null,null,null,{"$f":"INDEX(BG$9:BG$25,CONTIDX)","v":0},0,2,0,0,2,2,2,0,2,null,{"$f":"INDEX(BR9:BR25,$B$7)","v":"NA"}]
[null,"Idx","Description of Seat Contour (NA if vinyl covered seat)","Phantom","Req-d Qty","Retail wo extra thick","Price before foam chgs","Cust Flag","Foam Idx","Desc","Layer Thick","Sub-total","Retail","Cost","Phantom","Foam","Foam Idx","Desc","Layer Thick","Sub-total","Retail","Cost","Phantom","Foam","Foam Idx","Desc","Layer Thick","Sub-total","Retail","Cost","Phantom","Foam","Riser","Wedge","Abductor",null,"Riser","Wedge","Abductor","Contoured hip guide okay?","crosslink titles",null,null,null,null,null,null,null,null,null,null,null,null,null,null,null,null,"Idx","A","B","C","D","E","F","G","H","I","J","Slope","TITLES INCLUDING CUSTOM DIMENSIONS"]
["Planar with 1\" medium + 1\" soft visco foam",1,{"$f":"IF(FOAMSREQD,A9,\"NA\")","v":"NA"},"-",1,0,null,null,10,{"$f":"VLOOKUP(I9,Foams!$A$4:$K$35,2)","v":"1\" Med Visco Foam"},{"$f":"VLOOKUP(I9,Foams!$A$4:$K$35,9)","v":1},{"$f":"K$5+K9","v":1},{"$f":"IF(VLOOKUP($I9,Foams!$A$4:$K$35,11),VLOOKUP($I9,Foams!$A$4:$K$35,7),0)","v":0},{"$f":"IF(OR($L9>$Q$3,VLOOKUP($I9,Foams!$A$4:$K$35,11)),VLOOKUP($I9,Foams!$A$4:$K$35,8),0)","v":0},{"$f":"IF(OR(L9>$Q$3,VLOOKUP(I9,Foams!$A$4:$K$35,11)),VLOOKUP(I9,Foams!$A$4:$K$35,6),\" \")","v":" "},{"$f":"VLOOKUP(I9,Foams!$A$4:$K$35,10)","v":"05890"},4,{"$f":"VLOOKUP(Q9,Foams!$A$4:$K$35,2)","v":"1\" Soft Visco Foam"},{"$f":"VLOOKUP(Q9,Foams!$A$4:$K$35,9)","v":1},{"$f":"S$5+S9","v":2},{"$f":"IF(VLOOKUP($Q9,Foams!$A$4:$K$35,11),VLOOKUP($Q9,Foams!$A$4:$K$35,7),0)","v":0},{"$f":"IF(OR($T9>$Q$3,VLOOKUP($Q9,Foams!$A$4:$K$35,11)),VLOOKUP($Q9,Foams!$A$4:$K$35,8),0)","v":0},{"$f":"IF(OR(T9>$Q$3,VLOOKUP(Q9,Foams!$A$4:$K$35,11)),VLOOKUP(Q9,Foams!$A$4:$K$35,6),\" \")","v":" "},{"$f":"VLOOKUP(Q9,Foams!$A$4:$K$35,10)","v":"05887"},{"$f":"Foams!$A$35","v":32},{"$f":"VLOOKUP(Y9,Foams!$A$4:$K$35,2)","v":"NA"},{"$f":"VLOOKUP(Y9,Foams!$A$4:$K$35,9)","v":0},{"$f":"AA$5+AA9","v":2},{"$f":"IF(VLOOKUP($Y9,Foams!$A$4:$K$35,11),VLOOKUP($Y9,Foams!$A$4:$K$35,7),0)","v":0},{"$f":"IF(OR($AB9>$Q$3,VLOOKUP($Y9,Foams!$A$4:$K$35,11)),VLOOKUP($Y9,Foams!$A$4:$K$35,8),0)","v":0},{"$f":"IF(OR(AB9>$Q$3,VLOOKUP(Y9,Foams!$A$4:$K$35,11)),VLOOKUP(Y9,Foams!$A$4:$K$35,6),\" \")","v":" "},{"$f":"VLOOKUP(Y9,Foams!$A$4:$K$35,10)","v":"FIP"},0,0,0,null,0,0,0,{"$f":"FALSE()","v":false},1,"None",null,null,null,null,null,null,null,null,null,null,null,null,null,null,null,1,{"$f":"Design!$D$75","v":0},{"$f":"Design!$E$75","v":0},{"$f":"$BP9+$AH9+$AG9","v":2},0,0,{"$f":"$BP9","v":2},{"$f":"$BP9+$AG9","v":2},{"$f":"$BP9+$AG9+$AI9","v":2},{"$f":"$AH9","v":0},{"$f":"$AC$5","v":2},2,{"$f":"C9","v":"NA"}]
["Planar with custom foams",2,{"$f":"IF(FOAMSREQD,A10,\"NA\")","v":"NA"},"-",1,0,null,1,{"$f":"I$5","v":10},{"$f":"VLOOKUP(I10,Foams!$A$4:$K$35,2)","v":"1\" Med Visco Foam"},{"$f":"VLOOKUP(I10,Foams!$A$4:$K$35,9)","v":1},1,{"$f":"IF(VLOOKUP($I10,Foams!$A$4:$K$35,11),VLOOKUP($I10,Foams!$A$4:$K$35,7),0)","v":0},{"$f":"IF(OR($L10>$Q$3,VLOOKUP($I10,Foams!$A$4:$K$35,11)),VLOOKUP($I10,Foams!$A$4:$K$35,8),0)","v":0},{"$f":"IF(OR(L10>$Q$3,VLOOKUP(I10,Foams!$A$4:$K$35,11)),VLOOKUP(I10,Foams!$A$4:$K$35,6),\" \")","v":" "},{"$f":"VLOOKUP(I10,Foams!$A$4:$K$35,10)","v":"05890"},{"$f":"Q$5","v":4},{"$f":"VLOOKUP(Q10,Foams!$A$4:$K$35,2)","v":"1\" Soft Visco Foam"},{"$f":"VLOOKUP(Q10,Foams!$A$4:$K$35,9)","v":1},2,{"$f":"IF(VLOOKUP($Q10,Foams!$A$4:$K$35,11),VLOOKUP($Q10,Foams!$A$4:$K$35,7),0)","v":0},{"$f":"IF(OR($T10>$Q$3,VLOOKUP($Q10,Foams!$A$4:$K$35,11)),VLOOKUP($Q10,Foams!$A$4:$K$35,8),0)","v":0},{"$f":"IF(OR(T10>$Q$3,VLOOKUP(Q10,Foams!$A$4:$K$35,11)),VLOOKUP(Q10,Foams!$A$4:$K$35,6),\" \")","v":" "},{"$f":"VLOOKUP(Q10,Foams!$A$4:$K$35,10)","v":"05887"},{"$f":"Y$5","v":32},{"$f":"VLOOKUP(Y10,Foams!$A$4:$K$35,2)","v":"NA"},{"$f":"VLOOKUP(Y10,Foams!$A$4:$K$35,9)","v":0},2,{"$f":"IF(VLOOKUP($Y10,Foams!$A$4:$K$35,11),VLOOKUP($Y10,Foams!$A$4:$K$35,7),0)","v":0},{"$f":"IF(OR($AB10>$Q$3,VLOOKUP($Y10,Foams!$A$4:$K$35,11)),VLOOKUP($Y10,Foams!$A$4:$K$35,8),0)","v":0},{"$f":"IF(OR(AB10>$Q$3,VLOOKUP(Y10,Foams!$A$4:$K$35,11)),VLOOKUP(Y10,Foams!$A$4:$K$35,6),\" \")","v":" "},{"$f":"VLOOKUP(Y10,Foams!$A$4:$K$35,10)","v":"FIP"},0,0,0,null,0,0,0,{"$f":"FALSE()","v":false},2,"1/2\"",null,null,null,null,null,null,null,null,null,null,null,null,null,null,null,2,{"$f":"Design!$D$75","v":0},{"$f":"Design!$E$75","v":0},2,0,0,2,{"$f":"$BP10+$AG10","v":2},{"$f":"$BP10+$AG10+$AI10","v":2},{"$f":"$AH10","v":0},2,2,{"$f":"C10","v":"NA"}]
["Planar anti-thrust w/ custom foams",3,{"$f":"IF(FOAMSREQD,A11,\"NA\")","v":"NA"},71087,1,93,null,1,{"$f":"I$5","v":10},{"$f":"VLOOKUP(I11,Foams!$A$4:$K$35,2)","v":"1\" Med Visco Foam"},{"$f":"VLOOKUP(I11,Foams!$A$4:$K$35,9)","v":1},1,{"$f":"IF(VLOOKUP($I11,Foams!$A$4:$K$35,11),VLOOKUP($I11,Foams!$A$4:$K$35,7),0)","v":0},{"$f":"IF(OR($L11>$Q$3,VLOOKUP($I11,Foams!$A$4:$K$35,11)),VLOOKUP($I11,Foams!$A$4:$K$35,8),0)","v":0},{"$f":"IF(OR(L11>$Q$3,VLOOKUP(I11,Foams!$A$4:$K$35,11)),VLOOKUP(I11,Foams!$A$4:$K$35,6),\" \")","v":" "},{"$f":"VLOOKUP(I11,Foams!$A$4:$K$35,10)","v":"05890"},{"$f":"Q$5","v":4},{"$f":"VLOOKUP(Q11,Foams!$A$4:$K$35,2)","v":"1\" Soft Visco Foam"},{"$f":"VLOOKUP(Q11,Foams!$A$4:$K$35,9)","v":1},2,{"$f":"IF(VLOOKUP($Q11,Foams!$A$4:$K$35,11),VLOOKUP($Q11,Foams!$A$4:$K$35,7),0)","v":0},{"$f":"IF(OR($T11>$Q$3,VLOOKUP($Q11,Foams!$A$4:$K$35,11)),VLOOKUP($Q11,Foams!$A$4:$K$35,8),0)","v":0},{"$f":"IF(OR(T11>$Q$3,VLOOKUP(Q11,Foams!$A$4:$K$35,11)),VLOOKUP(Q11,Foams!$A$4:$K$35,6),\" \")","v":" "},{"$f":"VLOOKUP(Q11,Foams!$A$4:$K$35,10)","v":"05887"},{"$f":"Y$5","v":32},{"$f":"VLOOKUP(Y11,Foams!$A$4:$K$35,2)","v":"NA"},{"$f":"VLOOKUP(Y11,Foams!$A$4:$K$35,9)","v":0},2,{"$f":"IF(VLOOKUP($Y11,Foams!$A$4:$K$35,11),VLOOKUP($Y11,Foams!$A$4:$K$35,7),0)","v":0},{"$f":"IF(OR($AB11>$Q$3,VLOOKUP($Y11,Foams!$A$4:$K$35,11)),VLOOKUP($Y11,Foams!$A$4:$K$35,8),0)","v":0},{"$f":"IF(OR(AB11>$Q$3,VLOOKUP(Y11,Foams!$A$4:$K$35,11)),VLOOKUP(Y11,Foams!$A$4:$K$35,6),\" \")","v":" "},{"$f":"VLOOKUP(Y11,Foams!$A$4:$K$35,10)","v":"FIP"},0,0,0,null,0,0,0,{"$f":"FALSE()","v":false},3,"1\"",null,null,null,null,null,null,null,null,null,null,null,null,null,null,null,3,{"$f":"Design!$D$75","v":0},{"$f":"Design!$E$75","v":0},2,0,0,2,{"$f":"$BP11+$AG11","v":2},{"$f":"$BP11+$AG11+$AI11","v":2},{"$f":"$AH11","v":0},2,2,{"$f":"C11&\", F=\"&Design!$E$15&quote&\", S=\"&Design!G$15&quote&\", R=\"&Design!$I$15","v":"NA, F=\", S=2\", R=0"}]
["Anti-thrust , Shallow",4,{"$f":"IF(FOAMSREQD,A12&$H$2,\"NA\")","v":"NA"},71027,1,93,null,null,10,{"$f":"VLOOKUP(I12,Foams!$A$4:$K$35,2)","v":"1\" Med Visco Foam"},{"$f":"VLOOKUP(I12,Foams!$A$4:$K$35,9)","v":1},1,{"$f":"IF(VLOOKUP($I12,Foams!$A$4:$K$35,11),VLOOKUP($I12,Foams!$A$4:$K$35,7),0)","v":0},{"$f":"IF(OR($L12>$Q$3,VLOOKUP($I12,Foams!$A$4:$K$35,11)),VLOOKUP($I12,Foams!$A$4:$K$35,8),0)","v":0},{"$f":"IF(OR(L12>$Q$3,VLOOKUP(I12,Foams!$A$4:$K$35,11)),VLOOKUP(I12,Foams!$A$4:$K$35,6),\" \")","v":" "},{"$f":"VLOOKUP(I12,Foams!$A$4:$K$35,10)","v":"05890"},3,{"$f":"VLOOKUP(Q12,Foams!$A$4:$K$35,2)","v":"1/2\" Soft Visco Foam"},{"$f":"VLOOKUP(Q12,Foams!$A$4:$K$35,9)","v":0.5},1.5,{"$f":"IF(VLOOKUP($Q12,Foams!$A$4:$K$35,11),VLOOKUP($Q12,Foams!$A$4:$K$35,7),0)","v":0},{"$f":"IF(OR($T12>$Q$3,VLOOKUP($Q12,Foams!$A$4:$K$35,11)),VLOOKUP($Q12,Foams!$A$4:$K$35,8),0)","v":0},{"$f":"IF(OR(T12>$Q$3,VLOOKUP(Q12,Foams!$A$4:$K$35,11)),VLOOKUP(Q12,Foams!$A$4:$K$35,6),\" \")","v":" "},{"$f":"VLOOKUP(Q12,Foams!$A$4:$K$35,10)","v":"05888"},{"$f":"Foams!$A$35","v":32},{"$f":"VLOOKUP(Y12,Foams!$A$4:$K$35,2)","v":"NA"},{"$f":"VLOOKUP(Y12,Foams!$A$4:$K$35,9)","v":0},2,{"$f":"IF(VLOOKUP($Y12,Foams!$A$4:$K$35,11),VLOOKUP($Y12,Foams!$A$4:$K$35,7),0)","v":0},{"$f":"IF(OR($AB12>$Q$3,VLOOKUP($Y12,Foams!$A$4:$K$35,11)),VLOOKUP($Y12,Foams!$A$4:$K$35,8),0)","v":0},{"$f":"IF(OR(AB12>$Q$3,VLOOKUP(Y12,Foams!$A$4:$K$35,11)),VLOOKUP(Y12,Foams!$A$4:$K$35,6),\" \")","v":" "},{"$f":"VLOOKUP(Y12,Foams!$A$4:$K$35,10)","v":"FIP"},0.5,0,0,null,0,0,0,{"$f":"TRUE()","v":true},4,"1-1/2\"",null,null,null,null,null,null,null,null,null,null,null,null,null,null,null,4,{"$f":"Design!$D$75","v":0},{"$f":"Design!$E$75","v":0},2.5,{"$f":"IF(ISNUMBER(Design!$N$38),Design!$N$38,IF(ISNUMBER(Design!$N$40),$BG12-$BK12-Design!$AB$60,ROUND($BJ$6*$BK$6,0)))","v":-1},{"$f":"IF(ISNUMBER(Design!$N$40),Design!$N$40,$BG12-Design!$AB$60-$BJ12)","v":-1},2,{"$f":"$BP12+$AG12","v":2.5},{"$f":"$BP12+$AG12+$AI12","v":2.5},{"$f":"$AH12","v":0},2,2,{"$f":"C12&\" C=\"&BI12&\" D=\"&BJ12&\" E=\"&BK12&\" F=\"&BL12","v":"NA C=2.5 D=-1 E=-1 F=2"}]
["Anti-thrust , Medium",5,{"$f":"IF(FOAMSREQD,A13&$H$2,\"NA\")","v":"NA"},71027,1,93,null,null,10,{"$f":"VLOOKUP(I13,Foams!$A$4:$K$35,2)","v":"1\" Med Visco Foam"},{"$f":"VLOOKUP(I13,Foams!$A$4:$K$35,9)","v":1},1,{"$f":"IF(VLOOKUP($I13,Foams!$A$4:$K$35,11),VLOOKUP($I13,Foams!$A$4:$K$35,7),0)","v":0},{"$f":"IF(OR($L13>$Q$3,VLOOKUP($I13,Foams!$A$4:$K$35,11)),VLOOKUP($I13,Foams!$A$4:$K$35,8),0)","v":0},{"$f":"IF(OR(L13>$Q$3,VLOOKUP(I13,Foams!$A$4:$K$35,11)),VLOOKUP(I13,Foams!$A$4:$K$35,6),\" \")","v":" "},{"$f":"VLOOKUP(I13,Foams!$A$4:$K$35,10)","v":"05890"},3,{"$f":"VLOOKUP(Q13,Foams!$A$4:$K$35,2)","v":"1/2\" Soft Visco Foam"},{"$f":"VLOOKUP(Q13,Foams!$A$4:$K$35,9)","v":0.5},1.5,{"$f":"IF(VLOOKUP($Q13,Foams!$A$4:$K$35,11),VLOOKUP($Q13,Foams!$A$4:$K$35,7),0)","v":0},{"$f":"IF(OR($T13>$Q$3,VLOOKUP($Q13,Foams!$A$4:$K$35,11)),VLOOKUP($Q13,Foams!$A$4:$K$35,8),0)","v":0},{"$f":"IF(OR(T13>$Q$3,VLOOKUP(Q13,Foams!$A$4:$K$35,11)),VLOOKUP(Q13,Foams!$A$4:$K$35,6),\" \")","v":" "},{"$f":"VLOOKUP(Q13,Foams!$A$4:$K$35,10)","v":"05888"},{"$f":"Foams!$A$35","v":32},{"$f":"VLOOKUP(Y13,Foams!$A$4:$K$35,2)","v":"NA"},{"$f":"VLOOKUP(Y13,Foams!$A$4:$K$35,9)","v":0},2,{"$f":"IF(VLOOKUP($Y13,Foams!$A$4:$K$35,11),VLOOKUP($Y13,Foams!$A$4:$K$35,7),0)","v":0},{"$f":"IF(OR($AB13>$Q$3,VLOOKUP($Y13,Foams!$A$4:$K$35,11)),VLOOKUP($Y13,Foams!$A$4:$K$35,8),0)","v":0},{"$f":"IF(OR(AB13>$Q$3,VLOOKUP(Y13,Foams!$A$4:$K$35,11)),VLOOKUP(Y13,Foams!$A$4:$K$35,6),\" \")","v":" "},{"$f":"VLOOKUP(Y13,Foams!$A$4:$K$35,10)","v":"FIP"},1,0,0,null,0,0,0,{"$f":"TRUE()","v":true},5,"2\"",null,null,null,null,null,null,null,null,null,null,null,null,null,null,null,5,{"$f":"Design!$D$75","v":0},{"$f":"Design!$E$75","v":0},3,{"$f":"IF(ISNUMBER(Design!$N$38),Design!$N$38,IF(ISNUMBER(Design!$N$40),$BG13-$BK13-Design!$AB$60,ROUND($BJ$6*$BK$6,0)))","v":-1},{"$f":"IF(ISNUMBER(Design!$N$40),Design!$N$40,$BG13-Design!$AB$60-$BJ13)","v":-1},2,3,3,0,2,2,{"$f":"C13&\" C=\"&BI13&\" D=\"&BJ13&\" E=\"&BK13&\" F=\"&BL13","v":"NA C=3 D=-1 E=-1 F=2"}]
["Anti-thrust , Deep",6,{"$f":"IF(FOAMSREQD,A14&$H$2,\"NA\")","v":"NA"},71027,1,93,null,null,10,{"$f":"VLOOKUP(I14,Foams!$A$4:$K$35,2)","v":"1\" Med Visco Foam"},{"$f":"VLOOKUP(I14,Foams!$A$4:$K$35,9)","v":1},1,{"$f":"IF(VLOOKUP($I14,Foams!$A$4:$K$35,11),VLOOKUP($I14,Foams!$A$4:$K$35,7),0)","v":0},{"$f":"IF(OR($L14>$Q$3,VLOOKUP($I14,Foams!$A$4:$K$35,11)),VLOOKUP($I14,Foams!$A$4:$K$35,8),0)","v":0},{"$f":"IF(OR(L14>$Q$3,VLOOKUP(I14,Foams!$A$4:$K$35,11)),VLOOKUP(I14,Foams!$A$4:$K$35,6),\" \")","v":" "},{"$f":"VLOOKUP(I14,Foams!$A$4:$K$35,10)","v":"05890"},3,{"$f":"VLOOKUP(Q14,Foams!$A$4:$K$35,2)","v":"1/2\" Soft Visco Foam"},{"$f":"VLOOKUP(Q14,Foams!$A$4:$K$35,9)","v":0.5},1.5,{"$f":"IF(VLOOKUP($Q14,Foams!$A$4:$K$35,11),VLOOKUP($Q14,Foams!$A$4:$K$35,7),0)","v":0},{"$f":"IF(OR($T14>$Q$3,VLOOKUP($Q14,Foams!$A$4:$K$35,11)),VLOOKUP($Q14,Foams!$A$4:$K$35,8),0)","v":0},{"$f":"IF(OR(T14>$Q$3,VLOOKUP(Q14,Foams!$A$4:$K$35,11)),VLOOKUP(Q14,Foams!$A$4:$K$35,6),\" \")","v":" "},{"$f":"VLOOKUP(Q14,Foams!$A$4:$K$35,10)","v":"05888"},{"$f":"Foams!$A$35","v":32},{"$f":"VLOOKUP(Y14,Foams!$A$4:$K$35,2)","v":"NA"},{"$f":"VLOOKUP(Y14,Foams!$A$4:$K$35,9)","v":0},2,{"$f":"IF(VLOOKUP($Y14,Foams!$A$4:$K$35,11),VLOOKUP($Y14,Foams!$A$4:$K$35,7),0)","v":0},{"$f":"IF(OR($AB14>$Q$3,VLOOKUP($Y14,Foams!$A$4:$K$35,11)),VLOOKUP($Y14,Foams!$A$4:$K$35,8),0)","v":0},{"$f":"IF(OR(AB14>$Q$3,VLOOKUP(Y14,Foams!$A$4:$K$35,11)),VLOOKUP(Y14,Foams!$A$4:$K$35,6),\" \")","v":" "},{"$f":"VLOOKUP(Y14,Foams!$A$4:$K$35,10)","v":"FIP"},1.5,0,0,null,0,0,0,{"$f":"TRUE()","v":true},null,null,null,null,null,null,null,null,null,null,null,null,null,null,null,null,null,6,{"$f":"Design!$D$75","v":0},{"$f":"Design!$E$75","v":0},3.5,{"$f":"IF(ISNUMBER(Design!$N$38),Design!$N$38,IF(ISNUMBER(Design!$N$40),$BG14-$BK14-Design!$AB$60,ROUND($BJ$6*$BK$6,0)))","v":-1},{"$f":"IF(ISNUMBER(Design!$N$40),Design!$N$40,$BG14-Design!$AB$60-$BJ14)","v":-1},2,3.5,3.5,0,2,2,{"$f":"C14&\" C=\"&BI14&\" D=\"&BJ14&\" E=\"&BK14&\" F=\"&BL14","v":"NA C=3.5 D=-1 E=-1 F=2"}]
["Anti-thrust , custom foam & dimensions",7,{"$f":"IF(FOAMSREQD,A15,\"NA\")","v":"NA"},71027,1,93,null,1,{"$f":"I$5","v":10},{"$f":"VLOOKUP(I15,Foams!$A$4:$K$35,2)","v":"1\" Med Visco Foam"},{"$f":"VLOOKUP(I15,Foams!$A$4:$K$35,9)","v":1},1,{"$f":"IF(VLOOKUP($I15,Foams!$A$4:$K$35,11),VLOOKUP($I15,Foams!$A$4:$K$35,7),0)","v":0},{"$f":"IF(OR($L15>$Q$3,VLOOKUP($I15,Foams!$A$4:$K$35,11)),VLOOKUP($I15,Foams!$A$4:$K$35,8),0)","v":0},{"$f":"IF(OR(L15>$Q$3,VLOOKUP(I15,Foams!$A$4:$K$35,11)),VLOOKUP(I15,Foams!$A$4:$K$35,6),\" \")","v":" "},{"$f":"VLOOKUP(I15,Foams!$A$4:$K$35,10)","v":"05890"},{"$f":"Q$5","v":4},{"$f":"VLOOKUP(Q15,Foams!$A$4:$K$35,2)","v":"1\" Soft Visco Foam"},{"$f":"VLOOKUP(Q15,Foams!$A$4:$K$35,9)","v":1},2,{"$f":"IF(VLOOKUP($Q15,Foams!$A$4:$K$35,11),VLOOKUP($Q15,Foams!$A$4:$K$35,7),0)","v":0},{"$f":"IF(OR($T15>$Q$3,VLOOKUP($Q15,Foams!$A$4:$K$35,11)),VLOOKUP($Q15,Foams!$A$4:$K$35,8),0)","v":0},{"$f":"IF(OR(T15>$Q$3,VLOOKUP(Q15,Foams!$A$4:$K$35,11)),VLOOKUP(Q15,Foams!$A$4:$K$35,6),\" \")","v":" "},{"$f":"VLOOKUP(Q15,Foams!$A$4:$K$35,10)","v":"05887"},{"$f":"Y$5","v":32},{"$f":"VLOOKUP(Y15,Foams!$A$4:$K$35,2)","v":"NA"},{"$f":"VLOOKUP(Y15,Foams!$A$4:$K$35,9)","v":0},2,{"$f":"IF(VLOOKUP($Y15,Foams!$A$4:$K$35,11),VLOOKUP($Y15,Foams!$A$4:$K$35,7),0)","v":0},{"$f":"IF(OR($AB15>$Q$3,VLOOKUP($Y15,Foams!$A$4:$K$35,11)),VLOOKUP($Y15,Foams!$A$4:$K$35,8),0)","v":0},{"$f":"IF(OR(AB15>$Q$3,VLOOKUP(Y15,Foams!$A$4:$K$35,11)),VLOOKUP(Y15,Foams!$A$4:$K$35,6),\" \")","v":" "},{"$f":"VLOOKUP(Y15,Foams!$A$4:$K$35,10)","v":"FIP"},{"$f":"$AG$6","v":2},0,0,null,1,0,0,{"$f":"AG15>0","v":true},null,null,null,null,null,null,null,null,null,null,null,null,null,null,null,null,null,7,{"$f":"Design!$D$75","v":0},{"$f":"Design!$E$75","v":0},4,{"$f":"IF(ISNUMBER(Design!$N$38),Design!$N$38,IF(ISNUMBER(Design!$N$40),$BG15-$BK15-Design!$AB$60,ROUND($BJ$6*$BK$6,0)))","v":-1},{"$f":"IF(ISNUMBER(Design!$N$40),Design!$N$40,$BG15-Design!$AB$60-$BJ15)","v":-1},2,4,4,0,2,2,{"$f":"\"Anti-thrust, C=\"&BI15&\" D=\"&BJ15&\" E=\"&BK15&\" F=\"&BL15","v":"Anti-thrust, C=4 D=-1 E=-1 F=2"}]
["Antithrust w/Leg Wells, Shallow",8,{"$f":"IF(FOAMSREQD,A16&$H$2,\"NA\")","v":"NA"},71028,1,192,null,null,10,{"$f":"VLOOKUP(I16,Foams!$A$4:$K$35,2)","v":"1\" Med Visco Foam"},{"$f":"VLOOKUP(I16,Foams!$A$4:$K$35,9)","v":1},1,{"$f":"IF(VLOOKUP($I16,Foams!$A$4:$K$35,11),VLOOKUP($I16,Foams!$A$4:$K$35,7),0)","v":0},{"$f":"IF(OR($L16>$Q$3,VLOOKUP($I16,Foams!$A$4:$K$35,11)),VLOOKUP($I16,Foams!$A$4:$K$35,8),0)","v":0},{"$f":"IF(OR(L16>$Q$3,VLOOKUP(I16,Foams!$A$4:$K$35,11)),VLOOKUP(I16,Foams!$A$4:$K$35,6),\" \")","v":" "},{"$f":"VLOOKUP(I16,Foams!$A$4:$K$35,10)","v":"05890"},3,{"$f":"VLOOKUP(Q16,Foams!$A$4:$K$35,2)","v":"1/2\" Soft Visco Foam"},{"$f":"VLOOKUP(Q16,Foams!$A$4:$K$35,9)","v":0.5},1.5,{"$f":"IF(VLOOKUP($Q16,Foams!$A$4:$K$35,11),VLOOKUP($Q16,Foams!$A$4:$K$35,7),0)","v":0},{"$f":"IF(OR($T16>$Q$3,VLOOKUP($Q16,Foams!$A$4:$K$35,11)),VLOOKUP($Q16,Foams!$A$4:$K$35,8),0)","v":0},{"$f":"IF(OR(T16>$Q$3,VLOOKUP(Q16,Foams!$A$4:$K$35,11)),VLOOKUP(Q16,Foams!$A$4:$K$35,6),\" \")","v":" "},{"$f":"VLOOKUP(Q16,Foams!$A$4:$K$35,10)","v":"05888"},{"$f":"Foams!$A$35","v":32},{"$f":"VLOOKUP(Y16,Foams!$A$4:$K$35,2)","v":"NA"},{"$f":"VLOOKUP(Y16,Foams!$A$4:$K$35,9)","v":0},2,{"$f":"IF(VLOOKUP($Y16,Foams!$A$4:$K$35,11),VLOOKUP($Y16,Foams!$A$4:$K$35,7),0)","v":0},{"$f":"IF(OR($AB16>$Q$3,VLOOKUP($Y16,Foams!$A$4:$K$35,11)),VLOOKUP($Y16,Foams!$A$4:$K$35,8),0)","v":0},{"$f":"IF(OR(AB16>$Q$3,VLOOKUP(Y16,Foams!$A$4:$K$35,11)),VLOOKUP(Y16,Foams!$A$4:$K$35,6),\" \")","v":" "},{"$f":"VLOOKUP(Y16,Foams!$A$4:$K$35,10)","v":"FIP"},0.5,0.5,0.5,null,0,0,0,{"$f":"TRUE()","v":true},null,null,null,null,null,null,null,null,null,null,null,null,null,null,null,null,null,8,{"$f":"Design!$D$75","v":0},{"$f":"Design!$E$75","v":0},3,{"$f":"IF(ISNUMBER(Design!$N$38),Design!$N$38,IF(ISNUMBER(Design!$N$40),$BG16-$BK16-Design!$AB$60,ROUND($BJ$6*$BK$6,0)))","v":-1},{"$f":"IF(ISNUMBER(Design!$N$40),Design!$N$40,$BG16-Design!$AB$60-$BJ16)","v":-1},2,2.5,3,0.5,2,2,{"$f":"C16&\" D=\"&BJ16&\" E=\"&BK16&\" F=\"&BL16&\" G=\"&BM16&\" H=\"&BN16","v":"NA D=-1 E=-1 F=2 G=2.5 H=3"}]
["Antithrust w/Leg Wells, Medium",9,{"$f":"IF(FOAMSREQD,A17&$H$2,\"NA\")","v":"NA"},71028,1,192,null,null,10,{"$f":"VLOOKUP(I17,Foams!$A$4:$K$35,2)","v":"1\" Med Visco Foam"},{"$f":"VLOOKUP(I17,Foams!$A$4:$K$35,9)","v":1},1,{"$f":"IF(VLOOKUP($I17,Foams!$A$4:$K$35,11),VLOOKUP($I17,Foams!$A$4:$K$35,7),0)","v":0},{"$f":"IF(OR($L17>$Q$3,VLOOKUP($I17,Foams!$A$4:$K$35,11)),VLOOKUP($I17,Foams!$A$4:$K$35,8),0)","v":0},{"$f":"IF(OR(L17>$Q$3,VLOOKUP(I17,Foams!$A$4:$K$35,11)),VLOOKUP(I17,Foams!$A$4:$K$35,6),\" \")","v":" "},{"$f":"VLOOKUP(I17,Foams!$A$4:$K$35,10)","v":"05890"},3,{"$f":"VLOOKUP(Q17,Foams!$A$4:$K$35,2)","v":"1/2\" Soft Visco Foam"},{"$f":"VLOOKUP(Q17,Foams!$A$4:$K$35,9)","v":0.5},1.5,{"$f":"IF(VLOOKUP($Q17,Foams!$A$4:$K$35,11),VLOOKUP($Q17,Foams!$A$4:$K$35,7),0)","v":0},{"$f":"IF(OR($T17>$Q$3,VLOOKUP($Q17,Foams!$A$4:$K$35,11)),VLOOKUP($Q17,Foams!$A$4:$K$35,8),0)","v":0},{"$f":"IF(OR(T17>$Q$3,VLOOKUP(Q17,Foams!$A$4:$K$35,11)),VLOOKUP(Q17,Foams!$A$4:$K$35,6),\" \")","v":" "},{"$f":"VLOOKUP(Q17,Foams!$A$4:$K$35,10)","v":"05888"},{"$f":"Foams!$A$35","v":32},{"$f":"VLOOKUP(Y17,Foams!$A$4:$K$35,2)","v":"NA"},{"$f":"VLOOKUP(Y17,Foams!$A$4:$K$35,9)","v":0},2,{"$f":"IF(VLOOKUP($Y17,Foams!$A$4:$K$35,11),VLOOKUP($Y17,Foams!$A$4:$K$35,7),0)","v":0},{"$f":"IF(OR($AB17>$Q$3,VLOOKUP($Y17,Foams!$A$4:$K$35,11)),VLOOKUP($Y17,Foams!$A$4:$K$35,8),0)","v":0},{"$f":"IF(OR(AB17>$Q$3,VLOOKUP(Y17,Foams!$A$4:$K$35,11)),VLOOKUP(Y17,Foams!$A$4:$K$35,6),\" \")","v":" "},{"$f":"VLOOKUP(Y17,Foams!$A$4:$K$35,10)","v":"FIP"},1,0.5,0.5,null,0,0,0,{"$f":"TRUE()","v":true},null,null,null,null,null,null,null,null,null,null,null,null,null,null,null,null,null,9,{"$f":"Design!$D$75","v":0},{"$f":"Design!$E$75","v":0},3.5,{"$f":"IF(ISNUMBER(Design!$N$38),Design!$N$38,IF(ISNUMBER(Design!$N$40),$BG17-$BK17-Design!$AB$60,ROUND($BJ$6*$BK$6,0)))","v":-1},{"$f":"IF(ISNUMBER(Design!$N$40),Design!$N$40,$BG17-Design!$AB$60-$BJ17)","v":-1},2,3,3.5,0.5,2,2,{"$f":"C17&\" D=\"&BJ17&\" E=\"&BK17&\" F=\"&BL17&\" G=\"&BM17&\" H=\"&BN17","v":"NA D=-1 E=-1 F=2 G=3 H=3.5"}]
["Antithrust w/Leg Wells, Deep",10,{"$f":"IF(FOAMSREQD,A18&$H$2,\"NA\")","v":"NA"},71028,1,192,null,null,10,{"$f":"VLOOKUP(I18,Foams!$A$4:$K$35,2)","v":"1\" Med Visco Foam"},{"$f":"VLOOKUP(I18,Foams!$A$4:$K$35,9)","v":1},1,{"$f":"IF(VLOOKUP($I18,Foams!$A$4:$K$35,11),VLOOKUP($I18,Foams!$A$4:$K$35,7),0)","v":0},{"$f":"IF(OR($L18>$Q$3,VLOOKUP($I18,Foams!$A$4:$K$35,11)),VLOOKUP($I18,Foams!$A$4:$K$35,8),0)","v":0},{"$f":"IF(OR(L18>$Q$3,VLOOKUP(I18,Foams!$A$4:$K$35,11)),VLOOKUP(I18,Foams!$A$4:$K$35,6),\" \")","v":" "},{"$f":"VLOOKUP(I18,Foams!$A$4:$K$35,10)","v":"05890"},3,{"$f":"VLOOKUP(Q18,Foams!$A$4:$K$35,2)","v":"1/2\" Soft Visco Foam"},{"$f":"VLOOKUP(Q18,Foams!$A$4:$K$35,9)","v":0.5},1.5,{"$f":"IF(VLOOKUP($Q18,Foams!$A$4:$K$35,11),VLOOKUP($Q18,Foams!$A$4:$K$35,7),0)","v":0},{"$f":"IF(OR($T18>$Q$3,VLOOKUP($Q18,Foams!$A$4:$K$35,11)),VLOOKUP($Q18,Foams!$A$4:$K$35,8),0)","v":0},{"$f":"IF(OR(T18>$Q$3,VLOOKUP(Q18,Foams!$A$4:$K$35,11)),VLOOKUP(Q18,Foams!$A$4:$K$35,6),\" \")","v":" "},{"$f":"VLOOKUP(Q18,Foams!$A$4:$K$35,10)","v":"05888"},{"$f":"Foams!$A$35","v":32},{"$f":"VLOOKUP(Y18,Foams!$A$4:$K$35,2)","v":"NA"},{"$f":"VLOOKUP(Y18,Foams!$A$4:$K$35,9)","v":0},2,{"$f":"IF(VLOOKUP($Y18,Foams!$A$4:$K$35,11),VLOOKUP($Y18,Foams!$A$4:$K$35,7),0)","v":0},{"$f":"IF(OR($AB18>$Q$3,VLOOKUP($Y18,Foams!$A$4:$K$35,11)),VLOOKUP($Y18,Foams!$A$4:$K$35,8),0)","v":0},{"$f":"IF(OR(AB18>$Q$3,VLOOKUP(Y18,Foams!$A$4:$K$35,11)),VLOOKUP(Y18,Foams!$A$4:$K$35,6),\" \")","v":" "},{"$f":"VLOOKUP(Y18,Foams!$A$4:$K$35,10)","v":"FIP"},1,1,1,null,0,0,0,{"$f":"TRUE()","v":true},null,null,null,null,null,null,null,null,null,null,null,null,null,null,null,null,null,10,{"$f":"Design!$D$75","v":0},{"$f":"Design!$E$75","v":0},4,{"$f":"IF(ISNUMBER(Design!$N$38),Design!$N$38,IF(ISNUMBER(Design!$N$40),$BG18-$BK18-Design!$AB$60,ROUND($BJ$6*$BK$6,0)))","v":-1},{"$f":"IF(ISNUMBER(Design!$N$40),Design!$N$40,$BG18-Design!$AB$60-$BJ18)","v":-1},2,3,4,1,2,2,{"$f":"C18&\" D=\"&BJ18&\" E=\"&BK18&\" F=\"&BL18&\" G=\"&BM18&\" H=\"&BN18","v":"NA D=-1 E=-1 F=2 G=3 H=4"}]
["Antithrust w/Leg Wells, custom foam & dims",11,{"$f":"IF(FOAMSREQD,A19,\"NA\")","v":"NA"},71028,1,192,null,1,{"$f":"I$5","v":10},{"$f":"VLOOKUP(I19,Foams!$A$4:$K$35,2)","v":"1\" Med Visco Foam"},{"$f":"VLOOKUP(I19,Foams!$A$4:$K$35,9)","v":1},1,{"$f":"IF(VLOOKUP($I19,Foams!$A$4:$K$35,11),VLOOKUP($I19,Foams!$A$4:$K$35,7),0)","v":0},{"$f":"IF(OR($L19>$Q$3,VLOOKUP($I19,Foams!$A$4:$K$35,11)),VLOOKUP($I19,Foams!$A$4:$K$35,8),0)","v":0},{"$f":"IF(OR(L19>$Q$3,VLOOKUP(I19,Foams!$A$4:$K$35,11)),VLOOKUP(I19,Foams!$A$4:$K$35,6),\" \")","v":" "},{"$f":"VLOOKUP(I19,Foams!$A$4:$K$35,10)","v":"05890"},{"$f":"Q$5","v":4},{"$f":"VLOOKUP(Q19,Foams!$A$4:$K$35,2)","v":"1\" Soft Visco Foam"},{"$f":"VLOOKUP(Q19,Foams!$A$4:$K$35,9)","v":1},2,{"$f":"IF(VLOOKUP($Q19,Foams!$A$4:$K$35,11),VLOOKUP($Q19,Foams!$A$4:$K$35,7),0)","v":0},{"$f":"IF(OR($T19>$Q$3,VLOOKUP($Q19,Foams!$A$4:$K$35,11)),VLOOKUP($Q19,Foams!$A$4:$K$35,8),0)","v":0},{"$f":"IF(OR(T19>$Q$3,VLOOKUP(Q19,Foams!$A$4:$K$35,11)),VLOOKUP(Q19,Foams!$A$4:$K$35,6),\" \")","v":" "},{"$f":"VLOOKUP(Q19,Foams!$A$4:$K$35,10)","v":"05887"},{"$f":"Y$5","v":32},{"$f":"VLOOKUP(Y19,Foams!$A$4:$K$35,2)","v":"NA"},{"$f":"VLOOKUP(Y19,Foams!$A$4:$K$35,9)","v":0},2,{"$f":"IF(VLOOKUP($Y19,Foams!$A$4:$K$35,11),VLOOKUP($Y19,Foams!$A$4:$K$35,7),0)","v":0},{"$f":"IF(OR($AB19>$Q$3,VLOOKUP($Y19,Foams!$A$4:$K$35,11)),VLOOKUP($Y19,Foams!$A$4:$K$35,8),0)","v":0},{"$f":"IF(OR(AB19>$Q$3,VLOOKUP(Y19,Foams!$A$4:$K$35,11)),VLOOKUP(Y19,Foams!$A$4:$K$35,6),\" \")","v":" "},{"$f":"VLOOKUP(Y19,Foams!$A$4:$K$35,10)","v":"FIP"},{"$f":"$AG$6","v":2},{"$f":"$AH$6","v":1},{"$f":"$AI$6","v":4},null,1,1,1,{"$f":"(AG19+AH19)>0","v":true},null,null,null,null,null,null,null,null,null,null,null,null,null,null,null,null,null,11,{"$f":"Design!$D$75","v":0},{"$f":"Design!$E$75","v":0},5,{"$f":"IF(ISNUMBER(Design!$N$38),Design!$N$38,IF(ISNUMBER(Design!$N$40),$BG19-$BK19-Design!$AB$60,ROUND($BJ$6*$BK$6,0)))","v":-1},{"$f":"IF(ISNUMBER(Design!$N$40),Design!$N$40,$BG19-Design!$AB$60-$BJ19)","v":-1},2,4,8,1,2,2,{"$f":"\"Athrust/Leg Wells, C=\"&BI19&\" D=\"&BJ19&\" E=\"&BK19&\" F=\"&BL19&\" G=\"&BM19&\" H=\"&BN19","v":"Athrust/Leg Wells, C=5 D=-1 E=-1 F=2 G=4 H=8"}]
["Antithrust w/Leg & Pelvic Wells, Shallow",12,{"$f":"IF(FOAMSREQD,A20&$H$2,\"NA\")","v":"NA"},71029,1,273,null,null,10,{"$f":"VLOOKUP(I20,Foams!$A$4:$K$35,2)","v":"1\" Med Visco Foam"},{"$f":"VLOOKUP(I20,Foams!$A$4:$K$35,9)","v":1},1,{"$f":"IF(VLOOKUP($I20,Foams!$A$4:$K$35,11),VLOOKUP($I20,Foams!$A$4:$K$35,7),0)","v":0},{"$f":"IF(OR($L20>$Q$3,VLOOKUP($I20,Foams!$A$4:$K$35,11)),VLOOKUP($I20,Foams!$A$4:$K$35,8),0)","v":0},{"$f":"IF(OR(L20>$Q$3,VLOOKUP(I20,Foams!$A$4:$K$35,11)),VLOOKUP(I20,Foams!$A$4:$K$35,6),\" \")","v":" "},{"$f":"VLOOKUP(I20,Foams!$A$4:$K$35,10)","v":"05890"},3,{"$f":"VLOOKUP(Q20,Foams!$A$4:$K$35,2)","v":"1/2\" Soft Visco Foam"},{"$f":"VLOOKUP(Q20,Foams!$A$4:$K$35,9)","v":0.5},1.5,{"$f":"IF(VLOOKUP($Q20,Foams!$A$4:$K$35,11),VLOOKUP($Q20,Foams!$A$4:$K$35,7),0)","v":0},{"$f":"IF(OR($T20>$Q$3,VLOOKUP($Q20,Foams!$A$4:$K$35,11)),VLOOKUP($Q20,Foams!$A$4:$K$35,8),0)","v":0},{"$f":"IF(OR(T20>$Q$3,VLOOKUP(Q20,Foams!$A$4:$K$35,11)),VLOOKUP(Q20,Foams!$A$4:$K$35,6),\" \")","v":" "},{"$f":"VLOOKUP(Q20,Foams!$A$4:$K$35,10)","v":"05888"},{"$f":"Foams!$A$35","v":32},{"$f":"VLOOKUP(Y20,Foams!$A$4:$K$35,2)","v":"NA"},{"$f":"VLOOKUP(Y20,Foams!$A$4:$K$35,9)","v":0},2,{"$f":"IF(VLOOKUP($Y20,Foams!$A$4:$K$35,11),VLOOKUP($Y20,Foams!$A$4:$K$35,7),0)","v":0},{"$f":"IF(OR($AB20>$Q$3,VLOOKUP($Y20,Foams!$A$4:$K$35,11)),VLOOKUP($Y20,Foams!$A$4:$K$35,8),0)","v":0},{"$f":"IF(OR(AB20>$Q$3,VLOOKUP(Y20,Foams!$A$4:$K$35,11)),VLOOKUP(Y20,Foams!$A$4:$K$35,6),\" \")","v":" "},{"$f":"VLOOKUP(Y20,Foams!$A$4:$K$35,10)","v":"FIP"},0.5,0.5,0.5,null,0,0,0,{"$f":"TRUE()","v":true},null,null,null,null,null,null,null,null,null,null,null,null,null,null,null,null,null,12,{"$f":"Design!$D$75","v":0},{"$f":"Design!$E$75","v":0},3,{"$f":"IF(ISNUMBER(Design!$N$38),Design!$N$38,IF(ISNUMBER(Design!$N$40),$BG20-$BK20-Design!$AB$60,ROUND($BJ$6*$BK$6,0)))","v":-1},{"$f":"IF(ISNUMBER(Design!$N$40),Design!$N$40,$BG20-Design!$AB$60-$BJ20)","v":-1},{"$f":"$BP20+$AH20","v":2.5},2.5,3,0.5,2,2,{"$f":"C20&\" D=\"&BJ20&\" E=\"&BK20&\" F=\"&BL20&\" G=\"&BM20&\" H=\"&BN20&\" J=\"&BP20","v":"NA D=-1 E=-1 F=2.5 G=2.5 H=3 J=2"}]
["Antithrust w/Leg & Pelvic Wells, Medium",13,{"$f":"IF(FOAMSREQD,A21&$H$2,\"NA\")","v":"NA"},71029,1,273,null,null,10,{"$f":"VLOOKUP(I21,Foams!$A$4:$K$35,2)","v":"1\" Med Visco Foam"},{"$f":"VLOOKUP(I21,Foams!$A$4:$K$35,9)","v":1},1,{"$f":"IF(VLOOKUP($I21,Foams!$A$4:$K$35,11),VLOOKUP($I21,Foams!$A$4:$K$35,7),0)","v":0},{"$f":"IF(OR($L21>$Q$3,VLOOKUP($I21,Foams!$A$4:$K$35,11)),VLOOKUP($I21,Foams!$A$4:$K$35,8),0)","v":0},{"$f":"IF(OR(L21>$Q$3,VLOOKUP(I21,Foams!$A$4:$K$35,11)),VLOOKUP(I21,Foams!$A$4:$K$35,6),\" \")","v":" "},{"$f":"VLOOKUP(I21,Foams!$A$4:$K$35,10)","v":"05890"},3,{"$f":"VLOOKUP(Q21,Foams!$A$4:$K$35,2)","v":"1/2\" Soft Visco Foam"},{"$f":"VLOOKUP(Q21,Foams!$A$4:$K$35,9)","v":0.5},1.5,{"$f":"IF(VLOOKUP($Q21,Foams!$A$4:$K$35,11),VLOOKUP($Q21,Foams!$A$4:$K$35,7),0)","v":0},{"$f":"IF(OR($T21>$Q$3,VLOOKUP($Q21,Foams!$A$4:$K$35,11)),VLOOKUP($Q21,Foams!$A$4:$K$35,8),0)","v":0},{"$f":"IF(OR(T21>$Q$3,VLOOKUP(Q21,Foams!$A$4:$K$35,11)),VLOOKUP(Q21,Foams!$A$4:$K$35,6),\" \")","v":" "},{"$f":"VLOOKUP(Q21,Foams!$A$4:$K$35,10)","v":"05888"},{"$f":"Foams!$A$35","v":32},{"$f":"VLOOKUP(Y21,Foams!$A$4:$K$35,2)","v":"NA"},{"$f":"VLOOKUP(Y21,Foams!$A$4:$K$35,9)","v":0},2,{"$f":"IF(VLOOKUP($Y21,Foams!$A$4:$K$35,11),VLOOKUP($Y21,Foams!$A$4:$K$35,7),0)","v":0},{"$f":"IF(OR($AB21>$Q$3,VLOOKUP($Y21,Foams!$A$4:$K$35,11)),VLOOKUP($Y21,Foams!$A$4:$K$35,8),0)","v":0},{"$f":"IF(OR(AB21>$Q$3,VLOOKUP(Y21,Foams!$A$4:$K$35,11)),VLOOKUP(Y21,Foams!$A$4:$K$35,6),\" \")","v":" "},{"$f":"VLOOKUP(Y21,Foams!$A$4:$K$35,10)","v":"FIP"},1,0.5,0.5,null,0,0,0,{"$f":"TRUE()","v":true},null,null,null,null,null,null,null,null,null,null,null,null,null,null,null,null,null,13,{"$f":"Design!$D$75","v":0},{"$f":"Design!$E$75","v":0},3.5,{"$f":"IF(ISNUMBER(Design!$N$38),Design!$N$38,IF(ISNUMBER(Design!$N$40),$BG21-$BK21-Design!$AB$60,ROUND($BJ$6*$BK$6,0)))","v":-1},{"$f":"IF(ISNUMBER(Design!$N$40),Design!$N$40,$BG21-Design!$AB$60-$BJ21)","v":-1},{"$f":"$BP21+$AH21","v":2.5},3,3.5,0.5,2,2,{"$f":"C21&\" D=\"&BJ21&\" E=\"&BK21&\" F=\"&BL21&\" G=\"&BM21&\" H=\"&BN21&\" J=\"&BP21","v":"NA D=-1 E=-1 F=2.5 G=3 H=3.5 J=2"}]
["Antithrust w/Leg & Pelvic Wells, Deep",14,{"$f":"IF(FOAMSREQD,A22&$H$2,\"NA\")","v":"NA"},71029,1,273,null,null,10,{"$f":"VLOOKUP(I22,Foams!$A$4:$K$35,2)","v":"1\" Med Visco Foam"},{"$f":"VLOOKUP(I22,Foams!$A$4:$K$35,9)","v":1},1,{"$f":"IF(VLOOKUP($I22,Foams!$A$4:$K$35,11),VLOOKUP($I22,Foams!$A$4:$K$35,7),0)","v":0},{"$f":"IF(OR($L22>$Q$3,VLOOKUP($I22,Foams!$A$4:$K$35,11)),VLOOKUP($I22,Foams!$A$4:$K$35,8),0)","v":0},{"$f":"IF(OR(L22>$Q$3,VLOOKUP(I22,Foams!$A$4:$K$35,11)),VLOOKUP(I22,Foams!$A$4:$K$35,6),\" \")","v":" "},{"$f":"VLOOKUP(I22,Foams!$A$4:$K$35,10)","v":"05890"},3,{"$f":"VLOOKUP(Q22,Foams!$A$4:$K$35,2)","v":"1/2\" Soft Visco Foam"},{"$f":"VLOOKUP(Q22,Foams!$A$4:$K$35,9)","v":0.5},1.5,{"$f":"IF(VLOOKUP($Q22,Foams!$A$4:$K$35,11),VLOOKUP($Q22,Foams!$A$4:$K$35,7),0)","v":0},{"$f":"IF(OR($T22>$Q$3,VLOOKUP($Q22,Foams!$A$4:$K$35,11)),VLOOKUP($Q22,Foams!$A$4:$K$35,8),0)","v":0},{"$f":"IF(OR(T22>$Q$3,VLOOKUP(Q22,Foams!$A$4:$K$35,11)),VLOOKUP(Q22,Foams!$A$4:$K$35,6),\" \")","v":" "},{"$f":"VLOOKUP(Q22,Foams!$A$4:$K$35,10)","v":"05888"},{"$f":"Foams!$A$35","v":32},{"$f":"VLOOKUP(Y22,Foams!$A$4:$K$35,2)","v":"NA"},{"$f":"VLOOKUP(Y22,Foams!$A$4:$K$35,9)","v":0},2,{"$f":"IF(VLOOKUP($Y22,Foams!$A$4:$K$35,11),VLOOKUP($Y22,Foams!$A$4:$K$35,7),0)","v":0},{"$f":"IF(OR($AB22>$Q$3,VLOOKUP($Y22,Foams!$A$4:$K$35,11)),VLOOKUP($Y22,Foams!$A$4:$K$35,8),0)","v":0},{"$f":"IF(OR(AB22>$Q$3,VLOOKUP(Y22,Foams!$A$4:$K$35,11)),VLOOKUP(Y22,Foams!$A$4:$K$35,6),\" \")","v":" "},{"$f":"VLOOKUP(Y22,Foams!$A$4:$K$35,10)","v":"FIP"},1,1,1,null,0,0,0,{"$f":"TRUE()","v":true},null,null,null,null,null,null,null,null,null,null,null,null,null,null,null,null,null,14,{"$f":"Design!$D$75","v":0},{"$f":"Design!$E$75","v":0},4,{"$f":"IF(ISNUMBER(Design!$N$38),Design!$N$38,IF(ISNUMBER(Design!$N$40),$BG22-$BK22-Design!$AB$60,ROUND($BJ$6*$BK$6,0)))","v":-1},{"$f":"IF(ISNUMBER(Design!$N$40),Design!$N$40,$BG22-Design!$AB$60-$BJ22)","v":-1},{"$f":"$BP22+$AH22","v":3},3,4,1,2,2,{"$f":"C22&\" D=\"&BJ22&\" E=\"&BK22&\" F=\"&BL22&\" G=\"&BM22&\" H=\"&BN22&\" J=\"&BP22","v":"NA D=-1 E=-1 F=3 G=3 H=4 J=2"}]
["Antithrust w/Leg & Pelvic Wells, custom foam & dims",15,{"$f":"IF(FOAMSREQD,A23,\"NA\")","v":"NA"},71029,1,273,null,1,{"$f":"I$5","v":10},{"$f":"VLOOKUP(I23,Foams!$A$4:$K$35,2)","v":"1\" Med Visco Foam"},{"$f":"VLOOKUP(I23,Foams!$A$4:$K$35,9)","v":1},1,{"$f":"IF(VLOOKUP($I23,Foams!$A$4:$K$35,11),VLOOKUP($I23,Foams!$A$4:$K$35,7),0)","v":0},{"$f":"IF(OR($L23>$Q$3,VLOOKUP($I23,Foams!$A$4:$K$35,11)),VLOOKUP($I23,Foams!$A$4:$K$35,8),0)","v":0},{"$f":"IF(OR(L23>$Q$3,VLOOKUP(I23,Foams!$A$4:$K$35,11)),VLOOKUP(I23,Foams!$A$4:$K$35,6),\" \")","v":" "},{"$f":"VLOOKUP(I23,Foams!$A$4:$K$35,10)","v":"05890"},{"$f":"Q$5","v":4},{"$f":"VLOOKUP(Q23,Foams!$A$4:$K$35,2)","v":"1\" Soft Visco Foam"},{"$f":"VLOOKUP(Q23,Foams!$A$4:$K$35,9)","v":1},2,{"$f":"IF(VLOOKUP($Q23,Foams!$A$4:$K$35,11),VLOOKUP($Q23,Foams!$A$4:$K$35,7),0)","v":0},{"$f":"IF(OR($T23>$Q$3,VLOOKUP($Q23,Foams!$A$4:$K$35,11)),VLOOKUP($Q23,Foams!$A$4:$K$35,8),0)","v":0},{"$f":"IF(OR(T23>$Q$3,VLOOKUP(Q23,Foams!$A$4:$K$35,11)),VLOOKUP(Q23,Foams!$A$4:$K$35,6),\" \")","v":" "},{"$f":"VLOOKUP(Q23,Foams!$A$4:$K$35,10)","v":"05887"},{"$f":"Y$5","v":32},{"$f":"VLOOKUP(Y23,Foams!$A$4:$K$35,2)","v":"NA"},{"$f":"VLOOKUP(Y23,Foams!$A$4:$K$35,9)","v":0},2,{"$f":"IF(VLOOKUP($Y23,Foams!$A$4:$K$35,11),VLOOKUP($Y23,Foams!$A$4:$K$35,7),0)","v":0},{"$f":"IF(OR($AB23>$Q$3,VLOOKUP($Y23,Foams!$A$4:$K$35,11)),VLOOKUP($Y23,Foams!$A$4:$K$35,8),0)","v":0},{"$f":"IF(OR(AB23>$Q$3,VLOOKUP(Y23,Foams!$A$4:$K$35,11)),VLOOKUP(Y23,Foams!$A$4:$K$35,6),\" \")","v":" "},{"$f":"VLOOKUP(Y23,Foams!$A$4:$K$35,10)","v":"FIP"},{"$f":"$AG$6","v":2},{"$f":"$AH$6","v":1},{"$f":"$AI$6","v":4},null,1,1,1,{"$f":"AG23>0","v":true},null,null,null,null,null,null,null,null,null,null,null,null,null,null,null,null,null,15,{"$f":"Design!$D$75","v":0},{"$f":"Design!$E$75","v":0},5,{"$f":"IF(ISNUMBER(Design!$N$38),Design!$N$38,IF(ISNUMBER(Design!$N$40),$BG23-$BK23-Design!$AB$60,ROUND($BJ$6*$BK$6,0)))","v":-1},{"$f":"IF(ISNUMBER(Design!$N$40),Design!$N$40,$BG23-Design!$AB$60-$BJ23)","v":-1},{"$f":"$BP23+$AH23","v":3},4,8,1,2,2,{"$f":"\"Antithrust w/Leg & Pelvic Wells, C=\"&BI23&\" D=\"&BJ23&\" E=\"&BK23&\" F=\"&BL23&\" G=\"&BM23&\" H=\"&BN23&\" J=\"&BP23","v":"Antithrust w/Leg & Pelvic Wells, C=5 D=-1 E=-1 F=3 G=4 H=8 J=2"}]
["Foam-in-place w/ visco foam",16,{"$f":"IF(FOAMSREQD,A24,\"NA\")","v":"NA"},71007,1,93,null,null,4,{"$f":"VLOOKUP(I24,Foams!$A$4:$K$35,2)","v":"1\" Soft Visco Foam"},{"$f":"VLOOKUP(I24,Foams!$A$4:$K$35,9)","v":1},1,{"$f":"IF(VLOOKUP($I24,Foams!$A$4:$K$35,11),VLOOKUP($I24,Foams!$A$4:$K$35,7),0)","v":0},{"$f":"IF(OR($L24>$Q$3,VLOOKUP($I24,Foams!$A$4:$K$35,11)),VLOOKUP($I24,Foams!$A$4:$K$35,8),0)","v":0},{"$f":"IF(OR(L24>$Q$3,VLOOKUP(I24,Foams!$A$4:$K$35,11)),VLOOKUP(I24,Foams!$A$4:$K$35,6),\" \")","v":" "},{"$f":"VLOOKUP(I24,Foams!$A$4:$K$35,10)","v":"05887"},{"$f":"Foams!$A$35","v":32},"Foam-in-Place",{"$f":"VLOOKUP(Q24,Foams!$A$4:$K$35,9)","v":0},1,{"$f":"IF(VLOOKUP($Q24,Foams!$A$4:$K$35,11),VLOOKUP($Q24,Foams!$A$4:$K$35,7),0)","v":0},{"$f":"IF(OR($T24>$Q$3,VLOOKUP($Q24,Foams!$A$4:$K$35,11)),VLOOKUP($Q24,Foams!$A$4:$K$35,8),0)","v":0},{"$f":"IF(OR(T24>$Q$3,VLOOKUP(Q24,Foams!$A$4:$K$35,11)),VLOOKUP(Q24,Foams!$A$4:$K$35,6),\" \")","v":" "},{"$f":"VLOOKUP(Q24,Foams!$A$4:$K$35,10)","v":"FIP"},3,{"$f":"VLOOKUP(Y24,Foams!$A$4:$K$35,2)","v":"1/2\" Soft Visco Foam"},{"$f":"VLOOKUP(Y24,Foams!$A$4:$K$35,9)","v":0.5},2.5,{"$f":"IF(VLOOKUP($Y24,Foams!$A$4:$K$35,11),VLOOKUP($Y24,Foams!$A$4:$K$35,7),0)","v":0},{"$f":"IF(OR($AB24>$Q$3,VLOOKUP($Y24,Foams!$A$4:$K$35,11)),VLOOKUP($Y24,Foams!$A$4:$K$35,8),0)","v":26.860000000000003},{"$f":"IF(OR(AB24>$Q$3,VLOOKUP(Y24,Foams!$A$4:$K$35,11)),VLOOKUP(Y24,Foams!$A$4:$K$35,6),\" \")","v":" "},{"$f":"VLOOKUP(Y24,Foams!$A$4:$K$35,10)","v":"05888"},0,0,0,null,0,0,0,{"$f":"FALSE()","v":false},null,null,null,null,null,null,null,null,null,null,null,null,null,null,null,null,null,null,null,null,{"$f":"AB24+SEATGUS","v":2.5},{"$f":"SEATGUS","v":0},null,{"$f":"$BP24","v":2},2,2,0,2,2,{"$f":"A24","v":"Foam-in-place w/ visco foam"}]
["Foam-in-place w/custom foam",17,{"$f":"IF(FOAMSREQD,A25,\"NA\")","v":"NA"},71007,1,93,null,2,{"$f":"I$5","v":10},{"$f":"VLOOKUP(I25,Foams!$A$4:$K$35,2)","v":"1\" Med Visco Foam"},{"$f":"VLOOKUP(I25,Foams!$A$4:$K$35,9)","v":1},1,{"$f":"IF(VLOOKUP($I25,Foams!$A$4:$K$35,11),VLOOKUP($I25,Foams!$A$4:$K$35,7),0)","v":0},{"$f":"IF(OR($L25>$Q$3,VLOOKUP($I25,Foams!$A$4:$K$35,11)),VLOOKUP($I25,Foams!$A$4:$K$35,8),0)","v":0},{"$f":"IF(OR(L25>$Q$3,VLOOKUP(I25,Foams!$A$4:$K$35,11)),VLOOKUP(I25,Foams!$A$4:$K$35,6),\" \")","v":" "},{"$f":"VLOOKUP(I25,Foams!$A$4:$K$35,10)","v":"05890"},{"$f":"Foams!$A$35","v":32},"Foam-in-Place",{"$f":"VLOOKUP(Q25,Foams!$A$4:$K$35,9)","v":0},1,{"$f":"IF(VLOOKUP($Q25,Foams!$A$4:$K$35,11),VLOOKUP($Q25,Foams!$A$4:$K$35,7),0)","v":0},{"$f":"IF(OR($T25>$Q$3,VLOOKUP($Q25,Foams!$A$4:$K$35,11)),VLOOKUP($Q25,Foams!$A$4:$K$35,8),0)","v":0},{"$f":"IF(OR(T25>$Q$3,VLOOKUP(Q25,Foams!$A$4:$K$35,11)),VLOOKUP(Q25,Foams!$A$4:$K$35,6),\" \")","v":" "},{"$f":"VLOOKUP(Q25,Foams!$A$4:$K$35,10)","v":"FIP"},{"$f":"Y$5","v":32},{"$f":"VLOOKUP(Y25,Foams!$A$4:$K$35,2)","v":"NA"},{"$f":"VLOOKUP(Y25,Foams!$A$4:$K$35,9)","v":0},2,{"$f":"IF(VLOOKUP($Y25,Foams!$A$4:$K$35,11),VLOOKUP($Y25,Foams!$A$4:$K$35,7),0)","v":0},{"$f":"IF(OR($AB25>$Q$3,VLOOKUP($Y25,Foams!$A$4:$K$35,11)),VLOOKUP($Y25,Foams!$A$4:$K$35,8),0)","v":0},{"$f":"IF(OR(AB25>$Q$3,VLOOKUP(Y25,Foams!$A$4:$K$35,11)),VLOOKUP(Y25,Foams!$A$4:$K$35,6),\" \")","v":" "},{"$f":"VLOOKUP(Y25,Foams!$A$4:$K$35,10)","v":"FIP"},{"$f":"$AG$6","v":2},{"$f":"$AH$6","v":1},{"$f":"$AI$6","v":4},null,1,1,1,{"$f":"FALSE()","v":false},null,null,null,null,null,null,null,null,null,null,null,null,null,null,null,null,null,null,null,null,{"$f":"AB25+SEATGUS","v":2},{"$f":"SEATGUS","v":0},null,{"$f":"$BP25","v":2},4,8,1,2,2,{"$f":"A25","v":"Foam-in-place w/custom foam"}]
["FOAMS FOR BACK PORTION OF PLANAR ANTI-THRUST SEAT",null,null,null,"Added retail for back must charge foams (excess thickness handled elsewhere)",{"$f":"M26+U26+AC26","v":0},null,null,10,{"$f":"VLOOKUP(I26,Foams!$A$41:$E$72,3)","v":"NA"},{"$f":"IF(J26<>\"NA\",VLOOKUP(I26,Foams!$A$4:$K$35,9),0)","v":0},{"$f":"K26","v":0},{"$f":"IF($N$27,IF(VLOOKUP($I26,Foams!$A$4:$K$35,11),VLOOKUP($I26,Foams!$A$4:$K$35,7),0),0)","v":0},{"$f":"VLOOKUP(I$26,SeatFoams,11)","v":false},{"$f":"IF($N$27,IF(OR(L26>$Q$3,VLOOKUP(I26,Foams!$A$4:$K$35,11)),IF(VLOOKUP(I26,Foams!$A$4:$K$35,6)=\" \",\"Foam\",VLOOKUP(I26,Foams!$A$4:$K$35,6)),\"Foam\"),\"Foam\")","v":"Foam"},{"$f":"VLOOKUP(I26,Foams!$A$4:$K$35,10)","v":"05890"},4,{"$f":"VLOOKUP(Q26,Foams!$A$41:$E$72,4)","v":"NA"},{"$f":"IF(R26<>\"NA\",VLOOKUP(Q26,Foams!$A$4:$K$35,9),0)","v":0},{"$f":"L26+S26","v":0},{"$f":"IF($V$27,IF(VLOOKUP($Q26,Foams!$A$4:$K$35,11),VLOOKUP($Q26,Foams!$A$4:$K$35,7),0),0)","v":0},{"$f":"VLOOKUP(Q$26,SeatFoams,11)","v":false},{"$f":"IF($V$27,IF(OR(T26>$Q$3,VLOOKUP(Q26,Foams!$A$4:$K$35,11)),IF(VLOOKUP(Q26,Foams!$A$4:$K$35,6)=\" \",\"Foam\",VLOOKUP(Q26,Foams!$A$4:$K$35,6)),\"Foam\"),\"Foam\")","v":"Foam"},{"$f":"VLOOKUP(Q26,Foams!$A$4:$K$35,10)","v":"05887"},32,{"$f":"VLOOKUP(Y26,Foams!$A$41:$E$72,5)","v":"NA"},{"$f":"IF(Z26<>\"NA\",VLOOKUP(Y26,Foams!$A$4:$K$35,9),0)","v":0},{"$f":"T26+AA26","v":0},{"$f":"IF($AD$27,IF(VLOOKUP($Y26,Foams!$A$4:$K$35,11),VLOOKUP($Y26,Foams!$A$4:$K$35,7),0),0)","v":0},{"$f":"VLOOKUP(Y$26,SeatFoams,11)","v":false},{"$f":"IF($AD$27,IF(OR(AB26>$Q$3,VLOOKUP(Y26,Foams!$A$4:$K$35,11)),IF(VLOOKUP(Y26,Foams!$A$4:$K$35,6)=\" \",\"Foam\",VLOOKUP(Y26,Foams!$A$4:$K$35,6)),\"Foam\"),\"Foam\")","v":"Foam"},{"$f":"VLOOKUP(Y26,Foams!$A$4:$K$35,10)","v":"FIP"},0,0,0,null,null,null,null,null,null,null,null,null,null,null,null,null,null,null,null,null,null,null,null,null,null,1,2,3,4,5,6,7,8,9,10,11,12]
[null,null,null,null,null,null,null,null,null,{"$f":"SUBSTITUTE(J26,quote,\" in.\")","v":"NA"},null,{"$f":"IF(N26,0,K26)","v":0},null,{"$f":"IF($I$5=$I$26,FALSE,N$26)","v":false},null,null,null,{"$f":"SUBSTITUTE(R26,quote,\" in.\")","v":"NA"},null,{"$f":"IF(V26,L27,L27+S26)","v":0},null,{"$f":"IF($Q$5=$Q$26,FALSE,V26)","v":false},null,null,null,{"$f":"SUBSTITUTE(Z26,quote,\" in.\")","v":"NA"},null,{"$f":"IF($B$7=3,IF(AD26,T27,T27+AA26),0)","v":0},null,{"$f":"IF($Y$5=$Y$26,FALSE,AD26)","v":false},null,null,null,null,null,null,null,null,null,null,null,null,null,null,null,null,null,null,null,null,null,null,null,null,null,null,null,null,null,"VALUES FOR SEAT CHOSEN->",{"$f":"IF(FOAMSREQD,$BI$7,0)","v":0},{"$f":"$BJ$7","v":0},{"$f":"$BK$7","v":0},{"$f":"IF(FOAMSREQD,BL$7,0)","v":0},{"$f":"IF(FOAMSREQD,$BM$7,0)","v":0},{"$f":"IF(FOAMSREQD,BN$7,0)","v":0},{"$f":"IF(FOAMSREQD,$BO$7,0)","v":0},{"$f":"$BP$7","v":2},null,"<--Used for hip guide contour calculations (considers if foam required)"]
[null,null,null,null,null,null,null,null,null,null,null,null,null,"False if already charged for this always-charge-foam on same layer ",null,null,null,null,null,null,null,"False if already charged for this always-charge-foam on same layer ",null,null,null,null,null,null,null,"False if already charged for this always-charge-foam on same layer ",null,null,null,null,null,null,null,null,null,null,null,null,null,null,null,null,null,null,null,null,null,null,null,null,null,null,null,null,null,"VALUES FOR SEAT CHOSEN->",{"$f":"BI27","v":0},{"$f":"IF(CONTIDX=3,Design!$E15,BJ27)","v":0},{"$f":"IF(CONTIDX=3,Design!$G15,BK27)","v":0},{"$f":"IF(CONTIDX=3,Design!$I15,BL27)","v":0},{"$f":"IF(CONTIDX=3,0,BM27)","v":0},{"$f":"IF(CONTIDX=3,0,BN27)","v":0},{"$f":"IF(CONTIDX=3,0,BO27)","v":0},null,null,"<--Used for export (value overriden if planar antithrust seat)"]
[]
[null,null,null,null,null,null,null,null,null,null,null,null,null,null,null,null,null,null,null,null,null,null,null,null,null,null,null,null,null,null,null,null,null,null,null,null,null,null,null,null,null,null,null,null,"NOTE: 71021 AND 71022 PHASED-OUT. SUBSTITUTE 71020 IN TABLE BELOW."]
[null,null,null,null,null,null,null,null,null,null,null,null,null,null,null,null,null,null,null,null,null,null,null,null,null,null,null,null,null,null,null,null,null,null,null,null,null,null,null,null,null,null,null,null,"NOTE: 71083 AND 71084 PHASED-OUT. SUBSTITUTE 71059 IN TABLE BELOW."]
[null,null,null,null,null,null,null,null,null,null,null,null,null,null,null,null,null,null,null,null,null,null,null,null,null,null,null,null,null,"CHARGES FOR EXTRA FOAM",null,"(1/4\" treated like 1/2\" because they cost the same)"]
[null,null,null,null,null,null,null,null,null,null,null,null,null,null,null,null,null,null,null,null,null,null,null,null,null,null,null,null,null,"(points to foam table)",null,null,null,"Phantom"]
[null,null,null,null,null,null,null,null,null,null,null,null,null,null,null,null,null,null,null,null,null,null,null,null,null,null,null,null,1,"NA",0,null,null,"Foam","<--shown when no up charge",null,null,null,null,null,null,null,null,null,"Phantom Nos. & Prices for Gel Pad -- Depends on the Maximum Dimension",null,null,null,null,null,null,null,"Max of  SEAT W & D"]
[null,null,null,null,null,null,null,null,null,null,null,null,null,null,null,null,null,null,null,null,null,null,null,null,null,null,null,null,2,".5 in.",{"$f":"Foams!G4","v":79},null,{"$f":"Foams!H4","v":26.860000000000003},71016,"<-Use this price if .25\" extra, correct phantom # in formula in AD47)",null,null,null,null,null,null,null,null,null,"1/2\" Gel Pad"]
[null,null,null,null,null,null,null,null,null,null,null,null,null,null,null,null,null,null,null,null,null,null,null,null,null,null,null,null,3,"1 in.",{"$f":"Foams!G5","v":116},null,{"$f":"Foams!H5","v":39.440000000000005},71017,null,null,null,null,null,null,null,null,null,null,null,"Index","Phantom","Price","Cost",null,null,null,{"$f":"MAX(SEATDEPTH,CHAIRWIDTH)","v":0},null,null,null,null,null,null,null,null,null,null,"=Data!$M$11-Data!$R$22",null,null,null,null,"BG5 was the formula at the left before assuming 2\""]
[null,null,null,null,null,null,null,null,null,null,null,null,null,null,null,null,null,null,null,null,null,null,null,null,null,null,null,null,4,"1.5 in.",{"$f":"Foams!G8","v":195},null,{"$f":"Foams!H8","v":66.300000000000011},71015,null,null,null,null,null,null,null,null,null,null,"<18",1,71020,247,{"$f":"0.34*AV37","v":83.98}]
[null,null,null,null,null,null,null,null,null,null,null,null,null,null,null,null,null,null,null,null,null,null,null,null,null,null,null,null,5,"2 in.",{"$f":"2*AE36","v":232},null,{"$f":"2*AG36","v":78.88000000000001},70139,null,null,null,null,null,null,null,null,null,null,"18 to 20",2,71020,247,{"$f":"0.34*AV38","v":83.98},null,null,null,"Indexes for Gel table"]
[null,null,null,null,null,null,null,null,null,null,null,null,null,null,null,null,null,null,null,null,null,null,null,null,null,null,null,null,6,"2.5 in.",{"$f":"AE38+AE35","v":311},null,{"$f":"AG38+AG35","v":105.74000000000001},70140,null,null,null,null,null,null,null,null,null,null,">20",3,71020,247,{"$f":"0.34*AV39","v":83.98},null,null,null,{"$f":"IF(BA$36<=18,1,IF(AND(BA$36>18,BA$36<=20),2,3))","v":1},null,"<-for gel pads"]
[null,null,null,null,null,null,null,null,null,null,null,null,null,null,null,null,null,null,null,null,null,null,null,null,null,null,null,null,7,"3 in.",{"$f":"3*AE36","v":348},null,{"$f":"3*AG36","v":118.32000000000002},70141,null,null,null,null,null,null,null,null,null,null,null,null,null,null,null,null,null,null,{"$f":"IF(BA$36<=14,1,IF(AND(BA$36>14,BA$36<=18),2,IF(AND(BA$36>18,BA$36<=20),3,4)))","v":1},null,"<-for Cubed Gel"]
[null,null,null,null,null,null,null,null,null,null,null,null,null,null,null,null,null,null,null,null,null,null,null,null,null,null,null,null,8,"3.5 in.",{"$f":"AE40+AE35","v":427},null,{"$f":"AG40+AG35","v":145.18000000000004},71031,null,null,null,null,null,null,null,null,null,null,"1'4\" Gel Pad"]
[null,null,null,null,null,null,null,null,null,null,null,null,null,null,null,null,null,null,null,null,null,null,null,null,null,null,null,null,9,"4 in.",{"$f":"4*AE36","v":464},null,{"$f":"4*AG36","v":157.76000000000002},71031,null,null,null,null,null,null,null,null,null,null,null,"Index","Phantom","Price","Cost",null,null,null,"Max of BACK W & D"]
[null,null,null,null,null,null,null,null,null,null,null,null,"Formula below was in AB49. It was replaced by Todd's formula 5/11/11",null,null,null,null,null,null,null,null,null,null,null,null,null,null,null,10,"4.5 in.",{"$f":"AE42+AE35","v":543},null,{"$f":"AG42+AG35","v":184.62000000000003},71031,null,null,null,null,null,null,null,null,null,null,"<18",1,71059,195,{"$f":"0.34*AV43","v":66.300000000000011}]
[null,null,null,null,null,null,null,null,null,null,null,null,"=IF($AB$50>18,2.5,IF($AB$50>14,ROUND(1.5+0.5*((($AB$50-2)/2)-6),3),IF($AB$50>10,ROUND(0.875+0.3125*((($AB$50-2)/2)-4),3),IF($AB$50>6,ROUND(0.34375+0.265625*((($AB$50-2)/2)-2),3),ROUND(0.171878*(($AB$50-2)/2),3)))))",null,null,null,null,null,null,null,null,null,null,null,null,null,null,null,null,{"$f":"INDEX($AC$34:$AE$43,$AD$45,3)","v":0},"<--Foam over std thickness",null,null,null,null,null,null,null,null,null,null,null,null,null,"18 to 20",2,71059,195,{"$f":"0.34*AV44","v":66.300000000000011},null,null,null,{"$f":"MAX(Design!$E$46,BACKWIDTH)","v":0}]
[null,null,null,null,null,null,null,null,null,null,null,null,null,null,null,null,null,null,null,null,null,null,null,null,null,null,null,null,"Rounds to next integer. 1/4\" treated like 1/2\"",{"$f":"MIN(IF(AD46>Q56,ROUND((AD46-Q56)/0.5,0),0)+1,10)","v":1},"<--Index to table above to point to retail adder",null,null,null,null,null,null,null,null,null,null,null,null,null,">20",3,71059,195,{"$f":"0.34*AV45","v":66.300000000000011}]
[null,null,null,null,null,null,null,null,null,null,null,null,null,null,null,null,null,null,null,null,null,null,null,null,null,null,null,null,null,{"$f":"AC60","v":1.5},"<--Total thickness of layers that we do not always charge for",null,null,null,null,null,null,null,null,null,null,null,null,null,null,null,null,null,null,null,null,null,"Indexes for Gel table"]
[null,null,null,null,null,null,null,null,null,null,null,null,null,null,null,null,null,null,null,null,null,null,null,null,null,null,"Paremeter for contour foam height calculation. Center Adj=",{"$f":"IF($AB$50<=18,3.049-1,3.049-($AB$50-(2*8))/2)","v":2.0489999999999999},null,{"$f":"IF(AD45-AD46=0.25,\"70175\",INDEX($AC$34:$AH$43,$AD$45,6))","v":"Foam"},"<--foam up charge phantom # or \"FOAM\"  Includes phantom change for 1.4\" extra foam",null,null,null,null,null,null,null,null,null,null,null,null,null,"1/2\" Dimensions Cubed Gel",null,null,null,null,null,null,null,{"$f":"IF(BA$44<=18,1,IF(AND(BA$44>18,BA$44<=20),2,3))","v":1},null,"<-for gel pads"]
[null,null,null,null,null,null,null,null,null,null,null,null,null,null,null,null,null,null,null,null,null,null,null,null,null,null,"Back thickness in middle including wood, foam & additional FIP gusset (no contours)-->",{"$f":"BACKFOAMTHICK+BACKBASETHICK+$AB$55","v":0},null,null,"(Phantom overriden if only .25\" difference)",null,null,null,null,null,null,null,null,null,null,null,null,null,null,"Index","Phantom","Price","Cost",null,null,null,{"$f":"IF(BA$44<=14,1,IF(AND(BA$44>14,BA$44<=18),2,IF(AND(BA$44>18,BA$44<=20),3,4)))","v":1},null,"<-for Cubed Gel"]
[null,null,null,null,null,null,null,null,null,null,null,null,null,null,null,null,null,null,null,null,null,null,null,null,null,null,"FULL contour foam width at LBW if full contour chosen (max is 2.5, min is 0)-->",{"$f":"MIN(2.5,MAX(0,0.125*ROUND(((((48-SQRT(2304 - (4*((($AB$50/2) + $AB$47)^2))))/2)-0.171)/0.125),0)))","v":0},"to closest 1/8\"",null,null,null,null,"FULL contour foam width at widest point if full contour chosen-->",{"$f":"MIN(2.5,MAX(0,0.125*ROUND(((((48-SQRT(2304 - (4*((($AI$50/2) + $AB$47)^2))))/2)-0.171)/0.125),0)))","v":0},null,"LIMIT IS 0 to 2.5\"",null,null,null,null,null,null,null,"<14",1,71099,242,{"$f":"0.34*AV49","v":82.28}]
[null,null,null,null,null,null,null,null,null,null,null,null,null,null,null,null,null,null,"Total thickness of foam, contour, base & channel at edge-->",{"$f":"AB51+AB54+AB55","v":0},null,null,null,null,null,null,"Back actual wood base width LESS INSET if any-->",{"$f":"Design!$BB$127","v":0},null,null,null,null,null,"Back actual wood base width at WIDEST POINT-->",{"$f":"BACKBASEWIDTH","v":0},null,null,null,null,null,null,null,null,null,"14 to 18",2,71095,279,{"$f":"0.34*AV50","v":94.860000000000014}]
[null,null,null,null,null,null,null,null,null,null,null,null,null,null,null,null,null,null,"Number of 1/16 of an inch-->",{"$f":"INT(0.99+T50/0.0625)","v":0},null,null,null,null,null,null,"Contour foam width at LESSER BODY edge if a contour is chosen-->",{"$f":"IF(BACKIDX<>1,AG61,0)","v":0},"<-zero if no back",null,null,null,null,"Contour foam width at WIDEST POINT if a contour is chosen-->",{"$f":"IF(BACKIDX<>1,AH61,0)","v":0},null,null,null,null,null,null,null,null,null,"18 to 20",3,71096,389,{"$f":"0.34*AV51","v":132.26000000000002}]
[null,null,null,null,null,null,null,null,null,null,null,null,null,null,null,null,null,null,"Whole inches-->",{"$f":"INT(T51/16)","v":0},null,null,null,null,null,null,"Wood base thickness-->",{"$f":"BACKBASETHICK","v":0},"<-wood (crosslink if cushion only) zero if no back",null,null,null,null,null,null,null,null,null,null,null,null,null,null,null,">20",4,71097,604,{"$f":"0.34*AV52","v":205.36}]
[null,null,null,null,null,null,null,null,null,null,null,null,null,null,null,null,null,null,"Remaining sixteenths-->",{"$f":"T51-(T52*16)","v":0},null,null,null,null,null,null,"Back channel thickness if chosen-->",{"$f":"IF(Design!$AB$15>1,0.375,0)","v":0}]
[null,null,null,null,null,null,null,null,null,null,null,null,null,null,null,null,null,null,"Text equivalent of thickness rounded up to nearest 1/16\"-->",{"$f":"IF(T53=0,\"\",\" \"&CHOOSE(T53,\"1/16\",\"1/8\",\"3/16\",\"1/4\",\"5/16\",\"3/8\",\"7/16\",\"1/2\",\"9/16\",\"5/8\",\"11/16\",\"3/4\",\"13/16\",\"7/8\",\"15/16\"))","v":""},null,null,null,null,null,null,"Back thickness including wood and back channel-->",{"$f":"BACKFOAMTHICK+$AB52+$AB53","v":0}]
["Contain",null,null,null,null,null,null,null,null,null,null,null,null,null,null,null,null,null,null,null,null,null,null,null,null,null,"Additional gusset if foam-in-place chosen and back exists and not base only-->",{"$f":"IF(AND(BACKFIP,BACKCONFIG<>2,BACKIDX<>1),BACKGUS,0)","v":0},"<-0 if no back or base only"]
[null,null,null,null,null,null,null,null,null,null,null,null,null,null,null,"Max thickness before phantom applies-->",1.5,null,null,null,null,null,null,null,null,null,"Total thickness of foam, contour, base & channel at edge-->",{"$f":"IF(T50=0,IF('Pick List'!Q236>0,'Pick List'!Q236,2),IF(T52>0,T52,\"\")&T54)","v":2}]
[null,"BACK FOAM PARAMETERS"]
[null,null,null,null,null,"Foam-in-Place? ->",false,null,"Custom",null,"Before","+","After",null,null,null,"Custom",null,"Before","+","After",null,null,null,"Custom",null,"Before","+","After"]
[null,{"$f":"CHOOSE(BACKCONTOUR,1,1,2,2,3,3,4,4)","v":1},"<<-- 1 to 4 = Type of back (UPDATE IF ADD ROWS TO TABLE)",null,null,null,null,null,5,"BOTTOM LAYER",0,{"$f":"INDEX(K63:K70,BACKCONTOUR)","v":1.5},{"$f":"K59+L59","v":1.5},null,"extra thick phantom",null,29,"MIDDLE LAYER",{"$f":"M59","v":1.5},{"$f":"INDEX(S63:S70,BACKCONTOUR)","v":0},{"$f":"S59+T59","v":1.5},null,"extra thick phantom",null,29,"TOP LAYER",{"$f":"U59","v":1.5},{"$f":"INDEX(AA63:AA70,BACKCONTOUR)","v":0},{"$f":"IF(AND(BACKIDX<>1,BACKCONFIG<>2),AA59+AB59,0)","v":0},"<-BACKFOAMTHICK. Foam thickness wo/contours (zero if no back or base only)"]
[null,null,{"$f":"SUBSTITUTE(C61,quote,\"\")","v":"NA"},"<-NO QUOTES in this version of description",null,null,null,null,{"$f":"INDEX(I63:I70,BACKCONTOUR)","v":5},{"$f":"SUBSTITUTE(J61,quote,\" in.\")","v":"1-1/2 in. Soft Visco Foam"},0,{"$f":"IF(N60,0,L59)","v":1.5},{"$f":"K60+L60","v":1.5},{"$f":"VLOOKUP(I60,BackFoams,11)","v":false},{"$f":"IF(N60,\"\",IF(M60=$AD$46,$AD$47,\"Foam\"))","v":"Foam"},null,{"$f":"INDEX(Q63:Q70,BACKCONTOUR)","v":29},{"$f":"SUBSTITUTE(R61,quote,\" in.\")","v":"NA"},{"$f":"M60","v":1.5},{"$f":"IF(V60,0,T59)","v":0},{"$f":"S60+T60","v":1.5},{"$f":"VLOOKUP(Q$60,BackFoams,11)","v":false},{"$f":"IF(V60,\"\",IF(U60=$AD$46,$AD$47,\"Foam\"))","v":"Foam"},null,{"$f":"INDEX(Y63:Y70,BACKCONTOUR)","v":29},{"$f":"SUBSTITUTE(Z61,quote,\" in.\")","v":"NA"},{"$f":"U60","v":1.5},{"$f":"IF(AD60,0,AB59)","v":0},{"$f":"AA60+AB60","v":1.5},{"$f":"VLOOKUP(Y$60,BackFoams,11)","v":false},{"$f":"IF(AD60,\"\",IF(AC60=$AD$46,$AD$47,\"Foam\"))","v":"Foam"},null,null,"<--THIS ROW ADDS THICKNESSES OF 'NOT ALWAYS CHARGE' LAYERS"]
[null,1,{"$f":"INDEX(C63:C70,BACKCONTOUR)","v":"NA"},{"$f":"INDEX(D63:D70,BACKCONTOUR)","v":"-"},{"$f":"INDEX(E63:E70,BACKCONTOUR)","v":false},{"$f":"INDEX(F63:F70,BACKCONTOUR)","v":0},null,{"$f":"INDEX(H63:H70,BACKCONTOUR)","v":false},null,{"$f":"IF(BACKFOAMSREQD,INDEX(J63:J70,BACKCONTOUR),\"NA\")","v":"1-1/2\" Soft Visco Foam"},{"$f":"INDEX(K63:K70,BACKCONTOUR)","v":1.5},null,{"$f":"IF(N60,INDEX(M63:M70,BACKCONTOUR),IF(M60=$AD$46,$AD$44,0))","v":0},null,{"$f":"IF(INDEX(O63:O70,BACKCONTOUR)=\" \",O60,INDEX(O63:O70,BACKCONTOUR))","v":"Foam"},{"$f":"INDEX(P63:P70,BACKCONTOUR)","v":"05891"},null,{"$f":"IF(BACKFOAMSREQD,INDEX(R63:R70,BACKCONTOUR),\"NA\")","v":"NA"},null,null,{"$f":"IF(V60,INDEX(U63:U70,BACKCONTOUR),IF(U60=$AD$46,$AD$44,0))","v":0},null,{"$f":"IF(INDEX(W63:W70,BACKCONTOUR)=\" \",W60,INDEX(W63:W70,BACKCONTOUR))","v":"Foam"},{"$f":"INDEX(X63:X70,BACKCONTOUR)","v":" "},null,{"$f":"IF(BACKFOAMSREQD,INDEX(Z63:Z70,BACKCONTOUR),\"NA\")","v":"NA"},null,null,{"$f":"IF(AD60,INDEX(AC63:AC70,BACKCONTOUR),IF(AC60=$AD$46,$AD$44,0))","v":0},null,{"$f":"IF(INDEX(AE63:AE70,BACKCONTOUR)=\" \",AE60,INDEX(AE63:AE70,BACKCONTOUR))","v":"Foam"},{"$f":"INDEX(AF63:AF70,BACKCONTOUR)","v":" "},{"$f":"IF(BACKCONFIG<>2,INDEX(AG63:AG70,BACKCONTOUR),0)","v":0},{"$f":"IF(BACKCONFIG<>2,INDEX(AH63:AH70,BACKCONTOUR),0)","v":0},"<-zero if base only"]
[null,"Idx","Description of Back Contour (NA if vinyl covered back)","Phantom","Contoured?","Retail wo extra thick",null,"Cust Foams?","Foam Idx","Desc","Layer Thick","Sub-total","Retail",null,"Phantom","Foam","Foam Idx","Desc","Layer Thick","Sub-total","Retail","Cost","Phantom","Foam","Foam Idx","Desc","Layer Thick","Sub-total","Retail","Cost","Phantom","Foam","Contour thickness at LBW edge","Contour thickness at widest point","<-thickness at widest point used for hip guide length test & calc"]
["Planar with 1-1/2\" soft visco foam",1,{"$f":"IF(AND(BACKSHAPE>1,BACKFOAMSREQD),A63,\"NA\")","v":"NA"},"-",{"$f":"FALSE()","v":false},0,null,{"$f":"FALSE()","v":false},{"$f":"IF(BACKFIP,Foams!$A82,Foams!$A$83)","v":5},{"$f":"VLOOKUP(I63,BackFoams,2)","v":"1-1/2\" Soft Visco Foam"},{"$f":"VLOOKUP(I63,BackFoams,9)","v":1.5},{"$f":"K$59+K63","v":1.5},{"$f":"IF(VLOOKUP($I63,BackFoams,11),VLOOKUP($I63,BackFoams,7),0)","v":0},null,{"$f":"IF(OR(L63>$Q$56,VLOOKUP(I63,BackFoams,11)),VLOOKUP(I63,BackFoams,6),\" \")","v":" "},{"$f":"VLOOKUP(I63,BackFoams,10)","v":"05891"},{"$f":"IF(BACKFIP,Foams!$A$108,Foams!$A$107)","v":29},{"$f":"VLOOKUP(Q63,BackFoams,2)","v":"NA"},{"$f":"VLOOKUP(Q63,BackFoams,9)","v":0},{"$f":"S$59+S63","v":1.5},{"$f":"IF(VLOOKUP($Q63,BackFoams,11),VLOOKUP($Q63,BackFoams,7),0)","v":0},{"$f":"IF(VLOOKUP($Q63,BackFoams,11),VLOOKUP($Q63,BackFoams,8),0)","v":0},{"$f":"IF(OR(T63>$Q$56,VLOOKUP(Q63,BackFoams,11)),VLOOKUP(Q63,BackFoams,6),\" \")","v":" "},{"$f":"VLOOKUP(Q63,BackFoams,10)","v":" "},{"$f":"IF(BACKFIP,Foams!$A$81,Foams!$A$107)","v":29},{"$f":"VLOOKUP(Y63,BackFoams,2)","v":"NA"},{"$f":"VLOOKUP(Y63,BackFoams,9)","v":0},{"$f":"AA$59+AA63","v":1.5},{"$f":"IF(VLOOKUP($Y63,BackFoams,11),VLOOKUP($Y63,BackFoams,7),0)","v":0},{"$f":"IF(VLOOKUP($Y63,BackFoams,11),VLOOKUP($Y63,BackFoams,8),0)","v":0},{"$f":"IF(OR(AB63>$Q$56,VLOOKUP(Y63,BackFoams,11)),VLOOKUP(Y63,BackFoams,6),\" \")","v":" "},{"$f":"VLOOKUP(Y63,BackFoams,10)","v":" "},0,0]
["Planar w/custom foam",2,"NA","-",{"$f":"FALSE()","v":false},0,null,{"$f":"TRUE()","v":true},{"$f":"$I$59","v":5},"1-1/2\" Soft Visco Foam",1.5,{"$f":"K$59+K64","v":1.5},0,null," ","05891",{"$f":"IF(BACKFIP,Foams!$A$108,$Q$59)","v":29},"NA",0,{"$f":"S$59+S64","v":1.5},0,0," "," ",{"$f":"$Y$59","v":29},"NA",0,{"$f":"AA$59+AA64","v":1.5},0,0," "," ",0,0]
["1/2\" Contour back w/standard visco foam",3,{"$f":"IF(AND(BACKSHAPE>1,BACKFOAMSREQD,NOT(CURVED)),A65,\"NA\")","v":"NA"},71002,{"$f":"TRUE()","v":true},79,null,{"$f":"FALSE()","v":false},{"$f":"IF(BACKFIP,Foams!$A82,Foams!$A$83)","v":5},"1-1/2\" Soft Visco Foam",1.5,1.5,0,null," ","05891",{"$f":"IF(BACKFIP,Foams!$A$108,Foams!$A$107)","v":29},"NA",0,1.5,0,0," "," ",{"$f":"IF(BACKFIP,Foams!$A$81,Foams!$A$107)","v":29},"NA",0,1.5,0,0," "," ",{"$f":"$AI$66","v":0.5},{"$f":"$AK$66","v":0.5},"HALF INCH CONTOUR THICKNESSES BELOW (0 to .5)"]
["1/2\" Contour back w/custom foam",4,"NA",71002,{"$f":"TRUE()","v":true},79,null,{"$f":"TRUE()","v":true},{"$f":"$I$59","v":5},"1-1/2\" Soft Visco Foam",1.5,1.5,0,null," ","05891",{"$f":"IF(BACKFIP,Foams!$A$108,$Q$59)","v":29},"NA",0,1.5,0,0," "," ",{"$f":"$Y$59","v":29},"NA",0,1.5,0,0," "," ",{"$f":"$AI$66","v":0.5},{"$f":"$AK$66","v":0.5},{"$f":"MIN(0.5,MAX(0,0.125*ROUND((0.5-0.25*Design!$BA$125)/0.125,0)))","v":0.5},null,{"$f":"IF(OR(BACKIDX=6,BACKIDX=7),MIN(0.5,MAX(0,0.125*ROUND((0.5-0.25*Design!$BA$125)/0.125,0))),0.125*ROUND(0.5/0.125,0))","v":0.5},"<right # for widest point at bottom of back"]
["1\" Contour back w/standard visco foam",5,"NA",71003,{"$f":"TRUE()","v":true},116,null,{"$f":"FALSE()","v":false},{"$f":"IF(BACKFIP,Foams!$A82,Foams!$A$83)","v":5},"1-1/2\" Soft Visco Foam",1.5,1.5,0,null," ","05891",{"$f":"IF(BACKFIP,Foams!$A$108,Foams!$A$107)","v":29},"NA",0,1.5,0,0," "," ",{"$f":"IF(BACKFIP,Foams!$A$81,Foams!$A$107)","v":29},"NA",0,1.5,0,0," "," ",{"$f":"$AI$68","v":1},{"$f":"$AK$68","v":1},"INCH CONTOUR THICKNESSES BELOW (0 to 1)"]
["1\" Contour back w/custom foam",6,"NA",71003,{"$f":"TRUE()","v":true},116,null,{"$f":"TRUE()","v":true},{"$f":"$I$59","v":5},"1-1/2\" Soft Visco Foam",1.5,1.5,0,null," ","05891",{"$f":"IF(BACKFIP,Foams!$A$108,$Q$59)","v":29},"NA",0,1.5,0,0," "," ",{"$f":"$Y$59","v":29},"NA",0,1.5,0,0," "," ",{"$f":"$AI$68","v":1},{"$f":"$AK$68","v":1},{"$f":"MIN(1,MAX(0,0.125*ROUND((1-0.5*Design!$BA$125)/0.125,0)))","v":1},null,{"$f":"IF(OR(BACKIDX=6,BACKIDX=7),MIN(1,MAX(0,0.125*ROUND((1-0.5*Design!$BA$125)/0.125,0))),0.125*ROUND(1/0.125,0))","v":1},"<right # for widest point at bottom of back"]
["Full Contour back w/standard visco foam",7,"NA",71004,{"$f":"TRUE()","v":true},126,null,{"$f":"FALSE()","v":false},{"$f":"IF(BACKFIP,Foams!$A82,Foams!$A$83)","v":5},"1-1/2\" Soft Visco Foam",1.5,1.5,0,null," ","05891",{"$f":"IF(BACKFIP,Foams!$A$108,Foams!$A$107)","v":29},"NA",0,1.5,0,0," "," ",{"$f":"IF(BACKFIP,Foams!$A$81,Foams!$A$107)","v":29},"NA",0,1.5,0,0," "," ",{"$f":"$AB$49","v":0},{"$f":"$AI$49","v":0},"<-contour is thicker at widest point than at LBW (0 to 2.5)"]
["Full Contour back w/custom foam",8,"NA",71004,{"$f":"TRUE()","v":true},126,null,{"$f":"TRUE()","v":true},{"$f":"$I$59","v":5},"1-1/2\" Soft Visco Foam",1.5,1.5,0,null," ","05891",{"$f":"IF(BACKFIP,Foams!$A$108,$Q$59)","v":29},"NA",0,1.5,0,0," "," ",{"$f":"$Y$59","v":29},"NA",0,1.5,0,0," "," ",{"$f":"$AB$49","v":0},{"$f":"$AI$49","v":0},"<-contour is thicker at widest point than at LBW (0 to 2.5)"]
[]
[]
[null,11,{"$f":"IF(BACKFOAMSREQD,A73,\"NA\")","v":0},71074,1,360,null,null,{"$f":"Foams!$A$108","v":30},"Foam-in-Place",0,0,93,null,71007,"FIP",{"$f":"Foams!$A$107","v":29},{"$f":"VLOOKUP(Q73,BackFoams,2)","v":"NA"},{"$f":"VLOOKUP(Q73,BackFoams,9)","v":0},1.5,0,0,{"$f":"IF(OR(T73>$Q$56,VLOOKUP(Q73,BackFoams,11)),VLOOKUP(Q73,BackFoams,6),\" \")","v":" "},{"$f":"VLOOKUP(Q73,BackFoams,10)","v":" "},{"$f":"Foams!$A$107","v":29},"NA",0,1.5,0,0," "," ",0,0]
[null,12,0,71091,1,395,null,null,{"$f":"Foams!$A$109","v":0},{"$error":"#N/A"},{"$error":"#N/A"},{"$error":"#N/A"},{"$error":"#N/A"},null,{"$error":"#N/A"},{"$error":"#N/A"},{"$f":"Foams!$A$107","v":29},{"$f":"VLOOKUP(Q74,BackFoams,2)","v":"NA"},0,1.5,0,0," "," ",{"$f":"Foams!$A$107","v":29},"NA",0,1.5,0,0," "," ",0,0]

{"sheet":"Hardware","index":6,"n_rows":86,"n_cols":37,"rows_kept":86,"cut":false,"hidden":true,"merged":[[2,23,2,24],[3,26,3,27],[36,26,36,27],[3,29,3,36],[36,29,36,36],[30,26,30,27],[6,29,7,36]]}
[null,null,"BACK HARDWARE KIT PICK LIST",null,null,null,null,"DEC 2019 CHANGES"]
[null,null,"BACKHDWDESC",null,null,"Back rail size=",{"$f":"BACKRAILSIZE","v":2},null,"1=7/8\", 2=1\"",null,null,"Cane size = 2 for 1\"","Cane size = 1 for 7/8\"","Cane2 Part#","Cane1 Part#",null,null,null,null,null,null,"Works w/ curved back?"]
["BACKHDWKIT",31,{"$f":"INDEX(C$5:C$35,BACKHDWKIT)","v":"None"},{"$f":"INDEX(D$5:D$35,BACKHDWKIT)","v":"No"},{"$f":"INDEX(E$5:E$35,BACKHDWKIT)","v":"W"},null,{"$f":"INDEX(G$5:G$35,BACKHDWKIT)","v":true},null,null,{"$f":"INDEX(J$5:J$35,BACKHDWKIT)","v":0},null,null,null,null,null,{"$f":"INDEX(P$5:P$35,BACKHDWKIT,1)","v":false},0," "," ",0,0,0,null,"RETAIL PRICES",null,null,null,null,null,"CURVED BACK VERSIONS OF KNOB HARDWARE THAT DEPEND ON BACK WIDTH"]
[null,null,"Pick List","Item #","BackHdwID","Prefix","Works?","Will work w/ these seat hdw IDs","7/8\" & 1\"?","Retail","Thick Test","Actual Description for 1\" Tube (if available)","Actual Description for 7/8\" Tube  (if available)","1\" Tube#","7/8\" Tube#","Has hinge?","Rise","Which hinge picked?","Choose own warning","Depth","No hinge needed?","T/F",null,"FLAT","CURVED",null,"BACK PROFILE?",null,null,"BACK WIDTHS"]
[null,1,{"$f":"F5&CHOOSE(BACKRAILSIZE,M5,L5)","v":"Two knobs, L/R Pair (no seat-to-back hinge)"},{"$f":"CHOOSE(BACKRAILSIZE,O5,N5)","v":50472},"A",{"$f":"IF(G5,\"\",\"NA-\")","v":""},{"$f":"IF(ISERR(SEARCH(BACKRAILSIZE,I5,1)),FALSE,IF(SEATIDX=1,TRUE,NOT(ISERR(SEARCH(SeatHdwID,H5,1)))))","v":true},"ABCDEFGHIJKLMNOPS",12,{"$f":"IF(CURVED,Y5,X5)","v":266},{"$f":"TRUE","v":true},{"$f":"\"Two knobs, L/R Pair (no seat-to-back hinge)\"&CURVEDTOOWIDEMSG","v":"Two knobs, L/R Pair (no seat-to-back hinge)"},{"$f":"\"Two knobs, L/R Pair (no seat-to-back hinge)\"&CURVEDTOOWIDEMSG","v":"Two knobs, L/R Pair (no seat-to-back hinge)"},50472,{"$f":"N5","v":50472},{"$f":"FALSE()","v":false},0," ","** Does not have hinge to secure lower back **",null,{"$f":"FALSE()","v":false},{"$f":"TRUE()","v":true},null,266,437,null,"FLAT","CURVED",null,"12",13,"14",15,"16",17,"17",19]
[null,2,"Four knobs, 2 L/R Pairs",50473,"B",{"$f":"IF(G6,\"\",\"NA-\")","v":""},{"$f":"IF(ISERR(SEARCH(BACKRAILSIZE,I6,1)),FALSE,IF(SEATIDX=1,TRUE,NOT(ISERR(SEARCH(SeatHdwID,H6,1)))))","v":true},"ABCDEFGHIJKLMNOPS",12,444,{"$f":"TRUE","v":true},{"$f":"\"Four knobs, 2 L/R Pairs\"&CURVEDTOOWIDEMSG","v":"Four knobs, 2 L/R Pairs"},{"$f":"\"Four knobs, 2 L/R Pairs\"&CURVEDTOOWIDEMSG","v":"Four knobs, 2 L/R Pairs"},{"$f":"IF(CURVED,AB6,AA6)","v":50473},{"$f":"N6","v":50473},{"$f":"FALSE()","v":false},0," "," ",null,{"$f":"TRUE()","v":true},{"$f":"TRUE()","v":true},null,444,502,null,50473,{"$f":"IF(AND(BACKWIDTH>=12,BACKWIDTH<=19),INDEX(AD6:AK6,1,BACKWIDTH-11),\"99999\")","v":"99999"},null,50739,{"$f":"AD6","v":50739},50747,{"$f":"AF6","v":50747},"50755",{"$f":"AH6","v":"50755"},"50763",{"$f":"AJ6","v":"50763"}]
[null,3,"Two knobs w/ flush hinge",50460,"C","",{"$f":"IF(ISERR(SEARCH(BACKRAILSIZE,I7,1)),FALSE,IF(SEATIDX=1,TRUE,NOT(ISERR(SEARCH(SeatHdwID,H7,1)))))","v":true},"ABCDEFGHIJKLMNOPS",12,386,{"$f":"TRUE","v":true},{"$f":"IF(THICKNESSOFSEAT>2,L40,L39)","v":"Two knobs w/ flush hinge"},{"$f":"IF(THICKNESSOFSEAT>2,M40,M39)","v":"Two knobs w/ flush hinge"},{"$f":"IF(THICKNESSOFSEAT>2,N40,N39)","v":50460},{"$f":"IF(THICKNESSOFSEAT>2,O40,O39)","v":50460},{"$f":"TRUE()","v":true},{"$f":"IF(THICKNESSOFSEAT>2,Q40,Q39)","v":"0\""}," "," ",{"$f":"IF(THICKNESSOFSEAT>2,T40,T39)","v":0},{"$f":"FALSE()","v":false},{"$f":"TRUE()","v":true},null,386,437,null,null,null,null,"Note: Only one curved hdw number needs to be tested for 99999 because if one bracket selected is 99999 all knob brackets are 99999."]
[null,4,"Two knobs w/ 2\" rise 1\" deep hinge",50461,"D","",{"$f":"AND(IF(ISERR(SEARCH(BACKRAILSIZE,I8,1)),FALSE,IF(SEATIDX=1,TRUE,NOT(ISERR(SEARCH(SeatHdwID,H8,1))))),$K8)","v":true},"ABCDEFGHIJKLMNOPS",12,386,{"$f":"$Q8>=THICKNESSOFSEAT","v":true},{"$f":"IF(THICKNESSOFSEAT>2,L44,L41)","v":"Two knobs w/ 2\" rise 1\" deep hinge"},"Two knobs w/ 2\" rise 1\" deep hinge",50461,50461,{"$f":"TRUE()","v":true},{"$f":"IF(THICKNESSOFSEAT>2,Q44,Q41)","v":2},{"$f":"CHOOSE(MATCH(THICKNESSOFSEAT,{0,2.1,3.1}),R41,R44,\"Seat too thick for hinge\")","v":"Selected 2\" rise hinge"}," ",{"$f":"IF(THICKNESSOFSEAT>2,T44,T41)","v":1},{"$f":"FALSE()","v":false},{"$f":"TRUE()","v":true},null,386,437]
[null,5,"Two knobs w/ 2\" rise 2\" deep hinge",50462,"E","",{"$f":"AND(IF(ISERR(SEARCH(BACKRAILSIZE,I9,1)),FALSE,IF(SEATIDX=1,TRUE,NOT(ISERR(SEARCH(SeatHdwID,H9,1))))),$K9)","v":true},"ABCDEFGHIJKLMNOPS",12,386,{"$f":"$Q9>=THICKNESSOFSEAT","v":true},"Two knobs w/ 2\" rise 2\" deep hinge","Two knobs w/ 2\" rise 2\" deep hinge",50462,50462,{"$f":"TRUE()","v":true},{"$f":"IF(THICKNESSOFSEAT>2,Q45,Q42)","v":2},{"$f":"CHOOSE(MATCH(THICKNESSOFSEAT,{0,2.1,3.1}),R42,R45,\"Seat too thick for hinge\")","v":"Selected 2\" rise hinge"}," ",{"$f":"IF(THICKNESSOFSEAT>2,T45,T42)","v":2},{"$f":"FALSE()","v":false},{"$f":"TRUE()","v":true},null,386,437]
[null,6,"Two knobs w/ 2\" rise 3\" deep hinge",50463,"F","",{"$f":"AND(IF(ISERR(SEARCH(BACKRAILSIZE,I10,1)),FALSE,IF(SEATIDX=1,TRUE,NOT(ISERR(SEARCH(SeatHdwID,H10,1))))),$K10)","v":true},"ABCDEFGHIJKLMNOPS",12,386,{"$f":"$Q10>=THICKNESSOFSEAT","v":true},"Two knobs w/ 2\" rise 3\" deep hinge","Two knobs w/ 2\" rise 3\" deep hinge",50463,50463,{"$f":"TRUE()","v":true},{"$f":"IF(THICKNESSOFSEAT>2,Q46,Q43)","v":2},{"$f":"CHOOSE(MATCH(THICKNESSOFSEAT,{0,2.1,3.1}),R43,R46,\"Seat too thick for hinge\")","v":"Selected 2\" rise hinge"}," ",{"$f":"IF(THICKNESSOFSEAT>2,T46,T43)","v":3},{"$f":"FALSE()","v":false},{"$f":"TRUE()","v":true},null,386,437]
[null,7,"Two knobs w/ 2.5 \" rise adj depth hinge",51092,"X","",{"$f":"AND(IF(ISERR(SEARCH(BACKRAILSIZE,I11,1)),FALSE,IF(SEATIDX=1,TRUE,NOT(ISERR(SEARCH(SeatHdwID,H11,1))))),$K11)","v":true},"ABCDEFGHIJKLMNOPS",12,488,{"$f":"$Q11>=THICKNESSOFSEAT","v":true},{"$f":"M11","v":"Two knobs w/ 2.5 \" rise adj depth hinge"},{"$f":"\"Two knobs w/ 2.5 \"\" rise adj depth hinge\"&IF(THICKNESSOFSEAT>$Q11,SeatTooThickMsg,\"\")&NotForCurvedMsg","v":"Two knobs w/ 2.5 \" rise adj depth hinge"},51092,{"$f":"N11","v":51092},{"$f":"TRUE()","v":true},2.5,{"$f":"IF(THICKNESSOFSEAT> 2.5,\"Seat too thick for hinge\",\"2.5\"&quote&\" rise hinge\")","v":"2.5\" rise hinge"}," ",2,{"$f":"FALSE()","v":false},{"$f":"FALSE()","v":false}]
[null,8,"Two knobs w/ two 2.5\" rise adj depth hinges",51093,"Y","",{"$f":"AND(IF(ISERR(SEARCH(BACKRAILSIZE,I12,1)),FALSE,IF(SEATIDX=1,TRUE,NOT(ISERR(SEARCH(SeatHdwID,H12,1))))),$K12)","v":true},"ABCDEFGHIJKLMNOPS",12,488,{"$f":"$Q12>=THICKNESSOFSEAT","v":true},{"$f":"M12","v":"Two knobs w/ two 2.5\" rise adj depth hinges"},{"$f":"\"Two knobs w/ two 2.5\"\" rise adj depth hinges\"&IF(THICKNESSOFSEAT>$Q11,SeatTooThickMsg,\"\")&NotForCurvedMsg","v":"Two knobs w/ two 2.5\" rise adj depth hinges"},51093,{"$f":"N12","v":51093},{"$f":"TRUE()","v":true},2.5,{"$f":"IF(THICKNESSOFSEAT> 2.5,\"Seat too thick for hinge\",\"2.5\"&quote&\" rise hinge\")","v":"2.5\" rise hinge"}," ",2,{"$f":"FALSE()","v":false},{"$f":"FALSE()","v":false},null,null,null,null,"DESCRIPTIONS TO USE IN THE FORMULAS FOR DESCRIPTIONS"]
[null,9,"Molded Js & slotted Ls for 1\" tube w/ swing tabs, 2 L/R pairs",50475,"G","",{"$f":"IF(ISERR(SEARCH(BACKRAILSIZE,I13,1)),FALSE,IF(SEATIDX=1,TRUE,NOT(ISERR(SEARCH(SeatHdwID,H13,1)))))","v":true},"ABCDEFGHIJKLMNOPS",2,250,{"$f":"TRUE","v":true},{"$f":"AA13&NotForCurvedMsg","v":"Molded Js & slotted Ls for 1\" tube w/ swing tabs, 2 L/R pairs"},"Molded Js & slotted Ls, 2 L/R pairs UNAVAILABLE for 7/8\" tube",50475,"UNAVAIL",{"$f":"FALSE()","v":false},0," "," ",null,{"$f":"TRUE()","v":true},{"$f":"FALSE()","v":false},null,null,null,null,"Molded Js & slotted Ls for 1\" tube w/ swing tabs, 2 L/R pairs","Molded Js & slotted Ls, 2 L/R pairs UNAVAILABLE for 7/8\" tube"]
[null,10,"Molded Js & slotted Ls w/ swing tabs, 1 L/R pair",51096,1,"",{"$f":"IF(ISERR(SEARCH(BACKRAILSIZE,I14,1)),FALSE,IF(SEATIDX=1,TRUE,NOT(ISERR(SEARCH(SeatHdwID,H14,1)))))","v":true},"ABCDEFGHIJKLMNOPS",2,153,{"$f":"TRUE","v":true},"Molded Js & slotted Ls w/ swing tabs, 1 L/R pair","Molded Js & slotted Ls w/ swing tabs, 1 L/R pair",51096,{"$f":"N14","v":51096},{"$f":"FALSE()","v":false},0," "," ",null,{"$f":"FALSE()","v":false},{"$f":"FALSE()","v":false},null,null,null,null,"Molded Js & slotted Ls w/ swing tabs, 1 L/R pair",{"$f":"\"Molded Js & slotted Ls w/ swing tabs, 1 L/R pair\"&NotForCurvedMsg","v":"Molded Js & slotted Ls w/ swing tabs, 1 L/R pair"}]
[null,11,"Molded Js & long slotted Ls for 1\" tube w/swing tabs, 2 L/R pairs",50469,"H","",{"$f":"IF(ISERR(SEARCH(BACKRAILSIZE,I15,1)),FALSE,IF(SEATIDX=1,TRUE,NOT(ISERR(SEARCH(SeatHdwID,H15,1)))))","v":true},"ABCDEFGHIJKLMNOPS",2,316,{"$f":"TRUE","v":true},"Molded Js & long slotted Ls for 1\" tube w/swing tabs, 2 L/R pairs","Molded Js & long slotted Ls, 2 L/R pairs UNAVAILABLE for 7/8\" tube",50469,"UNAVAIL",{"$f":"FALSE()","v":false},0," "," ",null,{"$f":"TRUE()","v":true},{"$f":"FALSE()","v":false},null,null,null,null,"Molded Js & long slotted Ls for 1\" tube w/swing tabs, 2 L/R pairs","Molded Js & long slotted Ls, 2 L/R pairs UNAVAILABLE for 7/8\" tube"]
[null,12,"Molded Js & slotted Ls w/ flush hinges",51097,2,"",{"$f":"IF(ISERR(SEARCH(BACKRAILSIZE,I16,1)),FALSE,IF(SEATIDX=1,TRUE,NOT(ISERR(SEARCH(SeatHdwID,H16,1)))))","v":true},"ABCDEFGHIJKLMNOPS",2,250,{"$f":"TRUE","v":true},{"$f":"IF(THICKNESSOFSEAT>2,L48,L47)","v":"Molded Js & slotted Ls w/ flush hinges"},{"$f":"IF(THICKNESSOFSEAT>2,M48,M47)","v":"Molded Js & slotted Ls w/ flush hinges"},{"$f":"IF(THICKNESSOFSEAT>2,N48,N47)","v":51097},{"$f":"IF(THICKNESSOFSEAT>2,O48,O47)","v":51097},{"$f":"TRUE()","v":true},{"$f":"IF(THICKNESSOFSEAT>2,Q48,Q47)","v":"0\""}," "," ",{"$f":"IF(THICKNESSOFSEAT>2,T48,T47)","v":0},{"$f":"FALSE()","v":false},{"$f":"FALSE()","v":false}]
[null,13,"Molded Js & slotted Ls w/ 2\" rise 1\" deep hinge",51098,3,"",{"$f":"AND(IF(ISERR(SEARCH(BACKRAILSIZE,I17,1)),FALSE,IF(SEATIDX=1,TRUE,NOT(ISERR(SEARCH(SeatHdwID,H17,1))))),$K17)","v":true},"ABCDEFGHIJKLMNOPS",2,250,{"$f":"$Q17>=THICKNESSOFSEAT","v":true},{"$f":"IF(THICKNESSOFSEAT>2,L52,L49)","v":"Molded Js & slotted Ls w/ 2\" rise 1\" deep hinge"},"Molded Js & slotted Ls w/ 2\" rise 1\" deep hinge",51098,51098,{"$f":"TRUE()","v":true},{"$f":"IF(THICKNESSOFSEAT>2,Q52,Q49)","v":2},{"$f":"CHOOSE(MATCH(THICKNESSOFSEAT,{0,2.1,3.1}),R49,R52,\"Seat too thick for hinge\")","v":"Selected 2\" rise hinge"}," ",{"$f":"IF(THICKNESSOFSEAT>2,T52,T49)","v":1},{"$f":"FALSE()","v":false},{"$f":"FALSE()","v":false}]
[null,14,"Molded Js & slotted Ls w/ 2\" rise 2\" deep hinge",51099,4,"",{"$f":"AND(IF(ISERR(SEARCH(BACKRAILSIZE,I18,1)),FALSE,IF(SEATIDX=1,TRUE,NOT(ISERR(SEARCH(SeatHdwID,H18,1))))),$K18)","v":true},"ABCDEFGHIJKLMNOPS",2,250,{"$f":"$Q18>=THICKNESSOFSEAT","v":true},"Molded Js & slotted Ls w/ 2\" rise 2\" deep hinge","Molded Js & slotted Ls w/ 2\" rise 2\" deep hinge",51099,51099,{"$f":"TRUE()","v":true},{"$f":"IF(THICKNESSOFSEAT>2,Q53,Q50)","v":2},{"$f":"CHOOSE(MATCH(THICKNESSOFSEAT,{0,2.1,3.1}),R50,R53,\"Seat too thick for hinge\")","v":"Selected 2\" rise hinge"}," ",{"$f":"IF(THICKNESSOFSEAT>2,T53,T50)","v":2},{"$f":"FALSE()","v":false},{"$f":"FALSE()","v":false}]
[null,15,"Molded Js & slotted Ls w/ 2\" rise 3\" deep hinge",51100,5,"",{"$f":"AND(IF(ISERR(SEARCH(BACKRAILSIZE,I19,1)),FALSE,IF(SEATIDX=1,TRUE,NOT(ISERR(SEARCH(SeatHdwID,H19,1))))),$K19)","v":true},"ABCDEFGHIJKLMNOPS",2,250,{"$f":"$Q19>=THICKNESSOFSEAT","v":true},"Molded Js & slotted Ls w/ 2\" rise 3\" deep hinge","Molded Js & slotted Ls w/ 2\" rise 3\" deep hinge",51100,51100,{"$f":"TRUE()","v":true},{"$f":"IF(THICKNESSOFSEAT>2,Q54,Q51)","v":2},{"$f":"CHOOSE(MATCH(THICKNESSOFSEAT,{0,2.1,3.1}),R51,R54,\"Seat too thick for hinge\")","v":"Selected 2\" rise hinge"}," ",{"$f":"IF(THICKNESSOFSEAT>2,T54,T51)","v":3},{"$f":"FALSE()","v":false},{"$f":"FALSE()","v":false},null,null,null,null,"DESCRIPTIONS TO USE IN THE FORMULAS FOR DESCRIPTIONS"]
[null,16,"Molded Js & slotted Ls w/2.5\" rise adj depth hinge",51101,6,"",{"$f":"AND(IF(ISERR(SEARCH(BACKRAILSIZE,I20,1)),FALSE,IF(SEATIDX=1,TRUE,NOT(ISERR(SEARCH(SeatHdwID,H20,1))))),$K20)","v":true},"ABCDEFGHIJKLMNOPS",2,410,{"$f":"$Q20>=THICKNESSOFSEAT","v":true},{"$f":"M20","v":"Molded Js & slotted Ls w/2.5\" rise adj depth hinge"},{"$f":"\"Molded Js & slotted Ls w/2.5\"\" rise adj depth hinge\"&IF(THICKNESSOFSEAT>$Q20,SeatTooThickMsg,\"\")&NotForCurvedMsg","v":"Molded Js & slotted Ls w/2.5\" rise adj depth hinge"},51101,{"$f":"N20","v":51101},{"$f":"TRUE()","v":true},2.5,{"$f":"IF(THICKNESSOFSEAT> 2.5,\"Seat too thick for hinge\",\"2.5\"&quote&\" rise hinge\")","v":"2.5\" rise hinge"}," ",2,{"$f":"FALSE()","v":false},{"$f":"FALSE()","v":false},null,null,null,null,"1\" DESC","7/8\" DESC"]
[null,17,"2 hole Js, 6 hole Ls for 1\" tube w/ top & bottom rail locks",50486,"I","",{"$f":"IF(ISERR(SEARCH(BACKRAILSIZE,I21,1)),FALSE,IF(SEATIDX=1,TRUE,NOT(ISERR(SEARCH(SeatHdwID,H21,1)))))","v":true},"ABCDEFGHIJKLMNOPS",12,168,{"$f":"TRUE","v":true},{"$f":"AA21&NotForCurvedMsg","v":"2 hole Js, 6 hole Ls for 1\" tube w/ top & bottom rail locks"},"2 hole Js, 6 hole Ls for 7/8\" tube w/ top & bottom rail locks",50486,50471,{"$f":"FALSE()","v":false},0," "," ",null,{"$f":"TRUE()","v":true},{"$f":"FALSE()","v":false},null,null,null,null,"2 hole Js, 6 hole Ls for 1\" tube w/ top & bottom rail locks","2 hole Js, 6 hole Ls for 7/8\" tube w/ top & bottom rail locks"]
[null,18,"2 hole Js, 6 hole Ls for 1\" tube w/ swingtabs & rail locks",50295,"J","",true,"ABCDEFGHIJKLMNOPS",12,168,{"$f":"TRUE","v":true},"2 hole Js, 6 hole Ls for 1\" tube w/ swingtabs & rail locks","2 hole Js, 6 hole Ls for 7/8\" tube w/ swingtabs & rail locks",50295,50290,{"$f":"FALSE()","v":false},0," "," ",null,{"$f":"TRUE()","v":true},{"$f":"FALSE()","v":false},null,null,null,null,"2 hole Js, 6 hole Ls for 1\" tube w/ swingtabs & rail locks","2 hole Js, 6 hole Ls for 7/8\" tube w/ swingtabs & rail locks"]
[null,19,"4 hole Js, 6 hole Ls for 1\" tube w/ swingtabs & rail locks",50292,"K","",true,"ABCDEFGHIJKLMNOPS",12,168,{"$f":"TRUE","v":true},"4 hole Js, 6 hole Ls for 1\" tube w/ swingtabs & rail locks","4 hole Js, 6 hole Ls for 7/8\" tube w/ swingtabs & rail locks",50292,50291,{"$f":"FALSE()","v":false},0," "," ",null,{"$f":"TRUE()","v":true},{"$f":"FALSE()","v":false},null,null,null,null,"4 hole Js, 6 hole Ls for 1\" tube w/ swingtabs & rail locks","4 hole Js, 6 hole Ls for 7/8\" tube w/ swingtabs & rail locks"]
[null,20,"6 hole Js, 6 hole Ls for 1\" tube w/ swingtabs & rail locks",50296,"L","",true,"ABCDEFGHIJKLMNOPS",12,168,{"$f":"TRUE","v":true},"6 hole Js, 6 hole Ls for 1\" tube w/ swingtabs & rail locks","6 hole Js, 6 hole Ls for 7/8\" tube w/ swingtabs & rail locks",50296,50297,{"$f":"FALSE()","v":false},0," "," ",null,{"$f":"TRUE()","v":true},{"$f":"FALSE()","v":false},null,null,null,null,"6 hole Js, 6 hole Ls for 1\" tube w/ swingtabs & rail locks","6 hole Js, 6 hole Ls for 7/8\" tube w/ swingtabs & rail locks"]
[null,21,"2 hole Js, 10 hole Ls for 1\" tube w/ swingtabs & rail locks",50330,"M","",true,"ABCDEFGHIJKLMNOPS",12,168,{"$f":"TRUE","v":true},"2 hole Js, 10 hole Ls for 1\" tube w/ swingtabs & rail locks","2 hole Js, 10 hole Ls for 7/8\" tube w/ swingtabs & rail locks",50330,50329,{"$f":"FALSE()","v":false},0," "," ",null,{"$f":"TRUE()","v":true},{"$f":"FALSE()","v":false},null,null,null,null,"2 hole Js, 10 hole Ls for 1\" tube w/ swingtabs & rail locks","2 hole Js, 10 hole Ls for 7/8\" tube w/ swingtabs & rail locks"]
[null,22,"2 hole Js, 6 hole Ls w/2\" offset hinge for 1\" tube",50294,"N","",true,"ABCDEFGHIJKLMNOPS",12,261,{"$f":"TRUE","v":true},"2 hole Js, 6 hole Ls w/2\" offset hinge for 1\" tube","2 hole Js, 6 hole Ls w/2\" offset hinge for 7/8\" tube",50294,50293,{"$f":"TRUE()","v":true},0," "," ",null,{"$f":"FALSE()","v":false},{"$f":"FALSE()","v":false},null,null,null,null,"2 hole Js, 6 hole Ls w/2\" offset hinge for 1\" tube","2 hole Js, 6 hole Ls w/2\" offset hinge for 7/8\" tube"]
[null,23,"2 hole Js, 6 hole Ls for chair w/ both 7/8\" & 1\" tube",50395,"O","",true,"ABCDEFGHIJKLMNOPS",12,168,{"$f":"TRUE","v":true},"2 hole Js, 6 hole Ls for chair w/ both 7/8\" & 1\" tube","2 hole Js, 6 hole Ls for chair w/ both 7/8\" & 1\" tube",50395,50395,{"$f":"FALSE()","v":false},0," "," ",null,{"$f":"TRUE()","v":true},{"$f":"FALSE()","v":false},null,null,null,null,"2 hole Js, 6 hole Ls for chair w/ both 7/8\" & 1\" tube","2 hole Js, 6 hole Ls for chair w/ both 7/8\" & 1\" tube"]
[null,24,"WC20 Four knobs",51076,"P","",true,"QRS",12,609,{"$f":"TRUE","v":true},"WC20 Four knobs","WC20 Four knobs",51076,{"$f":"N28","v":51076},{"$f":"FALSE()","v":false},0," "," ",null,{"$f":"TRUE()","v":true},{"$f":"FALSE()","v":false},null,null,null,null,"WC20 Four knobs","WC20 Four knobs"]
[null,25,"WC20 Two knobs w/ flush hinge",51082,"Q","",true,"QRS",12,417,{"$f":"TRUE","v":true},{"$f":"IF(THICKNESSOFSEAT>2,L56,L55)","v":"WC20 Two knobs w/ flush hinge"},{"$f":"IF(THICKNESSOFSEAT>2,M56,M55)","v":"WC20 Two knobs w/ flush hinge"},{"$f":"IF(THICKNESSOFSEAT>2,N56,N55)","v":51082},{"$f":"IF(THICKNESSOFSEAT>2,O56,O55)","v":51082},{"$f":"TRUE()","v":true},{"$f":"IF(THICKNESSOFSEAT>2,Q56,Q55)","v":"0\""}," "," ",{"$f":"IF(THICKNESSOFSEAT>2,T61,T60)","v":1},{"$f":"FALSE()","v":false},{"$f":"FALSE()","v":false}]
[null,26,"WC20 Two knobs w/ 2\" rise 1\" deep hinge",51083,"R","",{"$f":"AND(IF(ISERR(SEARCH(BACKRAILSIZE,I30,1)),FALSE,IF(SEATIDX=1,TRUE,NOT(ISERR(SEARCH(SeatHdwID,H30,1))))),$K30)","v":true},"QRS",12,417,{"$f":"$Q30>=THICKNESSOFSEAT","v":true},{"$f":"IF(THICKNESSOFSEAT>2,L60,L57)","v":"WC20 Two knobs w/ 2\" rise 1\" deep hinge"},"WC20 Two knobs w/ 2\" rise 1\" deep hinge",51083,51083,{"$f":"TRUE()","v":true},{"$f":"IF(THICKNESSOFSEAT>2,Q60,Q57)","v":2},{"$f":"CHOOSE(MATCH(THICKNESSOFSEAT,{0,2.1,3.1}),R57,R60,\"Seat too thick for hinge\")","v":"Selected 2\" rise hinge"}," ",{"$f":"IF(THICKNESSOFSEAT>2,T60,T57)","v":1},{"$f":"FALSE()","v":false},{"$f":"FALSE()","v":false}]
[null,27,"WC20 Two knobs w/ 2\" rise 2\" deep hinge",51084,"S","",{"$f":"AND(IF(ISERR(SEARCH(BACKRAILSIZE,I31,1)),FALSE,IF(SEATIDX=1,TRUE,NOT(ISERR(SEARCH(SeatHdwID,H31,1))))),$K31)","v":true},"QRS",12,417,{"$f":"$Q31>=THICKNESSOFSEAT","v":true},"WC20 Two knobs w/ 2\" rise 2\" deep hinge","WC20 Two knobs w/ 2\" rise 2\" deep hinge",51084,51084,{"$f":"TRUE()","v":true},{"$f":"IF(THICKNESSOFSEAT>2,Q61,Q58)","v":2},{"$f":"CHOOSE(MATCH(THICKNESSOFSEAT,{0,2.1,3.1}),R58,R61,\"Seat too thick for hinge\")","v":"Selected 2\" rise hinge"}," ",{"$f":"IF(THICKNESSOFSEAT>2,T61,T58)","v":2},{"$f":"FALSE()","v":false},{"$f":"FALSE()","v":false}]
[null,28,"WC20 Two knobs w/ 2\" rise 3\" deep hinge",51085,"T","",{"$f":"AND(IF(ISERR(SEARCH(BACKRAILSIZE,I32,1)),FALSE,IF(SEATIDX=1,TRUE,NOT(ISERR(SEARCH(SeatHdwID,H32,1))))),$K32)","v":true},"QRS",12,417,{"$f":"$Q32>=THICKNESSOFSEAT","v":true},"WC20 Two knobs w/ 2\" rise 3\" deep hinge","WC20 Two knobs w/ 2\" rise 3\" deep hinge",51085,51085,{"$f":"TRUE()","v":true},{"$f":"IF(THICKNESSOFSEAT>2,Q62,Q59)","v":2},{"$f":"CHOOSE(MATCH(THICKNESSOFSEAT,{0,2.1,3.1}),R59,R62,\"Seat too thick for hinge\")","v":"Selected 2\" rise hinge"}," ",{"$f":"IF(THICKNESSOFSEAT>2,T62,T59)","v":3},{"$f":"FALSE()","v":false},{"$f":"FALSE()","v":false}]
[null,29,"WC20 Two knobs w/ adj depth hinge",51090,"U","",{"$f":"AND(IF(ISERR(SEARCH(BACKRAILSIZE,I33,1)),FALSE,IF(SEATIDX=1,TRUE,NOT(ISERR(SEARCH(SeatHdwID,H33,1))))),$K33)","v":true},"QRS",12,552,{"$f":"$Q33>=THICKNESSOFSEAT","v":true},{"$f":"M33","v":"WC20 Two knobs w/ adj depth hinge"},{"$f":"\"WC20 Two knobs w/ adj depth hinge\"&IF(THICKNESSOFSEAT>$Q34,SeatTooThickMsg,\"\")&NotForCurvedMsg","v":"WC20 Two knobs w/ adj depth hinge"},51090,{"$f":"N33","v":51090},{"$f":"TRUE()","v":true},2.5,{"$f":"IF(THICKNESSOFSEAT> 2.5,\"Seat too thick for hinge\",\"2.5\"&quote&\" rise hinge\")","v":"2.5\" rise hinge"}," ",2,{"$f":"FALSE()","v":false},{"$f":"FALSE()","v":false}]
[null,30,"WC20 Two knobs w/ two adj depth hinges",51089,"V","",{"$f":"AND(IF(ISERR(SEARCH(BACKRAILSIZE,I34,1)),FALSE,IF(SEATIDX=1,TRUE,NOT(ISERR(SEARCH(SeatHdwID,H34,1))))),$K34)","v":true},"QRS",12,552,{"$f":"$Q34>=THICKNESSOFSEAT","v":true},{"$f":"M34","v":"WC20 Two knobs w/ two adj depth hinges"},{"$f":"\"WC20 Two knobs w/ two adj depth hinges\"&IF(THICKNESSOFSEAT>$Q34,SeatTooThickMsg,\"\")&NotForCurvedMsg","v":"WC20 Two knobs w/ two adj depth hinges"},51089,{"$f":"N34","v":51089},{"$f":"TRUE()","v":true},2.5,{"$f":"IF(THICKNESSOFSEAT> 2.5,\"Seat too thick for hinge\",\"2.5\"&quote&\" rise hinge\")","v":"2.5\" rise hinge"}," ",2,{"$f":"FALSE()","v":false},{"$f":"FALSE()","v":false}]
[null,31,"None","No","W",null,true,"ABCDEFGHIJKLMNOPQRS",12,0,null,"None","None","NA","NA",false,null," "," "]
[]
[null,null,"Hinge rise message:",null,null,null,null,null,null,"THICKNESSOFSEAT->",{"$f":"IF(SEATIDX>1,Seat!$AC$5+Design!$BB$140,2)","v":2},"<-- SEAT THICKNESS INCL ANY BASE OR 2\" TOTAL IF UNKNOWN (does not include any pelvic well riser because hinge will clear foam in middle of seat)",null,null,null,null,null,null,null,null,"Use duplicate row if add taller flush hinges in the future",null,null,null,null,null,"BACK PROFILE?",null,null,"BACK WIDTHS"]
[null,null,{"$f":"IF($P$3,IF(K37>2,\"Selected seat-to-back hinge with 3\"\" rise.\",\"Selected seat-to-back hinge with 2\"\" rise.\"),\"No seat-to-back hinge\")","v":"No seat-to-back hinge"},null,null,null,null,null,null,null,null,null,null,null,null,null,"Rise",null,null,"Depth",null,null,null,null,null,null,"FLAT","CURVED",null,"12",13,"14",15,"16",17,"17",19]
[null,null,null,null,null,null,null,null,null,null,null,{"$f":"U39&CURVEDTOOWIDEMSG","v":"Two knobs w/ flush hinge"},{"$f":"U39&CURVEDTOOWIDEMSG","v":"Two knobs w/ flush hinge"},{"$f":"IF(CURVED,AB39,AA39)","v":50460},{"$f":"N39","v":50460},null,"0\"",null,null,0,"Two knobs w/ flush hinge",null,null,null,null,null,50460,{"$f":"IF(AND(BACKWIDTH>=12,BACKWIDTH<=19),INDEX(AD39:AK39,1,BACKWIDTH-11),\"99999\")","v":"99999"},null,"50732",{"$f":"AD39","v":"50732"},"50740",{"$f":"AF39","v":"50740"},"50748",{"$f":"AH39","v":"50748"},"50756",{"$f":"AJ39","v":"50756"}]
[null,null,null,null,null,null,null,null,null,null,"Future: use this line for taller hinge",{"$f":"U40&CURVEDTOOWIDEMSG","v":"Two knobs w/ flush hinge"},{"$f":"U40&CURVEDTOOWIDEMSG","v":"Two knobs w/ flush hinge"},50460,{"$f":"N40","v":50460},null,"0\"",null,null,0,"Two knobs w/ flush hinge",null,null,null,null,null,50460,"99999",null,"50732",{"$f":"AD40","v":"50732"},"50740",{"$f":"AF40","v":"50740"},"50748","50748","50756",{"$f":"AJ40","v":"50756"}]
[null,null,null,null,null,null,null,null,null,null,null,{"$f":"U41&IF(THICKNESSOFSEAT>$Q41,SeatTooThickMsg,\"\")&CURVEDTOOWIDEMSG","v":"Two knobs w/ 2\" rise 1\" deep hinge"},{"$f":"U41&IF(THICKNESSOFSEAT>$Q41,SeatTooThickMsg,\"\")&CURVEDTOOWIDEMSG","v":"Two knobs w/ 2\" rise 1\" deep hinge"},50461,50461,null,2,"Selected 2\" rise hinge",null,1,"Two knobs w/ 2\" rise 1\" deep hinge",null,null,null,null,null,50461,"99999",null,"50733","50733","50741","50741","50749","50749","50757",{"$f":"AJ41","v":"50757"}]
[null,null,null,null,null,null,null,null,null,null,null,"Two knobs w/ 2\" rise 2\" deep hinge","Two knobs w/ 2\" rise 2\" deep hinge",50462,50462,null,2,"Selected 2\" rise hinge",null,2,"Two knobs w/ 2\" rise 2\" deep hinge",null,null,null,null,null,50462,"99999",null,"50734","50734","50742","50742","50750","50750","50758",{"$f":"AJ42","v":"50758"}]
[null,null,null,null,null,null,null,null,null,null,null,"Two knobs w/ 2\" rise 3\" deep hinge","Two knobs w/ 2\" rise 3\" deep hinge",50463,50463,null,2,"Selected 2\" rise hinge",null,3,"Two knobs w/ 2\" rise 3\" deep hinge",null,null,null,null,null,50463,"99999",null,"50735","50735","50743","50743","50751","50751","50759",{"$f":"AJ43","v":"50759"}]
[null,null,null,null,null,null,null,null,null,null,null,"Two knobs w/ 3\" rise 1\" deep hinge","Two knobs w/ 3\" rise 1\" deep hinge",50464,50464,null,3,"Selected 3\" rise hinge",null,1,"Two knobs w/ 3\" rise 1\" deep hinge",null,null,null,null,null,50464,"99999",null,"50736","50736","50744","50744","50752","50752","50760",{"$f":"AJ44","v":"50760"}]
[null,null,null,null,null,null,null,null,null,null,null,"Two knobs w/ 3\" rise 2\" deep hinge","Two knobs w/ 3\" rise 2\" deep hinge",50465,50465,null,3,"Selected 3\" rise hinge",null,2,"Two knobs w/ 3\" rise 2\" deep hinge",null,null,null,null,null,50465,"99999",null,"50737","50737","50745","50745","50753","50753","50761",{"$f":"AJ45","v":"50761"}]
[null,null,null,null,null,null,null,null,null,null,null,"Two knobs w/ 3\" rise 3\" deep hinge","Two knobs w/ 3\" rise 3\" deep hinge",50466,50466,null,3,"Selected 3\" rise hinge",null,3,"Two knobs w/ 3\" rise 3\" deep hinge",null,null,null,null,null,50466,"99999",null,"50738","50738","50746","50746","50754","50754","50762",{"$f":"AJ46","v":"50762"}]
[null,null,null,null,null,null,null,null,null,null,null,{"$f":"U47&NotForCurvedMsg","v":"Molded Js & slotted Ls w/ flush hinges"},{"$f":"U47&NotForCurvedMsg","v":"Molded Js & slotted Ls w/ flush hinges"},51097,51097,null,"0\"",null,null,0,"Molded Js & slotted Ls w/ flush hinges"]
[null,null,null,null,null,null,null,null,null,null,"Future: use this line for taller hinge",{"$f":"U48&NotForCurvedMsg","v":"Molded Js & slotted Ls w/ flush hinges"},{"$f":"U48&NotForCurvedMsg","v":"Molded Js & slotted Ls w/ flush hinges"},51097,51097,null,"0\"",null,null,0,"Molded Js & slotted Ls w/ flush hinges"]
[null,null,null,null,null,null,null,null,null,null,null,{"$f":"U49&IF(THICKNESSOFSEAT>$Q49,SeatTooThickMsg,\"\")&NotForCurvedMsg","v":"Molded Js & slotted Ls w/ 2\" rise 1\" deep hinge"},{"$f":"U49&IF(THICKNESSOFSEAT>$Q49,SeatTooThickMsg,\"\")&NotForCurvedMsg","v":"Molded Js & slotted Ls w/ 2\" rise 1\" deep hinge"},51098,51098,null,2,"Selected 2\" rise hinge",null,1,"Molded Js & slotted Ls w/ 2\" rise 1\" deep hinge"]
[null,null,null,null,null,null,null,null,null,null,null,"Molded Js & slotted Ls w/ 2\" rise 2\" deep hinge","Molded Js & slotted Ls w/ 2\" rise 2\" deep hinge",51099,51099,null,2,"Selected 2\" rise hinge",null,2,"Molded Js & slotted Ls w/ 2\" rise 2\" deep hinge"]
[null,null,null,null,null,null,null,null,null,null,null,"Molded Js & slotted Ls w/ 2\" rise 3\" deep hinge","Molded Js & slotted Ls w/ 2\" rise 3\" deep hinge",51100,51100,null,2,"Selected 2\" rise hinge",null,3,"Molded Js & slotted Ls w/ 2\" rise 3\" deep hinge"]
[null,null,null,null,null,null,null,null,null,null,null,"Molded Js & slotted Ls w/ 3\" rise 1\" deep hinge","Molded Js & slotted Ls w/ 3\" rise 1\" deep hinge",51102,51102,null,3,"Selected 3\" rise hinge",null,1,"Molded Js & slotted Ls w/ 3\" rise 1\" deep hinge"]
[null,null,null,null,null,null,null,null,null,null,null,"Molded Js & slotted Ls w/ 3\" rise 2\" deep hinge","Molded Js & slotted Ls w/ 3\" rise 2\" deep hinge",51103,51103,null,3,"Selected 3\" rise hinge",null,2,"Molded Js & slotted Ls w/ 3\" rise 2\" deep hinge"]
[null,null,null,null,null,null,null,null,null,null,null,"Molded Js & slotted Ls w/ 3\" rise 3\" deep hinge","Molded Js & slotted Ls w/ 3\" rise 3\" deep hinge",51104,51104,null,3,"Selected 3\" rise hinge",null,3,"Molded Js & slotted Ls w/ 3\" rise 3\" deep hinge"]
[null,null,null,null,null,null,null,null,null,null,null,{"$f":"U55&NotForCurvedMsg","v":"WC20 Two knobs w/ flush hinge"},{"$f":"U55&NotForCurvedMsg","v":"WC20 Two knobs w/ flush hinge"},51082,{"$f":"N55","v":51082},null,"0\"",null,null,0,"WC20 Two knobs w/ flush hinge"]
[null,null,null,null,null,null,null,null,null,null,"Future: use this line for taller hinge",{"$f":"U56&NotForCurvedMsg","v":"WC20 Two knobs w/ flush hinge"},{"$f":"U56&NotForCurvedMsg","v":"WC20 Two knobs w/ flush hinge"},51082,51082,null,"0\"",null,null,0,"WC20 Two knobs w/ flush hinge"]
[null,null,null,null,null,null,null,null,null,null,null,{"$f":"U57&IF(THICKNESSOFSEAT>$Q57,SeatTooThickMsg,\"\")&NotForCurvedMsg","v":"WC20 Two knobs w/ 2\" rise 1\" deep hinge"},{"$f":"U57&IF(THICKNESSOFSEAT>$Q57,SeatTooThickMsg,\"\")&NotForCurvedMsg","v":"WC20 Two knobs w/ 2\" rise 1\" deep hinge"},51083,51083,null,2,"Selected 2\" rise hinge",null,1,"WC20 Two knobs w/ 2\" rise 1\" deep hinge"]
[null,null,null,null,null,null,null,null,null,null,null,"WC20 Two knobs w/ 2\" rise 2\" deep hinge","WC20 Two knobs w/ 2\" rise 2\" deep hinge",51084,51084,null,2,"Selected 2\" rise hinge",null,2,"WC20 Two knobs w/ 2\" rise 2\" deep hinge"]
[null,null,null,null,null,null,null,null,null,null,null,"WC20 Two knobs w/ 2\" rise 3\" deep hinge","WC20 Two knobs w/ 2\" rise 3\" deep hinge",51085,51085,null,2,"Selected 2\" rise hinge",null,3,"WC20 Two knobs w/ 2\" rise 3\" deep hinge"]
[null,null,null,null,null,null,null,null,null,null,null,"WC20 Two knobs w/ 3\" rise 1\" deep hinge","WC20 Two knobs w/ 3\" rise 1\" deep hinge",51086,51086,null,3,"Selected 3\" rise hinge",null,1,"WC20 Two knobs w/ 3\" rise 1\" deep hinge"]
[null,null,null,null,null,null,null,null,null,null,null,"WC20 Two knobs w/ 3\" rise 2\" deep hinge","WC20 Two knobs w/ 3\" rise 2\" deep hinge",51087,51087,null,3,"Selected 3\" rise hinge",null,2,"WC20 Two knobs w/ 3\" rise 2\" deep hinge"]
[null,null,null,null,null,null,null,null,null,null,null,"WC20 Two knobs w/ 3\" rise 3\" deep hinge","WC20 Two knobs w/ 3\" rise 3\" deep hinge",51088,51088,null,3,"Selected 3\" rise hinge",null,3,"WC20 Two knobs w/ 3\" rise 3\" deep hinge"]
[null,null,null,null,null,null,null,null,null,"CurvedTooWideMsg=",{"$f":"IF(AND(CURVED,CURVEDKNOBITEM=\"99999\"),\" **Back too wide if curved\",\"\")","v":""},"<-Msg when curved hardware not available for the back width chosen"]
[null,null,"SEAT HARDWARE PICK LIST",null,null,null,null,null,null,"SEATTOOTHICKMSG->"," **seat too thick","<--Message suffix to use when seat thickness exceeds max thickness for hinges"]
[null,null,"SEATHDWDESC",null,null,null,null,null,null,"NOTFORCURVEDMSG=",{"$f":"IF(CURVED,\" **flat back only\",\"\")","v":""},"<--Message suffix to use when invalid for curved back"]
["SEATHDWKIT",19,{"$f":"INDEX(C$68:C$86,SEATHDWKIT)","v":"None"},{"$f":"INDEX(D$68:D$86,SEATHDWKIT)","v":"No"},{"$f":"INDEX(E$68:E$86,SEATHDWKIT)","v":"S"},null,null,null,null,{"$f":"INDEX(J$68:J$86,SEATHDWKIT)","v":0},null,null,null,null,null,{"$f":"INDEX(P$68:P$86,SEATHDWKIT)","v":3}]
[null,null,"Pick List","Item #","SEATHDWID","Prefix","Works?","Will work w/ these back hdw IDs","7/8\" & 1\"?","Retail",null,"Actual Description for 1\" Tube (if available)","Actual Description for 7/8\" Tube  (if available)","1\" Tube#","7/8\" Tube#","OK hashinge?","<- 1=good, 2=works, 3=NR"]
[null,1,{"$f":"F68&CHOOSE(SEATRAILSIZE,M68,L68)","v":"Two wrap around knobs w/ slotted bkts & zero drop hooks"},{"$f":"CHOOSE(SEATRAILSIZE,O68,N68)","v":50467},"A",{"$f":"IF(G68,\"\",\"NA-\")","v":""},{"$f":"IF(ISERR(SEARCH(SEATRAILSIZE,I68,1)),FALSE,IF(BACKSHAPE=1,TRUE,NOT(ISERR(SEARCH(BackHdwID,H68,1)))))","v":true},"ABCDEFGHIJKLMNOWXY123456",12,309,null,"Two wrap around knobs w/ slotted bkts & zero drop hooks","Two wrap around knobs w/ slotted bkts & zero drop hooks",50467,{"$f":"N68","v":50467},2]
[null,2,"Four wrap around knobs w/ slotted brackets",50468,"B",{"$f":"IF(G69,\"\",\"NA-\")","v":""},true,"ABCDEFGHIJKLMNOWXY123456",12,447,null,"Four wrap around knobs w/ slotted brackets","Four wrap around knobs w/ slotted brackets",50468,{"$f":"N69","v":50468},3]
[null,3,"Two knobs w/ slotted bracket & zero drop hooks",50405,"C","",true,"ABCDEFGHIJKLMNOWXY123456",12,266,null,"Two knobs w/ slotted bracket & zero drop hooks","Two knobs w/ slotted bracket & zero drop hooks",50405,50405,2]
[null,4,"Two knobs w/ long slotted bracket & zero drop hooks",50470,"D","",true,"ABCDEFGHIJKLMNOWXY123456",12,266,null,"Two knobs w/ long slotted bracket & zero drop hooks","Two knobs w/ long slotted bracket & zero drop hooks",50470,50470,2]
[null,5,"Zero drop hooks w/ rail locks & hinged collars",50364,"E","",true,"ABCDEFGHIJKLMNOWXY123456",12,164,null,"Zero drop hooks w/ rail locks & hinged collars","Zero drop hooks w/ rail locks & hinged collars",50364,50364,1]
[null,6,"Zero drop hooks w/ front & rear rail locks",50389,"F","",true,"ABCDEFGHIJKLMNOWXY123456",12,164,null,"Zero drop hooks w/ front & rear rail locks","Zero drop hooks w/ front & rear rail locks",50389,50389,3]
[null,7,"Zero drop hooks w/ swingtabs & rail locks",50394,"G","",true,"ABCDEFGHIJKLMNOWXY123456",12,164,null,"Zero drop hooks w/ swingtabs & rail locks","Zero drop hooks w/ swingtabs & rail locks",50394,50394,2]
[null,8,"Zero drop hooks w/ swingtabs & hinged collars",50390,"H","",true,"ABCDEFGHIJKLMNOWXY123456",12,169,null,"Zero drop hooks w/ swingtabs & hinged collars","Zero drop hooks w/ swingtabs & hinged collars",50390,50390,1]
[null,9,"1\" drop hooks w/ rail locks & hinged collars, 1\" tube",50360,"I","",true,"ABCDEFGHIJKLMNOWXY123456",12,164,null,"1\" drop hooks w/ rail locks & hinged collars, 1\" tube","1\" drop hooks w/ rail locks & hinged collars, 7/8\" tube",50360,50357,1]
[null,10,"1\" drop hooks w/ front & rear rail locks, 1\" tube",50480,"J","",true,"ABCDEFGHIJKLMNOWXY123456",12,164,null,"1\" drop hooks w/ front & rear rail locks, 1\" tube","1\" drop hooks w/ front & rear rail locks, 7/8\" tube",50480,50482,3]
[null,11,"1\" drop hooks w/ swingtabs & rail locks, 1\" tube",50398,"K","",true,"ABCDEFGHIJKLMNOWXY123456",12,164,null,"1\" drop hooks w/ swingtabs & rail locks, 1\" tube","1\" drop hooks w/ swingtabs & rail locks, 7/8\" tube",50398,50396,2]
[null,12,"1\" drop hooks w/ swingtabs & hinged collars, 1\" tube",50481,"L","",true,"ABCDEFGHIJKLMNOWXY123456",12,169,null,"1\" drop hooks w/ swingtabs & hinged collars, 1\" tube","1\" drop hooks w/ swingtabs & hinged collars, 7/8\" tube",50481,50483,1]
[null,13,"2\" drop hooks w/ rail locks & hinged collars, 1\" tube",50362,"M","",true,"ABCDEFGHIJKLMNOWXY123456",12,164,null,"2\" drop hooks w/ rail locks & hinged collars, 1\" tube","2\" drop hooks w/ rail locks & hinged collars, 7/8\" tube",50362,50359,1]
[null,14,"2\" drop hooks w/ front & rear rail locks, 1\" tube",50391,"N","",true,"ABCDEFGHIJKLMNOWXY123456",12,164,null,"2\" drop hooks w/ front & rear rail locks, 1\" tube","2\" drop hooks w/ front rail locks & rear rail locks, 7/8\" tube",50391,50484,3]
[null,15,"2\" drop hooks w/ swingtabs & rail locks, 1\" tube",50392,"O","",true,"ABCDEFGHIJKLMNOWXY123456",12,164,null,"2\" drop hooks w/ swingtabs & rail locks, 1\" tube","2\" drop hooks w/ swingtabs & rail locks, 7/8\" tube",50392,50397,2]
[null,16,"2\" drop hooks w/ swingtabs & hinged collars, 1\" tube",50393,"P","",true,"ABCDEFGHIJKLMNOWXY123456",12,169,null,"2\" drop hooks w/ swingtabs & hinged collars, 1\" tube","2\" drop hooks w/ swingtabs & hinged collars, 7/8\" tube",50393,50485,1]
[null,17,"WC20 Two wrap around knobs w/ zero drop hooks",51077,"Q","",true,"PQRSTUVW",12,422,null,"WC20 Two wrap around knobs w/ zero drop hooks","WC20 Two wrap around knobs w/ zero drop hooks",51077,{"$f":"N84","v":51077},1]
[null,18,"WC20 Four wrap around knobs",51078,"R","",true,"PQRSTUVW",12,575,null,"WC20 Four wrap around knobs","WC20 Four wrap around knobs",51078,{"$f":"N85","v":51078},3]
[null,19,"None","No","S",null,true,"ABCDEFGHIJKLMNOPQRSTUVW123456",12,0,null,"None","None","NA","NA",3]

{"sheet":"Laterals","index":7,"n_rows":184,"n_cols":30,"rows_kept":184,"cut":false,"hidden":true,"merged":[[153,17,153,20],[157,17,157,20],[171,17,171,20],[142,28,144,28],[37,1,38,1],[37,2,38,2],[37,3,38,3],[69,7,70,7],[23,17,23,20],[27,17,27,20],[41,17,41,20],[56,17,56,21],[97,17,97,21]]}
[]
[null,null,null,null,null,null,"REQUIRED PARAMETERS",null,"ADDER","VALUE",null,null,null,null,{"$f":"\"For reference, back thickness = \"&BACKTHICK&\" including adder amount\"","v":"For reference, back thickness = 2.125 including adder amount"},{"$f":"\"The adjustment in the back thickness for molded or gel pads is = \"&-GELMOLDADJUST&\" inch (shallower bracket)\"","v":"The adjustment in the back thickness for molded or gel pads is = 0 inch (shallower bracket)"}]
[null,"Table for Curved Back LTS Adaptors",null,null,null,null,"Back thickness at LBW w/ channel (adder used for inner mounts)",null,0.125,{"$f":"IF(BACKSHAPE>1,Seat!$T$50,IF('Pick List'!$Q$236>0,'Pick List'!$Q$236,J6))+I3","v":2.125},{"$f":"IF(BACKSHAPE>1,Seat!$T$50,IF('Pick List'!$Q$236>0,'Pick List'!$Q$236,J6))","v":2},"<-Back thickness (BACKTHICK_P) used in proximals calculation only.  Excludes adder for inner mounts."]
[null,"BACKLBW","ITEM",null,null,null,"LTS pad length",null,null,{"$f":"'Pick List'!$W$273","v":0},null,null,null,null,"SWINGAWAY BRACKET (includes hinge plus extender if req'd)",null,"PRICE","Bracket depends on back width & thickness. Regular & narrow in some cases without extender"]
[null,7,"80778.00",null,null,null,"Back lesser body width (LBW) or assumption entered",null,null,{"$f":"IF(BACKSHAPE=1,'Pick List'!$V$242,Design!$BB$127)","v":0},null,null,null,null,"THICKINDEX/THICKBREAKS",{"$f":"MATCH(BACKTHICK-GELMOLDADJUST,THICKBREAKS)","v":3},null,0,1.5,2,2.5,3,3.5,4,4.5,5,5.5,6,6.5]
[null,8,"80778.00",null,null,null,"Back thickness at LBW to assume if no back and no value entered",null,null,2,null,null,null,null,"Thickness text",{"$f":"INDEX(THICKBREAKS,1,THICKINDEX)&\" in. thick\"","v":"2 in. thick"}]
[null,9,"80778.00",null,null,null,"Pad thickness (based on pad selected and mods)",null,null,1,"<-INPUT","Only used for the estimates of thickness shown below that currently are not used",null,null,"REGULARBACK swingaway",{"$f":"INDEX(REGULARBACK,1,THICKINDEX)","v":50531},null,{"$f":"S7","v":50529},50529,50531,50533,50534,50535,50537,50545,50547,50549,50550,50551]
[null,10,"80777.00",null,null,null,"Pad shape: 1 = flat, 2 = curved",null,null,{"$f":"IF('Pick List'!$C$271,2,1)","v":1},null,null,null,null,"Long description for above","Swingaway brkt"]
[null,11,"80777.00",null,null,null,"Pad type: 1 = foam, 2 = molded, 3=gel",null,null,{"$f":"'Pick List'!$A$271","v":1},null,null,null,null,"Short description for above","=\"Swingaway - \"&$Y$54&\"ness\""]
[null,12,"80776.00",null,null,null,null,null,null,null,null,null,null,null,"NARROWBACK swingaway",{"$f":"INDEX(NARROWBACK,1,THICKINDEX)","v":50530},null,{"$f":"S10","v":50528},50528,50530,50532,50542,50543,50536,50544,50546,50548,50550,50551]
[null,13,"80776.00",null,null,null,"Total of back thickness at LBW + pad length",null,null,{"$f":"BACKTHICK+PADLENGTH","v":2.125},null,"Used to determine if bracket extends beyond end of pad",null,null,"Long description for above","Short swingaway brkt"]
[null,14,"80775.00",null,null,null,"A lesser body width under this amount is considered \"narrow\" (inches)",null,null,9,"<-INPUT","The point at which we switch to the short back brackets (CHANGED FROM 10 TO 9 ON 7-26-18)",null,null,"Short description for above","=\"Short swingaway - \"&$Y$54&\"ness\""]
[null,15,"80775.00",null,null,null,"Back width category: 1 = regular, 2 = narrow (unknown = regular)",null,null,{"$f":"IF(OR(BACKLBW=0,BACKLBW>J12),1,2)","v":1}]
[null,16,"80774.00",null,null,null,null,null,null,null,null,null,null,null,"FIXED BRACKET (includes extender if req'd)",null,"PRICE","Bracket depends on back width & thickness. Regular & narrow are the same in some cases wo/ extender"]
[null,17,"80774.00",null,null,null,"Min pad bracket overlap for chosen pad type (for fixed brkts)",null,null,{"$f":"CHOOSE(PADTYPE,J16,J17,J18)","v":2.75},"inches",null,null,null,"FTHICKINDEX/FTHICKBREAKS",{"$f":"MATCH(BACKTHICK-GELMOLDADJUST,FTHICKBREAKS)","v":3},null,0,1.5,2,2.5,3,3.5,4,4.5,5,5.5,6,6.5,"AA thru AC were 5 until 1-20-22"]
[null,18,"80773.00",null,null,null,"Minimum pad bracket overlap for foam pads (inches)",null,null,2.75,"<-INPUT",null,null,null,"Thickness text",{"$f":"INDEX(THICKBREAKS,1,THICKINDEX)&\" in. thick\"","v":"2 in. thick"}]
[null,19,"80773.00",null,null,null,"Minimum pad bracket overlap for molded pads (inches)",null,0.75,{"$f":"I17*PADLENGTH","v":0},null,null,null,null,"FREGULARBACK fixed",{"$f":"INDEX(FREGULARBACK,1,FTHICKINDEX)","v":50563},null,{"$f":"S17","v":50561},50561,50563,50565,50566,50567,50569,50571,50573,50575,50576,50577]
[null,null,null,null,null,null,"Minimum pad bracket overlap for gel pads (inches)",null,0.75,{"$f":"I18*PADLENGTH","v":0},null,null,null,null,"Long description for above","Fixed mounting brkt"]
[null,"Chosen Adaptor for LBW",null,null,null,null,null,null,null,null,null,null,null,null,"Short description for above","=\"Fixed mount - \"&$Y$64&\"ness\""]
[null,{"$f":"IF(CURVED,IF(AND(BACKLBW>=7,BACKLBW<=19),VLOOKUP(BACKLBW,B5:C17,2),NA()),\"\")","v":""},null,null,null,null,"INNER MOUNT LTS HARDWARE:",null,null,null,null,null,null,null,"FNARROWBACK fixed",{"$f":"INDEX(FNARROWBACK,1,FTHICKINDEX)","v":50562},null,{"$f":"S20","v":50560},50560,50562,50564,50578,50579,50568,50570,50572,50574,50576,50577]
[null,null,null,null,null,null,null,null,null,null,null,null,null,null,"Long description for above","Short fixed mounting brkt"]
[null,null,null,null,null,null,"FIXED OR SWINGAWAY?","DESCRIPTION","PRICE",null,null,"Long Description",null,null,"Short description for above","=\"Short fixed mount - \"&$Y$64&\"ness\""]
[null,null,null,null,null,1,{"$f":"INDEX(G24:G25,$F23)","v":"Fixed"},{"$f":"INDEX(H24:H25,$F23)","v":"Fixed bracket"},{"$f":"INDEX(I24:I25,$F23)","v":88},{"$f":"CHOOSE(F23,J24,J25)","v":50563},null,{"$f":"INDEX(L24:L25,$F23)","v":"Fixed mounting brkt"}]
[null,null,null,null,null,{"$f":"IF(CURVED,2,1)","v":1},{"$f":"IF(CURVED,G25,\"Fixed\")","v":"Fixed"},{"$f":"IF(CURVED,H25,\"Fixed bracket\")","v":"Fixed bracket"},{"$f":"IF(CURVED,I25,88)","v":88},{"$f":"IF(CURVED,J25,IF(BLOCKFIXED,\"NA\",CHOOSE(REGNARROW,$P17,$P20)))","v":50563},null,{"$f":"CHOOSE(REGNARROW,P18,P21)","v":"Fixed mounting brkt"},null,null,"DETERMINING PAD INNER-MOUNT BRACKET LENGTH",null,null,"RANGE OF CHOICES"]
[null,null,null,null,null,2,"Swingaway","Swingaway bracket",180,{"$f":"CHOOSE(REGNARROW,$P7,$P10)","v":50531},null,{"$f":"CHOOSE(REGNARROW,P8,P11)","v":"Swingaway brkt"},null,null,"PADINDEX/PADBREAKS",{"$f":"MATCH(PADLENGTH,PADBREAKS)","v":1},null,0,3,5.0999999999999996,99]
[null,null,null,null,null,null,null,null,null,null,null,null,null,null,"BRKTLTEXT",{"$f":"INDEX(R26:U26,1,PADINDEX)","v":"3 in."},null,"3 in.","3 in.","5 in.","5 in."]
[null,null,null,null,null,null,"Pad attaching brackets:",null,"Est. LBW (not used)",null,"Opposite",null,"Opposite","Retail price",null,null,null,null,null,null,null,null,null,null,"Insert brackets for FLAT 3x5 pads by PADTYPE"]
[null,null,null,null,null,"O  ","Flush bracket",null,{"$f":"BACKLBW-2*V29-2*PADTHICK","v":-2},{"$f":"CHOOSE(FLATORCURV,P29,P43)","v":50500},{"$f":"CHOOSE(FLATORCURV,P43,P29)","v":50520},{"$f":"CHOOSE(FLATORCURV,$P30,$P44)","v":"Flat inner mount flush bracket, 3 in."},{"$f":"CHOOSE(FLATORCURV,$P44,$P30)","v":"Curved inner mount flush bracket, 3 in."},{"$f":"'Pick List'!AA244","v":31},"FLAT INNER-MOUNT PAD ATTACHING BRACKETS",null,"PRICE","RANGE OF CHOICES",null,null,null,"OFFSET",null,null,null,"1=foam","2=molded","3=gel"]
[null,null,null,null,null,"O  ","1/2 in. offset bracket",null,{"$f":"BACKLBW-2*V32-2*PADTHICK","v":-3},{"$f":"CHOOSE(FLATORCURV,P32,P46)","v":50502},{"$f":"CHOOSE(FLATORCURV,P46,P32)","v":50522},{"$f":"CHOOSE(FLATORCURV,$P33,$P47)","v":"Flat inner mount 1/2 in. offset bracket, 3 in."},{"$f":"CHOOSE(FLATORCURV,$P47,$P33)","v":"Curved inner mount 1/2 in. offset bracket, 3 in."},{"$f":"'Pick List'!AA245","v":31},"FLATFLUSH",{"$f":"INDEX(FLATFLUSH,1,PADINDEX)","v":50500},31,{"$f":"S29","v":50500},{"$f":"CHOOSE(PADTYPE,Z29,AA29,AB29)","v":50500},50501,{"$f":"T29","v":50501},0,null,null,null,50500,50500,50538]
[null,null,null,null,null,"O  ","1 in. offset bracket",null,{"$f":"BACKLBW-2*V35-2*PADTHICK","v":-4},{"$f":"CHOOSE(FLATORCURV,P35,P49)","v":50504},{"$f":"CHOOSE(FLATORCURV,P49,P35)","v":50524},{"$f":"CHOOSE(FLATORCURV,$P36,$P50)","v":"Flat inner mount 1 in. offset bracket, 3 in."},{"$f":"CHOOSE(FLATORCURV,$P50,$P36)","v":"Curved inner mount 1 in. offset bracket, 3 in."},{"$f":"'Pick List'!AA246","v":31},"Long description for above",{"$f":"\"Flat inner mount flush bracket, \"&BRKTLTEXT","v":"Flat inner mount flush bracket, 3 in."}]
[null,null,null,null,null,"O  ","2 in. offset bracket",null,{"$f":"BACKLBW-2*V38-2*PADTHICK","v":-6},{"$f":"CHOOSE(FLATORCURV,P38,P52)","v":50506},{"$f":"CHOOSE(FLATORCURV,P52,P38)","v":50526},{"$f":"CHOOSE(FLATORCURV,$P39,$P53)","v":"Flat inner mount 2 in. offset bracket, 3 in."},{"$f":"CHOOSE(FLATORCURV,$P53,$P39)","v":"Curved inner mount 2 in. offset bracket, 3 in."},{"$f":"'Pick List'!AA247","v":31},"Short description for above",{"$f":"\"Flat flush, \"&BRKTLTEXT","v":"Flat flush, 3 in."}]
[null,null,null,null,null,null,null,null,null,null,null,null,null,null,"FLATHALF",{"$f":"INDEX(FLATHALF,1,PADINDEX)","v":50502},31,{"$f":"S32","v":50502},{"$f":"CHOOSE(PADTYPE,Z32,AA32,AB32)","v":50502},50503,{"$f":"T32","v":50503},0.5,null,null,null,50502,50502,50539]
[null,null,null,null,null,null,"ATTACHMENT?","DESCRIPTION","PRICE",null,null,"Export description",null,null,"Long description for above",{"$f":"\"Flat inner mount 1/2 in. offset bracket, \"&BRKTLTEXT","v":"Flat inner mount 1/2 in. offset bracket, 3 in."}]
[null,null,null,null,null,1,{"$f":"INDEX(G35:G37,$F34)","v":"None"},{"$f":"INDEX(H35:H37,$F34)","v":"None"},{"$f":"INDEX(I35:I37,$F34)","v":0},{"$f":"INDEX(J35:J37,F34)","v":" "},null,{"$f":"INDEX(L35:L37,$F34)","v":0},null,null,"Short description for above",{"$f":"\"Flat 1/2 offset, \"&BRKTLTEXT","v":"Flat 1/2 offset, 3 in."}]
[null,null,null,null,null,1,"None","None",null," ",null,null,null,null,"FLATONE",{"$f":"INDEX(FLATONE,1,PADINDEX)","v":50504},31,{"$f":"S35","v":50504},{"$f":"CHOOSE(PADTYPE,Z35,AA35,AB35)","v":50504},50505,{"$f":"T35","v":50505},1,null,null,null,50504,50504,50540]
[null,null,null,null,null,2,"Pin-style Summer/Winter","Pin-style summer-winter attachment",93,50325,null,"LTS pin style",null,null,"Long description for above",{"$f":"\"Flat inner mount 1 in. offset bracket, \"&BRKTLTEXT","v":"Flat inner mount 1 in. offset bracket, 3 in."}]
[null,null,null,null,null,3,"Low Profile Summer/Winter","Low-profile summer-winter attachment",68,50324,null,"LTS sliding",null,null,"Short description for above",{"$f":"\"Flat 1 offset, \"&BRKTLTEXT","v":"Flat 1 offset, 3 in."}]
[null,"un-avail","Too Long?","Reach err?"," ",null,null,null,null,null,null,null,null,null,"FLATTWO",{"$f":"INDEX(FLATTWO,1,PADINDEX)","v":50506},31,{"$f":"S38","v":50506},{"$f":"CHOOSE(PADTYPE,Z38,AA38,AB38)","v":50506},50507,{"$f":"T38","v":50507},2,null,null,null,50506,50506,50541]
[null,null,null,null," ",null,null,null,null,null,null,null,null,null,"Long description for above",{"$f":"\"Flat inner mount 2 in. offset bracket, \"&BRKTLTEXT","v":"Flat inner mount 2 in. offset bracket, 3 in."}]
[null,null,null,null,null,null,"ECONOMY FIXED LTS HARDWARE:",null,"Est. LBW (not used)",null,null,null,null,null,"Short description for above",{"$f":"\"Flat 2 offset, \"&BRKTLTEXT","v":"Flat 2 offset, 3 in."}]
[null,null,null,null,null,null,null,null,null,null,"Opposite",null,"Opposite","Retail price",null,null,null,null,null,null,null,null,null,null,"Insert brackets for CURVED 3x5 pads by PADTYPE"]
[null,{"$f":"AND(PADTYPE=1,FLATORCURV<>1)","v":false},{"$f":"P63","v":true},{"$f":"P61","v":false},null,"O  ","Fixed flush bracket",{"$f":"IF($B$42,\"N/A for curved, molded or gel pads\",IF(D42,\"bracket not long enough\",IF(C42,\"bracket too long for pad\",\"\")))","v":"bracket too long for pad"},{"$f":"BACKLBW-2*W64-2*PADTHICK","v":-2},{"$f":"IF($B$42,\"N/A\",CHOOSE(FLATORCURV,$P64,$P105))","v":50171},{"$f":"IF($B$42,\"N/A\",CHOOSE(FLATORCURV,$P105,$P64))","v":99999},{"$f":"CHOOSE(FLATORCURV,$P65,$P106)","v":"Fixed flat bracket, 5 in."},{"$f":"CHOOSE(FLATORCURV,$P106,$P65)","v":"Fixed curved bracket, 5 in."},{"$f":"'Pick List'!AA262","v":22},"CURVED INNER-MOUNT PAD ATTACHING BRACKETS",null,"PRICE","RANGE OF CHOICES",null,null,null,null,null,null,null,"1=foam","2=molded","3=gel"]
[null,{"$f":"OR(AND(PADTYPE=1,FLATORCURV<>1),PADTYPE=2,PADTYPE=3)","v":false},{"$f":"P73","v":true},{"$f":"P71","v":false},null,"O  ","Fixed 1/2 in. offset bracket",{"$f":"IF($B43,\"N/A for curved, molded or gel pads\",IF(D43,\"bracket not long enough\",IF(C43,\"bracket too long for pad\",\"\")))","v":"bracket too long for pad"},{"$f":"BACKLBW-2*W74-2*PADTHICK","v":-3},{"$f":"IF(OR($B43,$C$43,$D$43),\"N/A\",CHOOSE(FLATORCURV,$P74,$P115))","v":"N/A"},{"$f":"IF(OR($B43,$C$43,$D$43),\"N/A\",CHOOSE(FLATORCURV,$P105,$P64))","v":"N/A"},{"$f":"CHOOSE(FLATORCURV,$P75,$P116)","v":"Fixed flat 1/2 in. offset bracket, 6 in."},{"$f":"CHOOSE(FLATORCURV,$P116,$P75)","v":"Fixed curved 1/2 in. offset bracket, 6 in."},{"$f":"'Pick List'!AA263","v":22},"CURVFLUSH",{"$f":"INDEX(CURVFLUSH,1,PADINDEX)","v":50520},31,{"$f":"S43","v":50520},{"$f":"CHOOSE(PADTYPE,Z43,AA43,AB43)","v":50520},50521,{"$f":"T43","v":50521},null,0,null,null,50520,50520,50581]
[null,{"$f":"OR(AND(PADTYPE=1,FLATORCURV<>1),PADTYPE=2,PADTYPE=3)","v":false},{"$f":"P83","v":true},{"$f":"P81","v":false},null,"O  ","Fixed 1 in. offset bracket",{"$f":"IF($B44,\"N/A for curved, molded or gel pads\",IF(D44,\"bracket not long enough\",IF(C44,\"bracket too long for pad\",\"\")))","v":"bracket too long for pad"},{"$f":"BACKLBW-2*W84-2*PADTHICK","v":-4},{"$f":"IF(OR($B44,$C$44,$D$44),\"N/A\",CHOOSE(FLATORCURV,$P84,$P125))","v":"N/A"},{"$f":"IF(OR($B44,$C$44,$D$44),\"N/A\",CHOOSE(FLATORCURV,$P125,$P84))","v":"N/A"},{"$f":"CHOOSE(FLATORCURV,$P85,$P126)","v":"Fixed flat 1 in. offset bracket, 6 in."},{"$f":"CHOOSE(FLATORCURV,$P126,$P85)","v":"Fixed curved 1 in. offset bracket, 6 in."},{"$f":"'Pick List'!AA264","v":22},"Long description for above",{"$f":"\"Curved inner mount flush bracket, \"&BRKTLTEXT","v":"Curved inner mount flush bracket, 3 in."}]
[null,{"$f":"OR(AND(PADTYPE=1,FLATORCURV<>1),PADTYPE=2,PADTYPE=3)","v":false},{"$f":"P93","v":true},{"$f":"P91","v":false},null,"O  ","Fixed 2 in. offset bracket",{"$f":"IF($B45,\"N/A for curved, molded or gel pads\",IF(D45,\"bracket not long enough\",IF(C45,\"bracket too long for pad\",\"\")))","v":"bracket too long for pad"},{"$f":"BACKLBW-2*W94-2*PADTHICK","v":-6},{"$f":"IF(OR($B45,$C$45,$D$45),\"N/A\",CHOOSE(FLATORCURV,$P94,$P135))","v":"N/A"},{"$f":"IF(OR($B45,$C$45,$D$45),\"N/A\",CHOOSE(FLATORCURV,$P135,$P94))","v":"N/A"},{"$f":"CHOOSE(FLATORCURV,$P95,$P136)","v":"Fixed flat 2 in. offset bracket, 6 in."},{"$f":"CHOOSE(FLATORCURV,$P136,$P95)","v":"Fixed curved 2 in. offset bracket, 6 in."},{"$f":"'Pick List'!AA265","v":68},"Short description for above",{"$f":"\"Curved flush, \"&BRKTLTEXT","v":"Curved flush, 3 in."}]
[null,null,null,null,null,null,null,null,null,null,null,null,null,null,"CURVHALF",{"$f":"INDEX(CURVHALF,1,PADINDEX)","v":50522},31,{"$f":"S46","v":50522},{"$f":"CHOOSE(PADTYPE,Z46,AA46,AB46)","v":50522},50523,{"$f":"T46","v":50523},null,0.5,null,null,50522,50522,50582]
[null,null,null,null,null,null,null,null,null,null,null,null,null,null,"Long description for above",{"$f":"\"Curved inner mount 1/2 in. offset bracket, \"&BRKTLTEXT","v":"Curved inner mount 1/2 in. offset bracket, 3 in."}]
[null,null,null,null,null,null,"PROXIMAL SWINGAWAY LATERAL HARDWARE",null,null,null,null,null,null,null,"Short description for above",{"$f":"\"Curved 1/2 offset, \"&BRKTLTEXT","v":"Curved 1/2 offset, 3 in."}]
[null,null,null,null,null,null,null,null,null,null,null,null,null,null,"CURVONE",{"$f":"INDEX(CURVONE,1,PADINDEX)","v":50524},31,{"$f":"S49","v":50524},{"$f":"CHOOSE(PADTYPE,Z49,AA49,AB49)","v":50524},50525,{"$f":"T49","v":50525},null,1,null,null,50524,50524,50583]
[null,null,null,null,null,null,"SWINGAWAY","DESCRIPTION","PRICE",null,null,"Long Description",null,null,"Long description for above",{"$f":"\"Curved inner mount 1 in. offset bracket, \"&BRKTLTEXT","v":"Curved inner mount 1 in. offset bracket, 3 in."}]
[null,null,null,null,null,null,"Proximal Swingaway","Proximal Swingaway bracket",0,{"$f":"CHOOSE(REGNARROW,$P148,$P150)","v":50633},null,{"$f":"CHOOSE(REGNARROW,P149,P151)","v":"Proximal Swingaway brkt"},null,null,"Short description for above",{"$f":"\"Curved 1 offset, \"&BRKTLTEXT","v":"Curved 1 offset, 3 in."}]
[null,null,null,null,null,null,null,null,"The price is in the 70138 price holder",null,null,null,null,null,"CURVTWO",{"$f":"INDEX(CURVTWO,1,PADINDEX)","v":50526},31,{"$f":"S52","v":50526},{"$f":"CHOOSE(PADTYPE,Z52,AA52,AB52)","v":50526},50527,{"$f":"T52","v":50527},null,2,null,null,50526,50526,50584]
[null,null,null,null,null,null,null,null,null,null,null,null,null,null,"Long description for above",{"$f":"\"Curved inner mount 2 in. offset bracket, \"&BRKTLTEXT","v":"Curved inner mount 2 in. offset bracket, 3 in."}]
[null,null,null,null,null,null,null,null,null,null,null,null,null,null,"Short description for above",{"$f":"\"Curved 2 offset, \"&BRKTLTEXT","v":"Curved 2 offset, 3 in."}]
[null,null,null,null,null,null,"Pad attaching brackets:",null,"Est. LBW (not used)",null,"Opposite",null,"Opposite"]
[null,null,null,null,null,"O  ","Flush bracket",null,{"$f":"BACKLBW-2*V159-2*PADTHICK","v":-2},{"$f":"CHOOSE(FLATORCURV,$P159,$P173)","v":50650},{"$f":"CHOOSE(FLATORCURV,$P173,$P159)","v":50658},{"$f":"CHOOSE(FLATORCURV,$P160,$P174)","v":"Flat flush bracket, 3 in."},{"$f":"CHOOSE(FLATORCURV,$P174,$P160)","v":"Curved flush bracket, 3 in."}]
[null,null,null,null,null,"O  ","1/2 in. offset bracket",null,{"$f":"BACKLBW-2*V162-2*PADTHICK","v":-3},{"$f":"CHOOSE(FLATORCURV,$P162,$P176)","v":50652},{"$f":"CHOOSE(FLATORCURV,$P176,$P162)","v":50660},{"$f":"CHOOSE(FLATORCURV,$P163,$P177)","v":"Flat 1/2 in. offset bracket, 3 in."},{"$f":"CHOOSE(FLATORCURV,$P177,$P163)","v":"Curved 1/2 in. offset bracket, 3 in."},null,"FLAT FIXED BRACKETS","CHOSEN","PRICE","RANGE OF CHOICES",null,null,null,null,"OFFSET"]
[null,null,null,null,null,"O  ","1 in. offset bracket",null,{"$f":"BACKLBW-2*V165-2*PADTHICK","v":-4},{"$f":"CHOOSE(FLATORCURV,$P165,$P179)","v":50654},{"$f":"CHOOSE(FLATORCURV,$P179,$P165)","v":50662},{"$f":"CHOOSE(FLATORCURV,$P166,$P180)","v":"Flat 1 in. offset bracket, 3 in."},{"$f":"CHOOSE(FLATORCURV,$P180,$P166)","v":"Curved 1 in. offset bracket, 3 in."},null,"Initial bracket choice before length test",{"$f":"MATCH(BACKTHICK+MINPADOVR,R58:V58)","v":1},null,0,5,6,8,8.1]
[null,null,null,null,null,"O  ","2 in. offset bracket",null,{"$f":"BACKLBW-2*V168-2*PADTHICK","v":-6},{"$f":"CHOOSE(FLATORCURV,$P168,$P182)","v":50656},{"$f":"CHOOSE(FLATORCURV,$P182,$P168)","v":50664},{"$f":"CHOOSE(FLATORCURV,$P169,$P183)","v":"Flat 2 in. offset bracket, 3 in."},{"$f":"CHOOSE(FLATORCURV,$P183,$P169)","v":"Curved 2 in. offset bracket, 3 in."},null,"Is brkt length < BT + minpadovr?",{"$f":"INDEX(R59:V59,1,P58)","v":false},null,{"$f":"S59","v":false},{"$f":"S58<(BACKTHICK+MINPADOVR)","v":false},{"$f":"T58<(BACKTHICK+MINPADOVR)","v":false},{"$f":"U58<(BACKTHICK+MINPADOVR)","v":false},{"$f":"U59","v":false}]
[null,null,null,null,null,null,null,null,null,null,null,null,null,null,"Revised index to length break",{"$f":"IF(P59,CHOOSE(P58,2,3,4,5,5),P58)","v":1}]
[null,null,null,null,null,null,"ATTACHMENT?","DESCRIPTION","PRICE",null,null,"Export description",null,null,"Is revised brkt length < BT+minpadovr?",{"$f":"INDEX(R59:V59,1,P60)","v":false}]
[null,null,null,null,null,1,{"$f":"INDEX(G63:G65,$F62)","v":"None"},{"$f":"INDEX(H63:H65,$F62)","v":"None"},{"$f":"INDEX(I63:I65,$F62)","v":0},{"$f":"INDEX(J63:J65,F62)","v":" "},null,{"$f":"INDEX(L63:L65,$F62)","v":0},null,null,"Bracket length text",{"$f":"INDEX(R62:V62,1,P60)","v":"5 in."},null,"5 in.","5 in.","6 in.","8 in.","8 in."]
[null,null,null,null,null,1,"None","None",null," ",null,null,null,null,"Is length > back thickness + pad length?",{"$f":"INDEX(R63:V63,1,P60)","v":true},null,{"$f":"S63","v":true},{"$f":"S58>LTSLENGTH","v":true},{"$f":"T58>LTSLENGTH","v":true},{"$f":"U58>LTSLENGTH","v":true},{"$f":"U63","v":true}]
[null,null,null,null,null,2,"Pin-style Summer/Winter","Pin-style summer-winter attachment",93,50325,null,"LTS pin style",null,null,"FIXFLAT",{"$f":"INDEX(R64:V64,1,P60)","v":50171},22,50171,50171,50172,50173,50173,0]
[null,null,null,null,null,3,"Low Profile Summer/Winter","Low-profile summer-winter attachment",68,50324,null,"LTS sliding",null,null,"Long description for above",{"$f":"\"Fixed flat bracket, \"&P62","v":"Fixed flat bracket, 5 in."}]
[null,null,null,null,null,null,null,null,null,null,null,null,null,null,"Short description for above",{"$f":"\"Fixed flat, \"&P62","v":"Fixed flat, 5 in."}]
[null,null,null,null,null,null,null,null,null,null,null,null,null,null,"Initial thickness test before reach test",{"$f":"MATCH(BACKTHICK,R69:V69)","v":3},null,0,{"$f":"IF(PADLENGTH<=5,4,5)","v":4},{"$f":"IF(PADLENGTH<=5,4,5)","v":4},6,6]
[null,null,null,null,null,null,null,"TABLE TO DETERMINE OPPOSITE (FLAT/CURVED) PAD",null,null,null,null,null,null,"Is brkt length < BT + minpadovr?",{"$f":"INDEX(R68:V68,1,P67)","v":true},null,{"$f":"S68","v":true},{"$f":"S67<(BACKTHICK+MINPADOVR)","v":true},{"$f":"T67<(BACKTHICK+MINPADOVR)","v":true},{"$f":"U67<(BACKTHICK+MINPADOVR)","v":false},{"$f":"U68","v":false}]
[null,null,null,null,null,null,null,"(Used when customer wants opposite pad on other side",null,null,null,null,null,null,"Revised index to length break",{"$f":"IF(P68,CHOOSE(P67,2,4,4,5,5),P67)","v":4},null,0,0,2,2.2999999999999998,3.1]
[null,null,null,null,null,null,null,"If the numbers for custom pads change you must change these too","50051","50056","Curved 3 x 4 pad",null,null,null,"Is revised brkt length < BT+minpadovr?",{"$f":"INDEX(R68:V68,1,P69)","v":false}]
[null,null,null,null,null,null,null,null,"50052","50057","Curved 3 x 5 pad",null,null,null,"Back thickness > bracket reach",{"$f":"INDEX(R71:V71,1,P69)","v":false},null,{"$f":"S71","v":false},{"$f":"BACKTHICK>2.25","v":false},{"$f":"BACKTHICK>2.25","v":false},{"$f":"BACKTHICK>3","v":false},true]
[null,null,null,null,null,null,null,null,"50053","50058","Curved 4 x 5 pad",null,null,null,"Bracket length text",{"$f":"INDEX(R72:V72,1,P69)","v":"6 in."},null,{"$f":"S72","v":"4 in."},{"$f":"IF(PADLENGTH<=5,\"4 in.\",\"5 in.\")","v":"4 in."},{"$f":"IF(PADLENGTH<=5,\"4 in.\",\"5 in.\")","v":"4 in."},"6 in.","6 in."]
[null,null,null,null,null,null,null,null,"50054","50059","Curved 4 x 6 pad",null,null,null,"Is length > back thickness + pad length?",{"$f":"INDEX(R73:V73,1,P69)","v":true},null,{"$f":"S73","v":true},{"$f":"S67>LTSLENGTH","v":true},{"$f":"T67>LTSLENGTH","v":true},{"$f":"U67>LTSLENGTH","v":true},{"$f":"U73","v":true}]
[null,null,null,null,null,null,null,null,"50028","50029","Curved 5 x 5 pad",null,null,null,"FIXFLATHALF",{"$f":"INDEX(R74:V74,1,P69)","v":99999},99,{"$f":"S74","v":"99999"},{"$f":"IF(PADLENGTH<=5,\"99999\",\"99999\")","v":"99999"},{"$f":"IF(PADLENGTH<=5,\"99999\",\"99999\")","v":"99999"},99999,99999,0.5]
[null,null,null,null,null,null,null,null,"50038","50039","Curved 5 x 6 pad",null,null,null,"Long description for above",{"$f":"\"Fixed flat 1/2 in. offset bracket, \"&P72","v":"Fixed flat 1/2 in. offset bracket, 6 in."}]
[null,null,null,null,null,null,null,null,"50055","50060",{"$f":"SUBSTITUTE(SUBSTITUTE('Pick List'!$AO$272,\"Flat\",\"Curved\"),\"LTS: \",\"\")","v":""},null,null,null,"Short description for above",{"$f":"\"Fixed flat 1/2 offset, \"&P72","v":"Fixed flat 1/2 offset, 6 in."}]
[null,null,null,null,null,null,null,null,"50056","50051","Flat 3 x 4 pad",null,null,null,"Initial thickness test before reach test",{"$f":"MATCH(BACKTHICK,R79:V79)","v":3},null,0,{"$f":"IF(PADLENGTH<=5,4,5)","v":4},{"$f":"IF(PADLENGTH<=5,4,5)","v":4},6,6]
[null,null,null,null,null,null,null,null,"50057","50052","Flat 3 x 5 pad",null,null,null,"Is brkt length < BT + minpadovr?",{"$f":"INDEX(R78:V78,1,P77)","v":true},null,{"$f":"S78","v":true},{"$f":"S77<(BACKTHICK+MINPADOVR)","v":true},{"$f":"T77<(BACKTHICK+MINPADOVR)","v":true},{"$f":"U77<(BACKTHICK+MINPADOVR)","v":false},{"$f":"U78","v":false}]
[null,null,null,null,null,null,null,null,"50058","50053","Flat 4 x 5 pad",null,null,null,"Revised index to length break",{"$f":"IF(P78,CHOOSE(P77,2,4,4,5,5),P77)","v":4},null,0,0,2,2.2999999999999998,3.1]
[null,null,null,null,null,null,null,null,"50059","50054","Flat 4 x 6 pad",null,null,null,"Is revised brkt length < BT+minpadovr?",{"$f":"INDEX(R78:V78,1,P79)","v":false}]
[null,null,null,null,null,null,null,null,"50029","50028","Flat 5 x 5 pad",null,null,null,"Back thickness > bracket reach",{"$f":"INDEX(R81:V81,1,P79)","v":false},null,{"$f":"S81","v":false},{"$f":"BACKTHICK>2.25","v":false},{"$f":"BACKTHICK>2.25","v":false},{"$f":"BACKTHICK>3","v":false},true]
[null,null,null,null,null,null,null,null,"50039","50038","Flat 5 x 6 pad",null,null,null,"Bracket length text",{"$f":"INDEX(R82:V82,1,P79)","v":"6 in."},null,{"$f":"S82","v":"4 in."},{"$f":"IF(PADLENGTH<=5,\"4 in.\",\"5 in.\")","v":"4 in."},{"$f":"IF(PADLENGTH<=5,\"4 in.\",\"5 in.\")","v":"4 in."},"6 in.","6 in."]
[null,null,null,null,null,null,null,null,"50060","50055",{"$f":"SUBSTITUTE(SUBSTITUTE('Pick List'!$AO$272,\"Curved\",\"Flat\"),\"LTS: \",\"\")","v":""},null,null,null,"Is length > back thickness + pad length?",{"$f":"INDEX(R83:V83,1,P79)","v":true},null,{"$f":"S83","v":true},{"$f":"S77>LTSLENGTH","v":true},{"$f":"T77>LTSLENGTH","v":true},{"$f":"U77>LTSLENGTH","v":true},{"$f":"U83","v":true}]
[null,null,null,null,null,null,null,null,"50600","50610","TrU-Spec Curved 3 x 4 pad",null,null,null,"FIXFLATONE",{"$f":"INDEX(R84:V84,1,P79)","v":50179},22,{"$f":"S84","v":"50175"},{"$f":"IF(PADLENGTH<=5,\"50175\",\"50176\")","v":"50175"},{"$f":"IF(PADLENGTH<=5,\"50175\",\"50176\")","v":"50175"},50179,50179,1]
[null,null,null,null,null,null,null,null,"50601","50611","TrU-Spec Curved 3 x 5 pad",null,null,null,"Long description for above",{"$f":"\"Fixed flat 1 in. offset bracket, \"&P82","v":"Fixed flat 1 in. offset bracket, 6 in."}]
[null,null,null,null,null,null,null,null,"50602","50612","TrU-Spec Curved 4 x 5 pad",null,null,null,"Short description for above",{"$f":"\"Fixed flat 1 offset, \"&P82","v":"Fixed flat 1 offset, 6 in."}]
[null,null,null,null,null,null,null,null,"50603","50613","TrU-Spec Curved 4 x 6 pad",null,null,null,"Initial thickness test before reach test",{"$f":"MATCH(BACKTHICK,R89:V89)","v":3},null,0,{"$f":"IF(PADLENGTH<=5,4,5)","v":4},{"$f":"IF(PADLENGTH<=5,4,5)","v":4},6,6]
[null,null,null,null,null,null,null,null,"50604","50614","TrU-Spec Curved 5 x 5 pad",null,null,null,"Is brkt length < BT + minpadovr?",{"$f":"INDEX(R88:V88,1,P87)","v":true},null,{"$f":"S88","v":true},{"$f":"S87<(BACKTHICK+MINPADOVR)","v":true},{"$f":"T87<(BACKTHICK+MINPADOVR)","v":true},{"$f":"U87<(BACKTHICK+MINPADOVR)","v":false},{"$f":"U88","v":false}]
[null,null,null,null,null,null,null,null,"50605","50615","TrU-Spec Curved 5 x 6 pad",null,null,null,"Revised index to length break",{"$f":"IF(P88,CHOOSE(P87,2,4,4,5,5),P87)","v":4},null,0,0,2,2.2999999999999998,3.1]
[null,null,null,null,null,null,null,null,"50610","50600","TrU-Spec Flat 3 x 4 pad",null,null,null,"Is revised brkt length < BT+minpadovr?",{"$f":"INDEX(R88:V88,1,P89)","v":false}]
[null,null,null,null,null,null,null,null,"50611","50601","TrU-Spec Flat 3 x 5 pad",null,null,null,"Back thickness > bracket reach",{"$f":"INDEX(R91:V91,1,P89)","v":false},null,{"$f":"S91","v":false},{"$f":"BACKTHICK>2.25","v":false},{"$f":"BACKTHICK>2.25","v":false},{"$f":"BACKTHICK>3","v":false},true]
[null,null,null,null,null,null,null,null,"50612","50602","TrU-Spec Flat 4 x 5 pad",null,null,null,"Bracket length text",{"$f":"INDEX(R92:V92,1,P89)","v":"6 in."},null,{"$f":"S92","v":"4 in."},{"$f":"IF(PADLENGTH<=5,\"4 in.\",\"5 in.\")","v":"4 in."},{"$f":"IF(PADLENGTH<=5,\"4 in.\",\"5 in.\")","v":"4 in."},"6 in.","6 in."]
[null,null,null,null,null,null,null,null,"50613","50603","TrU-Spec Flat 4 x 6 pad",null,null,null,"Is length > back thickness + pad length?",{"$f":"INDEX(R93:V93,1,P89)","v":true},null,{"$f":"S93","v":true},{"$f":"S87>LTSLENGTH","v":true},{"$f":"T87>LTSLENGTH","v":true},{"$f":"U87>LTSLENGTH","v":true},{"$f":"U93","v":true}]
[null,null,null,null,null,null,null,null,"50614","50604","TrU-Spec Flat 5 x 5 pad",null,null,null,"FLXFLATTWO",{"$f":"INDEX(R94:V94,1,P89)","v":50181},22,50166,{"$f":"IF(PADLENGTH<=5,\"50166\",\"50167\")","v":"50166"},{"$f":"IF(PADLENGTH<=5,\"50166\",\"50167\")","v":"50166"},50181,50181,2]
[null,null,null,null,null,null,null,null,"50615","50605","TrU-Spec Flat 5 x 6 pad",null,null,null,"Long description for above",{"$f":"\"Fixed flat 2 in. offset bracket, \"&P92","v":"Fixed flat 2 in. offset bracket, 6 in."}]
[null,null,null,null,null,null,null,null,{"$f":"'Pick List'!O291","v":"50061"},{"$f":"'Pick List'!X291","v":"50064"},"Molded Curved 3 x 6 pad",null,null,null,"Short description for above",{"$f":"\"Fixed flat 2 offset, \"&P92","v":"Fixed flat 2 offset, 6 in."}]
[null,null,null,null,null,null,null,null,{"$f":"'Pick List'!O292","v":"50062"},{"$f":"'Pick List'!X292","v":"50065"},"Molded Curved 4 x 7 pad"]
[null,null,null,null,null,null,null,null,{"$f":"'Pick List'!O295","v":"50141"},{"$f":"'Pick List'!X295","v":"50142"},"Gel Curved 3 x 5 pad",null,null,null,"CURVED FIXED BRACKETS","CHOSEN","PRICE","RANGE OF CHOICES"]
[null,null,null,null,null,null,null,null,{"$f":"'Pick List'!O296","v":"NA"},{"$f":"'Pick List'!X296","v":"NA"},"Gel Curved 4 x 6 pad",null,null,null,"Initial bracket choice before length test",{"$f":"MATCH(BACKTHICK+MINPADOVR,R99:V99)","v":1},null,0,5,6,8,8.1]
[null,null,null,null,null,null,null,null,{"$f":"'Pick List'!X291","v":"50064"},{"$f":"'Pick List'!O291","v":"50061"},"Molded Flat 3 x 6 pad",null,null,null,"Is brkt length < BT + minpadovr?",{"$f":"INDEX(R100:V100,1,P99)","v":false},null,{"$f":"S100","v":false},{"$f":"S99<(BACKTHICK+MINPADOVR)","v":false},{"$f":"T99<(BACKTHICK+MINPADOVR)","v":false},{"$f":"U99<(BACKTHICK+MINPADOVR)","v":false},{"$f":"U100","v":false}]
[null,null,null,null,null,null,null,null,{"$f":"'Pick List'!X292","v":"50065"},{"$f":"'Pick List'!O292","v":"50062"},"Molded Flat 4 x 7 pad",null,null,null,"Revised index to length break",{"$f":"IF(P100,CHOOSE(P99,2,3,4,5,5),P99)","v":1}]
[null,null,null,null,null,null,null,null,{"$f":"'Pick List'!X295","v":"50142"},{"$f":"'Pick List'!O295","v":"50141"},"Gel Flat 3 x 5 pad",null,null,null,"Is revised brkt length < BT+minpadovr?",{"$f":"INDEX(R100:V100,1,P101)","v":false}]
[null,null,null,null,null,null,null,null,{"$f":"'Pick List'!X296","v":"NA"},{"$f":"'Pick List'!O296","v":"NA"},"Gel Flat 4 x 6 pad",null,null,null,"Bracket length text",{"$f":"INDEX(R103:V103,1,P101)","v":"5 in."},null,"5 in.","5 in.","6 in.","8 in.","8 in."]
[null,null,null,null,null,null,null,null,null,null,null,null,null,null,"Is length > back thickness + pad length?",{"$f":"INDEX(R104:V104,1,P101)","v":true},null,{"$f":"S104","v":true},{"$f":"S99>LTSLENGTH","v":true},{"$f":"T99>LTSLENGTH","v":true},{"$f":"U99>LTSLENGTH","v":true},{"$f":"U104","v":true}]
[null,null,null,null,null,null,null,null,null,null,null,null,null,null,"FIXCURV",{"$f":"INDEX(R105:V105,1,P101)","v":99999},99,99999,99999,99999,99999,99999,0]
[null,null,null,null,null,null,null,null,null,null,null,null,null,null,"Long description for above",{"$f":"\"Fixed curved bracket, \"&P103","v":"Fixed curved bracket, 5 in."}]
[null,null,null,null,null,null,null,null,null,null,null,null,null,null,"Short description for above",{"$f":"\"Fixed curved, \"&P103","v":"Fixed curved, 5 in."}]
[null,null,null,null,null,null,null,null,null,null,null,null,null,null,"Initial thickness test before reach test",{"$f":"MATCH(BACKTHICK,R110:V110)","v":3},null,0,{"$f":"IF(PADLENGTH<=5,4,5)","v":4},{"$f":"IF(PADLENGTH<=5,4,5)","v":4},6,6]
[null,null,null,null,null,null,null,null,null,null,null,null,null,null,"Is brkt length < BT + minpadovr?",{"$f":"INDEX(R109:V109,1,P108)","v":true},null,{"$f":"S109","v":true},{"$f":"S108<(BACKTHICK+MINPADOVR)","v":true},{"$f":"T108<(BACKTHICK+MINPADOVR)","v":true},{"$f":"U108<(BACKTHICK+MINPADOVR)","v":false},{"$f":"U109","v":false}]
[null,null,null,null,null,null,null,null,null,null,null,null,null,null,"Revised index to length break",{"$f":"IF(P109,CHOOSE(P108,2,4,4,5,5),P108)","v":4},null,0,0,2,2.2999999999999998,3.1]
[null,null,null,null,null,null,null,null,null,null,null,null,null,null,"Is revised brkt length < BT+minpadovr?",{"$f":"INDEX(R109:V109,1,P110)","v":false}]
[null,null,null,null,null,null,null,null,null,null,null,null,null,null,"Back thickness > bracket reach",{"$f":"INDEX(R112:V112,1,P110)","v":false},null,{"$f":"S112","v":false},{"$f":"BACKTHICK>2.25","v":false},{"$f":"BACKTHICK>2.25","v":false},{"$f":"BACKTHICK>3","v":false},true]
[null,null,null,null,null,null,null,null,null,null,null,null,null,null,"Bracket length text",{"$f":"INDEX(R113:V113,1,P110)","v":"6 in."},null,{"$f":"S113","v":"4 in."},{"$f":"IF(PADLENGTH<=5,\"4 in.\",\"5 in.\")","v":"4 in."},{"$f":"IF(PADLENGTH<=5,\"4 in.\",\"5 in.\")","v":"4 in."},"6 in.","6 in."]
[null,null,null,null,null,null,null,null,null,null,null,null,null,null,"Is length > back thickness + pad length?",{"$f":"INDEX(R114:V114,1,P110)","v":true},null,{"$f":"S114","v":true},{"$f":"S108>LTSLENGTH","v":true},{"$f":"T108>LTSLENGTH","v":true},{"$f":"U108>LTSLENGTH","v":true},{"$f":"U114","v":true}]
[null,null,null,null,null,null,null,null,null,null,null,null,null,null,"FIXCURVHALF",{"$f":"INDEX(R115:V115,1,P110)","v":99999},99,{"$f":"S115","v":"99999"},{"$f":"IF(PADLENGTH<=5,\"99999\",\"99999\")","v":"99999"},{"$f":"IF(PADLENGTH<=5,\"99999\",\"99999\")","v":"99999"},99999,99999,0.5]
[null,null,null,null,null,null,null,null,null,null,null,null,null,null,"Long description for above",{"$f":"\"Fixed curved 1/2 in. offset bracket, \"&P113","v":"Fixed curved 1/2 in. offset bracket, 6 in."}]
[null,null,null,null,null,null,null,null,null,null,null,null,null,null,"Short description for above",{"$f":"\"Fixed curved 1/2 offset, \"&P113","v":"Fixed curved 1/2 offset, 6 in."}]
[null,null,null,null,null,null,null,null,null,null,null,null,null,null,"Initial thickness test before reach test",{"$f":"MATCH(BACKTHICK,R120:V120)","v":3},null,0,{"$f":"IF(PADLENGTH<=5,4,5)","v":4},{"$f":"IF(PADLENGTH<=5,4,5)","v":4},6,6]
[null,null,null,null,null,null,null,null,null,null,null,null,null,null,"Is brkt length < BT + minpadovr?",{"$f":"INDEX(R119:V119,1,P118)","v":true},null,{"$f":"S119","v":true},{"$f":"S118<(BACKTHICK+MINPADOVR)","v":true},{"$f":"T118<(BACKTHICK+MINPADOVR)","v":true},{"$f":"U118<(BACKTHICK+MINPADOVR)","v":false},{"$f":"U119","v":false}]
[null,null,null,null,null,null,null,null,null,null,null,null,null,null,"Revised index to length break",{"$f":"IF(P119,CHOOSE(P118,2,4,4,5,5),P118)","v":4},null,0,0,2,2.2999999999999998,3.1]
[null,null,null,null,null,null,null,null,null,null,null,null,null,null,"Is revised brkt length < BT+minpadovr?",{"$f":"INDEX(R119:V119,1,P120)","v":false}]
[null,null,null,null,null,null,null,null,null,null,null,null,null,null,"Back thickness > bracket reach",{"$f":"INDEX(R122:V122,1,P120)","v":false},null,{"$f":"S122","v":false},{"$f":"BACKTHICK>2.25","v":false},{"$f":"BACKTHICK>2.25","v":false},{"$f":"BACKTHICK>3","v":false},true]
[null,null,null,null,null,null,null,null,null,null,null,null,null,null,"Bracket length text",{"$f":"INDEX(R123:V123,1,P120)","v":"6 in."},null,{"$f":"S123","v":"4 in."},{"$f":"IF(PADLENGTH<=5,\"4 in.\",\"5 in.\")","v":"4 in."},{"$f":"IF(PADLENGTH<=5,\"4 in.\",\"5 in.\")","v":"4 in."},"6 in.","6 in."]
[null,null,null,null,null,null,null,null,null,null,null,null,null,null,"Is length > back thickness + pad length?",{"$f":"INDEX(R124:V124,1,P120)","v":true},null,{"$f":"S124","v":true},{"$f":"S118>LTSLENGTH","v":true},{"$f":"T118>LTSLENGTH","v":true},{"$f":"U118>LTSLENGTH","v":true},{"$f":"U124","v":true}]
[null,null,null,null,null,null,null,null,null,null,null,null,null,null,"FIXCURVONE",{"$f":"INDEX(R125:V125,1,P120)","v":99999},99,{"$f":"S125","v":"99999"},{"$f":"IF(PADLENGTH<=5,\"99999\",\"99999\")","v":"99999"},{"$f":"IF(PADLENGTH<=5,\"99999\",\"99999\")","v":"99999"},99999,99999,1]
[null,null,null,null,null,null,null,null,null,null,null,null,null,null,"Long description for above",{"$f":"\"Fixed curved 1 in. offset bracket, \"&P123","v":"Fixed curved 1 in. offset bracket, 6 in."}]
[null,null,null,null,null,null,null,null,null,null,null,null,null,null,"Short description for above",{"$f":"\"Fixed curved 1 offset, \"&P123","v":"Fixed curved 1 offset, 6 in."}]
[null,null,null,null,null,null,null,null,null,null,null,null,null,null,"Initial thickness test before reach test",{"$f":"MATCH(BACKTHICK,R130:V130)","v":3},null,0,{"$f":"IF(PADLENGTH<=5,4,5)","v":4},{"$f":"IF(PADLENGTH<=5,4,5)","v":4},6,6]
[null,null,null,null,null,null,null,null,null,null,null,null,null,null,"Is brkt length < BT + minpadovr?",{"$f":"INDEX(R129:V129,1,P128)","v":true},null,{"$f":"S129","v":true},{"$f":"S128<(BACKTHICK+MINPADOVR)","v":true},{"$f":"T128<(BACKTHICK+MINPADOVR)","v":true},{"$f":"U128<(BACKTHICK+MINPADOVR)","v":false},{"$f":"U129","v":false}]
[null,null,null,null,null,null,null,null,null,null,null,null,null,null,"Revised index to length break",{"$f":"IF(P129,CHOOSE(P128,2,4,4,5,5),P128)","v":4},null,0,0,2,2.2999999999999998,3.1]
[null,null,null,null,null,null,null,null,null,null,null,null,null,null,"Revised Brkt length < BT+minpadovr",{"$f":"INDEX(R129:V129,1,P130)","v":false}]
[null,null,null,null,null,null,null,null,null,null,null,null,null,null,"Back thickness > bracket reach",{"$f":"INDEX(R132:V132,1,P130)","v":false},null,{"$f":"S132","v":false},{"$f":"BACKTHICK>2.25","v":false},{"$f":"BACKTHICK>2.25","v":false},{"$f":"BACKTHICK>3","v":false},true]
[null,null,null,null,null,null,null,null,null,null,null,null,null,null,"Bracket length text",{"$f":"INDEX(R133:V133,1,P130)","v":"6 in."},null,{"$f":"S133","v":"4 in."},{"$f":"IF(PADLENGTH<=5,\"4 in.\",\"5 in.\")","v":"4 in."},{"$f":"IF(PADLENGTH<=5,\"4 in.\",\"5 in.\")","v":"4 in."},"6 in.","6 in."]
[null,null,null,null,null,null,null,null,null,null,null,null,null,null,"Is length > back thickness + pad length?",{"$f":"INDEX(R134:V134,1,P130)","v":true},null,{"$f":"S134","v":true},{"$f":"S128>LTSLENGTH","v":true},{"$f":"T128>LTSLENGTH","v":true},{"$f":"U128>LTSLENGTH","v":true},{"$f":"U134","v":true}]
[null,null,null,null,null,null,null,null,null,null,null,null,null,null,"FLXCURVTWO",{"$f":"INDEX(R135:V135,1,P130)","v":99999},99,{"$f":"S135","v":"99999"},{"$f":"IF(PADLENGTH<=5,\"99999\",\"99999\")","v":"99999"},{"$f":"IF(PADLENGTH<=5,\"99999\",\"99999\")","v":"99999"},99999,99999,2]
[null,null,null,null,null,null,null,null,null,null,null,null,null,null,"Long description for above",{"$f":"\"Fixed curved 2 in. offset bracket, \"&P133","v":"Fixed curved 2 in. offset bracket, 6 in."}]
[null,null,null,null,null,null,null,null,null,null,null,null,null,null,"Short description for above",{"$f":"\"Fixed curved 2 offset, \"&P133","v":"Fixed curved 2 offset, 6 in."}]
[]
[]
[null,null,null,null,null,null,null,null,null,null,null,null,null,null,"PROXIMAL LATERAL BRACKETS"]
[null,null,null,null,null,null,null,null,null,null,null,null,null,null,"(No fixed alternatives. These only fit basic foam pads)"]
[]
[null,null,null,null,null,null,null,null,null,null,null,null,null,null,{"$f":"\"For reference, back thickness = \"&BACKTHICK_P&\" (NO ADDER AMOUNT INCLUDED)\"","v":"For reference, back thickness = 2 (NO ADDER AMOUNT INCLUDED)"},null,null,null,null,null,null,null,null,null,null,null,null,null,"Don't really have this one in proximal"]
[]
[null,null,null,null,null,null,null,null,null,null,null,null,null,null,"SWINGAWAY BRACKET (.5 right & .5 left with hinges)",null,"PRICE","Bracket depends on back width & thickness. Regular & narrow are the same in some cases wo/extender"]
[null,null,null,null,null,null,null,null,null,null,null,null,null,null,"THICKINDEX2/THICKBREAKS2",{"$f":"MATCH(BACKTHICK_P,THICKBREAKS2)","v":3},null,0,1.5,2,2.5,3,3.5,4,4.5,5,5.5,6,6.5]
[null,null,null,null,null,null,null,null,null,null,null,null,null,null,"Thickness text",{"$f":"INDEX(THICKBREAKS2,1,THICKINDEX2)&\" in. thick\"","v":"2 in. thick"}]
[null,null,null,null,null,null,null,null,null,null,null,null,null,null,"REGULARBACK2 swingaway",{"$f":"INDEX(REGULARBACK2,1,THICKINDEX2)","v":50633},null,{"$f":"S148","v":50631},50631,50633,50635,50636,50637,50639,50641,50643,50645,50646,50646]
[null,null,null,null,null,null,null,null,null,null,null,null,null,null,"Long description for above","Proximal Swingaway brkt"]
[null,null,null,null,null,null,null,null,null,null,null,null,null,null,"NARROWBACK2 swingaway",{"$f":"INDEX(NARROWBACK2,1,THICKINDEX2)","v":50632},null,{"$f":"S150","v":50630},50630,50632,50634,50644,50647,50638,50640,50642,50645,{"$f":"AB148","v":50646},{"$f":"AC148","v":50646}]
[null,null,null,null,null,null,null,null,null,null,null,null,null,null,"Long description for above","Short Proximal Swingaway brkt"]
[]
[]
[null,null,null,null,null,null,null,null,null,null,null,null,null,null,"DETERMINING PAD MOUNTING BRACKET LENGTH",null,null,"RANGE OF CHOICES"]
[null,null,null,null,null,null,null,null,null,null,null,null,null,null,"PADINDEX2/PADBREAKS2",{"$f":"MATCH(PADLENGTH,PADBREAKS2)","v":1},null,0,3,6,99]
[null,null,null,null,null,null,null,null,null,null,null,null,null,null,"BRKTLTEXT2",{"$f":"INDEX(R156:U156,1,PADINDEX2)","v":"3 in."},null,"3 in.","3 in.","5 in.","5 in."]
[]
[null,null,null,null,null,null,null,null,null,null,null,null,null,null,"FLAT PAD ATTACHING BRACKETS FOR PROXIMAL LTS",null,"PRICE","RANGE OF CHOICES",null,null,null,"OFFSET"]
[null,null,null,null,null,null,null,null,null,null,null,null,null,null,"FLATFLUSH2",{"$f":"INDEX(FLATFLUSH2,1,PADINDEX2)","v":50650},0,{"$f":"S159","v":50650},50650,50651,{"$f":"T159","v":50651},0]
[null,null,null,null,null,null,null,null,null,null,null,null,null,null,"Long description for above",{"$f":"\"Flat flush bracket, \"&BRKTLTEXT2","v":"Flat flush bracket, 3 in."}]
[null,null,null,null,null,null,null,null,null,null,null,null,null,null,"Short description for above",{"$f":"\"Flat flush, \"&BRKTLTEXT2","v":"Flat flush, 3 in."}]
[null,null,null,null,null,null,null,null,null,null,null,null,null,null,"FLATHALF2",{"$f":"INDEX(FLATHALF2,1,PADINDEX2)","v":50652},0,{"$f":"S162","v":50652},50652,50653,{"$f":"T162","v":50653},0.5]
[null,null,null,null,null,null,null,null,null,null,null,null,null,null,"Long description for above",{"$f":"\"Flat 1/2 in. offset bracket, \"&BRKTLTEXT","v":"Flat 1/2 in. offset bracket, 3 in."}]
[null,null,null,null,null,null,null,null,null,null,null,null,null,null,"Short description for above",{"$f":"\"Flat 1/2 offset, \"&BRKTLTEXT2","v":"Flat 1/2 offset, 3 in."}]
[null,null,null,null,null,null,null,null,null,null,null,null,null,null,"FLATONE2",{"$f":"INDEX(FLATONE2,1,PADINDEX2)","v":50654},0,{"$f":"S165","v":50654},50654,50655,{"$f":"T165","v":50655},1]
[null,null,null,null,null,null,null,null,null,null,null,null,null,null,"Long description for above",{"$f":"\"Flat 1 in. offset bracket, \"&BRKTLTEXT2","v":"Flat 1 in. offset bracket, 3 in."}]
[null,null,null,null,null,null,null,null,null,null,null,null,null,null,"Short description for above",{"$f":"\"Flat 1 offset, \"&BRKTLTEXT2","v":"Flat 1 offset, 3 in."}]
[null,null,null,null,null,null,null,null,null,null,null,null,null,null,"FLATTWO2",{"$f":"INDEX(FLATTWO2,1,PADINDEX2)","v":50656},0,{"$f":"S168","v":50656},50656,50657,{"$f":"T168","v":50657},2]
[null,null,null,null,null,null,null,null,null,null,null,null,null,null,"Long description for above",{"$f":"\"Flat 2 in. offset bracket, \"&BRKTLTEXT2","v":"Flat 2 in. offset bracket, 3 in."}]
[null,null,null,null,null,null,null,null,null,null,null,null,null,null,"Short description for above",{"$f":"\"Flat 2 offset, \"&BRKTLTEXT2","v":"Flat 2 offset, 3 in."}]
[]
[null,null,null,null,null,null,null,null,null,null,null,null,null,null,"CURVED PAD ATTACHING BRACKETS FOR PROXIMAL LTS",null,"PRICE","RANGE OF CHOICES"]
[null,null,null,null,null,null,null,null,null,null,null,null,null,null,"CURVFLUSH2",{"$f":"INDEX(CURVFLUSH2,1,PADINDEX2)","v":50658},0,{"$f":"S173","v":50658},50658,50659,{"$f":"T173","v":50659},null,0]
[null,null,null,null,null,null,null,null,null,null,null,null,null,null,"Long description for above",{"$f":"\"Curved flush bracket, \"&BRKTLTEXT2","v":"Curved flush bracket, 3 in."}]
[null,null,null,null,null,null,null,null,null,null,null,null,null,null,"Short description for above",{"$f":"\"Curved flush, \"&BRKTLTEXT2","v":"Curved flush, 3 in."}]
[null,null,null,null,null,null,null,null,null,null,null,null,null,null,"CURVHALF2",{"$f":"INDEX(CURVHALF2,1,PADINDEX2)","v":50660},0,{"$f":"S176","v":50660},50660,50661,{"$f":"T176","v":50661},null,0.5]
[null,null,null,null,null,null,null,null,null,null,null,null,null,null,"Long description for above",{"$f":"\"Curved 1/2 in. offset bracket, \"&BRKTLTEXT2","v":"Curved 1/2 in. offset bracket, 3 in."}]
[null,null,null,null,null,null,null,null,null,null,null,null,null,null,"Short description for above",{"$f":"\"Curved 1/2 offset, \"&BRKTLTEXT2","v":"Curved 1/2 offset, 3 in."}]
[null,null,null,null,null,null,null,null,null,null,null,null,null,null,"CURVONE2",{"$f":"INDEX(CURVONE2,1,PADINDEX2)","v":50662},0,{"$f":"S179","v":50662},50662,50663,{"$f":"T179","v":50663},null,1]
[null,null,null,null,null,null,null,null,null,null,null,null,null,null,"Long description for above",{"$f":"\"Curved 1 in. offset bracket, \"&BRKTLTEXT2","v":"Curved 1 in. offset bracket, 3 in."}]
[null,null,null,null,null,null,null,null,null,null,null,null,null,null,"Short description for above",{"$f":"\"Curved 1 offset, \"&BRKTLTEXT2","v":"Curved 1 offset, 3 in."}]
[null,null,null,null,null,null,null,null,null,null,null,null,null,null,"CURVTWO2",{"$f":"INDEX(CURVTWO2,1,PADINDEX2)","v":50664},0,{"$f":"S182","v":50664},50664,50665,{"$f":"T182","v":50665},null,2]
[null,null,null,null,null,null,null,null,null,null,null,null,null,null,"Long description for above",{"$f":"\"Curved 2 in. offset bracket, \"&BRKTLTEXT2","v":"Curved 2 in. offset bracket, 3 in."}]
[null,null,null,null,null,null,null,null,null,null,null,null,null,null,"Short description for above",{"$f":"\"Curved 2 offset, \"&BRKTLTEXT2","v":"Curved 2 offset, 3 in."}]

{"sheet":"Export","index":8,"n_rows":61,"n_cols":19,"rows_kept":61,"cut":false,"hidden":true,"merged":[]}
[{"$f":"Form!$A$10","v":1},0,null,"index",{"$f":"Form!F6","v":0},"CUST",null,{"$f":"Design!$L$5","v":0},null,{"$f":"SUBSTITUTE(SUBSTITUTE(Design!$E$5,quote,\"\"),comma,\" \")","v":""},{"$f":"Form!R5","v":"ORDER"},{"$f":"SUBSTITUTE(SUBSTITUTE(Design!$E$7,quote,\"\"),comma,\" \")","v":""},{"$f":"SUBSTITUTE(SUBSTITUTE(Design!$S$5,quote,\"\"),comma,\" \")","v":""},{"$f":"SUBSTITUTE(SUBSTITUTE(Design!$O$5,quote,\"\"),comma,\" \")","v":""},{"$f":"TEXT(TODAY(),\"MM/DD/YY\")","v":"01/20/22"},{"$f":"AddForFreight","v":0},null,{"$f":"Form!K3","v":"TSA 5.1 1/20/22"},{"$f":"Form!$K$4","v":0}]
[0,0,{"$f":"IF($A2=$A$1,\"End\",\"\")","v":""},null,{"$f":"IF($A2<=$A$1,$E$1,\"\")","v":0},{"$f":"'Pick List'!AU13","v":""},null,{"$f":"'Pick List'!AV13","v":""},null,{"$f":"'Pick List'!AX13","v":""}]
[1,{"$f":"IF(RIGHT(F3,1)=\"M\",B2,B2+1)","v":1},{"$f":"IF($A3=$A$1,\"End\",\"\")","v":"End"},{"$f":"MATCH($A3,'Pick List'!$AT$14:$AT$567,0)","v":{"$error":"#N/A"}},{"$f":"IF($A3<=$A$1,$E$1,\"\")","v":0},{"$f":"IF($A3<$A$1,INDEX('Pick List'!$AU$14:$AU$568,$D3),C3)","v":"End"},{"$f":"IF($A3<$A$1,B3,\"\")","v":""},{"$f":"IF($A3<$A$1,INDEX('Pick List'!AV$14:AV$568,$D3),C3)","v":"End"},{"$f":"IF($A3<$A$1,INDEX('Pick List'!AW$14:AW$568,$D3),\"\")","v":""},{"$f":"IF($A3<$A$1,INDEX('Pick List'!AX$14:AX$568,$D3),\"\")","v":""},{"$f":"IF($A3<$A$1,INDEX('Pick List'!AY$14:AY$568,$D3),\"\")","v":""},{"$f":"IF($A3<$A$1,INDEX('Pick List'!AZ$14:AZ$568,$D3),\"\")","v":""},{"$f":"IF($A3<$A$1,INDEX('Pick List'!BA$14:BA$568,$D3),\"\")","v":""},{"$f":"IF($A3<$A$1,INDEX('Pick List'!BB$14:BB$568,$D3),\"\")","v":""},{"$f":"IF($A3<$A$1,INDEX('Pick List'!BC$14:BC$568,$D3),\"\")","v":""},{"$f":"IF($A3<$A$1,INDEX('Pick List'!BD$14:BD$568,$D3),\"\")","v":""},{"$f":"IF($A3<$A$1,INDEX('Pick List'!BE$14:BE$568,$D3),\"\")","v":""},{"$f":"IF($A3<$A$1,INDEX('Pick List'!BF$14:BF$568,$D3),\"\")","v":""},{"$f":"IF($A3<$A$1,INDEX('Pick List'!BG$14:BG$568,$D3),\"\")","v":""}]
[{"$f":"A3+1","v":2},2,"",{"$f":"MATCH($A4,'Pick List'!$AT$14:$AT$567,0)","v":{"$error":"#N/A"}},"",{"$f":"IF($A4<$A$1,INDEX('Pick List'!$AU$14:$AU$568,$D4),C4)","v":""},{"$f":"IF($A4<$A$1,B4,\"\")","v":""},{"$f":"IF($A4<$A$1,INDEX('Pick List'!AV$14:AV$568,$D4),C4)","v":""},{"$f":"IF($A4<$A$1,INDEX('Pick List'!AW$14:AW$568,$D4),\"\")","v":""},{"$f":"IF($A4<$A$1,INDEX('Pick List'!AX$14:AX$568,$D4),\"\")","v":""},{"$f":"IF($A4<$A$1,INDEX('Pick List'!AY$14:AY$568,$D4),\"\")","v":""},{"$f":"IF($A4<$A$1,INDEX('Pick List'!AZ$14:AZ$568,$D4),\"\")","v":""},{"$f":"IF($A4<$A$1,INDEX('Pick List'!BA$14:BA$568,$D4),\"\")","v":""},{"$f":"IF($A4<$A$1,INDEX('Pick List'!BB$14:BB$568,$D4),\"\")","v":""},{"$f":"IF($A4<$A$1,INDEX('Pick List'!BC$14:BC$568,$D4),\"\")","v":""},{"$f":"IF($A4<$A$1,INDEX('Pick List'!BD$14:BD$568,$D4),\"\")","v":""},{"$f":"IF($A4<$A$1,INDEX('Pick List'!BE$14:BE$568,$D4),\"\")","v":""},{"$f":"IF($A4<$A$1,INDEX('Pick List'!BF$14:BF$568,$D4),\"\")","v":""},{"$f":"IF($A4<$A$1,INDEX('Pick List'!BG$14:BG$568,$D4),\"\")","v":""}]
[3,3,"",{"$f":"MATCH($A5,'Pick List'!$AT$14:$AT$567,0)","v":{"$error":"#N/A"}},"",{"$f":"IF($A5<$A$1,INDEX('Pick List'!$AU$14:$AU$568,$D5),C5)","v":""},"",{"$f":"IF($A5<$A$1,INDEX('Pick List'!AV$14:AV$568,$D5),C5)","v":""},{"$f":"IF($A5<$A$1,INDEX('Pick List'!AW$14:AW$568,$D5),\"\")","v":""},{"$f":"IF($A5<$A$1,INDEX('Pick List'!AX$14:AX$568,$D5),\"\")","v":""},{"$f":"IF($A5<$A$1,INDEX('Pick List'!AY$14:AY$568,$D5),\"\")","v":""},{"$f":"IF($A5<$A$1,INDEX('Pick List'!AZ$14:AZ$568,$D5),\"\")","v":""},{"$f":"IF($A5<$A$1,INDEX('Pick List'!BA$14:BA$568,$D5),\"\")","v":""},{"$f":"IF($A5<$A$1,INDEX('Pick List'!BB$14:BB$568,$D5),\"\")","v":""},{"$f":"IF($A5<$A$1,INDEX('Pick List'!BC$14:BC$568,$D5),\"\")","v":""},{"$f":"IF($A5<$A$1,INDEX('Pick List'!BD$14:BD$568,$D5),\"\")","v":""},{"$f":"IF($A5<$A$1,INDEX('Pick List'!BE$14:BE$568,$D5),\"\")","v":""},{"$f":"IF($A5<$A$1,INDEX('Pick List'!BF$14:BF$568,$D5),\"\")","v":""},{"$f":"IF($A5<$A$1,INDEX('Pick List'!BG$14:BG$568,$D5),\"\")","v":""}]
[4,4,"",{"$f":"MATCH($A6,'Pick List'!$AT$14:$AT$567,0)","v":{"$error":"#N/A"}},"",{"$f":"IF($A6<$A$1,INDEX('Pick List'!$AU$14:$AU$568,$D6),C6)","v":""},"",{"$f":"IF($A6<$A$1,INDEX('Pick List'!AV$14:AV$568,$D6),C6)","v":""},{"$f":"IF($A6<$A$1,INDEX('Pick List'!AW$14:AW$568,$D6),\"\")","v":""},{"$f":"IF($A6<$A$1,INDEX('Pick List'!AX$14:AX$568,$D6),\"\")","v":""},{"$f":"IF($A6<$A$1,INDEX('Pick List'!AY$14:AY$568,$D6),\"\")","v":""},{"$f":"IF($A6<$A$1,INDEX('Pick List'!AZ$14:AZ$568,$D6),\"\")","v":""},{"$f":"IF($A6<$A$1,INDEX('Pick List'!BA$14:BA$568,$D6),\"\")","v":""},{"$f":"IF($A6<$A$1,INDEX('Pick List'!BB$14:BB$568,$D6),\"\")","v":""},{"$f":"IF($A6<$A$1,INDEX('Pick List'!BC$14:BC$568,$D6),\"\")","v":""},{"$f":"IF($A6<$A$1,INDEX('Pick List'!BD$14:BD$568,$D6),\"\")","v":""},{"$f":"IF($A6<$A$1,INDEX('Pick List'!BE$14:BE$568,$D6),\"\")","v":""},{"$f":"IF($A6<$A$1,INDEX('Pick List'!BF$14:BF$568,$D6),\"\")","v":""},{"$f":"IF($A6<$A$1,INDEX('Pick List'!BG$14:BG$568,$D6),\"\")","v":""}]
[5,5,"",{"$f":"MATCH($A7,'Pick List'!$AT$14:$AT$567,0)","v":{"$error":"#N/A"}},"",{"$f":"IF($A7<$A$1,INDEX('Pick List'!$AU$14:$AU$568,$D7),C7)","v":""},"",{"$f":"IF($A7<$A$1,INDEX('Pick List'!AV$14:AV$568,$D7),C7)","v":""},{"$f":"IF($A7<$A$1,INDEX('Pick List'!AW$14:AW$568,$D7),\"\")","v":""},{"$f":"IF($A7<$A$1,INDEX('Pick List'!AX$14:AX$568,$D7),\"\")","v":""},{"$f":"IF($A7<$A$1,INDEX('Pick List'!AY$14:AY$568,$D7),\"\")","v":""},{"$f":"IF($A7<$A$1,INDEX('Pick List'!AZ$14:AZ$568,$D7),\"\")","v":""},{"$f":"IF($A7<$A$1,INDEX('Pick List'!BA$14:BA$568,$D7),\"\")","v":""},{"$f":"IF($A7<$A$1,INDEX('Pick List'!BB$14:BB$568,$D7),\"\")","v":""},{"$f":"IF($A7<$A$1,INDEX('Pick List'!BC$14:BC$568,$D7),\"\")","v":""},{"$f":"IF($A7<$A$1,INDEX('Pick List'!BD$14:BD$568,$D7),\"\")","v":""},{"$f":"IF($A7<$A$1,INDEX('Pick List'!BE$14:BE$568,$D7),\"\")","v":""},{"$f":"IF($A7<$A$1,INDEX('Pick List'!BF$14:BF$568,$D7),\"\")","v":""},{"$f":"IF($A7<$A$1,INDEX('Pick List'!BG$14:BG$568,$D7),\"\")","v":""}]
[6,6,"",{"$f":"MATCH($A8,'Pick List'!$AT$14:$AT$567,0)","v":{"$error":"#N/A"}},"",{"$f":"IF($A8<$A$1,INDEX('Pick List'!$AU$14:$AU$568,$D8),C8)","v":""},"",{"$f":"IF($A8<$A$1,INDEX('Pick List'!AV$14:AV$568,$D8),C8)","v":""},{"$f":"IF($A8<$A$1,INDEX('Pick List'!AW$14:AW$568,$D8),\"\")","v":""},{"$f":"IF($A8<$A$1,INDEX('Pick List'!AX$14:AX$568,$D8),\"\")","v":""},{"$f":"IF($A8<$A$1,INDEX('Pick List'!AY$14:AY$568,$D8),\"\")","v":""},{"$f":"IF($A8<$A$1,INDEX('Pick List'!AZ$14:AZ$568,$D8),\"\")","v":""},{"$f":"IF($A8<$A$1,INDEX('Pick List'!BA$14:BA$568,$D8),\"\")","v":""},{"$f":"IF($A8<$A$1,INDEX('Pick List'!BB$14:BB$568,$D8),\"\")","v":""},{"$f":"IF($A8<$A$1,INDEX('Pick List'!BC$14:BC$568,$D8),\"\")","v":""},{"$f":"IF($A8<$A$1,INDEX('Pick List'!BD$14:BD$568,$D8),\"\")","v":""},{"$f":"IF($A8<$A$1,INDEX('Pick List'!BE$14:BE$568,$D8),\"\")","v":""},{"$f":"IF($A8<$A$1,INDEX('Pick List'!BF$14:BF$568,$D8),\"\")","v":""},{"$f":"IF($A8<$A$1,INDEX('Pick List'!BG$14:BG$568,$D8),\"\")","v":""}]
[7,7,"",{"$f":"MATCH($A9,'Pick List'!$AT$14:$AT$567,0)","v":{"$error":"#N/A"}},"",{"$f":"IF($A9<$A$1,INDEX('Pick List'!$AU$14:$AU$568,$D9),C9)","v":""},"",{"$f":"IF($A9<$A$1,INDEX('Pick List'!AV$14:AV$568,$D9),C9)","v":""},{"$f":"IF($A9<$A$1,INDEX('Pick List'!AW$14:AW$568,$D9),\"\")","v":""},{"$f":"IF($A9<$A$1,INDEX('Pick List'!AX$14:AX$568,$D9),\"\")","v":""},{"$f":"IF($A9<$A$1,INDEX('Pick List'!AY$14:AY$568,$D9),\"\")","v":""},{"$f":"IF($A9<$A$1,INDEX('Pick List'!AZ$14:AZ$568,$D9),\"\")","v":""},{"$f":"IF($A9<$A$1,INDEX('Pick List'!BA$14:BA$568,$D9),\"\")","v":""},{"$f":"IF($A9<$A$1,INDEX('Pick List'!BB$14:BB$568,$D9),\"\")","v":""},{"$f":"IF($A9<$A$1,INDEX('Pick List'!BC$14:BC$568,$D9),\"\")","v":""},{"$f":"IF($A9<$A$1,INDEX('Pick List'!BD$14:BD$568,$D9),\"\")","v":""},{"$f":"IF($A9<$A$1,INDEX('Pick List'!BE$14:BE$568,$D9),\"\")","v":""},{"$f":"IF($A9<$A$1,INDEX('Pick List'!BF$14:BF$568,$D9),\"\")","v":""},{"$f":"IF($A9<$A$1,INDEX('Pick List'!BG$14:BG$568,$D9),\"\")","v":""}]
[8,8,"",{"$f":"MATCH($A10,'Pick List'!$AT$14:$AT$567,0)","v":{"$error":"#N/A"}},"",{"$f":"IF($A10<$A$1,INDEX('Pick List'!$AU$14:$AU$568,$D10),C10)","v":""},"",{"$f":"IF($A10<$A$1,INDEX('Pick List'!AV$14:AV$568,$D10),C10)","v":""},{"$f":"IF($A10<$A$1,INDEX('Pick List'!AW$14:AW$568,$D10),\"\")","v":""},{"$f":"IF($A10<$A$1,INDEX('Pick List'!AX$14:AX$568,$D10),\"\")","v":""},{"$f":"IF($A10<$A$1,INDEX('Pick List'!AY$14:AY$568,$D10),\"\")","v":""},{"$f":"IF($A10<$A$1,INDEX('Pick List'!AZ$14:AZ$568,$D10),\"\")","v":""},{"$f":"IF($A10<$A$1,INDEX('Pick List'!BA$14:BA$568,$D10),\"\")","v":""},{"$f":"IF($A10<$A$1,INDEX('Pick List'!BB$14:BB$568,$D10),\"\")","v":""},{"$f":"IF($A10<$A$1,INDEX('Pick List'!BC$14:BC$568,$D10),\"\")","v":""},{"$f":"IF($A10<$A$1,INDEX('Pick List'!BD$14:BD$568,$D10),\"\")","v":""},{"$f":"IF($A10<$A$1,INDEX('Pick List'!BE$14:BE$568,$D10),\"\")","v":""},{"$f":"IF($A10<$A$1,INDEX('Pick List'!BF$14:BF$568,$D10),\"\")","v":""},{"$f":"IF($A10<$A$1,INDEX('Pick List'!BG$14:BG$568,$D10),\"\")","v":""}]
[9,9,"",{"$f":"MATCH($A11,'Pick List'!$AT$14:$AT$567,0)","v":{"$error":"#N/A"}},"",{"$f":"IF($A11<$A$1,INDEX('Pick List'!$AU$14:$AU$568,$D11),C11)","v":""},"",{"$f":"IF($A11<$A$1,INDEX('Pick List'!AV$14:AV$568,$D11),C11)","v":""},{"$f":"IF($A11<$A$1,INDEX('Pick List'!AW$14:AW$568,$D11),\"\")","v":""},{"$f":"IF($A11<$A$1,INDEX('Pick List'!AX$14:AX$568,$D11),\"\")","v":""},{"$f":"IF($A11<$A$1,INDEX('Pick List'!AY$14:AY$568,$D11),\"\")","v":""},{"$f":"IF($A11<$A$1,INDEX('Pick List'!AZ$14:AZ$568,$D11),\"\")","v":""},{"$f":"IF($A11<$A$1,INDEX('Pick List'!BA$14:BA$568,$D11),\"\")","v":""},{"$f":"IF($A11<$A$1,INDEX('Pick List'!BB$14:BB$568,$D11),\"\")","v":""},{"$f":"IF($A11<$A$1,INDEX('Pick List'!BC$14:BC$568,$D11),\"\")","v":""},{"$f":"IF($A11<$A$1,INDEX('Pick List'!BD$14:BD$568,$D11),\"\")","v":""},{"$f":"IF($A11<$A$1,INDEX('Pick List'!BE$14:BE$568,$D11),\"\")","v":""},{"$f":"IF($A11<$A$1,INDEX('Pick List'!BF$14:BF$568,$D11),\"\")","v":""},{"$f":"IF($A11<$A$1,INDEX('Pick List'!BG$14:BG$568,$D11),\"\")","v":""}]
[10,10,"",{"$f":"MATCH($A12,'Pick List'!$AT$14:$AT$567,0)","v":{"$error":"#N/A"}},"",{"$f":"IF($A12<$A$1,INDEX('Pick List'!$AU$14:$AU$568,$D12),C12)","v":""},"",{"$f":"IF($A12<$A$1,INDEX('Pick List'!AV$14:AV$568,$D12),C12)","v":""},{"$f":"IF($A12<$A$1,INDEX('Pick List'!AW$14:AW$568,$D12),\"\")","v":""},{"$f":"IF($A12<$A$1,INDEX('Pick List'!AX$14:AX$568,$D12),\"\")","v":""},{"$f":"IF($A12<$A$1,INDEX('Pick List'!AY$14:AY$568,$D12),\"\")","v":""},{"$f":"IF($A12<$A$1,INDEX('Pick List'!AZ$14:AZ$568,$D12),\"\")","v":""},{"$f":"IF($A12<$A$1,INDEX('Pick List'!BA$14:BA$568,$D12),\"\")","v":""},{"$f":"IF($A12<$A$1,INDEX('Pick List'!BB$14:BB$568,$D12),\"\")","v":""},{"$f":"IF($A12<$A$1,INDEX('Pick List'!BC$14:BC$568,$D12),\"\")","v":""},{"$f":"IF($A12<$A$1,INDEX('Pick List'!BD$14:BD$568,$D12),\"\")","v":""},{"$f":"IF($A12<$A$1,INDEX('Pick List'!BE$14:BE$568,$D12),\"\")","v":""},{"$f":"IF($A12<$A$1,INDEX('Pick List'!BF$14:BF$568,$D12),\"\")","v":""},{"$f":"IF($A12<$A$1,INDEX('Pick List'!BG$14:BG$568,$D12),\"\")","v":""}]
[11,11,"",{"$f":"MATCH($A13,'Pick List'!$AT$14:$AT$567,0)","v":{"$error":"#N/A"}},"",{"$f":"IF($A13<$A$1,INDEX('Pick List'!$AU$14:$AU$568,$D13),C13)","v":""},"",{"$f":"IF($A13<$A$1,INDEX('Pick List'!AV$14:AV$568,$D13),C13)","v":""},{"$f":"IF($A13<$A$1,INDEX('Pick List'!AW$14:AW$568,$D13),\"\")","v":""},{"$f":"IF($A13<$A$1,INDEX('Pick List'!AX$14:AX$568,$D13),\"\")","v":""},{"$f":"IF($A13<$A$1,INDEX('Pick List'!AY$14:AY$568,$D13),\"\")","v":""},{"$f":"IF($A13<$A$1,INDEX('Pick List'!AZ$14:AZ$568,$D13),\"\")","v":""},{"$f":"IF($A13<$A$1,INDEX('Pick List'!BA$14:BA$568,$D13),\"\")","v":""},{"$f":"IF($A13<$A$1,INDEX('Pick List'!BB$14:BB$568,$D13),\"\")","v":""},{"$f":"IF($A13<$A$1,INDEX('Pick List'!BC$14:BC$568,$D13),\"\")","v":""},{"$f":"IF($A13<$A$1,INDEX('Pick List'!BD$14:BD$568,$D13),\"\")","v":""},{"$f":"IF($A13<$A$1,INDEX('Pick List'!BE$14:BE$568,$D13),\"\")","v":""},{"$f":"IF($A13<$A$1,INDEX('Pick List'!BF$14:BF$568,$D13),\"\")","v":""},{"$f":"IF($A13<$A$1,INDEX('Pick List'!BG$14:BG$568,$D13),\"\")","v":""}]
[12,12,"",{"$f":"MATCH($A14,'Pick List'!$AT$14:$AT$567,0)","v":{"$error":"#N/A"}},"",{"$f":"IF($A14<$A$1,INDEX('Pick List'!$AU$14:$AU$568,$D14),C14)","v":""},"",{"$f":"IF($A14<$A$1,INDEX('Pick List'!AV$14:AV$568,$D14),C14)","v":""},{"$f":"IF($A14<$A$1,INDEX('Pick List'!AW$14:AW$568,$D14),\"\")","v":""},{"$f":"IF($A14<$A$1,INDEX('Pick List'!AX$14:AX$568,$D14),\"\")","v":""},{"$f":"IF($A14<$A$1,INDEX('Pick List'!AY$14:AY$568,$D14),\"\")","v":""},{"$f":"IF($A14<$A$1,INDEX('Pick List'!AZ$14:AZ$568,$D14),\"\")","v":""},{"$f":"IF($A14<$A$1,INDEX('Pick List'!BA$14:BA$568,$D14),\"\")","v":""},{"$f":"IF($A14<$A$1,INDEX('Pick List'!BB$14:BB$568,$D14),\"\")","v":""},{"$f":"IF($A14<$A$1,INDEX('Pick List'!BC$14:BC$568,$D14),\"\")","v":""},{"$f":"IF($A14<$A$1,INDEX('Pick List'!BD$14:BD$568,$D14),\"\")","v":""},{"$f":"IF($A14<$A$1,INDEX('Pick List'!BE$14:BE$568,$D14),\"\")","v":""},{"$f":"IF($A14<$A$1,INDEX('Pick List'!BF$14:BF$568,$D14),\"\")","v":""},{"$f":"IF($A14<$A$1,INDEX('Pick List'!BG$14:BG$568,$D14),\"\")","v":""}]
[13,13,"",{"$f":"MATCH($A15,'Pick List'!$AT$14:$AT$567,0)","v":{"$error":"#N/A"}},"",{"$f":"IF($A15<$A$1,INDEX('Pick List'!$AU$14:$AU$568,$D15),C15)","v":""},"",{"$f":"IF($A15<$A$1,INDEX('Pick List'!AV$14:AV$568,$D15),C15)","v":""},{"$f":"IF($A15<$A$1,INDEX('Pick List'!AW$14:AW$568,$D15),\"\")","v":""},{"$f":"IF($A15<$A$1,INDEX('Pick List'!AX$14:AX$568,$D15),\"\")","v":""},{"$f":"IF($A15<$A$1,INDEX('Pick List'!AY$14:AY$568,$D15),\"\")","v":""},{"$f":"IF($A15<$A$1,INDEX('Pick List'!AZ$14:AZ$568,$D15),\"\")","v":""},{"$f":"IF($A15<$A$1,INDEX('Pick List'!BA$14:BA$568,$D15),\"\")","v":""},{"$f":"IF($A15<$A$1,INDEX('Pick List'!BB$14:BB$568,$D15),\"\")","v":""},{"$f":"IF($A15<$A$1,INDEX('Pick List'!BC$14:BC$568,$D15),\"\")","v":""},{"$f":"IF($A15<$A$1,INDEX('Pick List'!BD$14:BD$568,$D15),\"\")","v":""},{"$f":"IF($A15<$A$1,INDEX('Pick List'!BE$14:BE$568,$D15),\"\")","v":""},{"$f":"IF($A15<$A$1,INDEX('Pick List'!BF$14:BF$568,$D15),\"\")","v":""},{"$f":"IF($A15<$A$1,INDEX('Pick List'!BG$14:BG$568,$D15),\"\")","v":""}]
[14,14,"",{"$f":"MATCH($A16,'Pick List'!$AT$14:$AT$567,0)","v":{"$error":"#N/A"}},"",{"$f":"IF($A16<$A$1,INDEX('Pick List'!$AU$14:$AU$568,$D16),C16)","v":""},"",{"$f":"IF($A16<$A$1,INDEX('Pick List'!AV$14:AV$568,$D16),C16)","v":""},{"$f":"IF($A16<$A$1,INDEX('Pick List'!AW$14:AW$568,$D16),\"\")","v":""},{"$f":"IF($A16<$A$1,INDEX('Pick List'!AX$14:AX$568,$D16),\"\")","v":""},{"$f":"IF($A16<$A$1,INDEX('Pick List'!AY$14:AY$568,$D16),\"\")","v":""},{"$f":"IF($A16<$A$1,INDEX('Pick List'!AZ$14:AZ$568,$D16),\"\")","v":""},{"$f":"IF($A16<$A$1,INDEX('Pick List'!BA$14:BA$568,$D16),\"\")","v":""},{"$f":"IF($A16<$A$1,INDEX('Pick List'!BB$14:BB$568,$D16),\"\")","v":""},{"$f":"IF($A16<$A$1,INDEX('Pick List'!BC$14:BC$568,$D16),\"\")","v":""},{"$f":"IF($A16<$A$1,INDEX('Pick List'!BD$14:BD$568,$D16),\"\")","v":""},{"$f":"IF($A16<$A$1,INDEX('Pick List'!BE$14:BE$568,$D16),\"\")","v":""},{"$f":"IF($A16<$A$1,INDEX('Pick List'!BF$14:BF$568,$D16),\"\")","v":""},{"$f":"IF($A16<$A$1,INDEX('Pick List'!BG$14:BG$568,$D16),\"\")","v":""}]
[15,15,"",{"$f":"MATCH($A17,'Pick List'!$AT$14:$AT$567,0)","v":{"$error":"#N/A"}},"",{"$f":"IF($A17<$A$1,INDEX('Pick List'!$AU$14:$AU$568,$D17),C17)","v":""},"",{"$f":"IF($A17<$A$1,INDEX('Pick List'!AV$14:AV$568,$D17),C17)","v":""},{"$f":"IF($A17<$A$1,INDEX('Pick List'!AW$14:AW$568,$D17),\"\")","v":""},{"$f":"IF($A17<$A$1,INDEX('Pick List'!AX$14:AX$568,$D17),\"\")","v":""},{"$f":"IF($A17<$A$1,INDEX('Pick List'!AY$14:AY$568,$D17),\"\")","v":""},{"$f":"IF($A17<$A$1,INDEX('Pick List'!AZ$14:AZ$568,$D17),\"\")","v":""},{"$f":"IF($A17<$A$1,INDEX('Pick List'!BA$14:BA$568,$D17),\"\")","v":""},{"$f":"IF($A17<$A$1,INDEX('Pick List'!BB$14:BB$568,$D17),\"\")","v":""},{"$f":"IF($A17<$A$1,INDEX('Pick List'!BC$14:BC$568,$D17),\"\")","v":""},{"$f":"IF($A17<$A$1,INDEX('Pick List'!BD$14:BD$568,$D17),\"\")","v":""},{"$f":"IF($A17<$A$1,INDEX('Pick List'!BE$14:BE$568,$D17),\"\")","v":""},{"$f":"IF($A17<$A$1,INDEX('Pick List'!BF$14:BF$568,$D17),\"\")","v":""},{"$f":"IF($A17<$A$1,INDEX('Pick List'!BG$14:BG$568,$D17),\"\")","v":""}]
[16,16,"",{"$f":"MATCH($A18,'Pick List'!$AT$14:$AT$567,0)","v":{"$error":"#N/A"}},"",{"$f":"IF($A18<$A$1,INDEX('Pick List'!$AU$14:$AU$568,$D18),C18)","v":""},"",{"$f":"IF($A18<$A$1,INDEX('Pick List'!AV$14:AV$568,$D18),C18)","v":""},{"$f":"IF($A18<$A$1,INDEX('Pick List'!AW$14:AW$568,$D18),\"\")","v":""},{"$f":"IF($A18<$A$1,INDEX('Pick List'!AX$14:AX$568,$D18),\"\")","v":""},{"$f":"IF($A18<$A$1,INDEX('Pick List'!AY$14:AY$568,$D18),\"\")","v":""},{"$f":"IF($A18<$A$1,INDEX('Pick List'!AZ$14:AZ$568,$D18),\"\")","v":""},{"$f":"IF($A18<$A$1,INDEX('Pick List'!BA$14:BA$568,$D18),\"\")","v":""},{"$f":"IF($A18<$A$1,INDEX('Pick List'!BB$14:BB$568,$D18),\"\")","v":""},{"$f":"IF($A18<$A$1,INDEX('Pick List'!BC$14:BC$568,$D18),\"\")","v":""},{"$f":"IF($A18<$A$1,INDEX('Pick List'!BD$14:BD$568,$D18),\"\")","v":""},{"$f":"IF($A18<$A$1,INDEX('Pick List'!BE$14:BE$568,$D18),\"\")","v":""},{"$f":"IF($A18<$A$1,INDEX('Pick List'!BF$14:BF$568,$D18),\"\")","v":""},{"$f":"IF($A18<$A$1,INDEX('Pick List'!BG$14:BG$568,$D18),\"\")","v":""}]
[17,17,"",{"$f":"MATCH($A19,'Pick List'!$AT$14:$AT$567,0)","v":{"$error":"#N/A"}},"",{"$f":"IF($A19<$A$1,INDEX('Pick List'!$AU$14:$AU$568,$D19),C19)","v":""},"",{"$f":"IF($A19<$A$1,INDEX('Pick List'!AV$14:AV$568,$D19),C19)","v":""},{"$f":"IF($A19<$A$1,INDEX('Pick List'!AW$14:AW$568,$D19),\"\")","v":""},{"$f":"IF($A19<$A$1,INDEX('Pick List'!AX$14:AX$568,$D19),\"\")","v":""},{"$f":"IF($A19<$A$1,INDEX('Pick List'!AY$14:AY$568,$D19),\"\")","v":""},{"$f":"IF($A19<$A$1,INDEX('Pick List'!AZ$14:AZ$568,$D19),\"\")","v":""},{"$f":"IF($A19<$A$1,INDEX('Pick List'!BA$14:BA$568,$D19),\"\")","v":""},{"$f":"IF($A19<$A$1,INDEX('Pick List'!BB$14:BB$568,$D19),\"\")","v":""},{"$f":"IF($A19<$A$1,INDEX('Pick List'!BC$14:BC$568,$D19),\"\")","v":""},{"$f":"IF($A19<$A$1,INDEX('Pick List'!BD$14:BD$568,$D19),\"\")","v":""},{"$f":"IF($A19<$A$1,INDEX('Pick List'!BE$14:BE$568,$D19),\"\")","v":""},{"$f":"IF($A19<$A$1,INDEX('Pick List'!BF$14:BF$568,$D19),\"\")","v":""},{"$f":"IF($A19<$A$1,INDEX('Pick List'!BG$14:BG$568,$D19),\"\")","v":""}]
[18,18,"",{"$f":"MATCH($A20,'Pick List'!$AT$14:$AT$567,0)","v":{"$error":"#N/A"}},"",{"$f":"IF($A20<$A$1,INDEX('Pick List'!$AU$14:$AU$568,$D20),C20)","v":""},"",{"$f":"IF($A20<$A$1,INDEX('Pick List'!AV$14:AV$568,$D20),C20)","v":""},{"$f":"IF($A20<$A$1,INDEX('Pick List'!AW$14:AW$568,$D20),\"\")","v":""},{"$f":"IF($A20<$A$1,INDEX('Pick List'!AX$14:AX$568,$D20),\"\")","v":""},{"$f":"IF($A20<$A$1,INDEX('Pick List'!AY$14:AY$568,$D20),\"\")","v":""},{"$f":"IF($A20<$A$1,INDEX('Pick List'!AZ$14:AZ$568,$D20),\"\")","v":""},{"$f":"IF($A20<$A$1,INDEX('Pick List'!BA$14:BA$568,$D20),\"\")","v":""},{"$f":"IF($A20<$A$1,INDEX('Pick List'!BB$14:BB$568,$D20),\"\")","v":""},{"$f":"IF($A20<$A$1,INDEX('Pick List'!BC$14:BC$568,$D20),\"\")","v":""},{"$f":"IF($A20<$A$1,INDEX('Pick List'!BD$14:BD$568,$D20),\"\")","v":""},{"$f":"IF($A20<$A$1,INDEX('Pick List'!BE$14:BE$568,$D20),\"\")","v":""},{"$f":"IF($A20<$A$1,INDEX('Pick List'!BF$14:BF$568,$D20),\"\")","v":""},{"$f":"IF($A20<$A$1,INDEX('Pick List'!BG$14:BG$568,$D20),\"\")","v":""}]
[19,19,"",{"$f":"MATCH($A21,'Pick List'!$AT$14:$AT$567,0)","v":{"$error":"#N/A"}},"",{"$f":"IF($A21<$A$1,INDEX('Pick List'!$AU$14:$AU$568,$D21),C21)","v":""},"",{"$f":"IF($A21<$A$1,INDEX('Pick List'!AV$14:AV$568,$D21),C21)","v":""},{"$f":"IF($A21<$A$1,INDEX('Pick List'!AW$14:AW$568,$D21),\"\")","v":""},{"$f":"IF($A21<$A$1,INDEX('Pick List'!AX$14:AX$568,$D21),\"\")","v":""},{"$f":"IF($A21<$A$1,INDEX('Pick List'!AY$14:AY$568,$D21),\"\")","v":""},{"$f":"IF($A21<$A$1,INDEX('Pick List'!AZ$14:AZ$568,$D21),\"\")","v":""},{"$f":"IF($A21<$A$1,INDEX('Pick List'!BA$14:BA$568,$D21),\"\")","v":""},{"$f":"IF($A21<$A$1,INDEX('Pick List'!BB$14:BB$568,$D21),\"\")","v":""},{"$f":"IF($A21<$A$1,INDEX('Pick List'!BC$14:BC$568,$D21),\"\")","v":""},{"$f":"IF($A21<$A$1,INDEX('Pick List'!BD$14:BD$568,$D21),\"\")","v":""},{"$f":"IF($A21<$A$1,INDEX('Pick List'!BE$14:BE$568,$D21),\"\")","v":""},{"$f":"IF($A21<$A$1,INDEX('Pick List'!BF$14:BF$568,$D21),\"\")","v":""},{"$f":"IF($A21<$A$1,INDEX('Pick List'!BG$14:BG$568,$D21),\"\")","v":""}]
[20,20,"",{"$f":"MATCH($A22,'Pick List'!$AT$14:$AT$567,0)","v":{"$error":"#N/A"}},"",{"$f":"IF($A22<$A$1,INDEX('Pick List'!$AU$14:$AU$568,$D22),C22)","v":""},{"$f":"IF($A22<$A$1,B22,\"\")","v":""},{"$f":"IF($A22<$A$1,INDEX('Pick List'!AV$14:AV$568,$D22),C22)","v":""},{"$f":"IF($A22<$A$1,INDEX('Pick List'!AW$14:AW$568,$D22),\"\")","v":""},{"$f":"IF($A22<$A$1,INDEX('Pick List'!AX$14:AX$568,$D22),\"\")","v":""},{"$f":"IF($A22<$A$1,INDEX('Pick List'!AY$14:AY$568,$D22),\"\")","v":""},{"$f":"IF($A22<$A$1,INDEX('Pick List'!AZ$14:AZ$568,$D22),\"\")","v":""},{"$f":"IF($A22<$A$1,INDEX('Pick List'!BA$14:BA$568,$D22),\"\")","v":""},{"$f":"IF($A22<$A$1,INDEX('Pick List'!BB$14:BB$568,$D22),\"\")","v":""},{"$f":"IF($A22<$A$1,INDEX('Pick List'!BC$14:BC$568,$D22),\"\")","v":""},{"$f":"IF($A22<$A$1,INDEX('Pick List'!BD$14:BD$568,$D22),\"\")","v":""},{"$f":"IF($A22<$A$1,INDEX('Pick List'!BE$14:BE$568,$D22),\"\")","v":""},{"$f":"IF($A22<$A$1,INDEX('Pick List'!BF$14:BF$568,$D22),\"\")","v":""},{"$f":"IF($A22<$A$1,INDEX('Pick List'!BG$14:BG$568,$D22),\"\")","v":""}]
[21,21,"",{"$f":"MATCH($A23,'Pick List'!$AT$14:$AT$567,0)","v":{"$error":"#N/A"}},"",{"$f":"IF($A23<$A$1,INDEX('Pick List'!$AU$14:$AU$568,$D23),C23)","v":""},"",{"$f":"IF($A23<$A$1,INDEX('Pick List'!AV$14:AV$568,$D23),C23)","v":""},{"$f":"IF($A23<$A$1,INDEX('Pick List'!AW$14:AW$568,$D23),\"\")","v":""},{"$f":"IF($A23<$A$1,INDEX('Pick List'!AX$14:AX$568,$D23),\"\")","v":""},{"$f":"IF($A23<$A$1,INDEX('Pick List'!AY$14:AY$568,$D23),\"\")","v":""},{"$f":"IF($A23<$A$1,INDEX('Pick List'!AZ$14:AZ$568,$D23),\"\")","v":""},{"$f":"IF($A23<$A$1,INDEX('Pick List'!BA$14:BA$568,$D23),\"\")","v":""},{"$f":"IF($A23<$A$1,INDEX('Pick List'!BB$14:BB$568,$D23),\"\")","v":""},{"$f":"IF($A23<$A$1,INDEX('Pick List'!BC$14:BC$568,$D23),\"\")","v":""},{"$f":"IF($A23<$A$1,INDEX('Pick List'!BD$14:BD$568,$D23),\"\")","v":""},{"$f":"IF($A23<$A$1,INDEX('Pick List'!BE$14:BE$568,$D23),\"\")","v":""},{"$f":"IF($A23<$A$1,INDEX('Pick List'!BF$14:BF$568,$D23),\"\")","v":""},{"$f":"IF($A23<$A$1,INDEX('Pick List'!BG$14:BG$568,$D23),\"\")","v":""}]
[22,22,"",{"$f":"MATCH($A24,'Pick List'!$AT$14:$AT$567,0)","v":{"$error":"#N/A"}},"",{"$f":"IF($A24<$A$1,INDEX('Pick List'!$AU$14:$AU$568,$D24),C24)","v":""},"",{"$f":"IF($A24<$A$1,INDEX('Pick List'!AV$14:AV$568,$D24),C24)","v":""},{"$f":"IF($A24<$A$1,INDEX('Pick List'!AW$14:AW$568,$D24),\"\")","v":""},{"$f":"IF($A24<$A$1,INDEX('Pick List'!AX$14:AX$568,$D24),\"\")","v":""},{"$f":"IF($A24<$A$1,INDEX('Pick List'!AY$14:AY$568,$D24),\"\")","v":""},{"$f":"IF($A24<$A$1,INDEX('Pick List'!AZ$14:AZ$568,$D24),\"\")","v":""},{"$f":"IF($A24<$A$1,INDEX('Pick List'!BA$14:BA$568,$D24),\"\")","v":""},{"$f":"IF($A24<$A$1,INDEX('Pick List'!BB$14:BB$568,$D24),\"\")","v":""},{"$f":"IF($A24<$A$1,INDEX('Pick List'!BC$14:BC$568,$D24),\"\")","v":""},{"$f":"IF($A24<$A$1,INDEX('Pick List'!BD$14:BD$568,$D24),\"\")","v":""},{"$f":"IF($A24<$A$1,INDEX('Pick List'!BE$14:BE$568,$D24),\"\")","v":""},{"$f":"IF($A24<$A$1,INDEX('Pick List'!BF$14:BF$568,$D24),\"\")","v":""},{"$f":"IF($A24<$A$1,INDEX('Pick List'!BG$14:BG$568,$D24),\"\")","v":""}]
[23,23,"",{"$f":"MATCH($A25,'Pick List'!$AT$14:$AT$567,0)","v":{"$error":"#N/A"}},"",{"$f":"IF($A25<$A$1,INDEX('Pick List'!$AU$14:$AU$568,$D25),C25)","v":""},"",{"$f":"IF($A25<$A$1,INDEX('Pick List'!AV$14:AV$568,$D25),C25)","v":""},{"$f":"IF($A25<$A$1,INDEX('Pick List'!AW$14:AW$568,$D25),\"\")","v":""},{"$f":"IF($A25<$A$1,INDEX('Pick List'!AX$14:AX$568,$D25),\"\")","v":""},{"$f":"IF($A25<$A$1,INDEX('Pick List'!AY$14:AY$568,$D25),\"\")","v":""},{"$f":"IF($A25<$A$1,INDEX('Pick List'!AZ$14:AZ$568,$D25),\"\")","v":""},{"$f":"IF($A25<$A$1,INDEX('Pick List'!BA$14:BA$568,$D25),\"\")","v":""},{"$f":"IF($A25<$A$1,INDEX('Pick List'!BB$14:BB$568,$D25),\"\")","v":""},{"$f":"IF($A25<$A$1,INDEX('Pick List'!BC$14:BC$568,$D25),\"\")","v":""},{"$f":"IF($A25<$A$1,INDEX('Pick List'!BD$14:BD$568,$D25),\"\")","v":""},{"$f":"IF($A25<$A$1,INDEX('Pick List'!BE$14:BE$568,$D25),\"\")","v":""},{"$f":"IF($A25<$A$1,INDEX('Pick List'!BF$14:BF$568,$D25),\"\")","v":""},{"$f":"IF($A25<$A$1,INDEX('Pick List'!BG$14:BG$568,$D25),\"\")","v":""}]
[24,24,"",{"$f":"MATCH($A26,'Pick List'!$AT$14:$AT$567,0)","v":{"$error":"#N/A"}},"",{"$f":"IF($A26<$A$1,INDEX('Pick List'!$AU$14:$AU$568,$D26),C26)","v":""},"",{"$f":"IF($A26<$A$1,INDEX('Pick List'!AV$14:AV$568,$D26),C26)","v":""},{"$f":"IF($A26<$A$1,INDEX('Pick List'!AW$14:AW$568,$D26),\"\")","v":""},{"$f":"IF($A26<$A$1,INDEX('Pick List'!AX$14:AX$568,$D26),\"\")","v":""},{"$f":"IF($A26<$A$1,INDEX('Pick List'!AY$14:AY$568,$D26),\"\")","v":""},{"$f":"IF($A26<$A$1,INDEX('Pick List'!AZ$14:AZ$568,$D26),\"\")","v":""},{"$f":"IF($A26<$A$1,INDEX('Pick List'!BA$14:BA$568,$D26),\"\")","v":""},{"$f":"IF($A26<$A$1,INDEX('Pick List'!BB$14:BB$568,$D26),\"\")","v":""},{"$f":"IF($A26<$A$1,INDEX('Pick List'!BC$14:BC$568,$D26),\"\")","v":""},{"$f":"IF($A26<$A$1,INDEX('Pick List'!BD$14:BD$568,$D26),\"\")","v":""},{"$f":"IF($A26<$A$1,INDEX('Pick List'!BE$14:BE$568,$D26),\"\")","v":""},{"$f":"IF($A26<$A$1,INDEX('Pick List'!BF$14:BF$568,$D26),\"\")","v":""},{"$f":"IF($A26<$A$1,INDEX('Pick List'!BG$14:BG$568,$D26),\"\")","v":""}]
[25,25,"",{"$f":"MATCH($A27,'Pick List'!$AT$14:$AT$567,0)","v":{"$error":"#N/A"}},"",{"$f":"IF($A27<$A$1,INDEX('Pick List'!$AU$14:$AU$568,$D27),C27)","v":""},"",{"$f":"IF($A27<$A$1,INDEX('Pick List'!AV$14:AV$568,$D27),C27)","v":""},{"$f":"IF($A27<$A$1,INDEX('Pick List'!AW$14:AW$568,$D27),\"\")","v":""},{"$f":"IF($A27<$A$1,INDEX('Pick List'!AX$14:AX$568,$D27),\"\")","v":""},{"$f":"IF($A27<$A$1,INDEX('Pick List'!AY$14:AY$568,$D27),\"\")","v":""},{"$f":"IF($A27<$A$1,INDEX('Pick List'!AZ$14:AZ$568,$D27),\"\")","v":""},{"$f":"IF($A27<$A$1,INDEX('Pick List'!BA$14:BA$568,$D27),\"\")","v":""},{"$f":"IF($A27<$A$1,INDEX('Pick List'!BB$14:BB$568,$D27),\"\")","v":""},{"$f":"IF($A27<$A$1,INDEX('Pick List'!BC$14:BC$568,$D27),\"\")","v":""},{"$f":"IF($A27<$A$1,INDEX('Pick List'!BD$14:BD$568,$D27),\"\")","v":""},{"$f":"IF($A27<$A$1,INDEX('Pick List'!BE$14:BE$568,$D27),\"\")","v":""},{"$f":"IF($A27<$A$1,INDEX('Pick List'!BF$14:BF$568,$D27),\"\")","v":""},{"$f":"IF($A27<$A$1,INDEX('Pick List'!BG$14:BG$568,$D27),\"\")","v":""}]
[26,26,"",{"$f":"MATCH($A28,'Pick List'!$AT$14:$AT$567,0)","v":{"$error":"#N/A"}},"",{"$f":"IF($A28<$A$1,INDEX('Pick List'!$AU$14:$AU$568,$D28),C28)","v":""},{"$f":"IF(AND($A28<$A$1,F28>2),B28,\"\")","v":""},{"$f":"IF($A28<$A$1,INDEX('Pick List'!AV$14:AV$568,$D28),C28)","v":""},{"$f":"IF($A28<$A$1,INDEX('Pick List'!AW$14:AW$568,$D28),\"\")","v":""},{"$f":"IF($A28<$A$1,INDEX('Pick List'!AX$14:AX$568,$D28),\"\")","v":""},{"$f":"IF($A28<$A$1,INDEX('Pick List'!AY$14:AY$568,$D28),\"\")","v":""},{"$f":"IF($A28<$A$1,INDEX('Pick List'!AZ$14:AZ$568,$D28),\"\")","v":""},{"$f":"IF($A28<$A$1,INDEX('Pick List'!BA$14:BA$568,$D28),\"\")","v":""},{"$f":"IF($A28<$A$1,INDEX('Pick List'!BB$14:BB$568,$D28),\"\")","v":""},{"$f":"IF($A28<$A$1,INDEX('Pick List'!BC$14:BC$568,$D28),\"\")","v":""},{"$f":"IF($A28<$A$1,INDEX('Pick List'!BD$14:BD$568,$D28),\"\")","v":""},{"$f":"IF($A28<$A$1,INDEX('Pick List'!BE$14:BE$568,$D28),\"\")","v":""},{"$f":"IF($A28<$A$1,INDEX('Pick List'!BF$14:BF$568,$D28),\"\")","v":""},{"$f":"IF($A28<$A$1,INDEX('Pick List'!BG$14:BG$568,$D28),\"\")","v":""}]
[27,27,"",{"$f":"MATCH($A29,'Pick List'!$AT$14:$AT$567,0)","v":{"$error":"#N/A"}},"",{"$f":"IF($A29<$A$1,INDEX('Pick List'!$AU$14:$AU$568,$D29),C29)","v":""},"",{"$f":"IF($A29<$A$1,INDEX('Pick List'!AV$14:AV$568,$D29),C29)","v":""},{"$f":"IF($A29<$A$1,INDEX('Pick List'!AW$14:AW$568,$D29),\"\")","v":""},{"$f":"IF($A29<$A$1,INDEX('Pick List'!AX$14:AX$568,$D29),\"\")","v":""},{"$f":"IF($A29<$A$1,INDEX('Pick List'!AY$14:AY$568,$D29),\"\")","v":""},{"$f":"IF($A29<$A$1,INDEX('Pick List'!AZ$14:AZ$568,$D29),\"\")","v":""},{"$f":"IF($A29<$A$1,INDEX('Pick List'!BA$14:BA$568,$D29),\"\")","v":""},{"$f":"IF($A29<$A$1,INDEX('Pick List'!BB$14:BB$568,$D29),\"\")","v":""},{"$f":"IF($A29<$A$1,INDEX('Pick List'!BC$14:BC$568,$D29),\"\")","v":""},{"$f":"IF($A29<$A$1,INDEX('Pick List'!BD$14:BD$568,$D29),\"\")","v":""},{"$f":"IF($A29<$A$1,INDEX('Pick List'!BE$14:BE$568,$D29),\"\")","v":""},{"$f":"IF($A29<$A$1,INDEX('Pick List'!BF$14:BF$568,$D29),\"\")","v":""},{"$f":"IF($A29<$A$1,INDEX('Pick List'!BG$14:BG$568,$D29),\"\")","v":""}]
[28,28,"",{"$f":"MATCH($A30,'Pick List'!$AT$14:$AT$567,0)","v":{"$error":"#N/A"}},"",{"$f":"IF($A30<$A$1,INDEX('Pick List'!$AU$14:$AU$568,$D30),C30)","v":""},"",{"$f":"IF($A30<$A$1,INDEX('Pick List'!AV$14:AV$568,$D30),C30)","v":""},{"$f":"IF($A30<$A$1,INDEX('Pick List'!AW$14:AW$568,$D30),\"\")","v":""},{"$f":"IF($A30<$A$1,INDEX('Pick List'!AX$14:AX$568,$D30),\"\")","v":""},{"$f":"IF($A30<$A$1,INDEX('Pick List'!AY$14:AY$568,$D30),\"\")","v":""},{"$f":"IF($A30<$A$1,INDEX('Pick List'!AZ$14:AZ$568,$D30),\"\")","v":""},{"$f":"IF($A30<$A$1,INDEX('Pick List'!BA$14:BA$568,$D30),\"\")","v":""},{"$f":"IF($A30<$A$1,INDEX('Pick List'!BB$14:BB$568,$D30),\"\")","v":""},{"$f":"IF($A30<$A$1,INDEX('Pick List'!BC$14:BC$568,$D30),\"\")","v":""},{"$f":"IF($A30<$A$1,INDEX('Pick List'!BD$14:BD$568,$D30),\"\")","v":""},{"$f":"IF($A30<$A$1,INDEX('Pick List'!BE$14:BE$568,$D30),\"\")","v":""},{"$f":"IF($A30<$A$1,INDEX('Pick List'!BF$14:BF$568,$D30),\"\")","v":""},{"$f":"IF($A30<$A$1,INDEX('Pick List'!BG$14:BG$568,$D30),\"\")","v":""}]
[29,29,"",{"$f":"MATCH($A31,'Pick List'!$AT$14:$AT$567,0)","v":{"$error":"#N/A"}},"",{"$f":"IF($A31<$A$1,INDEX('Pick List'!$AU$14:$AU$568,$D31),C31)","v":""},"",{"$f":"IF($A31<$A$1,INDEX('Pick List'!AV$14:AV$568,$D31),C31)","v":""},{"$f":"IF($A31<$A$1,INDEX('Pick List'!AW$14:AW$568,$D31),\"\")","v":""},{"$f":"IF($A31<$A$1,INDEX('Pick List'!AX$14:AX$568,$D31),\"\")","v":""},{"$f":"IF($A31<$A$1,INDEX('Pick List'!AY$14:AY$568,$D31),\"\")","v":""},{"$f":"IF($A31<$A$1,INDEX('Pick List'!AZ$14:AZ$568,$D31),\"\")","v":""},{"$f":"IF($A31<$A$1,INDEX('Pick List'!BA$14:BA$568,$D31),\"\")","v":""},{"$f":"IF($A31<$A$1,INDEX('Pick List'!BB$14:BB$568,$D31),\"\")","v":""},{"$f":"IF($A31<$A$1,INDEX('Pick List'!BC$14:BC$568,$D31),\"\")","v":""},{"$f":"IF($A31<$A$1,INDEX('Pick List'!BD$14:BD$568,$D31),\"\")","v":""},{"$f":"IF($A31<$A$1,INDEX('Pick List'!BE$14:BE$568,$D31),\"\")","v":""},{"$f":"IF($A31<$A$1,INDEX('Pick List'!BF$14:BF$568,$D31),\"\")","v":""},{"$f":"IF($A31<$A$1,INDEX('Pick List'!BG$14:BG$568,$D31),\"\")","v":""}]
[30,30,"",{"$f":"MATCH($A32,'Pick List'!$AT$14:$AT$567,0)","v":{"$error":"#N/A"}},"",{"$f":"IF($A32<$A$1,INDEX('Pick List'!$AU$14:$AU$568,$D32),C32)","v":""},"",{"$f":"IF($A32<$A$1,INDEX('Pick List'!AV$14:AV$568,$D32),C32)","v":""},{"$f":"IF($A32<$A$1,INDEX('Pick List'!AW$14:AW$568,$D32),\"\")","v":""},{"$f":"IF($A32<$A$1,INDEX('Pick List'!AX$14:AX$568,$D32),\"\")","v":""},{"$f":"IF($A32<$A$1,INDEX('Pick List'!AY$14:AY$568,$D32),\"\")","v":""},{"$f":"IF($A32<$A$1,INDEX('Pick List'!AZ$14:AZ$568,$D32),\"\")","v":""},{"$f":"IF($A32<$A$1,INDEX('Pick List'!BA$14:BA$568,$D32),\"\")","v":""},{"$f":"IF($A32<$A$1,INDEX('Pick List'!BB$14:BB$568,$D32),\"\")","v":""},{"$f":"IF($A32<$A$1,INDEX('Pick List'!BC$14:BC$568,$D32),\"\")","v":""},{"$f":"IF($A32<$A$1,INDEX('Pick List'!BD$14:BD$568,$D32),\"\")","v":""},{"$f":"IF($A32<$A$1,INDEX('Pick List'!BE$14:BE$568,$D32),\"\")","v":""},{"$f":"IF($A32<$A$1,INDEX('Pick List'!BF$14:BF$568,$D32),\"\")","v":""},{"$f":"IF($A32<$A$1,INDEX('Pick List'!BG$14:BG$568,$D32),\"\")","v":""}]
[31,31,"",{"$f":"MATCH($A33,'Pick List'!$AT$14:$AT$567,0)","v":{"$error":"#N/A"}},"",{"$f":"IF($A33<$A$1,INDEX('Pick List'!$AU$14:$AU$568,$D33),C33)","v":""},"",{"$f":"IF($A33<$A$1,INDEX('Pick List'!AV$14:AV$568,$D33),C33)","v":""},{"$f":"IF($A33<$A$1,INDEX('Pick List'!AW$14:AW$568,$D33),\"\")","v":""},{"$f":"IF($A33<$A$1,INDEX('Pick List'!AX$14:AX$568,$D33),\"\")","v":""},{"$f":"IF($A33<$A$1,INDEX('Pick List'!AY$14:AY$568,$D33),\"\")","v":""},{"$f":"IF($A33<$A$1,INDEX('Pick List'!AZ$14:AZ$568,$D33),\"\")","v":""},{"$f":"IF($A33<$A$1,INDEX('Pick List'!BA$14:BA$568,$D33),\"\")","v":""},{"$f":"IF($A33<$A$1,INDEX('Pick List'!BB$14:BB$568,$D33),\"\")","v":""},{"$f":"IF($A33<$A$1,INDEX('Pick List'!BC$14:BC$568,$D33),\"\")","v":""},{"$f":"IF($A33<$A$1,INDEX('Pick List'!BD$14:BD$568,$D33),\"\")","v":""},{"$f":"IF($A33<$A$1,INDEX('Pick List'!BE$14:BE$568,$D33),\"\")","v":""},{"$f":"IF($A33<$A$1,INDEX('Pick List'!BF$14:BF$568,$D33),\"\")","v":""},{"$f":"IF($A33<$A$1,INDEX('Pick List'!BG$14:BG$568,$D33),\"\")","v":""}]
[32,32,"",{"$f":"MATCH($A34,'Pick List'!$AT$14:$AT$567,0)","v":{"$error":"#N/A"}},"",{"$f":"IF($A34<$A$1,INDEX('Pick List'!$AU$14:$AU$568,$D34),C34)","v":""},"",{"$f":"IF($A34<$A$1,INDEX('Pick List'!AV$14:AV$568,$D34),C34)","v":""},{"$f":"IF($A34<$A$1,INDEX('Pick List'!AW$14:AW$568,$D34),\"\")","v":""},{"$f":"IF($A34<$A$1,INDEX('Pick List'!AX$14:AX$568,$D34),\"\")","v":""},{"$f":"IF($A34<$A$1,INDEX('Pick List'!AY$14:AY$568,$D34),\"\")","v":""},{"$f":"IF($A34<$A$1,INDEX('Pick List'!AZ$14:AZ$568,$D34),\"\")","v":""},{"$f":"IF($A34<$A$1,INDEX('Pick List'!BA$14:BA$568,$D34),\"\")","v":""},{"$f":"IF($A34<$A$1,INDEX('Pick List'!BB$14:BB$568,$D34),\"\")","v":""},{"$f":"IF($A34<$A$1,INDEX('Pick List'!BC$14:BC$568,$D34),\"\")","v":""},{"$f":"IF($A34<$A$1,INDEX('Pick List'!BD$14:BD$568,$D34),\"\")","v":""},{"$f":"IF($A34<$A$1,INDEX('Pick List'!BE$14:BE$568,$D34),\"\")","v":""},{"$f":"IF($A34<$A$1,INDEX('Pick List'!BF$14:BF$568,$D34),\"\")","v":""},{"$f":"IF($A34<$A$1,INDEX('Pick List'!BG$14:BG$568,$D34),\"\")","v":""}]
[{"$f":"A34+1","v":33},33,"",{"$f":"MATCH($A35,'Pick List'!$AT$14:$AT$567,0)","v":{"$error":"#N/A"}},"",{"$f":"IF($A35<$A$1,INDEX('Pick List'!$AU$14:$AU$568,$D35),C35)","v":""},"",{"$f":"IF($A35<$A$1,INDEX('Pick List'!AV$14:AV$568,$D35),C35)","v":""},{"$f":"IF($A35<$A$1,INDEX('Pick List'!AW$14:AW$568,$D35),\"\")","v":""},{"$f":"IF($A35<$A$1,INDEX('Pick List'!AX$14:AX$568,$D35),\"\")","v":""},{"$f":"IF($A35<$A$1,INDEX('Pick List'!AY$14:AY$568,$D35),\"\")","v":""},{"$f":"IF($A35<$A$1,INDEX('Pick List'!AZ$14:AZ$568,$D35),\"\")","v":""},{"$f":"IF($A35<$A$1,INDEX('Pick List'!BA$14:BA$568,$D35),\"\")","v":""},{"$f":"IF($A35<$A$1,INDEX('Pick List'!BB$14:BB$568,$D35),\"\")","v":""},{"$f":"IF($A35<$A$1,INDEX('Pick List'!BC$14:BC$568,$D35),\"\")","v":""},{"$f":"IF($A35<$A$1,INDEX('Pick List'!BD$14:BD$568,$D35),\"\")","v":""},{"$f":"IF($A35<$A$1,INDEX('Pick List'!BE$14:BE$568,$D35),\"\")","v":""},{"$f":"IF($A35<$A$1,INDEX('Pick List'!BF$14:BF$568,$D35),\"\")","v":""},{"$f":"IF($A35<$A$1,INDEX('Pick List'!BG$14:BG$568,$D35),\"\")","v":""}]
[34,34,"",{"$f":"MATCH($A36,'Pick List'!$AT$14:$AT$567,0)","v":{"$error":"#N/A"}},"",{"$f":"IF($A36<$A$1,INDEX('Pick List'!$AU$14:$AU$568,$D36),C36)","v":""},"",{"$f":"IF($A36<$A$1,INDEX('Pick List'!AV$14:AV$568,$D36),C36)","v":""},{"$f":"IF($A36<$A$1,INDEX('Pick List'!AW$14:AW$568,$D36),\"\")","v":""},{"$f":"IF($A36<$A$1,INDEX('Pick List'!AX$14:AX$568,$D36),\"\")","v":""},{"$f":"IF($A36<$A$1,INDEX('Pick List'!AY$14:AY$568,$D36),\"\")","v":""},{"$f":"IF($A36<$A$1,INDEX('Pick List'!AZ$14:AZ$568,$D36),\"\")","v":""},{"$f":"IF($A36<$A$1,INDEX('Pick List'!BA$14:BA$568,$D36),\"\")","v":""},{"$f":"IF($A36<$A$1,INDEX('Pick List'!BB$14:BB$568,$D36),\"\")","v":""},{"$f":"IF($A36<$A$1,INDEX('Pick List'!BC$14:BC$568,$D36),\"\")","v":""},{"$f":"IF($A36<$A$1,INDEX('Pick List'!BD$14:BD$568,$D36),\"\")","v":""},{"$f":"IF($A36<$A$1,INDEX('Pick List'!BE$14:BE$568,$D36),\"\")","v":""},{"$f":"IF($A36<$A$1,INDEX('Pick List'!BF$14:BF$568,$D36),\"\")","v":""},{"$f":"IF($A36<$A$1,INDEX('Pick List'!BG$14:BG$568,$D36),\"\")","v":""}]
[35,35,"",{"$f":"MATCH($A37,'Pick List'!$AT$14:$AT$567,0)","v":{"$error":"#N/A"}},"",{"$f":"IF($A37<$A$1,INDEX('Pick List'!$AU$14:$AU$568,$D37),C37)","v":""},"",{"$f":"IF($A37<$A$1,INDEX('Pick List'!AV$14:AV$568,$D37),C37)","v":""},{"$f":"IF($A37<$A$1,INDEX('Pick List'!AW$14:AW$568,$D37),\"\")","v":""},{"$f":"IF($A37<$A$1,INDEX('Pick List'!AX$14:AX$568,$D37),\"\")","v":""},{"$f":"IF($A37<$A$1,INDEX('Pick List'!AY$14:AY$568,$D37),\"\")","v":""},{"$f":"IF($A37<$A$1,INDEX('Pick List'!AZ$14:AZ$568,$D37),\"\")","v":""},{"$f":"IF($A37<$A$1,INDEX('Pick List'!BA$14:BA$568,$D37),\"\")","v":""},{"$f":"IF($A37<$A$1,INDEX('Pick List'!BB$14:BB$568,$D37),\"\")","v":""},{"$f":"IF($A37<$A$1,INDEX('Pick List'!BC$14:BC$568,$D37),\"\")","v":""},{"$f":"IF($A37<$A$1,INDEX('Pick List'!BD$14:BD$568,$D37),\"\")","v":""},{"$f":"IF($A37<$A$1,INDEX('Pick List'!BE$14:BE$568,$D37),\"\")","v":""},{"$f":"IF($A37<$A$1,INDEX('Pick List'!BF$14:BF$568,$D37),\"\")","v":""},{"$f":"IF($A37<$A$1,INDEX('Pick List'!BG$14:BG$568,$D37),\"\")","v":""}]
[36,36,"",{"$f":"MATCH($A38,'Pick List'!$AT$14:$AT$567,0)","v":{"$error":"#N/A"}},"",{"$f":"IF($A38<$A$1,INDEX('Pick List'!$AU$14:$AU$568,$D38),C38)","v":""},"",{"$f":"IF($A38<$A$1,INDEX('Pick List'!AV$14:AV$568,$D38),C38)","v":""},{"$f":"IF($A38<$A$1,INDEX('Pick List'!AW$14:AW$568,$D38),\"\")","v":""},{"$f":"IF($A38<$A$1,INDEX('Pick List'!AX$14:AX$568,$D38),\"\")","v":""},{"$f":"IF($A38<$A$1,INDEX('Pick List'!AY$14:AY$568,$D38),\"\")","v":""},{"$f":"IF($A38<$A$1,INDEX('Pick List'!AZ$14:AZ$568,$D38),\"\")","v":""},{"$f":"IF($A38<$A$1,INDEX('Pick List'!BA$14:BA$568,$D38),\"\")","v":""},{"$f":"IF($A38<$A$1,INDEX('Pick List'!BB$14:BB$568,$D38),\"\")","v":""},{"$f":"IF($A38<$A$1,INDEX('Pick List'!BC$14:BC$568,$D38),\"\")","v":""},{"$f":"IF($A38<$A$1,INDEX('Pick List'!BD$14:BD$568,$D38),\"\")","v":""},{"$f":"IF($A38<$A$1,INDEX('Pick List'!BE$14:BE$568,$D38),\"\")","v":""},{"$f":"IF($A38<$A$1,INDEX('Pick List'!BF$14:BF$568,$D38),\"\")","v":""},{"$f":"IF($A38<$A$1,INDEX('Pick List'!BG$14:BG$568,$D38),\"\")","v":""}]
[37,37,"",{"$f":"MATCH($A39,'Pick List'!$AT$14:$AT$567,0)","v":{"$error":"#N/A"}},"",{"$f":"IF($A39<$A$1,INDEX('Pick List'!$AU$14:$AU$568,$D39),C39)","v":""},"",{"$f":"IF($A39<$A$1,INDEX('Pick List'!AV$14:AV$568,$D39),C39)","v":""},{"$f":"IF($A39<$A$1,INDEX('Pick List'!AW$14:AW$568,$D39),\"\")","v":""},{"$f":"IF($A39<$A$1,INDEX('Pick List'!AX$14:AX$568,$D39),\"\")","v":""},{"$f":"IF($A39<$A$1,INDEX('Pick List'!AY$14:AY$568,$D39),\"\")","v":""},{"$f":"IF($A39<$A$1,INDEX('Pick List'!AZ$14:AZ$568,$D39),\"\")","v":""},{"$f":"IF($A39<$A$1,INDEX('Pick List'!BA$14:BA$568,$D39),\"\")","v":""},{"$f":"IF($A39<$A$1,INDEX('Pick List'!BB$14:BB$568,$D39),\"\")","v":""},{"$f":"IF($A39<$A$1,INDEX('Pick List'!BC$14:BC$568,$D39),\"\")","v":""},{"$f":"IF($A39<$A$1,INDEX('Pick List'!BD$14:BD$568,$D39),\"\")","v":""},{"$f":"IF($A39<$A$1,INDEX('Pick List'!BE$14:BE$568,$D39),\"\")","v":""},{"$f":"IF($A39<$A$1,INDEX('Pick List'!BF$14:BF$568,$D39),\"\")","v":""},{"$f":"IF($A39<$A$1,INDEX('Pick List'!BG$14:BG$568,$D39),\"\")","v":""}]
[38,38,"",{"$f":"MATCH($A40,'Pick List'!$AT$14:$AT$567,0)","v":{"$error":"#N/A"}},"",{"$f":"IF($A40<$A$1,INDEX('Pick List'!$AU$14:$AU$568,$D40),C40)","v":""},"",{"$f":"IF($A40<$A$1,INDEX('Pick List'!AV$14:AV$568,$D40),C40)","v":""},{"$f":"IF($A40<$A$1,INDEX('Pick List'!AW$14:AW$568,$D40),\"\")","v":""},{"$f":"IF($A40<$A$1,INDEX('Pick List'!AX$14:AX$568,$D40),\"\")","v":""},{"$f":"IF($A40<$A$1,INDEX('Pick List'!AY$14:AY$568,$D40),\"\")","v":""},{"$f":"IF($A40<$A$1,INDEX('Pick List'!AZ$14:AZ$568,$D40),\"\")","v":""},{"$f":"IF($A40<$A$1,INDEX('Pick List'!BA$14:BA$568,$D40),\"\")","v":""},{"$f":"IF($A40<$A$1,INDEX('Pick List'!BB$14:BB$568,$D40),\"\")","v":""},{"$f":"IF($A40<$A$1,INDEX('Pick List'!BC$14:BC$568,$D40),\"\")","v":""},{"$f":"IF($A40<$A$1,INDEX('Pick List'!BD$14:BD$568,$D40),\"\")","v":""},{"$f":"IF($A40<$A$1,INDEX('Pick List'!BE$14:BE$568,$D40),\"\")","v":""},{"$f":"IF($A40<$A$1,INDEX('Pick List'!BF$14:BF$568,$D40),\"\")","v":""},{"$f":"IF($A40<$A$1,INDEX('Pick List'!BG$14:BG$568,$D40),\"\")","v":""}]
[39,39,"",{"$f":"MATCH($A41,'Pick List'!$AT$14:$AT$567,0)","v":{"$error":"#N/A"}},"",{"$f":"IF($A41<$A$1,INDEX('Pick List'!$AU$14:$AU$568,$D41),C41)","v":""},"",{"$f":"IF($A41<$A$1,INDEX('Pick List'!AV$14:AV$568,$D41),C41)","v":""},{"$f":"IF($A41<$A$1,INDEX('Pick List'!AW$14:AW$568,$D41),\"\")","v":""},{"$f":"IF($A41<$A$1,INDEX('Pick List'!AX$14:AX$568,$D41),\"\")","v":""},{"$f":"IF($A41<$A$1,INDEX('Pick List'!AY$14:AY$568,$D41),\"\")","v":""},{"$f":"IF($A41<$A$1,INDEX('Pick List'!AZ$14:AZ$568,$D41),\"\")","v":""},{"$f":"IF($A41<$A$1,INDEX('Pick List'!BA$14:BA$568,$D41),\"\")","v":""},{"$f":"IF($A41<$A$1,INDEX('Pick List'!BB$14:BB$568,$D41),\"\")","v":""},{"$f":"IF($A41<$A$1,INDEX('Pick List'!BC$14:BC$568,$D41),\"\")","v":""},{"$f":"IF($A41<$A$1,INDEX('Pick List'!BD$14:BD$568,$D41),\"\")","v":""},{"$f":"IF($A41<$A$1,INDEX('Pick List'!BE$14:BE$568,$D41),\"\")","v":""},{"$f":"IF($A41<$A$1,INDEX('Pick List'!BF$14:BF$568,$D41),\"\")","v":""},{"$f":"IF($A41<$A$1,INDEX('Pick List'!BG$14:BG$568,$D41),\"\")","v":""}]
[40,40,"",{"$f":"MATCH($A42,'Pick List'!$AT$14:$AT$567,0)","v":{"$error":"#N/A"}},"",{"$f":"IF($A42<$A$1,INDEX('Pick List'!$AU$14:$AU$568,$D42),C42)","v":""},"",{"$f":"IF($A42<$A$1,INDEX('Pick List'!AV$14:AV$568,$D42),C42)","v":""},{"$f":"IF($A42<$A$1,INDEX('Pick List'!AW$14:AW$568,$D42),\"\")","v":""},{"$f":"IF($A42<$A$1,INDEX('Pick List'!AX$14:AX$568,$D42),\"\")","v":""},{"$f":"IF($A42<$A$1,INDEX('Pick List'!AY$14:AY$568,$D42),\"\")","v":""},{"$f":"IF($A42<$A$1,INDEX('Pick List'!AZ$14:AZ$568,$D42),\"\")","v":""},{"$f":"IF($A42<$A$1,INDEX('Pick List'!BA$14:BA$568,$D42),\"\")","v":""},{"$f":"IF($A42<$A$1,INDEX('Pick List'!BB$14:BB$568,$D42),\"\")","v":""},{"$f":"IF($A42<$A$1,INDEX('Pick List'!BC$14:BC$568,$D42),\"\")","v":""},{"$f":"IF($A42<$A$1,INDEX('Pick List'!BD$14:BD$568,$D42),\"\")","v":""},{"$f":"IF($A42<$A$1,INDEX('Pick List'!BE$14:BE$568,$D42),\"\")","v":""},{"$f":"IF($A42<$A$1,INDEX('Pick List'!BF$14:BF$568,$D42),\"\")","v":""},{"$f":"IF($A42<$A$1,INDEX('Pick List'!BG$14:BG$568,$D42),\"\")","v":""}]
[41,41,"",{"$f":"MATCH($A43,'Pick List'!$AT$14:$AT$567,0)","v":{"$error":"#N/A"}},"",{"$f":"IF($A43<$A$1,INDEX('Pick List'!$AU$14:$AU$568,$D43),C43)","v":""},"",{"$f":"IF($A43<$A$1,INDEX('Pick List'!AV$14:AV$568,$D43),C43)","v":""},{"$f":"IF($A43<$A$1,INDEX('Pick List'!AW$14:AW$568,$D43),\"\")","v":""},{"$f":"IF($A43<$A$1,INDEX('Pick List'!AX$14:AX$568,$D43),\"\")","v":""},{"$f":"IF($A43<$A$1,INDEX('Pick List'!AY$14:AY$568,$D43),\"\")","v":""},{"$f":"IF($A43<$A$1,INDEX('Pick List'!AZ$14:AZ$568,$D43),\"\")","v":""},{"$f":"IF($A43<$A$1,INDEX('Pick List'!BA$14:BA$568,$D43),\"\")","v":""},{"$f":"IF($A43<$A$1,INDEX('Pick List'!BB$14:BB$568,$D43),\"\")","v":""},{"$f":"IF($A43<$A$1,INDEX('Pick List'!BC$14:BC$568,$D43),\"\")","v":""},{"$f":"IF($A43<$A$1,INDEX('Pick List'!BD$14:BD$568,$D43),\"\")","v":""},{"$f":"IF($A43<$A$1,INDEX('Pick List'!BE$14:BE$568,$D43),\"\")","v":""},{"$f":"IF($A43<$A$1,INDEX('Pick List'!BF$14:BF$568,$D43),\"\")","v":""},{"$f":"IF($A43<$A$1,INDEX('Pick List'!BG$14:BG$568,$D43),\"\")","v":""}]
[42,42,"",{"$f":"MATCH($A44,'Pick List'!$AT$14:$AT$567,0)","v":{"$error":"#N/A"}},"",{"$f":"IF($A44<$A$1,INDEX('Pick List'!$AU$14:$AU$568,$D44),C44)","v":""},"",{"$f":"IF($A44<$A$1,INDEX('Pick List'!AV$14:AV$568,$D44),C44)","v":""},{"$f":"IF($A44<$A$1,INDEX('Pick List'!AW$14:AW$568,$D44),\"\")","v":""},{"$f":"IF($A44<$A$1,INDEX('Pick List'!AX$14:AX$568,$D44),\"\")","v":""},{"$f":"IF($A44<$A$1,INDEX('Pick List'!AY$14:AY$568,$D44),\"\")","v":""},{"$f":"IF($A44<$A$1,INDEX('Pick List'!AZ$14:AZ$568,$D44),\"\")","v":""},{"$f":"IF($A44<$A$1,INDEX('Pick List'!BA$14:BA$568,$D44),\"\")","v":""},{"$f":"IF($A44<$A$1,INDEX('Pick List'!BB$14:BB$568,$D44),\"\")","v":""},{"$f":"IF($A44<$A$1,INDEX('Pick List'!BC$14:BC$568,$D44),\"\")","v":""},{"$f":"IF($A44<$A$1,INDEX('Pick List'!BD$14:BD$568,$D44),\"\")","v":""},{"$f":"IF($A44<$A$1,INDEX('Pick List'!BE$14:BE$568,$D44),\"\")","v":""},{"$f":"IF($A44<$A$1,INDEX('Pick List'!BF$14:BF$568,$D44),\"\")","v":""},{"$f":"IF($A44<$A$1,INDEX('Pick List'!BG$14:BG$568,$D44),\"\")","v":""}]
[43,43,"",{"$f":"MATCH($A45,'Pick List'!$AT$14:$AT$567,0)","v":{"$error":"#N/A"}},"",{"$f":"IF($A45<$A$1,INDEX('Pick List'!$AU$14:$AU$568,$D45),C45)","v":""},"",{"$f":"IF($A45<$A$1,INDEX('Pick List'!AV$14:AV$568,$D45),C45)","v":""},{"$f":"IF($A45<$A$1,INDEX('Pick List'!AW$14:AW$568,$D45),\"\")","v":""},{"$f":"IF($A45<$A$1,INDEX('Pick List'!AX$14:AX$568,$D45),\"\")","v":""},{"$f":"IF($A45<$A$1,INDEX('Pick List'!AY$14:AY$568,$D45),\"\")","v":""},{"$f":"IF($A45<$A$1,INDEX('Pick List'!AZ$14:AZ$568,$D45),\"\")","v":""},{"$f":"IF($A45<$A$1,INDEX('Pick List'!BA$14:BA$568,$D45),\"\")","v":""},{"$f":"IF($A45<$A$1,INDEX('Pick List'!BB$14:BB$568,$D45),\"\")","v":""},{"$f":"IF($A45<$A$1,INDEX('Pick List'!BC$14:BC$568,$D45),\"\")","v":""},{"$f":"IF($A45<$A$1,INDEX('Pick List'!BD$14:BD$568,$D45),\"\")","v":""},{"$f":"IF($A45<$A$1,INDEX('Pick List'!BE$14:BE$568,$D45),\"\")","v":""},{"$f":"IF($A45<$A$1,INDEX('Pick List'!BF$14:BF$568,$D45),\"\")","v":""},{"$f":"IF($A45<$A$1,INDEX('Pick List'!BG$14:BG$568,$D45),\"\")","v":""}]
[44,44,"",{"$f":"MATCH($A46,'Pick List'!$AT$14:$AT$567,0)","v":{"$error":"#N/A"}},"",{"$f":"IF($A46<$A$1,INDEX('Pick List'!$AU$14:$AU$568,$D46),C46)","v":""},"",{"$f":"IF($A46<$A$1,INDEX('Pick List'!AV$14:AV$568,$D46),C46)","v":""},{"$f":"IF($A46<$A$1,INDEX('Pick List'!AW$14:AW$568,$D46),\"\")","v":""},{"$f":"IF($A46<$A$1,INDEX('Pick List'!AX$14:AX$568,$D46),\"\")","v":""},{"$f":"IF($A46<$A$1,INDEX('Pick List'!AY$14:AY$568,$D46),\"\")","v":""},{"$f":"IF($A46<$A$1,INDEX('Pick List'!AZ$14:AZ$568,$D46),\"\")","v":""},{"$f":"IF($A46<$A$1,INDEX('Pick List'!BA$14:BA$568,$D46),\"\")","v":""},{"$f":"IF($A46<$A$1,INDEX('Pick List'!BB$14:BB$568,$D46),\"\")","v":""},{"$f":"IF($A46<$A$1,INDEX('Pick List'!BC$14:BC$568,$D46),\"\")","v":""},{"$f":"IF($A46<$A$1,INDEX('Pick List'!BD$14:BD$568,$D46),\"\")","v":""},{"$f":"IF($A46<$A$1,INDEX('Pick List'!BE$14:BE$568,$D46),\"\")","v":""},{"$f":"IF($A46<$A$1,INDEX('Pick List'!BF$14:BF$568,$D46),\"\")","v":""},{"$f":"IF($A46<$A$1,INDEX('Pick List'!BG$14:BG$568,$D46),\"\")","v":""}]
[45,45,"",{"$f":"MATCH($A47,'Pick List'!$AT$14:$AT$567,0)","v":{"$error":"#N/A"}},"",{"$f":"IF($A47<$A$1,INDEX('Pick List'!$AU$14:$AU$568,$D47),C47)","v":""},"",{"$f":"IF($A47<$A$1,INDEX('Pick List'!AV$14:AV$568,$D47),C47)","v":""},{"$f":"IF($A47<$A$1,INDEX('Pick List'!AW$14:AW$568,$D47),\"\")","v":""},{"$f":"IF($A47<$A$1,INDEX('Pick List'!AX$14:AX$568,$D47),\"\")","v":""},{"$f":"IF($A47<$A$1,INDEX('Pick List'!AY$14:AY$568,$D47),\"\")","v":""},{"$f":"IF($A47<$A$1,INDEX('Pick List'!AZ$14:AZ$568,$D47),\"\")","v":""},{"$f":"IF($A47<$A$1,INDEX('Pick List'!BA$14:BA$568,$D47),\"\")","v":""},{"$f":"IF($A47<$A$1,INDEX('Pick List'!BB$14:BB$568,$D47),\"\")","v":""},{"$f":"IF($A47<$A$1,INDEX('Pick List'!BC$14:BC$568,$D47),\"\")","v":""},{"$f":"IF($A47<$A$1,INDEX('Pick List'!BD$14:BD$568,$D47),\"\")","v":""},{"$f":"IF($A47<$A$1,INDEX('Pick List'!BE$14:BE$568,$D47),\"\")","v":""},{"$f":"IF($A47<$A$1,INDEX('Pick List'!BF$14:BF$568,$D47),\"\")","v":""},{"$f":"IF($A47<$A$1,INDEX('Pick List'!BG$14:BG$568,$D47),\"\")","v":""}]
[46,46,"",{"$f":"MATCH($A48,'Pick List'!$AT$14:$AT$567,0)","v":{"$error":"#N/A"}},"",{"$f":"IF($A48<$A$1,INDEX('Pick List'!$AU$14:$AU$568,$D48),C48)","v":""},"",{"$f":"IF($A48<$A$1,INDEX('Pick List'!AV$14:AV$568,$D48),C48)","v":""},{"$f":"IF($A48<$A$1,INDEX('Pick List'!AW$14:AW$568,$D48),\"\")","v":""},{"$f":"IF($A48<$A$1,INDEX('Pick List'!AX$14:AX$568,$D48),\"\")","v":""},{"$f":"IF($A48<$A$1,INDEX('Pick List'!AY$14:AY$568,$D48),\"\")","v":""},{"$f":"IF($A48<$A$1,INDEX('Pick List'!AZ$14:AZ$568,$D48),\"\")","v":""},{"$f":"IF($A48<$A$1,INDEX('Pick List'!BA$14:BA$568,$D48),\"\")","v":""},{"$f":"IF($A48<$A$1,INDEX('Pick List'!BB$14:BB$568,$D48),\"\")","v":""},{"$f":"IF($A48<$A$1,INDEX('Pick List'!BC$14:BC$568,$D48),\"\")","v":""},{"$f":"IF($A48<$A$1,INDEX('Pick List'!BD$14:BD$568,$D48),\"\")","v":""},{"$f":"IF($A48<$A$1,INDEX('Pick List'!BE$14:BE$568,$D48),\"\")","v":""},{"$f":"IF($A48<$A$1,INDEX('Pick List'!BF$14:BF$568,$D48),\"\")","v":""},{"$f":"IF($A48<$A$1,INDEX('Pick List'!BG$14:BG$568,$D48),\"\")","v":""}]
[47,47,"",{"$f":"MATCH($A49,'Pick List'!$AT$14:$AT$567,0)","v":{"$error":"#N/A"}},"",{"$f":"IF($A49<$A$1,INDEX('Pick List'!$AU$14:$AU$568,$D49),C49)","v":""},"",{"$f":"IF($A49<$A$1,INDEX('Pick List'!AV$14:AV$568,$D49),C49)","v":""},{"$f":"IF($A49<$A$1,INDEX('Pick List'!AW$14:AW$568,$D49),\"\")","v":""},{"$f":"IF($A49<$A$1,INDEX('Pick List'!AX$14:AX$568,$D49),\"\")","v":""},{"$f":"IF($A49<$A$1,INDEX('Pick List'!AY$14:AY$568,$D49),\"\")","v":""},{"$f":"IF($A49<$A$1,INDEX('Pick List'!AZ$14:AZ$568,$D49),\"\")","v":""},{"$f":"IF($A49<$A$1,INDEX('Pick List'!BA$14:BA$568,$D49),\"\")","v":""},{"$f":"IF($A49<$A$1,INDEX('Pick List'!BB$14:BB$568,$D49),\"\")","v":""},{"$f":"IF($A49<$A$1,INDEX('Pick List'!BC$14:BC$568,$D49),\"\")","v":""},{"$f":"IF($A49<$A$1,INDEX('Pick List'!BD$14:BD$568,$D49),\"\")","v":""},{"$f":"IF($A49<$A$1,INDEX('Pick List'!BE$14:BE$568,$D49),\"\")","v":""},{"$f":"IF($A49<$A$1,INDEX('Pick List'!BF$14:BF$568,$D49),\"\")","v":""},{"$f":"IF($A49<$A$1,INDEX('Pick List'!BG$14:BG$568,$D49),\"\")","v":""}]
[48,48,"",{"$f":"MATCH($A50,'Pick List'!$AT$14:$AT$567,0)","v":{"$error":"#N/A"}},"",{"$f":"IF($A50<$A$1,INDEX('Pick List'!$AU$14:$AU$568,$D50),C50)","v":""},"",{"$f":"IF($A50<$A$1,INDEX('Pick List'!AV$14:AV$568,$D50),C50)","v":""},{"$f":"IF($A50<$A$1,INDEX('Pick List'!AW$14:AW$568,$D50),\"\")","v":""},{"$f":"IF($A50<$A$1,INDEX('Pick List'!AX$14:AX$568,$D50),\"\")","v":""},{"$f":"IF($A50<$A$1,INDEX('Pick List'!AY$14:AY$568,$D50),\"\")","v":""},{"$f":"IF($A50<$A$1,INDEX('Pick List'!AZ$14:AZ$568,$D50),\"\")","v":""},{"$f":"IF($A50<$A$1,INDEX('Pick List'!BA$14:BA$568,$D50),\"\")","v":""},{"$f":"IF($A50<$A$1,INDEX('Pick List'!BB$14:BB$568,$D50),\"\")","v":""},{"$f":"IF($A50<$A$1,INDEX('Pick List'!BC$14:BC$568,$D50),\"\")","v":""},{"$f":"IF($A50<$A$1,INDEX('Pick List'!BD$14:BD$568,$D50),\"\")","v":""},{"$f":"IF($A50<$A$1,INDEX('Pick List'!BE$14:BE$568,$D50),\"\")","v":""},{"$f":"IF($A50<$A$1,INDEX('Pick List'!BF$14:BF$568,$D50),\"\")","v":""},{"$f":"IF($A50<$A$1,INDEX('Pick List'!BG$14:BG$568,$D50),\"\")","v":""}]
[49,49,"",{"$f":"MATCH($A51,'Pick List'!$AT$14:$AT$567,0)","v":{"$error":"#N/A"}},"",{"$f":"IF($A51<$A$1,INDEX('Pick List'!$AU$14:$AU$568,$D51),C51)","v":""},"",{"$f":"IF($A51<$A$1,INDEX('Pick List'!AV$14:AV$568,$D51),C51)","v":""},{"$f":"IF($A51<$A$1,INDEX('Pick List'!AW$14:AW$568,$D51),\"\")","v":""},{"$f":"IF($A51<$A$1,INDEX('Pick List'!AX$14:AX$568,$D51),\"\")","v":""},{"$f":"IF($A51<$A$1,INDEX('Pick List'!AY$14:AY$568,$D51),\"\")","v":""},{"$f":"IF($A51<$A$1,INDEX('Pick List'!AZ$14:AZ$568,$D51),\"\")","v":""},{"$f":"IF($A51<$A$1,INDEX('Pick List'!BA$14:BA$568,$D51),\"\")","v":""},{"$f":"IF($A51<$A$1,INDEX('Pick List'!BB$14:BB$568,$D51),\"\")","v":""},{"$f":"IF($A51<$A$1,INDEX('Pick List'!BC$14:BC$568,$D51),\"\")","v":""},{"$f":"IF($A51<$A$1,INDEX('Pick List'!BD$14:BD$568,$D51),\"\")","v":""},{"$f":"IF($A51<$A$1,INDEX('Pick List'!BE$14:BE$568,$D51),\"\")","v":""},{"$f":"IF($A51<$A$1,INDEX('Pick List'!BF$14:BF$568,$D51),\"\")","v":""},{"$f":"IF($A51<$A$1,INDEX('Pick List'!BG$14:BG$568,$D51),\"\")","v":""}]
[50,50,"",{"$f":"MATCH($A52,'Pick List'!$AT$14:$AT$567,0)","v":{"$error":"#N/A"}},"",{"$f":"IF($A52<$A$1,INDEX('Pick List'!$AU$14:$AU$568,$D52),C52)","v":""},"",{"$f":"IF($A52<$A$1,INDEX('Pick List'!AV$14:AV$568,$D52),C52)","v":""},{"$f":"IF($A52<$A$1,INDEX('Pick List'!AW$14:AW$568,$D52),\"\")","v":""},{"$f":"IF($A52<$A$1,INDEX('Pick List'!AX$14:AX$568,$D52),\"\")","v":""},{"$f":"IF($A52<$A$1,INDEX('Pick List'!AY$14:AY$568,$D52),\"\")","v":""},{"$f":"IF($A52<$A$1,INDEX('Pick List'!AZ$14:AZ$568,$D52),\"\")","v":""},{"$f":"IF($A52<$A$1,INDEX('Pick List'!BA$14:BA$568,$D52),\"\")","v":""},{"$f":"IF($A52<$A$1,INDEX('Pick List'!BB$14:BB$568,$D52),\"\")","v":""},{"$f":"IF($A52<$A$1,INDEX('Pick List'!BC$14:BC$568,$D52),\"\")","v":""},{"$f":"IF($A52<$A$1,INDEX('Pick List'!BD$14:BD$568,$D52),\"\")","v":""},{"$f":"IF($A52<$A$1,INDEX('Pick List'!BE$14:BE$568,$D52),\"\")","v":""},{"$f":"IF($A52<$A$1,INDEX('Pick List'!BF$14:BF$568,$D52),\"\")","v":""},{"$f":"IF($A52<$A$1,INDEX('Pick List'!BG$14:BG$568,$D52),\"\")","v":""}]
[51,51,"",{"$f":"MATCH($A53,'Pick List'!$AT$14:$AT$567,0)","v":{"$error":"#N/A"}},"",{"$f":"IF($A53<$A$1,INDEX('Pick List'!$AU$14:$AU$568,$D53),C53)","v":""},"",{"$f":"IF($A53<$A$1,INDEX('Pick List'!AV$14:AV$568,$D53),C53)","v":""},{"$f":"IF($A53<$A$1,INDEX('Pick List'!AW$14:AW$568,$D53),\"\")","v":""},{"$f":"IF($A53<$A$1,INDEX('Pick List'!AX$14:AX$568,$D53),\"\")","v":""},{"$f":"IF($A53<$A$1,INDEX('Pick List'!AY$14:AY$568,$D53),\"\")","v":""},{"$f":"IF($A53<$A$1,INDEX('Pick List'!AZ$14:AZ$568,$D53),\"\")","v":""},{"$f":"IF($A53<$A$1,INDEX('Pick List'!BA$14:BA$568,$D53),\"\")","v":""},{"$f":"IF($A53<$A$1,INDEX('Pick List'!BB$14:BB$568,$D53),\"\")","v":""},{"$f":"IF($A53<$A$1,INDEX('Pick List'!BC$14:BC$568,$D53),\"\")","v":""},{"$f":"IF($A53<$A$1,INDEX('Pick List'!BD$14:BD$568,$D53),\"\")","v":""},{"$f":"IF($A53<$A$1,INDEX('Pick List'!BE$14:BE$568,$D53),\"\")","v":""},{"$f":"IF($A53<$A$1,INDEX('Pick List'!BF$14:BF$568,$D53),\"\")","v":""},{"$f":"IF($A53<$A$1,INDEX('Pick List'!BG$14:BG$568,$D53),\"\")","v":""}]
[52,52,"",{"$f":"MATCH($A54,'Pick List'!$AT$14:$AT$567,0)","v":{"$error":"#N/A"}},"",{"$f":"IF($A54<$A$1,INDEX('Pick List'!$AU$14:$AU$568,$D54),C54)","v":""},"",{"$f":"IF($A54<$A$1,INDEX('Pick List'!AV$14:AV$568,$D54),C54)","v":""},{"$f":"IF($A54<$A$1,INDEX('Pick List'!AW$14:AW$568,$D54),\"\")","v":""},{"$f":"IF($A54<$A$1,INDEX('Pick List'!AX$14:AX$568,$D54),\"\")","v":""},{"$f":"IF($A54<$A$1,INDEX('Pick List'!AY$14:AY$568,$D54),\"\")","v":""},{"$f":"IF($A54<$A$1,INDEX('Pick List'!AZ$14:AZ$568,$D54),\"\")","v":""},{"$f":"IF($A54<$A$1,INDEX('Pick List'!BA$14:BA$568,$D54),\"\")","v":""},{"$f":"IF($A54<$A$1,INDEX('Pick List'!BB$14:BB$568,$D54),\"\")","v":""},{"$f":"IF($A54<$A$1,INDEX('Pick List'!BC$14:BC$568,$D54),\"\")","v":""},{"$f":"IF($A54<$A$1,INDEX('Pick List'!BD$14:BD$568,$D54),\"\")","v":""},{"$f":"IF($A54<$A$1,INDEX('Pick List'!BE$14:BE$568,$D54),\"\")","v":""},{"$f":"IF($A54<$A$1,INDEX('Pick List'!BF$14:BF$568,$D54),\"\")","v":""},{"$f":"IF($A54<$A$1,INDEX('Pick List'!BG$14:BG$568,$D54),\"\")","v":""}]
[53,53,"",{"$f":"MATCH($A55,'Pick List'!$AT$14:$AT$567,0)","v":{"$error":"#N/A"}},"",{"$f":"IF($A55<$A$1,INDEX('Pick List'!$AU$14:$AU$568,$D55),C55)","v":""},"",{"$f":"IF($A55<$A$1,INDEX('Pick List'!AV$14:AV$568,$D55),C55)","v":""},{"$f":"IF($A55<$A$1,INDEX('Pick List'!AW$14:AW$568,$D55),\"\")","v":""},{"$f":"IF($A55<$A$1,INDEX('Pick List'!AX$14:AX$568,$D55),\"\")","v":""},{"$f":"IF($A55<$A$1,INDEX('Pick List'!AY$14:AY$568,$D55),\"\")","v":""},{"$f":"IF($A55<$A$1,INDEX('Pick List'!AZ$14:AZ$568,$D55),\"\")","v":""},{"$f":"IF($A55<$A$1,INDEX('Pick List'!BA$14:BA$568,$D55),\"\")","v":""},{"$f":"IF($A55<$A$1,INDEX('Pick List'!BB$14:BB$568,$D55),\"\")","v":""},{"$f":"IF($A55<$A$1,INDEX('Pick List'!BC$14:BC$568,$D55),\"\")","v":""},{"$f":"IF($A55<$A$1,INDEX('Pick List'!BD$14:BD$568,$D55),\"\")","v":""},{"$f":"IF($A55<$A$1,INDEX('Pick List'!BE$14:BE$568,$D55),\"\")","v":""},{"$f":"IF($A55<$A$1,INDEX('Pick List'!BF$14:BF$568,$D55),\"\")","v":""},{"$f":"IF($A55<$A$1,INDEX('Pick List'!BG$14:BG$568,$D55),\"\")","v":""}]
[54,54,"",{"$f":"MATCH($A56,'Pick List'!$AT$14:$AT$567,0)","v":{"$error":"#N/A"}},"",{"$f":"IF($A56<$A$1,INDEX('Pick List'!$AU$14:$AU$568,$D56),C56)","v":""},"",{"$f":"IF($A56<$A$1,INDEX('Pick List'!AV$14:AV$568,$D56),C56)","v":""},{"$f":"IF($A56<$A$1,INDEX('Pick List'!AW$14:AW$568,$D56),\"\")","v":""},{"$f":"IF($A56<$A$1,INDEX('Pick List'!AX$14:AX$568,$D56),\"\")","v":""},{"$f":"IF($A56<$A$1,INDEX('Pick List'!AY$14:AY$568,$D56),\"\")","v":""},{"$f":"IF($A56<$A$1,INDEX('Pick List'!AZ$14:AZ$568,$D56),\"\")","v":""},{"$f":"IF($A56<$A$1,INDEX('Pick List'!BA$14:BA$568,$D56),\"\")","v":""},{"$f":"IF($A56<$A$1,INDEX('Pick List'!BB$14:BB$568,$D56),\"\")","v":""},{"$f":"IF($A56<$A$1,INDEX('Pick List'!BC$14:BC$568,$D56),\"\")","v":""},{"$f":"IF($A56<$A$1,INDEX('Pick List'!BD$14:BD$568,$D56),\"\")","v":""},{"$f":"IF($A56<$A$1,INDEX('Pick List'!BE$14:BE$568,$D56),\"\")","v":""},{"$f":"IF($A56<$A$1,INDEX('Pick List'!BF$14:BF$568,$D56),\"\")","v":""},{"$f":"IF($A56<$A$1,INDEX('Pick List'!BG$14:BG$568,$D56),\"\")","v":""}]
[55,55,"",{"$f":"MATCH($A57,'Pick List'!$AT$14:$AT$567,0)","v":{"$error":"#N/A"}},"",{"$f":"IF($A57<$A$1,INDEX('Pick List'!$AU$14:$AU$568,$D57),C57)","v":""},"",{"$f":"IF($A57<$A$1,INDEX('Pick List'!AV$14:AV$568,$D57),C57)","v":""},{"$f":"IF($A57<$A$1,INDEX('Pick List'!AW$14:AW$568,$D57),\"\")","v":""},{"$f":"IF($A57<$A$1,INDEX('Pick List'!AX$14:AX$568,$D57),\"\")","v":""},{"$f":"IF($A57<$A$1,INDEX('Pick List'!AY$14:AY$568,$D57),\"\")","v":""},{"$f":"IF($A57<$A$1,INDEX('Pick List'!AZ$14:AZ$568,$D57),\"\")","v":""},{"$f":"IF($A57<$A$1,INDEX('Pick List'!BA$14:BA$568,$D57),\"\")","v":""},{"$f":"IF($A57<$A$1,INDEX('Pick List'!BB$14:BB$568,$D57),\"\")","v":""},{"$f":"IF($A57<$A$1,INDEX('Pick List'!BC$14:BC$568,$D57),\"\")","v":""},{"$f":"IF($A57<$A$1,INDEX('Pick List'!BD$14:BD$568,$D57),\"\")","v":""},{"$f":"IF($A57<$A$1,INDEX('Pick List'!BE$14:BE$568,$D57),\"\")","v":""},{"$f":"IF($A57<$A$1,INDEX('Pick List'!BF$14:BF$568,$D57),\"\")","v":""},{"$f":"IF($A57<$A$1,INDEX('Pick List'!BG$14:BG$568,$D57),\"\")","v":""}]
[56,56,"",{"$f":"MATCH($A58,'Pick List'!$AT$14:$AT$567,0)","v":{"$error":"#N/A"}},"",{"$f":"IF($A58<$A$1,INDEX('Pick List'!$AU$14:$AU$568,$D58),C58)","v":""},"",{"$f":"IF($A58<$A$1,INDEX('Pick List'!AV$14:AV$568,$D58),C58)","v":""},{"$f":"IF($A58<$A$1,INDEX('Pick List'!AW$14:AW$568,$D58),\"\")","v":""},{"$f":"IF($A58<$A$1,INDEX('Pick List'!AX$14:AX$568,$D58),\"\")","v":""},{"$f":"IF($A58<$A$1,INDEX('Pick List'!AY$14:AY$568,$D58),\"\")","v":""},{"$f":"IF($A58<$A$1,INDEX('Pick List'!AZ$14:AZ$568,$D58),\"\")","v":""},{"$f":"IF($A58<$A$1,INDEX('Pick List'!BA$14:BA$568,$D58),\"\")","v":""},{"$f":"IF($A58<$A$1,INDEX('Pick List'!BB$14:BB$568,$D58),\"\")","v":""},{"$f":"IF($A58<$A$1,INDEX('Pick List'!BC$14:BC$568,$D58),\"\")","v":""},{"$f":"IF($A58<$A$1,INDEX('Pick List'!BD$14:BD$568,$D58),\"\")","v":""},{"$f":"IF($A58<$A$1,INDEX('Pick List'!BE$14:BE$568,$D58),\"\")","v":""},{"$f":"IF($A58<$A$1,INDEX('Pick List'!BF$14:BF$568,$D58),\"\")","v":""},{"$f":"IF($A58<$A$1,INDEX('Pick List'!BG$14:BG$568,$D58),\"\")","v":""}]
[57,57,"",{"$f":"MATCH($A59,'Pick List'!$AT$14:$AT$567,0)","v":{"$error":"#N/A"}},"",{"$f":"IF($A59<$A$1,INDEX('Pick List'!$AU$14:$AU$568,$D59),C59)","v":""},"",{"$f":"IF($A59<$A$1,INDEX('Pick List'!AV$14:AV$568,$D59),C59)","v":""},{"$f":"IF($A59<$A$1,INDEX('Pick List'!AW$14:AW$568,$D59),\"\")","v":""},{"$f":"IF($A59<$A$1,INDEX('Pick List'!AX$14:AX$568,$D59),\"\")","v":""},{"$f":"IF($A59<$A$1,INDEX('Pick List'!AY$14:AY$568,$D59),\"\")","v":""},{"$f":"IF($A59<$A$1,INDEX('Pick List'!AZ$14:AZ$568,$D59),\"\")","v":""},{"$f":"IF($A59<$A$1,INDEX('Pick List'!BA$14:BA$568,$D59),\"\")","v":""},{"$f":"IF($A59<$A$1,INDEX('Pick List'!BB$14:BB$568,$D59),\"\")","v":""},{"$f":"IF($A59<$A$1,INDEX('Pick List'!BC$14:BC$568,$D59),\"\")","v":""},{"$f":"IF($A59<$A$1,INDEX('Pick List'!BD$14:BD$568,$D59),\"\")","v":""},{"$f":"IF($A59<$A$1,INDEX('Pick List'!BE$14:BE$568,$D59),\"\")","v":""},{"$f":"IF($A59<$A$1,INDEX('Pick List'!BF$14:BF$568,$D59),\"\")","v":""},{"$f":"IF($A59<$A$1,INDEX('Pick List'!BG$14:BG$568,$D59),\"\")","v":""}]
[58,58,"",{"$f":"MATCH($A60,'Pick List'!$AT$14:$AT$567,0)","v":{"$error":"#N/A"}},"",{"$f":"IF($A60<$A$1,INDEX('Pick List'!$AU$14:$AU$568,$D60),C60)","v":""},"",{"$f":"IF($A60<$A$1,INDEX('Pick List'!AV$14:AV$568,$D60),C60)","v":""},{"$f":"IF($A60<$A$1,INDEX('Pick List'!AW$14:AW$568,$D60),\"\")","v":""},{"$f":"IF($A60<$A$1,INDEX('Pick List'!AX$14:AX$568,$D60),\"\")","v":""},{"$f":"IF($A60<$A$1,INDEX('Pick List'!AY$14:AY$568,$D60),\"\")","v":""},{"$f":"IF($A60<$A$1,INDEX('Pick List'!AZ$14:AZ$568,$D60),\"\")","v":""},{"$f":"IF($A60<$A$1,INDEX('Pick List'!BA$14:BA$568,$D60),\"\")","v":""},{"$f":"IF($A60<$A$1,INDEX('Pick List'!BB$14:BB$568,$D60),\"\")","v":""},{"$f":"IF($A60<$A$1,INDEX('Pick List'!BC$14:BC$568,$D60),\"\")","v":""},{"$f":"IF($A60<$A$1,INDEX('Pick List'!BD$14:BD$568,$D60),\"\")","v":""},{"$f":"IF($A60<$A$1,INDEX('Pick List'!BE$14:BE$568,$D60),\"\")","v":""},{"$f":"IF($A60<$A$1,INDEX('Pick List'!BF$14:BF$568,$D60),\"\")","v":""},{"$f":"IF($A60<$A$1,INDEX('Pick List'!BG$14:BG$568,$D60),\"\")","v":""}]
[{"$f":"A60+1","v":59},59,"",{"$f":"MATCH($A61,'Pick List'!$AT$14:$AT$567,0)","v":{"$error":"#N/A"}},"",{"$f":"IF($A61<$A$1,INDEX('Pick List'!$AU$14:$AU$568,$D61),C61)","v":""},{"$f":"IF(AND($A61<$A$1,F61>2),B61,\"\")","v":""},{"$f":"IF($A61<$A$1,INDEX('Pick List'!AV$14:AV$568,$D61),C61)","v":""},{"$f":"IF($A61<$A$1,INDEX('Pick List'!AW$14:AW$568,$D61),\"\")","v":""},{"$f":"IF($A61<$A$1,INDEX('Pick List'!AX$14:AX$568,$D61),\"\")","v":""},{"$f":"IF($A61<$A$1,INDEX('Pick List'!AY$14:AY$568,$D61),\"\")","v":""},{"$f":"IF($A61<$A$1,INDEX('Pick List'!AZ$14:AZ$568,$D61),\"\")","v":""},{"$f":"IF($A61<$A$1,INDEX('Pick List'!BA$14:BA$568,$D61),\"\")","v":""},{"$f":"IF($A61<$A$1,INDEX('Pick List'!BB$14:BB$568,$D61),\"\")","v":""},{"$f":"IF($A61<$A$1,INDEX('Pick List'!BC$14:BC$568,$D61),\"\")","v":""},{"$f":"IF($A61<$A$1,INDEX('Pick List'!BD$14:BD$568,$D61),\"\")","v":""},{"$f":"IF($A61<$A$1,INDEX('Pick List'!BE$14:BE$568,$D61),\"\")","v":""},{"$f":"IF($A61<$A$1,INDEX('Pick List'!BF$14:BF$568,$D61),\"\")","v":""},{"$f":"IF($A61<$A$1,INDEX('Pick List'!BG$14:BG$568,$D61),\"\")","v":""}]

{"sheet":"x","index":9,"n_rows":59,"n_cols":5,"rows_kept":59,"cut":false,"hidden":true,"merged":[]}
["A simp",{"$f":"Form!$R$5","v":"ORDER"},{"$f":"Form!$I$6&\"    \"&Form!$I$8","v":"         "},null,{"$f":"Form!K3","v":"TSA 5.1 1/20/22"}]
[null,{"$f":"TEXT(TODAY(),\"mm/dd/yy\")","v":"01/20/22"},{"$f":"Form!$I$7&IF(AddForFreight>0,\"    Freight Included\",\"\")","v":""},null,{"$f":"IF(ISBLANK(Orderno),\"\",\"Ref #: \"&Orderno)","v":""}]
[]
[null,"ITEM#","QTY","DESCRIPTION",{"$f":"UPPER(Form!$K$10)","v":"RETAIL"}]
[{"$f":"Form!E11","v":""},{"$f":"Form!G11","v":""},{"$f":"Form!H11","v":""},{"$f":"SUBSTITUTE(SUBSTITUTE(Form!I11,quote,\" in.\"),comma,\" --\")","v":"End of order"},{"$f":"Form!K11","v":0}]
[{"$f":"Form!E12","v":""},{"$f":"Form!G12","v":""},{"$f":"Form!H12","v":""},{"$f":"SUBSTITUTE(SUBSTITUTE(Form!I12,quote,\" in.\"),comma,\" --\")","v":""},{"$f":"Form!K12","v":""}]
[{"$f":"Form!E13","v":""},{"$f":"Form!G13","v":""},{"$f":"Form!H13","v":""},{"$f":"SUBSTITUTE(SUBSTITUTE(Form!I13,quote,\" in.\"),comma,\" --\")","v":""},{"$f":"Form!K13","v":""}]
[{"$f":"Form!E14","v":""},{"$f":"Form!G14","v":""},{"$f":"Form!H14","v":""},{"$f":"SUBSTITUTE(SUBSTITUTE(Form!I14,quote,\" in.\"),comma,\" --\")","v":""},{"$f":"Form!K14","v":""}]
[{"$f":"Form!E15","v":""},{"$f":"Form!G15","v":""},{"$f":"Form!H15","v":""},{"$f":"SUBSTITUTE(SUBSTITUTE(Form!I15,quote,\" in.\"),comma,\" --\")","v":""},{"$f":"Form!K15","v":""}]
[{"$f":"Form!E16","v":""},{"$f":"Form!G16","v":""},{"$f":"Form!H16","v":""},{"$f":"SUBSTITUTE(SUBSTITUTE(Form!I16,quote,\" in.\"),comma,\" --\")","v":""},{"$f":"Form!K16","v":""}]
[{"$f":"Form!E17","v":""},{"$f":"Form!G17","v":""},{"$f":"Form!H17","v":""},{"$f":"SUBSTITUTE(SUBSTITUTE(Form!I17,quote,\" in.\"),comma,\" --\")","v":""},{"$f":"Form!K17","v":""}]
[{"$f":"Form!E18","v":""},{"$f":"Form!G18","v":""},{"$f":"Form!H18","v":""},{"$f":"SUBSTITUTE(SUBSTITUTE(Form!I18,quote,\" in.\"),comma,\" --\")","v":""},{"$f":"Form!K18","v":""}]
[{"$f":"Form!E19","v":""},{"$f":"Form!G19","v":""},{"$f":"Form!H19","v":""},{"$f":"SUBSTITUTE(SUBSTITUTE(Form!I19,quote,\" in.\"),comma,\" --\")","v":""},{"$f":"Form!K19","v":""}]
[{"$f":"Form!E20","v":""},{"$f":"Form!G20","v":""},{"$f":"Form!H20","v":""},{"$f":"SUBSTITUTE(SUBSTITUTE(Form!I20,quote,\" in.\"),comma,\" --\")","v":""},{"$f":"Form!K20","v":""}]
[{"$f":"Form!E21","v":""},{"$f":"Form!G21","v":""},{"$f":"Form!H21","v":""},{"$f":"SUBSTITUTE(SUBSTITUTE(Form!I21,quote,\" in.\"),comma,\" --\")","v":""},{"$f":"Form!K21","v":""}]
[{"$f":"Form!E22","v":""},{"$f":"Form!G22","v":""},{"$f":"Form!H22","v":""},{"$f":"SUBSTITUTE(SUBSTITUTE(Form!I22,quote,\" in.\"),comma,\" --\")","v":""},{"$f":"Form!K22","v":""}]
[{"$f":"Form!E23","v":""},{"$f":"Form!G23","v":""},{"$f":"Form!H23","v":""},{"$f":"SUBSTITUTE(SUBSTITUTE(Form!I23,quote,\" in.\"),comma,\" --\")","v":""},{"$f":"Form!K23","v":""}]
[{"$f":"Form!E24","v":""},{"$f":"Form!G24","v":""},{"$f":"Form!H24","v":""},{"$f":"SUBSTITUTE(SUBSTITUTE(Form!I24,quote,\" in.\"),comma,\" --\")","v":""},{"$f":"Form!K24","v":""}]
[{"$f":"Form!E25","v":""},{"$f":"Form!G25","v":""},{"$f":"Form!H25","v":""},{"$f":"SUBSTITUTE(SUBSTITUTE(Form!I25,quote,\" in.\"),comma,\" --\")","v":""},{"$f":"Form!K25","v":""}]
[{"$f":"Form!E26","v":""},{"$f":"Form!G26","v":""},{"$f":"Form!H26","v":""},{"$f":"SUBSTITUTE(SUBSTITUTE(Form!I26,quote,\" in.\"),comma,\" --\")","v":""},{"$f":"Form!K26","v":""}]
[{"$f":"Form!E27","v":""},{"$f":"Form!G27","v":""},{"$f":"Form!H27","v":""},{"$f":"SUBSTITUTE(SUBSTITUTE(Form!I27,quote,\" in.\"),comma,\" --\")","v":""},{"$f":"Form!K27","v":""}]
[{"$f":"Form!E28","v":""},{"$f":"Form!G28","v":""},{"$f":"Form!H28","v":""},{"$f":"SUBSTITUTE(SUBSTITUTE(Form!I28,quote,\" in.\"),comma,\" --\")","v":""},{"$f":"Form!K28","v":""}]
[{"$f":"Form!E29","v":""},{"$f":"Form!G29","v":""},{"$f":"Form!H29","v":""},{"$f":"SUBSTITUTE(SUBSTITUTE(Form!I29,quote,\" in.\"),comma,\" --\")","v":""},{"$f":"Form!K29","v":""}]
[{"$f":"Form!E30","v":""},{"$f":"Form!G30","v":""},{"$f":"Form!H30","v":""},{"$f":"SUBSTITUTE(SUBSTITUTE(Form!I30,quote,\" in.\"),comma,\" --\")","v":""},{"$f":"Form!K30","v":""}]
[{"$f":"Form!E31","v":""},{"$f":"Form!G31","v":""},{"$f":"Form!H31","v":""},{"$f":"SUBSTITUTE(SUBSTITUTE(Form!I31,quote,\" in.\"),comma,\" --\")","v":""},{"$f":"Form!K31","v":""}]
[{"$f":"Form!E32","v":""},{"$f":"Form!G32","v":""},{"$f":"Form!H32","v":""},{"$f":"SUBSTITUTE(SUBSTITUTE(Form!I32,quote,\" in.\"),comma,\" --\")","v":""},{"$f":"Form!K32","v":""}]
[{"$f":"Form!E33","v":""},{"$f":"Form!G33","v":""},{"$f":"Form!H33","v":""},{"$f":"SUBSTITUTE(SUBSTITUTE(Form!I33,quote,\" in.\"),comma,\" --\")","v":""},{"$f":"Form!K33","v":""}]
[{"$f":"Form!E34","v":""},{"$f":"Form!G34","v":""},{"$f":"Form!H34","v":""},{"$f":"SUBSTITUTE(SUBSTITUTE(Form!I34,quote,\" in.\"),comma,\" --\")","v":""},{"$f":"Form!K34","v":""}]
[{"$f":"Form!E35","v":""},{"$f":"Form!G35","v":""},{"$f":"Form!H35","v":""},{"$f":"SUBSTITUTE(SUBSTITUTE(Form!I35,quote,\" in.\"),comma,\" --\")","v":""},{"$f":"Form!K35","v":""}]
[{"$f":"Form!E36","v":""},{"$f":"Form!G36","v":""},{"$f":"Form!H36","v":""},{"$f":"SUBSTITUTE(SUBSTITUTE(Form!I36,quote,\" in.\"),comma,\" --\")","v":""},{"$f":"Form!K36","v":""}]
[{"$f":"Form!E37","v":""},{"$f":"Form!G37","v":""},{"$f":"Form!H37","v":""},{"$f":"SUBSTITUTE(SUBSTITUTE(Form!I37,quote,\" in.\"),comma,\" --\")","v":""},{"$f":"Form!K37","v":""}]
[{"$f":"Form!E38","v":""},{"$f":"Form!G38","v":""},{"$f":"Form!H38","v":""},{"$f":"SUBSTITUTE(SUBSTITUTE(Form!I38,quote,\" in.\"),comma,\" --\")","v":""},{"$f":"Form!K38","v":""}]
[{"$f":"Form!E39","v":""},{"$f":"Form!G39","v":""},{"$f":"Form!H39","v":""},{"$f":"SUBSTITUTE(SUBSTITUTE(Form!I39,quote,\" in.\"),comma,\" --\")","v":""},{"$f":"Form!K39","v":""}]
[{"$f":"Form!E40","v":""},{"$f":"Form!G40","v":""},{"$f":"Form!H40","v":""},{"$f":"SUBSTITUTE(SUBSTITUTE(Form!I40,quote,\" in.\"),comma,\" --\")","v":""},{"$f":"Form!K40","v":""}]
[{"$f":"Form!E41","v":""},{"$f":"Form!G41","v":""},{"$f":"Form!H41","v":""},{"$f":"SUBSTITUTE(SUBSTITUTE(Form!I41,quote,\" in.\"),comma,\" --\")","v":""},{"$f":"Form!K41","v":""}]
[{"$f":"Form!E42","v":""},{"$f":"Form!G42","v":""},{"$f":"Form!H42","v":""},{"$f":"SUBSTITUTE(SUBSTITUTE(Form!I42,quote,\" in.\"),comma,\" --\")","v":""},{"$f":"Form!K42","v":""}]
[{"$f":"Form!E43","v":""},{"$f":"Form!G43","v":""},{"$f":"Form!H43","v":""},{"$f":"SUBSTITUTE(SUBSTITUTE(Form!I43,quote,\" in.\"),comma,\" --\")","v":""},{"$f":"Form!K43","v":""}]
[{"$f":"Form!E44","v":""},{"$f":"Form!G44","v":""},{"$f":"Form!H44","v":""},{"$f":"SUBSTITUTE(SUBSTITUTE(Form!I44,quote,\" in.\"),comma,\" --\")","v":""},{"$f":"Form!K44","v":""}]
[{"$f":"Form!E45","v":""},{"$f":"Form!G45","v":""},{"$f":"Form!H45","v":""},{"$f":"SUBSTITUTE(SUBSTITUTE(Form!I45,quote,\" in.\"),comma,\" --\")","v":""},{"$f":"Form!K45","v":""}]
[{"$f":"Form!E46","v":""},{"$f":"Form!G46","v":""},{"$f":"Form!H46","v":""},{"$f":"SUBSTITUTE(SUBSTITUTE(Form!I46,quote,\" in.\"),comma,\" --\")","v":""},{"$f":"Form!K46","v":""}]
[{"$f":"Form!E47","v":""},{"$f":"Form!G47","v":""},{"$f":"Form!H47","v":""},{"$f":"SUBSTITUTE(SUBSTITUTE(Form!I47,quote,\" in.\"),comma,\" --\")","v":""},{"$f":"Form!K47","v":""}]
[{"$f":"Form!E48","v":""},{"$f":"Form!G48","v":""},{"$f":"Form!H48","v":""},{"$f":"SUBSTITUTE(SUBSTITUTE(Form!I48,quote,\" in.\"),comma,\" --\")","v":""},{"$f":"Form!K48","v":""}]
[{"$f":"Form!E49","v":""},{"$f":"Form!G49","v":""},{"$f":"Form!H49","v":""},{"$f":"SUBSTITUTE(SUBSTITUTE(Form!I49,quote,\" in.\"),comma,\" --\")","v":""},{"$f":"Form!K49","v":""}]
[{"$f":"Form!E50","v":""},{"$f":"Form!G50","v":""},{"$f":"Form!H50","v":""},{"$f":"SUBSTITUTE(SUBSTITUTE(Form!I50,quote,\" in.\"),comma,\" --\")","v":""},{"$f":"Form!K50","v":""}]
[{"$f":"Form!E51","v":""},{"$f":"Form!G51","v":""},{"$f":"Form!H51","v":""},{"$f":"SUBSTITUTE(SUBSTITUTE(Form!I51,quote,\" in.\"),comma,\" --\")","v":""},{"$f":"Form!K51","v":""}]
[{"$f":"Form!E52","v":""},{"$f":"Form!G52","v":""},{"$f":"Form!H52","v":""},{"$f":"SUBSTITUTE(SUBSTITUTE(Form!I52,quote,\" in.\"),comma,\" --\")","v":""},{"$f":"Form!K52","v":""}]
[{"$f":"Form!E53","v":""},{"$f":"Form!G53","v":""},{"$f":"Form!H53","v":""},{"$f":"SUBSTITUTE(SUBSTITUTE(Form!I53,quote,\" in.\"),comma,\" --\")","v":""},{"$f":"Form!K53","v":""}]
[{"$f":"Form!E54","v":""},{"$f":"Form!G54","v":""},{"$f":"Form!H54","v":""},{"$f":"SUBSTITUTE(SUBSTITUTE(Form!I54,quote,\" in.\"),comma,\" --\")","v":""},{"$f":"Form!K54","v":""}]
[{"$f":"Form!E55","v":""},{"$f":"Form!G55","v":""},{"$f":"Form!H55","v":""},{"$f":"SUBSTITUTE(SUBSTITUTE(Form!I55,quote,\" in.\"),comma,\" --\")","v":""},{"$f":"Form!K55","v":""}]
[{"$f":"Form!E56","v":""},{"$f":"Form!G56","v":""},{"$f":"Form!H56","v":""},{"$f":"SUBSTITUTE(SUBSTITUTE(Form!I56,quote,\" in.\"),comma,\" --\")","v":""},{"$f":"Form!K56","v":""}]
[{"$f":"Form!E57","v":""},{"$f":"Form!G57","v":""},{"$f":"Form!H57","v":""},{"$f":"SUBSTITUTE(SUBSTITUTE(Form!I57,quote,\" in.\"),comma,\" --\")","v":""},{"$f":"Form!K57","v":""}]
[{"$f":"Form!E58","v":""},{"$f":"Form!G58","v":""},{"$f":"Form!H58","v":""},{"$f":"SUBSTITUTE(SUBSTITUTE(Form!I58,quote,\" in.\"),comma,\" --\")","v":""},{"$f":"Form!K58","v":""}]
[{"$f":"Form!E59","v":""},{"$f":"Form!G59","v":""},{"$f":"Form!H59","v":""},{"$f":"SUBSTITUTE(SUBSTITUTE(Form!I59,quote,\" in.\"),comma,\" --\")","v":""},{"$f":"Form!K59","v":""}]
[{"$f":"Form!E60","v":""},{"$f":"Form!G60","v":""},{"$f":"Form!H60","v":""},{"$f":"SUBSTITUTE(SUBSTITUTE(Form!I60,quote,\" in.\"),comma,\" --\")","v":""},{"$f":"Form!K60","v":""}]
[{"$f":"Form!E61","v":""},{"$f":"Form!G61","v":""},{"$f":"Form!H61","v":""},{"$f":"SUBSTITUTE(SUBSTITUTE(Form!I61,quote,\" in.\"),comma,\" --\")","v":""},{"$f":"Form!K61","v":""}]
[{"$f":"Form!E62","v":""},{"$f":"Form!G62","v":""},{"$f":"Form!H62","v":""},{"$f":"SUBSTITUTE(SUBSTITUTE(Form!I62,quote,\" in.\"),comma,\" --\")","v":""},{"$f":"Form!K62","v":""}]
[{"$f":"Form!E63","v":""},{"$f":"Form!G63","v":""},{"$f":"Form!H63","v":""},{"$f":"SUBSTITUTE(SUBSTITUTE(Form!I63,quote,\" in.\"),comma,\" --\")","v":""},{"$f":"Form!K63","v":""}]
[{"$f":"Form!E64","v":""},{"$f":"Form!G64","v":""},{"$f":"Form!H64","v":""},{"$f":"SUBSTITUTE(SUBSTITUTE(Form!I64,quote,\" in.\"),comma,\" --\")","v":""},{"$f":"Form!K64","v":""}]
[{"$f":"Form!E65","v":""},{"$f":"Form!G65","v":""},{"$f":"Form!H65","v":""},{"$f":"SUBSTITUTE(SUBSTITUTE(Form!I65,quote,\" in.\"),comma,\" --\")","v":""},{"$f":"Form!K65","v":""}]

{"sheet":"QW","index":10,"n_rows":59,"n_cols":7,"rows_kept":59,"cut":false,"hidden":true,"merged":[]}
[null,{"$f":"Form!$R$5","v":"ORDER"},{"$f":"Form!$I$6&\"    \"&Form!$I$8","v":"         "},null,{"$f":"Form!K3","v":"TSA 5.1 1/20/22"}]
[null,{"$f":"TEXT(TODAY(),\"mm/dd/yy\")","v":"01/20/22"},{"$f":"Form!$I$7&IF(AddForFreight>0,\"    Freight Included\",\"\")","v":""},null,{"$f":"IF(ISBLANK(Orderno),\"\",\"Ref #: \"&Orderno)","v":""}]
[]
[null,"ITEM#","QTY","DESCRIPTION",{"$f":"UPPER(Form!$K$10)","v":"RETAIL"},"HCPCS","CODE"]
[{"$f":"Form!E11","v":""},{"$f":"Form!G11","v":""},{"$f":"Form!H11","v":""},{"$f":"SUBSTITUTE(SUBSTITUTE(Form!I11,quote,\" in.\"),comma,\" --\")","v":"End of order"},{"$f":"Form!K11","v":0},{"$f":"Form!J11","v":""},{"$f":"IF(ShowDotZeros,IF(LEFT(Form!$G11,1)=\"7\",\"\",IF(ISNA(MATCH(LEFT(D5,3),{\"LTS\",\"ABD\",\"TRI\"},0)),\"\",\".00\")),\"\")","v":""}]
[{"$f":"Form!E12","v":""},{"$f":"Form!G12&G6","v":""},{"$f":"Form!H12","v":""},{"$f":"SUBSTITUTE(SUBSTITUTE(Form!I12,quote,\" in.\"),comma,\" --\")","v":""},{"$f":"Form!K12","v":""},{"$f":"Form!J12","v":""},{"$f":"IF(ShowDotZeros,IF(LEFT(Form!$G12,1)=\"7\",\"\",IF(ISNA(MATCH(LEFT(D6,3),{\"LTS\",\"ABD\",\"TRI\"},0)),\"\",\".00\")),\"\")","v":""}]
[{"$f":"Form!E13","v":""},{"$f":"Form!G13&G7","v":""},{"$f":"Form!H13","v":""},{"$f":"SUBSTITUTE(SUBSTITUTE(Form!I13,quote,\" in.\"),comma,\" --\")","v":""},{"$f":"Form!K13","v":""},{"$f":"Form!J13","v":""},{"$f":"IF(ShowDotZeros,IF(LEFT(Form!$G13,1)=\"7\",\"\",IF(ISNA(MATCH(LEFT(D7,3),{\"LTS\",\"ABD\",\"TRI\"},0)),\"\",\".00\")),\"\")","v":""}]
[{"$f":"Form!E14","v":""},{"$f":"Form!G14&G8","v":""},{"$f":"Form!H14","v":""},{"$f":"SUBSTITUTE(SUBSTITUTE(Form!I14,quote,\" in.\"),comma,\" --\")","v":""},{"$f":"Form!K14","v":""},{"$f":"Form!J14","v":""},{"$f":"IF(ShowDotZeros,IF(LEFT(Form!$G14,1)=\"7\",\"\",IF(ISNA(MATCH(LEFT(D8,3),{\"LTS\",\"ABD\",\"TRI\"},0)),\"\",\".00\")),\"\")","v":""}]
[{"$f":"Form!E15","v":""},{"$f":"Form!G15&G9","v":""},{"$f":"Form!H15","v":""},{"$f":"SUBSTITUTE(SUBSTITUTE(Form!I15,quote,\" in.\"),comma,\" --\")","v":""},{"$f":"Form!K15","v":""},{"$f":"Form!J15","v":""},{"$f":"IF(ShowDotZeros,IF(LEFT(Form!$G15,1)=\"7\",\"\",IF(ISNA(MATCH(LEFT(D9,3),{\"LTS\",\"ABD\",\"TRI\"},0)),\"\",\".00\")),\"\")","v":""}]
[{"$f":"Form!E16","v":""},{"$f":"Form!G16&G10","v":""},{"$f":"Form!H16","v":""},{"$f":"SUBSTITUTE(SUBSTITUTE(Form!I16,quote,\" in.\"),comma,\" --\")","v":""},{"$f":"Form!K16","v":""},{"$f":"Form!J16","v":""},{"$f":"IF(ShowDotZeros,IF(LEFT(Form!$G16,1)=\"7\",\"\",IF(ISNA(MATCH(LEFT(D10,3),{\"LTS\",\"ABD\",\"TRI\"},0)),\"\",\".00\")),\"\")","v":""}]
[{"$f":"Form!E17","v":""},{"$f":"Form!G17&G11","v":""},{"$f":"Form!H17","v":""},{"$f":"SUBSTITUTE(SUBSTITUTE(Form!I17,quote,\" in.\"),comma,\" --\")","v":""},{"$f":"Form!K17","v":""},{"$f":"Form!J17","v":""},{"$f":"IF(ShowDotZeros,IF(LEFT(Form!$G17,1)=\"7\",\"\",IF(ISNA(MATCH(LEFT(D11,3),{\"LTS\",\"ABD\",\"TRI\"},0)),\"\",\".00\")),\"\")","v":""}]
[{"$f":"Form!E18","v":""},{"$f":"Form!G18&G12","v":""},{"$f":"Form!H18","v":""},{"$f":"SUBSTITUTE(SUBSTITUTE(Form!I18,quote,\" in.\"),comma,\" --\")","v":""},{"$f":"Form!K18","v":""},{"$f":"Form!J18","v":""},{"$f":"IF(ShowDotZeros,IF(LEFT(Form!$G18,1)=\"7\",\"\",IF(ISNA(MATCH(LEFT(D12,3),{\"LTS\",\"ABD\",\"TRI\"},0)),\"\",\".00\")),\"\")","v":""}]
[{"$f":"Form!E19","v":""},{"$f":"Form!G19&G13","v":""},{"$f":"Form!H19","v":""},{"$f":"SUBSTITUTE(SUBSTITUTE(Form!I19,quote,\" in.\"),comma,\" --\")","v":""},{"$f":"Form!K19","v":""},{"$f":"Form!J19","v":""},{"$f":"IF(ShowDotZeros,IF(LEFT(Form!$G19,1)=\"7\",\"\",IF(ISNA(MATCH(LEFT(D13,3),{\"LTS\",\"ABD\",\"TRI\"},0)),\"\",\".00\")),\"\")","v":""}]
[{"$f":"Form!E20","v":""},{"$f":"Form!G20&G14","v":""},{"$f":"Form!H20","v":""},{"$f":"SUBSTITUTE(SUBSTITUTE(Form!I20,quote,\" in.\"),comma,\" --\")","v":""},{"$f":"Form!K20","v":""},{"$f":"Form!J20","v":""},{"$f":"IF(ShowDotZeros,IF(LEFT(Form!$G20,1)=\"7\",\"\",IF(ISNA(MATCH(LEFT(D14,3),{\"LTS\",\"ABD\",\"TRI\"},0)),\"\",\".00\")),\"\")","v":""}]
[{"$f":"Form!E21","v":""},{"$f":"Form!G21&G15","v":""},{"$f":"Form!H21","v":""},{"$f":"SUBSTITUTE(SUBSTITUTE(Form!I21,quote,\" in.\"),comma,\" --\")","v":""},{"$f":"Form!K21","v":""},{"$f":"Form!J21","v":""},{"$f":"IF(ShowDotZeros,IF(LEFT(Form!$G21,1)=\"7\",\"\",IF(ISNA(MATCH(LEFT(D15,3),{\"LTS\",\"ABD\",\"TRI\"},0)),\"\",\".00\")),\"\")","v":""}]
[{"$f":"Form!E22","v":""},{"$f":"Form!G22&G16","v":""},{"$f":"Form!H22","v":""},{"$f":"SUBSTITUTE(SUBSTITUTE(Form!I22,quote,\" in.\"),comma,\" --\")","v":""},{"$f":"Form!K22","v":""},{"$f":"Form!J22","v":""},{"$f":"IF(ShowDotZeros,IF(LEFT(Form!$G22,1)=\"7\",\"\",IF(ISNA(MATCH(LEFT(D16,3),{\"LTS\",\"ABD\",\"TRI\"},0)),\"\",\".00\")),\"\")","v":""}]
[{"$f":"Form!E23","v":""},{"$f":"Form!G23&G17","v":""},{"$f":"Form!H23","v":""},{"$f":"SUBSTITUTE(SUBSTITUTE(Form!I23,quote,\" in.\"),comma,\" --\")","v":""},{"$f":"Form!K23","v":""},{"$f":"Form!J23","v":""},{"$f":"IF(ShowDotZeros,IF(LEFT(Form!$G23,1)=\"7\",\"\",IF(ISNA(MATCH(LEFT(D17,3),{\"LTS\",\"ABD\",\"TRI\"},0)),\"\",\".00\")),\"\")","v":""}]
[{"$f":"Form!E24","v":""},{"$f":"Form!G24&G18","v":""},{"$f":"Form!H24","v":""},{"$f":"SUBSTITUTE(SUBSTITUTE(Form!I24,quote,\" in.\"),comma,\" --\")","v":""},{"$f":"Form!K24","v":""},{"$f":"Form!J24","v":""},{"$f":"IF(ShowDotZeros,IF(LEFT(Form!$G24,1)=\"7\",\"\",IF(ISNA(MATCH(LEFT(D18,3),{\"LTS\",\"ABD\",\"TRI\"},0)),\"\",\".00\")),\"\")","v":""}]
[{"$f":"Form!E25","v":""},{"$f":"Form!G25&G19","v":""},{"$f":"Form!H25","v":""},{"$f":"SUBSTITUTE(SUBSTITUTE(Form!I25,quote,\" in.\"),comma,\" --\")","v":""},{"$f":"Form!K25","v":""},{"$f":"Form!J25","v":""},{"$f":"IF(ShowDotZeros,IF(LEFT(Form!$G25,1)=\"7\",\"\",IF(ISNA(MATCH(LEFT(D19,3),{\"LTS\",\"ABD\",\"TRI\"},0)),\"\",\".00\")),\"\")","v":""}]
[{"$f":"Form!E26","v":""},{"$f":"Form!G26&G20","v":""},{"$f":"Form!H26","v":""},{"$f":"SUBSTITUTE(SUBSTITUTE(Form!I26,quote,\" in.\"),comma,\" --\")","v":""},{"$f":"Form!K26","v":""},{"$f":"Form!J26","v":""},{"$f":"IF(ShowDotZeros,IF(LEFT(Form!$G26,1)=\"7\",\"\",IF(ISNA(MATCH(LEFT(D20,3),{\"LTS\",\"ABD\",\"TRI\"},0)),\"\",\".00\")),\"\")","v":""}]
[{"$f":"Form!E27","v":""},{"$f":"Form!G27&G21","v":""},{"$f":"Form!H27","v":""},{"$f":"SUBSTITUTE(SUBSTITUTE(Form!I27,quote,\" in.\"),comma,\" --\")","v":""},{"$f":"Form!K27","v":""},{"$f":"Form!J27","v":""},{"$f":"IF(ShowDotZeros,IF(LEFT(Form!$G27,1)=\"7\",\"\",IF(ISNA(MATCH(LEFT(D21,3),{\"LTS\",\"ABD\",\"TRI\"},0)),\"\",\".00\")),\"\")","v":""}]
[{"$f":"Form!E28","v":""},{"$f":"Form!G28&G22","v":""},{"$f":"Form!H28","v":""},{"$f":"SUBSTITUTE(SUBSTITUTE(Form!I28,quote,\" in.\"),comma,\" --\")","v":""},{"$f":"Form!K28","v":""},{"$f":"Form!J28","v":""},{"$f":"IF(ShowDotZeros,IF(LEFT(Form!$G28,1)=\"7\",\"\",IF(ISNA(MATCH(LEFT(D22,3),{\"LTS\",\"ABD\",\"TRI\"},0)),\"\",\".00\")),\"\")","v":""}]
[{"$f":"Form!E29","v":""},{"$f":"Form!G29&G23","v":""},{"$f":"Form!H29","v":""},{"$f":"SUBSTITUTE(SUBSTITUTE(Form!I29,quote,\" in.\"),comma,\" --\")","v":""},{"$f":"Form!K29","v":""},{"$f":"Form!J29","v":""},{"$f":"IF(ShowDotZeros,IF(LEFT(Form!$G29,1)=\"7\",\"\",IF(ISNA(MATCH(LEFT(D23,3),{\"LTS\",\"ABD\",\"TRI\"},0)),\"\",\".00\")),\"\")","v":""}]
[{"$f":"Form!E30","v":""},{"$f":"Form!G30&G24","v":""},{"$f":"Form!H30","v":""},{"$f":"SUBSTITUTE(SUBSTITUTE(Form!I30,quote,\" in.\"),comma,\" --\")","v":""},{"$f":"Form!K30","v":""},{"$f":"Form!J30","v":""},{"$f":"IF(ShowDotZeros,IF(LEFT(Form!$G30,1)=\"7\",\"\",IF(ISNA(MATCH(LEFT(D24,3),{\"LTS\",\"ABD\",\"TRI\"},0)),\"\",\".00\")),\"\")","v":""}]
[{"$f":"Form!E31","v":""},{"$f":"Form!G31&G25","v":""},{"$f":"Form!H31","v":""},{"$f":"SUBSTITUTE(SUBSTITUTE(Form!I31,quote,\" in.\"),comma,\" --\")","v":""},{"$f":"Form!K31","v":""},{"$f":"Form!J31","v":""},{"$f":"IF(ShowDotZeros,IF(LEFT(Form!$G31,1)=\"7\",\"\",IF(ISNA(MATCH(LEFT(D25,3),{\"LTS\",\"ABD\",\"TRI\"},0)),\"\",\".00\")),\"\")","v":""}]
[{"$f":"Form!E32","v":""},{"$f":"Form!G32&G26","v":""},{"$f":"Form!H32","v":""},{"$f":"SUBSTITUTE(SUBSTITUTE(Form!I32,quote,\" in.\"),comma,\" --\")","v":""},{"$f":"Form!K32","v":""},{"$f":"Form!J32","v":""},{"$f":"IF(ShowDotZeros,IF(LEFT(Form!$G32,1)=\"7\",\"\",IF(ISNA(MATCH(LEFT(D26,3),{\"LTS\",\"ABD\",\"TRI\"},0)),\"\",\".00\")),\"\")","v":""}]
[{"$f":"Form!E33","v":""},{"$f":"Form!G33&G27","v":""},{"$f":"Form!H33","v":""},{"$f":"SUBSTITUTE(SUBSTITUTE(Form!I33,quote,\" in.\"),comma,\" --\")","v":""},{"$f":"Form!K33","v":""},{"$f":"Form!J33","v":""},{"$f":"IF(ShowDotZeros,IF(LEFT(Form!$G33,1)=\"7\",\"\",IF(ISNA(MATCH(LEFT(D27,3),{\"LTS\",\"ABD\",\"TRI\"},0)),\"\",\".00\")),\"\")","v":""}]
[{"$f":"Form!E34","v":""},{"$f":"Form!G34&G28","v":""},{"$f":"Form!H34","v":""},{"$f":"SUBSTITUTE(SUBSTITUTE(Form!I34,quote,\" in.\"),comma,\" --\")","v":""},{"$f":"Form!K34","v":""},{"$f":"Form!J34","v":""},{"$f":"IF(ShowDotZeros,IF(LEFT(Form!$G34,1)=\"7\",\"\",IF(ISNA(MATCH(LEFT(D28,3),{\"LTS\",\"ABD\",\"TRI\"},0)),\"\",\".00\")),\"\")","v":""}]
[{"$f":"Form!E35","v":""},{"$f":"Form!G35&G29","v":""},{"$f":"Form!H35","v":""},{"$f":"SUBSTITUTE(SUBSTITUTE(Form!I35,quote,\" in.\"),comma,\" --\")","v":""},{"$f":"Form!K35","v":""},{"$f":"Form!J35","v":""},{"$f":"IF(ShowDotZeros,IF(LEFT(Form!$G35,1)=\"7\",\"\",IF(ISNA(MATCH(LEFT(D29,3),{\"LTS\",\"ABD\",\"TRI\"},0)),\"\",\".00\")),\"\")","v":""}]
[{"$f":"Form!E36","v":""},{"$f":"Form!G36&G30","v":""},{"$f":"Form!H36","v":""},{"$f":"SUBSTITUTE(SUBSTITUTE(Form!I36,quote,\" in.\"),comma,\" --\")","v":""},{"$f":"Form!K36","v":""},{"$f":"Form!J36","v":""},{"$f":"IF(ShowDotZeros,IF(LEFT(Form!$G36,1)=\"7\",\"\",IF(ISNA(MATCH(LEFT(D30,3),{\"LTS\",\"ABD\",\"TRI\"},0)),\"\",\".00\")),\"\")","v":""}]
[{"$f":"Form!E37","v":""},{"$f":"Form!G37&G31","v":""},{"$f":"Form!H37","v":""},{"$f":"SUBSTITUTE(SUBSTITUTE(Form!I37,quote,\" in.\"),comma,\" --\")","v":""},{"$f":"Form!K37","v":""},{"$f":"Form!J37","v":""},{"$f":"IF(ShowDotZeros,IF(LEFT(Form!$G37,1)=\"7\",\"\",IF(ISNA(MATCH(LEFT(D31,3),{\"LTS\",\"ABD\",\"TRI\"},0)),\"\",\".00\")),\"\")","v":""}]
[{"$f":"Form!E38","v":""},{"$f":"Form!G38&G32","v":""},{"$f":"Form!H38","v":""},{"$f":"SUBSTITUTE(SUBSTITUTE(Form!I38,quote,\" in.\"),comma,\" --\")","v":""},{"$f":"Form!K38","v":""},{"$f":"Form!J38","v":""},{"$f":"IF(ShowDotZeros,IF(LEFT(Form!$G38,1)=\"7\",\"\",IF(ISNA(MATCH(LEFT(D32,3),{\"LTS\",\"ABD\",\"TRI\"},0)),\"\",\".00\")),\"\")","v":""}]
[{"$f":"Form!E39","v":""},{"$f":"Form!G39&G33","v":""},{"$f":"Form!H39","v":""},{"$f":"SUBSTITUTE(SUBSTITUTE(Form!I39,quote,\" in.\"),comma,\" --\")","v":""},{"$f":"Form!K39","v":""},{"$f":"Form!J39","v":""},{"$f":"IF(ShowDotZeros,IF(LEFT(Form!$G39,1)=\"7\",\"\",IF(ISNA(MATCH(LEFT(D33,3),{\"LTS\",\"ABD\",\"TRI\"},0)),\"\",\".00\")),\"\")","v":""}]
[{"$f":"Form!E40","v":""},{"$f":"Form!G40&G34","v":""},{"$f":"Form!H40","v":""},{"$f":"SUBSTITUTE(SUBSTITUTE(Form!I40,quote,\" in.\"),comma,\" --\")","v":""},{"$f":"Form!K40","v":""},{"$f":"Form!J40","v":""},{"$f":"IF(ShowDotZeros,IF(LEFT(Form!$G40,1)=\"7\",\"\",IF(ISNA(MATCH(LEFT(D34,3),{\"LTS\",\"ABD\",\"TRI\"},0)),\"\",\".00\")),\"\")","v":""}]
[{"$f":"Form!E41","v":""},{"$f":"Form!G41&G35","v":""},{"$f":"Form!H41","v":""},{"$f":"SUBSTITUTE(SUBSTITUTE(Form!I41,quote,\" in.\"),comma,\" --\")","v":""},{"$f":"Form!K41","v":""},{"$f":"Form!J41","v":""},{"$f":"IF(ShowDotZeros,IF(LEFT(Form!$G41,1)=\"7\",\"\",IF(ISNA(MATCH(LEFT(D35,3),{\"LTS\",\"ABD\",\"TRI\"},0)),\"\",\".00\")),\"\")","v":""}]
[{"$f":"Form!E42","v":""},{"$f":"Form!G42&G36","v":""},{"$f":"Form!H42","v":""},{"$f":"SUBSTITUTE(SUBSTITUTE(Form!I42,quote,\" in.\"),comma,\" --\")","v":""},{"$f":"Form!K42","v":""},{"$f":"Form!J42","v":""},{"$f":"IF(ShowDotZeros,IF(LEFT(Form!$G42,1)=\"7\",\"\",IF(ISNA(MATCH(LEFT(D36,3),{\"LTS\",\"ABD\",\"TRI\"},0)),\"\",\".00\")),\"\")","v":""}]
[{"$f":"Form!E43","v":""},{"$f":"Form!G43&G37","v":""},{"$f":"Form!H43","v":""},{"$f":"SUBSTITUTE(SUBSTITUTE(Form!I43,quote,\" in.\"),comma,\" --\")","v":""},{"$f":"Form!K43","v":""},{"$f":"Form!J43","v":""},{"$f":"IF(ShowDotZeros,IF(LEFT(Form!$G43,1)=\"7\",\"\",IF(ISNA(MATCH(LEFT(D37,3),{\"LTS\",\"ABD\",\"TRI\"},0)),\"\",\".00\")),\"\")","v":""}]
[{"$f":"Form!E44","v":""},{"$f":"Form!G44&G38","v":""},{"$f":"Form!H44","v":""},{"$f":"SUBSTITUTE(SUBSTITUTE(Form!I44,quote,\" in.\"),comma,\" --\")","v":""},{"$f":"Form!K44","v":""},{"$f":"Form!J44","v":""},{"$f":"IF(ShowDotZeros,IF(LEFT(Form!$G44,1)=\"7\",\"\",IF(ISNA(MATCH(LEFT(D38,3),{\"LTS\",\"ABD\",\"TRI\"},0)),\"\",\".00\")),\"\")","v":""}]
[{"$f":"Form!E45","v":""},{"$f":"Form!G45&G39","v":""},{"$f":"Form!H45","v":""},{"$f":"SUBSTITUTE(SUBSTITUTE(Form!I45,quote,\" in.\"),comma,\" --\")","v":""},{"$f":"Form!K45","v":""},{"$f":"Form!J45","v":""},{"$f":"IF(ShowDotZeros,IF(LEFT(Form!$G45,1)=\"7\",\"\",IF(ISNA(MATCH(LEFT(D39,3),{\"LTS\",\"ABD\",\"TRI\"},0)),\"\",\".00\")),\"\")","v":""}]
[{"$f":"Form!E46","v":""},{"$f":"Form!G46&G40","v":""},{"$f":"Form!H46","v":""},{"$f":"SUBSTITUTE(SUBSTITUTE(Form!I46,quote,\" in.\"),comma,\" --\")","v":""},{"$f":"Form!K46","v":""},{"$f":"Form!J46","v":""},{"$f":"IF(ShowDotZeros,IF(LEFT(Form!$G46,1)=\"7\",\"\",IF(ISNA(MATCH(LEFT(D40,3),{\"LTS\",\"ABD\",\"TRI\"},0)),\"\",\".00\")),\"\")","v":""}]
[{"$f":"Form!E47","v":""},{"$f":"Form!G47&G41","v":""},{"$f":"Form!H47","v":""},{"$f":"SUBSTITUTE(SUBSTITUTE(Form!I47,quote,\" in.\"),comma,\" --\")","v":""},{"$f":"Form!K47","v":""},{"$f":"Form!J47","v":""},{"$f":"IF(ShowDotZeros,IF(LEFT(Form!$G47,1)=\"7\",\"\",IF(ISNA(MATCH(LEFT(D41,3),{\"LTS\",\"ABD\",\"TRI\"},0)),\"\",\".00\")),\"\")","v":""}]
[{"$f":"Form!E48","v":""},{"$f":"Form!G48&G42","v":""},{"$f":"Form!H48","v":""},{"$f":"SUBSTITUTE(SUBSTITUTE(Form!I48,quote,\" in.\"),comma,\" --\")","v":""},{"$f":"Form!K48","v":""},{"$f":"Form!J48","v":""},{"$f":"IF(ShowDotZeros,IF(LEFT(Form!$G48,1)=\"7\",\"\",IF(ISNA(MATCH(LEFT(D42,3),{\"LTS\",\"ABD\",\"TRI\"},0)),\"\",\".00\")),\"\")","v":""}]
[{"$f":"Form!E49","v":""},{"$f":"Form!G49&G43","v":""},{"$f":"Form!H49","v":""},{"$f":"SUBSTITUTE(SUBSTITUTE(Form!I49,quote,\" in.\"),comma,\" --\")","v":""},{"$f":"Form!K49","v":""},{"$f":"Form!J49","v":""},{"$f":"IF(ShowDotZeros,IF(LEFT(Form!$G49,1)=\"7\",\"\",IF(ISNA(MATCH(LEFT(D43,3),{\"LTS\",\"ABD\",\"TRI\"},0)),\"\",\".00\")),\"\")","v":""}]
[{"$f":"Form!E50","v":""},{"$f":"Form!G50&G44","v":""},{"$f":"Form!H50","v":""},{"$f":"SUBSTITUTE(SUBSTITUTE(Form!I50,quote,\" in.\"),comma,\" --\")","v":""},{"$f":"Form!K50","v":""},{"$f":"Form!J50","v":""},{"$f":"IF(ShowDotZeros,IF(LEFT(Form!$G50,1)=\"7\",\"\",IF(ISNA(MATCH(LEFT(D44,3),{\"LTS\",\"ABD\",\"TRI\"},0)),\"\",\".00\")),\"\")","v":""}]
[{"$f":"Form!E51","v":""},{"$f":"Form!G51&G45","v":""},{"$f":"Form!H51","v":""},{"$f":"SUBSTITUTE(SUBSTITUTE(Form!I51,quote,\" in.\"),comma,\" --\")","v":""},{"$f":"Form!K51","v":""},{"$f":"Form!J51","v":""},{"$f":"IF(ShowDotZeros,IF(LEFT(Form!$G51,1)=\"7\",\"\",IF(ISNA(MATCH(LEFT(D45,3),{\"LTS\",\"ABD\",\"TRI\"},0)),\"\",\".00\")),\"\")","v":""}]
[{"$f":"Form!E52","v":""},{"$f":"Form!G52&G46","v":""},{"$f":"Form!H52","v":""},{"$f":"SUBSTITUTE(SUBSTITUTE(Form!I52,quote,\" in.\"),comma,\" --\")","v":""},{"$f":"Form!K52","v":""},{"$f":"Form!J52","v":""},{"$f":"IF(ShowDotZeros,IF(LEFT(Form!$G52,1)=\"7\",\"\",IF(ISNA(MATCH(LEFT(D46,3),{\"LTS\",\"ABD\",\"TRI\"},0)),\"\",\".00\")),\"\")","v":""}]
[{"$f":"Form!E53","v":""},{"$f":"Form!G53&G47","v":""},{"$f":"Form!H53","v":""},{"$f":"SUBSTITUTE(SUBSTITUTE(Form!I53,quote,\" in.\"),comma,\" --\")","v":""},{"$f":"Form!K53","v":""},{"$f":"Form!J53","v":""},{"$f":"IF(ShowDotZeros,IF(LEFT(Form!$G53,1)=\"7\",\"\",IF(ISNA(MATCH(LEFT(D47,3),{\"LTS\",\"ABD\",\"TRI\"},0)),\"\",\".00\")),\"\")","v":""}]
[{"$f":"Form!E54","v":""},{"$f":"Form!G54&G48","v":""},{"$f":"Form!H54","v":""},{"$f":"SUBSTITUTE(SUBSTITUTE(Form!I54,quote,\" in.\"),comma,\" --\")","v":""},{"$f":"Form!K54","v":""},{"$f":"Form!J54","v":""},{"$f":"IF(ShowDotZeros,IF(LEFT(Form!$G54,1)=\"7\",\"\",IF(ISNA(MATCH(LEFT(D48,3),{\"LTS\",\"ABD\",\"TRI\"},0)),\"\",\".00\")),\"\")","v":""}]
[{"$f":"Form!E55","v":""},{"$f":"Form!G55&G49","v":""},{"$f":"Form!H55","v":""},{"$f":"SUBSTITUTE(SUBSTITUTE(Form!I55,quote,\" in.\"),comma,\" --\")","v":""},{"$f":"Form!K55","v":""},{"$f":"Form!J55","v":""},{"$f":"IF(ShowDotZeros,IF(LEFT(Form!$G55,1)=\"7\",\"\",IF(ISNA(MATCH(LEFT(D49,3),{\"LTS\",\"ABD\",\"TRI\"},0)),\"\",\".00\")),\"\")","v":""}]
[{"$f":"Form!E56","v":""},{"$f":"Form!G56&G50","v":""},{"$f":"Form!H56","v":""},{"$f":"SUBSTITUTE(SUBSTITUTE(Form!I56,quote,\" in.\"),comma,\" --\")","v":""},{"$f":"Form!K56","v":""},{"$f":"Form!J56","v":""},{"$f":"IF(ShowDotZeros,IF(LEFT(Form!$G56,1)=\"7\",\"\",IF(ISNA(MATCH(LEFT(D50,3),{\"LTS\",\"ABD\",\"TRI\"},0)),\"\",\".00\")),\"\")","v":""}]
[{"$f":"Form!E57","v":""},{"$f":"Form!G57&G51","v":""},{"$f":"Form!H57","v":""},{"$f":"SUBSTITUTE(SUBSTITUTE(Form!I57,quote,\" in.\"),comma,\" --\")","v":""},{"$f":"Form!K57","v":""},{"$f":"Form!J57","v":""},{"$f":"IF(ShowDotZeros,IF(LEFT(Form!$G57,1)=\"7\",\"\",IF(ISNA(MATCH(LEFT(D51,3),{\"LTS\",\"ABD\",\"TRI\"},0)),\"\",\".00\")),\"\")","v":""}]
[{"$f":"Form!E58","v":""},{"$f":"Form!G58&G52","v":""},{"$f":"Form!H58","v":""},{"$f":"SUBSTITUTE(SUBSTITUTE(Form!I58,quote,\" in.\"),comma,\" --\")","v":""},{"$f":"Form!K58","v":""},{"$f":"Form!J58","v":""},{"$f":"IF(ShowDotZeros,IF(LEFT(Form!$G58,1)=\"7\",\"\",IF(ISNA(MATCH(LEFT(D52,3),{\"LTS\",\"ABD\",\"TRI\"},0)),\"\",\".00\")),\"\")","v":""}]
[{"$f":"Form!E59","v":""},{"$f":"Form!G59&G53","v":""},{"$f":"Form!H59","v":""},{"$f":"SUBSTITUTE(SUBSTITUTE(Form!I59,quote,\" in.\"),comma,\" --\")","v":""},{"$f":"Form!K59","v":""},{"$f":"Form!J59","v":""},{"$f":"IF(ShowDotZeros,IF(LEFT(Form!$G59,1)=\"7\",\"\",IF(ISNA(MATCH(LEFT(D53,3),{\"LTS\",\"ABD\",\"TRI\"},0)),\"\",\".00\")),\"\")","v":""}]
[{"$f":"Form!E60","v":""},{"$f":"Form!G60&G54","v":""},{"$f":"Form!H60","v":""},{"$f":"SUBSTITUTE(SUBSTITUTE(Form!I60,quote,\" in.\"),comma,\" --\")","v":""},{"$f":"Form!K60","v":""},{"$f":"Form!J60","v":""},{"$f":"IF(ShowDotZeros,IF(LEFT(Form!$G60,1)=\"7\",\"\",IF(ISNA(MATCH(LEFT(D54,3),{\"LTS\",\"ABD\",\"TRI\"},0)),\"\",\".00\")),\"\")","v":""}]
[{"$f":"Form!E61","v":""},{"$f":"Form!G61&G55","v":""},{"$f":"Form!H61","v":""},{"$f":"SUBSTITUTE(SUBSTITUTE(Form!I61,quote,\" in.\"),comma,\" --\")","v":""},{"$f":"Form!K61","v":""},{"$f":"Form!J61","v":""},{"$f":"IF(ShowDotZeros,IF(LEFT(Form!$G61,1)=\"7\",\"\",IF(ISNA(MATCH(LEFT(D55,3),{\"LTS\",\"ABD\",\"TRI\"},0)),\"\",\".00\")),\"\")","v":""}]
[{"$f":"Form!E62","v":""},{"$f":"Form!G62&G56","v":""},{"$f":"Form!H62","v":""},{"$f":"SUBSTITUTE(SUBSTITUTE(Form!I62,quote,\" in.\"),comma,\" --\")","v":""},{"$f":"Form!K62","v":""},{"$f":"Form!J62","v":""},{"$f":"IF(ShowDotZeros,IF(LEFT(Form!$G62,1)=\"7\",\"\",IF(ISNA(MATCH(LEFT(D56,3),{\"LTS\",\"ABD\",\"TRI\"},0)),\"\",\".00\")),\"\")","v":""}]
[{"$f":"Form!E63","v":""},{"$f":"Form!G63&G57","v":""},{"$f":"Form!H63","v":""},{"$f":"SUBSTITUTE(SUBSTITUTE(Form!I63,quote,\" in.\"),comma,\" --\")","v":""},{"$f":"Form!K63","v":""},{"$f":"Form!J63","v":""},{"$f":"IF(ShowDotZeros,IF(LEFT(Form!$G63,1)=\"7\",\"\",IF(ISNA(MATCH(LEFT(D57,3),{\"LTS\",\"ABD\",\"TRI\"},0)),\"\",\".00\")),\"\")","v":""}]
[{"$f":"Form!E64","v":""},{"$f":"Form!G64&G58","v":""},{"$f":"Form!H64","v":""},{"$f":"SUBSTITUTE(SUBSTITUTE(Form!I64,quote,\" in.\"),comma,\" --\")","v":""},{"$f":"Form!K64","v":""},{"$f":"Form!J64","v":""},{"$f":"IF(ShowDotZeros,IF(LEFT(Form!$G64,1)=\"7\",\"\",IF(ISNA(MATCH(LEFT(D58,3),{\"LTS\",\"ABD\",\"TRI\"},0)),\"\",\".00\")),\"\")","v":""}]
[{"$f":"Form!E65","v":""},{"$f":"Form!G65&G59","v":""},{"$f":"Form!H65","v":""},{"$f":"SUBSTITUTE(SUBSTITUTE(Form!I65,quote,\" in.\"),comma,\" --\")","v":""},{"$f":"Form!K65","v":""},{"$f":"Form!J65","v":""},{"$f":"IF(ShowDotZeros,IF(LEFT(Form!$G65,1)=\"7\",\"\",IF(ISNA(MATCH(LEFT(D59,3),{\"LTS\",\"ABD\",\"TRI\"},0)),\"\",\".00\")),\"\")","v":""}]

{"sheet":"Foams","index":11,"n_rows":108,"n_cols":12,"rows_kept":108,"cut":false,"hidden":true,"merged":[]}
["SEAT FOAMS (FRONT IF PLANAR ANTI-THRUST)"]
[null,null,null,null,null,"Enter one space if blank",null,null,null,null,"           V-- FALSE below means it's foam covered by thickness rules (formerly sunmate). When TRUE, charge may based on phantom or can be zero"]
["Idx","Foam Desc","Bottom","Middle","Top","Phantom","Retail Price","Added Cost","Thick","Foam Number","Always Charge"]
[1,"1/2\" X-Soft Visco Foam",{"$f":"IF(FOAMSREQD,IF(SEATCONTOURED,$B4,INDEX(Seat!$J$9:$J$25,CONTIDX)),\"NA\")","v":"NA"},{"$f":"IF(FOAMSREQD,IF(Seat!$H$7=2,\"Foam-in-Place\",IF(SEATCONTOURED,$B4,INDEX(Seat!$R$9:$R$25,CONTIDX))),\"NA\")","v":"NA"},{"$f":"IF(FOAMSREQD,IF(SEATCONTOURED,$B4,INDEX(Seat!$Z$9:$Z$25,CONTIDX)),\"NA\")","v":"NA"}," ",79,{"$f":"0.34*G4","v":26.860000000000003},0.5,"05875",{"$f":"FALSE()","v":false}]
[2,"1\" X-Soft Visco Foam",{"$f":"IF(FOAMSREQD,IF(SEATCONTOURED,$B5,INDEX(Seat!$J$9:$J$25,CONTIDX)),\"NA\")","v":"NA"},{"$f":"IF(FOAMSREQD,IF(Seat!$H$7=2,\"Foam-in-Place\",IF(SEATCONTOURED,$B5,INDEX(Seat!$R$9:$R$25,CONTIDX))),\"NA\")","v":"NA"},{"$f":"IF(FOAMSREQD,IF(SEATCONTOURED,$B5,INDEX(Seat!$Z$9:$Z$25,CONTIDX)),\"NA\")","v":"NA"}," ",116,{"$f":"0.34*G5","v":39.440000000000005},1,"05876",{"$f":"FALSE()","v":false}]
[3,"1/2\" Soft Visco Foam",{"$f":"IF(FOAMSREQD,IF(SEATCONTOURED,$B6,INDEX(Seat!$J$9:$J$25,CONTIDX)),\"NA\")","v":"NA"},{"$f":"IF(FOAMSREQD,IF(Seat!$H$7=2,\"Foam-in-Place\",IF(SEATCONTOURED,$B6,INDEX(Seat!$R$9:$R$25,CONTIDX))),\"NA\")","v":"NA"},{"$f":"IF(FOAMSREQD,IF(SEATCONTOURED,$B6,INDEX(Seat!$Z$9:$Z$25,CONTIDX)),\"NA\")","v":"NA"}," ",{"$f":"G4","v":79},{"$f":"H4","v":26.860000000000003},0.5,"05888",{"$f":"FALSE()","v":false}]
[4,"1\" Soft Visco Foam",{"$f":"IF(FOAMSREQD,IF(SEATCONTOURED,$B7,INDEX(Seat!$J$9:$J$25,CONTIDX)),\"NA\")","v":"NA"},{"$f":"IF(FOAMSREQD,IF(Seat!$H$7=2,\"Foam-in-Place\",IF(SEATCONTOURED,$B7,INDEX(Seat!$R$9:$R$25,CONTIDX))),\"NA\")","v":"NA"},{"$f":"IF(FOAMSREQD,IF(SEATCONTOURED,$B7,INDEX(Seat!$Z$9:$Z$25,CONTIDX)),\"NA\")","v":"NA"}," ",{"$f":"G5","v":116},{"$f":"H5","v":39.440000000000005},1,"05887",{"$f":"FALSE()","v":false}]
[5,"1-1/2\" Soft Visco Foam",{"$f":"IF(FOAMSREQD,IF(SEATCONTOURED,$B8,INDEX(Seat!$J$9:$J$25,CONTIDX)),\"NA\")","v":"NA"},{"$f":"IF(FOAMSREQD,IF(Seat!$H$7=2,\"Foam-in-Place\",IF(SEATCONTOURED,$B8,INDEX(Seat!$R$9:$R$25,CONTIDX))),\"NA\")","v":"NA"},{"$f":"IF(FOAMSREQD,IF(SEATCONTOURED,$B8,INDEX(Seat!$Z$9:$Z$25,CONTIDX)),\"NA\")","v":"NA"}," ",195,{"$f":"0.34*G8","v":66.300000000000011},1.5,"05891",{"$f":"FALSE()","v":false}]
[6,"2\" Soft Visco Foam",{"$f":"IF(FOAMSREQD,IF(SEATCONTOURED,$B9,INDEX(Seat!$J$9:$J$25,CONTIDX)),\"NA\")","v":"NA"},{"$f":"IF(FOAMSREQD,IF(Seat!$H$7=2,\"Foam-in-Place\",IF(SEATCONTOURED,$B9,INDEX(Seat!$R$9:$R$25,CONTIDX))),\"NA\")","v":"NA"},{"$f":"IF(FOAMSREQD,IF(SEATCONTOURED,$B9,INDEX(Seat!$Z$9:$Z$25,CONTIDX)),\"NA\")","v":"NA"}," ",232,null,2,"05864",{"$f":"FALSE()","v":false}]
[7,"3\" Soft Visco Foam",{"$f":"IF(FOAMSREQD,IF(SEATCONTOURED,$B10,INDEX(Seat!$J$9:$J$25,CONTIDX)),\"NA\")","v":"NA"},{"$f":"IF(FOAMSREQD,IF(Seat!$H$7=2,\"Foam-in-Place\",IF(SEATCONTOURED,$B10,INDEX(Seat!$R$9:$R$25,CONTIDX))),\"NA\")","v":"NA"},{"$f":"IF(FOAMSREQD,IF(SEATCONTOURED,$B10,INDEX(Seat!$Z$9:$Z$25,CONTIDX)),\"NA\")","v":"NA"}," ",348,null,3,"05865",{"$f":"FALSE()","v":false}]
[8,"1/4\"  Med Visco Foam",{"$f":"IF(FOAMSREQD,IF(SEATCONTOURED,$B11,INDEX(Seat!$J$9:$J$25,CONTIDX)),\"NA\")","v":"NA"},{"$f":"IF(FOAMSREQD,IF(Seat!$H$7=2,\"Foam-in-Place\",IF(SEATCONTOURED,$B11,INDEX(Seat!$R$9:$R$25,CONTIDX))),\"NA\")","v":"NA"},{"$f":"IF(FOAMSREQD,IF(SEATCONTOURED,$B11,INDEX(Seat!$Z$9:$Z$25,CONTIDX)),\"NA\")","v":"NA"}," ",79,{"$f":"H4","v":26.860000000000003},0.25,"05861",{"$f":"FALSE()","v":false},"Treat like 1/2\" foam for pricing but use 70175 phantom if only .25\" over the limit"]
[9,"1/2\" Med Visco Foam",{"$f":"IF(FOAMSREQD,IF(SEATCONTOURED,$B12,INDEX(Seat!$J$9:$J$25,CONTIDX)),\"NA\")","v":"NA"},{"$f":"IF(FOAMSREQD,IF(Seat!$H$7=2,\"Foam-in-Place\",IF(SEATCONTOURED,$B12,INDEX(Seat!$R$9:$R$25,CONTIDX))),\"NA\")","v":"NA"},{"$f":"IF(FOAMSREQD,IF(SEATCONTOURED,$B12,INDEX(Seat!$Z$9:$Z$25,CONTIDX)),\"NA\")","v":"NA"}," ",{"$f":"G4","v":79},{"$f":"H4","v":26.860000000000003},0.5,"05889",{"$f":"FALSE()","v":false}]
[10,"1\" Med Visco Foam",{"$f":"IF(FOAMSREQD,IF(SEATCONTOURED,$B13,INDEX(Seat!$J$9:$J$25,CONTIDX)),\"NA\")","v":"NA"},{"$f":"IF(FOAMSREQD,IF(Seat!$H$7=2,\"Foam-in-Place\",IF(SEATCONTOURED,$B13,INDEX(Seat!$R$9:$R$25,CONTIDX))),\"NA\")","v":"NA"},{"$f":"IF(FOAMSREQD,IF(SEATCONTOURED,$B13,INDEX(Seat!$Z$9:$Z$25,CONTIDX)),\"NA\")","v":"NA"}," ",{"$f":"G5","v":116},{"$f":"H5","v":39.440000000000005},1,"05890",{"$f":"FALSE()","v":false},"IF INSERT ANY FOAMS ABOUT THIS LINE, CHANGE DEFAULT SEAT FOAM # FOR STANDARD BOTTOM FOAM ON SEAT TAB"]
[11,"1-1/2\" Med Visco Foam",{"$f":"IF(FOAMSREQD,IF(SEATCONTOURED,$B14,INDEX(Seat!$J$9:$J$25,CONTIDX)),\"NA\")","v":"NA"},{"$f":"IF(FOAMSREQD,IF(Seat!$H$7=2,\"Foam-in-Place\",IF(SEATCONTOURED,$B14,INDEX(Seat!$R$9:$R$25,CONTIDX))),\"NA\")","v":"NA"},{"$f":"IF(FOAMSREQD,IF(SEATCONTOURED,$B14,INDEX(Seat!$Z$9:$Z$25,CONTIDX)),\"NA\")","v":"NA"}," ",{"$f":"G8","v":195},{"$f":"H8","v":66.300000000000011},1.5,"05892",{"$f":"FALSE()","v":false}]
[12,"2\" Med Visco Foam",{"$f":"IF(FOAMSREQD,IF(SEATCONTOURED,$B15,INDEX(Seat!$J$9:$J$25,CONTIDX)),\"NA\")","v":"NA"},{"$f":"IF(FOAMSREQD,IF(Seat!$H$7=2,\"Foam-in-Place\",IF(SEATCONTOURED,$B15,INDEX(Seat!$R$9:$R$25,CONTIDX))),\"NA\")","v":"NA"},{"$f":"IF(FOAMSREQD,IF(SEATCONTOURED,$B15,INDEX(Seat!$Z$9:$Z$25,CONTIDX)),\"NA\")","v":"NA"}," ",{"$f":"G9","v":232},null,2,"05863",{"$f":"FALSE()","v":false}]
[13,"1\" Firm Visco Foam",{"$f":"IF(FOAMSREQD,IF(SEATCONTOURED,$B16,INDEX(Seat!$J$9:$J$25,CONTIDX)),\"NA\")","v":"NA"},{"$f":"IF(FOAMSREQD,IF(Seat!$H$7=2,\"Foam-in-Place\",IF(SEATCONTOURED,$B16,INDEX(Seat!$R$9:$R$25,CONTIDX))),\"NA\")","v":"NA"},{"$f":"IF(FOAMSREQD,IF(SEATCONTOURED,$B16,INDEX(Seat!$Z$9:$Z$25,CONTIDX)),\"NA\")","v":"NA"}," ",{"$f":"G5","v":116},{"$f":"H5","v":39.440000000000005},1,"05920",{"$f":"FALSE()","v":false}]
[14,"1/2\" XX-Soft T-Foam",{"$f":"IF(FOAMSREQD,IF(SEATCONTOURED,$B17,INDEX(Seat!$J$9:$J$25,CONTIDX)),\"NA\")","v":"NA"},{"$f":"IF(FOAMSREQD,IF(Seat!$H$7=2,\"Foam-in-Place\",IF(SEATCONTOURED,$B17,INDEX(Seat!$R$9:$R$25,CONTIDX))),\"NA\")","v":"NA"},{"$f":"IF(FOAMSREQD,IF(SEATCONTOURED,$B17,INDEX(Seat!$Z$9:$Z$25,CONTIDX)),\"NA\")","v":"NA"}," ",79,{"$f":"0.34*G17","v":26.860000000000003},0.5,"05846",{"$f":"FALSE()","v":false}]
[15,"1\" XX-Soft T-Foam",{"$f":"IF(FOAMSREQD,IF(SEATCONTOURED,$B18,INDEX(Seat!$J$9:$J$25,CONTIDX)),\"NA\")","v":"NA"},{"$f":"IF(FOAMSREQD,IF(Seat!$H$7=2,\"Foam-in-Place\",IF(SEATCONTOURED,$B18,INDEX(Seat!$R$9:$R$25,CONTIDX))),\"NA\")","v":"NA"},{"$f":"IF(FOAMSREQD,IF(SEATCONTOURED,$B18,INDEX(Seat!$Z$9:$Z$25,CONTIDX)),\"NA\")","v":"NA"}," ",116,{"$f":"0.34*G18","v":39.440000000000005},1,"05847",{"$f":"FALSE()","v":false}]
[16,"1/2\" Soft Poly Foam",{"$f":"IF(FOAMSREQD,IF(SEATCONTOURED,$B19,INDEX(Seat!$J$9:$J$25,CONTIDX)),\"NA\")","v":"NA"},{"$f":"IF(FOAMSREQD,IF(Seat!$H$7=2,\"Foam-in-Place\",IF(SEATCONTOURED,$B19,INDEX(Seat!$R$9:$R$25,CONTIDX))),\"NA\")","v":"NA"},{"$f":"IF(FOAMSREQD,IF(SEATCONTOURED,$B19,INDEX(Seat!$Z$9:$Z$25,CONTIDX)),\"NA\")","v":"NA"},"Foam",0,0,0.5,"05848",{"$f":"TRUE()","v":true}]
[17,"1\" Soft Poly Foam",{"$f":"IF(FOAMSREQD,IF(SEATCONTOURED,$B20,INDEX(Seat!$J$9:$J$25,CONTIDX)),\"NA\")","v":"NA"},{"$f":"IF(FOAMSREQD,IF(Seat!$H$7=2,\"Foam-in-Place\",IF(SEATCONTOURED,$B20,INDEX(Seat!$R$9:$R$25,CONTIDX))),\"NA\")","v":"NA"},{"$f":"IF(FOAMSREQD,IF(SEATCONTOURED,$B20,INDEX(Seat!$Z$9:$Z$25,CONTIDX)),\"NA\")","v":"NA"},"Foam",0,0,1,"05849",{"$f":"TRUE()","v":true}]
[18,"1/2\" Firm Poly Foam",{"$f":"IF(FOAMSREQD,IF(SEATCONTOURED,$B21,INDEX(Seat!$J$9:$J$25,CONTIDX)),\"NA\")","v":"NA"},{"$f":"IF(FOAMSREQD,IF(Seat!$H$7=2,\"Foam-in-Place\",IF(SEATCONTOURED,$B21,INDEX(Seat!$R$9:$R$25,CONTIDX))),\"NA\")","v":"NA"},{"$f":"IF(FOAMSREQD,IF(SEATCONTOURED,$B21,INDEX(Seat!$Z$9:$Z$25,CONTIDX)),\"NA\")","v":"NA"},"Foam",0,0,0.5,"05919",{"$f":"TRUE()","v":true}]
[19,"1\" Firm Poly Foam",{"$f":"IF(FOAMSREQD,IF(SEATCONTOURED,$B22,INDEX(Seat!$J$9:$J$25,CONTIDX)),\"NA\")","v":"NA"},{"$f":"IF(FOAMSREQD,IF(Seat!$H$7=2,\"Foam-in-Place\",IF(SEATCONTOURED,$B22,INDEX(Seat!$R$9:$R$25,CONTIDX))),\"NA\")","v":"NA"},{"$f":"IF(FOAMSREQD,IF(SEATCONTOURED,$B22,INDEX(Seat!$Z$9:$Z$25,CONTIDX)),\"NA\")","v":"NA"},"Foam",0,0,1,"05900",{"$f":"TRUE()","v":true}]
[20,"1-1/2\" Firm Poly Foam",{"$f":"IF(FOAMSREQD,IF(SEATCONTOURED,$B23,INDEX(Seat!$J$9:$J$25,CONTIDX)),\"NA\")","v":"NA"},{"$f":"IF(FOAMSREQD,IF(Seat!$H$7=2,\"Foam-in-Place\",IF(SEATCONTOURED,$B23,INDEX(Seat!$R$9:$R$25,CONTIDX))),\"NA\")","v":"NA"},{"$f":"IF(FOAMSREQD,IF(SEATCONTOURED,$B23,INDEX(Seat!$Z$9:$Z$25,CONTIDX)),\"NA\")","v":"NA"},"Foam",0,0,1.5,"05921",{"$f":"TRUE()","v":true}]
[21,"2\" Firm Poly Foam",{"$f":"IF(FOAMSREQD,IF(SEATCONTOURED,$B24,INDEX(Seat!$J$9:$J$25,CONTIDX)),\"NA\")","v":"NA"},{"$f":"IF(FOAMSREQD,IF(Seat!$H$7=2,\"Foam-in-Place\",IF(SEATCONTOURED,$B24,INDEX(Seat!$R$9:$R$25,CONTIDX))),\"NA\")","v":"NA"},{"$f":"IF(FOAMSREQD,IF(SEATCONTOURED,$B24,INDEX(Seat!$Z$9:$Z$25,CONTIDX)),\"NA\")","v":"NA"},"Foam",0,0,2,"05922",{"$f":"TRUE()","v":true}]
[22,{"$f":"\"1/2\"\" Pudgee Foam\"","v":"1/2\" Pudgee Foam"},{"$f":"IF(FOAMSREQD,IF(SEATCONTOURED,$B25,INDEX(Seat!$J$9:$J$25,CONTIDX)),\"NA\")","v":"NA"},{"$f":"IF(FOAMSREQD,IF(Seat!$H$7=2,\"Foam-in-Place\",IF(SEATCONTOURED,$B25,INDEX(Seat!$R$9:$R$25,CONTIDX))),\"NA\")","v":"NA"},{"$f":"IF(FOAMSREQD,IF(SEATCONTOURED,$B25,INDEX(Seat!$Z$9:$Z$25,CONTIDX)),\"NA\")","v":"NA"},71018,192,{"$f":"0.34*G25","v":65.28},0.5,"05896",{"$f":"TRUE()","v":true}]
[23,{"$f":"\"1\"\" Pudgee Foam\"","v":"1\" Pudgee Foam"},{"$f":"IF(FOAMSREQD,IF(SEATCONTOURED,$B26,INDEX(Seat!$J$9:$J$25,CONTIDX)),\"NA\")","v":"NA"},{"$f":"IF(FOAMSREQD,IF(Seat!$H$7=2,\"Foam-in-Place\",IF(SEATCONTOURED,$B26,INDEX(Seat!$R$9:$R$25,CONTIDX))),\"NA\")","v":"NA"},{"$f":"IF(FOAMSREQD,IF(SEATCONTOURED,$B26,INDEX(Seat!$Z$9:$Z$25,CONTIDX)),\"NA\")","v":"NA"},71019,247,{"$f":"0.34*G26","v":83.98},1,"05897",{"$f":"TRUE()","v":true}]
[24,{"$f":"\"1/4\"\" Gel Pad\"","v":"1/4\" Gel Pad"},{"$f":"IF(FOAMSREQD,IF(SEATCONTOURED,$B27,INDEX(Seat!$J$9:$J$25,CONTIDX)),\"NA\")","v":"NA"},{"$f":"IF(FOAMSREQD,IF(Seat!$H$7=2,\"Foam-in-Place\",IF(SEATCONTOURED,$B27,INDEX(Seat!$R$9:$R$25,CONTIDX))),\"NA\")","v":"NA"},{"$f":"IF(FOAMSREQD,IF(SEATCONTOURED,$B27,INDEX(Seat!$Z$9:$Z$25,CONTIDX)),\"NA\")","v":"NA"},{"$f":"VLOOKUP(Seat!$BA$39,Seat!$AT$43:$AW$45,2)","v":71059},{"$f":"VLOOKUP(Seat!$BA$39,Seat!$AT$43:$AW$45,3)","v":195},{"$f":"VLOOKUP(Seat!$BA$39,Seat!$AT$43:$AW$45,4)","v":66.300000000000011},0.25,"05940",{"$f":"TRUE()","v":true}]
[25,{"$f":"\"1/2\"\" Gel Pad\"","v":"1/2\" Gel Pad"},{"$f":"IF(FOAMSREQD,IF(SEATCONTOURED,$B28,INDEX(Seat!$J$9:$J$25,CONTIDX)),\"NA\")","v":"NA"},{"$f":"IF(FOAMSREQD,IF(Seat!$H$7=2,\"Foam-in-Place\",IF(SEATCONTOURED,$B28,INDEX(Seat!$R$9:$R$25,CONTIDX))),\"NA\")","v":"NA"},{"$f":"IF(FOAMSREQD,IF(SEATCONTOURED,$B28,INDEX(Seat!$Z$9:$Z$25,CONTIDX)),\"NA\")","v":"NA"},{"$f":"VLOOKUP(Seat!$BA$39,Seat!$AT$37:$AW$39,2)","v":71020},{"$f":"VLOOKUP(Seat!$BA$39,Seat!$AT$37:$AW$39,3)","v":247},{"$f":"VLOOKUP(Seat!$BA$39,Seat!$AT$37:$AW$39,4)","v":83.98},0.5,"05941",{"$f":"TRUE()","v":true}]
[26,"1/2\" Cubed gel",{"$f":"IF(FOAMSREQD,IF(SEATCONTOURED,$B29,INDEX(Seat!$J$9:$J$25,CONTIDX)),\"NA\")","v":"NA"},{"$f":"IF(FOAMSREQD,IF(Seat!$H$7=2,\"Foam-in-Place\",IF(SEATCONTOURED,$B29,INDEX(Seat!$R$9:$R$25,CONTIDX))),\"NA\")","v":"NA"},{"$f":"IF(FOAMSREQD,IF(SEATCONTOURED,$B29,INDEX(Seat!$Z$9:$Z$25,CONTIDX)),\"NA\")","v":"NA"},{"$f":"VLOOKUP(Seat!$BA$40,Seat!$AT$49:$AW$52,2)","v":71099},{"$f":"VLOOKUP(Seat!$BA$40,Seat!$AT$49:$AW$52,3)","v":242},{"$f":"VLOOKUP(Seat!$BA$40,Seat!$AT$49:$AW$52,4)","v":82.28},0.5,"DGEL",{"$f":"TRUE()","v":true}]
[27,"2\" Grid-cut Soft Foam",{"$f":"IF(FOAMSREQD,IF(SEATCONTOURED,$B30,INDEX(Seat!$J$9:$J$25,CONTIDX)),\"NA\")","v":"NA"},{"$f":"IF(FOAMSREQD,IF(Seat!$H$7=2,\"Foam-in-Place\",IF(SEATCONTOURED,$B30,INDEX(Seat!$R$9:$R$25,CONTIDX))),\"NA\")","v":"NA"},{"$f":"IF(FOAMSREQD,IF(SEATCONTOURED,$B30,INDEX(Seat!$Z$9:$Z$25,CONTIDX)),\"NA\")","v":"NA"},71074,378,null,2,"05864",{"$f":"TRUE()","v":true}]
[28,"3\" Grid-cut Soft Foam",{"$f":"IF(FOAMSREQD,IF(SEATCONTOURED,$B31,INDEX(Seat!$J$9:$J$25,CONTIDX)),\"NA\")","v":"NA"},{"$f":"IF(FOAMSREQD,IF(Seat!$H$7=2,\"Foam-in-Place\",IF(SEATCONTOURED,$B31,INDEX(Seat!$R$9:$R$25,CONTIDX))),\"NA\")","v":"NA"},{"$f":"IF(FOAMSREQD,IF(SEATCONTOURED,$B31,INDEX(Seat!$Z$9:$Z$25,CONTIDX)),\"NA\")","v":"NA"},71091,415,null,3,"05865",{"$f":"TRUE()","v":true}]
[29,"1/2\" Crosslink Foam",{"$f":"IF(FOAMSREQD,IF(SEATCONTOURED,$B32,INDEX(Seat!$J$9:$J$25,CONTIDX)),\"NA\")","v":"NA"},{"$f":"IF(FOAMSREQD,IF(Seat!$H$7=2,\"Foam-in-Place\",IF(SEATCONTOURED,$B32,INDEX(Seat!$R$9:$R$25,CONTIDX))),\"NA\")","v":"NA"},{"$f":"IF(FOAMSREQD,IF(SEATCONTOURED,$B32,INDEX(Seat!$Z$9:$Z$25,CONTIDX)),\"NA\")","v":"NA"},71016,79,{"$f":"0.34*G32","v":26.860000000000003},0.5,"05893",{"$f":"FALSE()","v":false}]
[30,"1\" Crosslink Foam",{"$f":"IF(FOAMSREQD,IF(SEATCONTOURED,$B33,INDEX(Seat!$J$9:$J$25,CONTIDX)),\"NA\")","v":"NA"},{"$f":"IF(FOAMSREQD,IF(Seat!$H$7=2,\"Foam-in-Place\",IF(SEATCONTOURED,$B33,INDEX(Seat!$R$9:$R$25,CONTIDX))),\"NA\")","v":"NA"},{"$f":"IF(FOAMSREQD,IF(SEATCONTOURED,$B33,INDEX(Seat!$Z$9:$Z$25,CONTIDX)),\"NA\")","v":"NA"},71017,116,{"$f":"0.34*G33","v":39.440000000000005},1,"05894",{"$f":"FALSE()","v":false}]
[31,"1-1/2\" Crosslink Foam",{"$f":"IF(FOAMSREQD,IF(SEATCONTOURED,$B34,INDEX(Seat!$J$9:$J$25,CONTIDX)),\"NA\")","v":"NA"},{"$f":"IF(FOAMSREQD,IF(Seat!$H$7=2,\"Foam-in-Place\",IF(SEATCONTOURED,$B34,INDEX(Seat!$R$9:$R$25,CONTIDX))),\"NA\")","v":"NA"},{"$f":"IF(FOAMSREQD,IF(SEATCONTOURED,$B34,INDEX(Seat!$Z$9:$Z$25,CONTIDX)),\"NA\")","v":"NA"},71015,195,{"$f":"0.34*G34","v":66.300000000000011},1.5,"05898",{"$f":"FALSE()","v":false}]
[32,"NA",{"$f":"IF(FOAMSREQD,IF(SEATCONTOURED,$B35,INDEX(Seat!$J$9:$J$25,CONTIDX)),\"NA\")","v":"NA"},{"$f":"IF(FOAMSREQD,IF(Seat!$H$7=2,\"Foam-in-Place\",IF(SEATCONTOURED,$B35,INDEX(Seat!$R$9:$R$25,CONTIDX))),\"NA\")","v":"NA"},{"$f":"IF(FOAMSREQD,IF(SEATCONTOURED,$B35,INDEX(Seat!$Z$9:$Z$25,CONTIDX)),\"NA\")","v":"NA"}," ",null,null,0,"FIP",{"$f":"FALSE()","v":false}]
[]
[]
["SEAT PLANAR ANTI-THRUST REAR FOAMS"]
[]
["Idx","Foam Desc","Bottom","Middle","Top"]
[1,"1/2\" X-Soft Visco Foam",{"$f":"IF(FOAMSREQD,IF(CONTIDX=3,$B41,\"NA\"),\"NA\")","v":"NA"},"NA","NA"]
[2,"1\" X-Soft Visco Foam","NA","NA","NA"]
[3,"1/2\" Soft Visco Foam","NA","NA","NA"]
[4,"1\" Soft Visco Foam","NA","NA","NA"]
[5,"1-1/2\" Soft Visco Foam","NA","NA","NA"]
[6,"2\" Soft Visco Foam","NA","NA","NA"]
[7,"3\" Soft Visco Foam","NA","NA","NA"]
[8,"1/4\" Med Visco Foam","NA","NA","NA"]
[9,"1/2\" Med Visco Foam","NA","NA","NA"]
[10,"1\" Med Visco Foam","NA","NA","NA"]
[11,"1-1/2\" Med Visco Foam","NA","NA","NA"]
[12,"2\" Med Visco Foam","NA","NA","NA"]
[13,"1\" Firm Visco Foam","NA","NA","NA"]
[14,"1/2\" XX-Soft T-Foam","NA","NA","NA"]
[15,"1\" XX-Soft T-Foam","NA","NA","NA"]
[16,"1/2\" Soft Poly Foam","NA","NA","NA"]
[17,"1\" Soft Poly Foam","NA","NA","NA"]
[18,"1/2\" Firm Poly Foam","NA","NA","NA"]
[19,"1\" Firm Poly Foam","NA","NA","NA"]
[20,"1-1/2\" Firm Poly Foam","NA","NA","NA"]
[21,"2\" Firm Poly Foam","NA","NA","NA"]
[22,{"$f":"\"1/2\"\" Pudgee Foam\"","v":"1/2\" Pudgee Foam"},"NA","NA","NA"]
[23,{"$f":"\"1\"\" Pudgee Foam\"","v":"1\" Pudgee Foam"},"NA","NA","NA"]
[24,{"$f":"\"1/4\"\" Gel Pad\"","v":"1/4\" Gel Pad"},"NA","NA","NA"]
[25,{"$f":"\"1/2\"\" Gel Pad\"","v":"1/2\" Gel Pad"},"NA","NA","NA"]
[26,"1/2\" Cubed Gel","NA","NA","NA"]
[27,"2\" Grid-cut Soft Foam","NA","NA","NA"]
[28,"3\" Grid-cut Soft Foam","NA","NA","NA"]
[29,"1/2\" Crosslink Foam","NA","NA","NA"]
[30,"1\" Crosslink Foam","NA","NA","NA"]
[31,"1-1/2\" Crosslink Foam","NA","NA","NA"]
[32,"NA","NA","NA","NA"]
[]
[]
[]
["BACK FOAMS"]
[null,null,null,null,null,"Enter one space if blank",null,null,null,null,"           V-- FALSE below means it's foam covered by thickness rules (formerly Sunmate). When TRUE, charge may based on phantom or can be zero"]
["Idx","Foam Desc","Bottom","Middle","Top","Phantom","Retail Price","Added Cost","Thick","Foam Number","Always Charge"]
[1,"1/2\" X-Soft Visco Foam",{"$f":"IF(AND(BACKSHAPE>1,BACKFOAMSREQD),IF(BACKFOAMSCUSTOM,$B79,INDEX(Seat!$J$63:$J$74,BACKCONTOUR)),\"NA\")","v":"NA"},{"$f":"IF(AND(BACKSHAPE>1,BACKFOAMSREQD),IF(BACKFIP,\"Foam-in-Place\",IF(BACKFOAMSCUSTOM,$B79,INDEX(Seat!$R$63:$R$74,BACKCONTOUR))),\"NA\")","v":"NA"},{"$f":"IF(AND(BACKFOAMSREQD,BACKSHAPE>1),IF(BACKFOAMSCUSTOM,$B79,INDEX(Seat!$Z$63:$Z$74,BACKCONTOUR)),\"NA\")","v":"NA"}," ",{"$f":"Foams!G4","v":79},{"$f":"Foams!H4","v":26.860000000000003},0.5,"05875",{"$f":"FALSE()","v":false}]
[2,"1\" X-Soft Visco Foam",{"$f":"IF(AND(BACKSHAPE>1,BACKFOAMSREQD),IF(BACKFOAMSCUSTOM,$B80,INDEX(Seat!$J$63:$J$74,BACKCONTOUR)),\"NA\")","v":"NA"},{"$f":"IF(AND(BACKSHAPE>1,BACKFOAMSREQD),IF(BACKFIP,\"Foam-in-Place\",IF(BACKFOAMSCUSTOM,$B80,INDEX(Seat!$R$63:$R$74,BACKCONTOUR))),\"NA\")","v":"NA"},{"$f":"IF(AND(BACKFOAMSREQD,BACKSHAPE>1),IF(BACKFOAMSCUSTOM,$B80,INDEX(Seat!$Z$63:$Z$74,BACKCONTOUR)),\"NA\")","v":"NA"}," ",{"$f":"Foams!G5","v":116},{"$f":"Foams!H5","v":39.440000000000005},1,"05876",{"$f":"FALSE()","v":false}]
[3,"1/2\" Soft Visco Foam",{"$f":"IF(AND(BACKSHAPE>1,BACKFOAMSREQD),IF(BACKFOAMSCUSTOM,$B81,INDEX(Seat!$J$63:$J$74,BACKCONTOUR)),\"NA\")","v":"NA"},{"$f":"IF(AND(BACKSHAPE>1,BACKFOAMSREQD),IF(BACKFIP,\"Foam-in-Place\",IF(BACKFOAMSCUSTOM,$B81,INDEX(Seat!$R$63:$R$74,BACKCONTOUR))),\"NA\")","v":"NA"},{"$f":"IF(AND(BACKFOAMSREQD,BACKSHAPE>1),IF(BACKFOAMSCUSTOM,$B81,INDEX(Seat!$Z$63:$Z$74,BACKCONTOUR)),\"NA\")","v":"NA"}," ",{"$f":"Foams!G6","v":79},{"$f":"Foams!H6","v":26.860000000000003},0.5,"05888",{"$f":"FALSE()","v":false}]
[4,"1\" Soft Visco Foam",{"$f":"IF(AND(BACKSHAPE>1,BACKFOAMSREQD),IF(BACKFOAMSCUSTOM,$B82,INDEX(Seat!$J$63:$J$74,BACKCONTOUR)),\"NA\")","v":"NA"},{"$f":"IF(AND(BACKSHAPE>1,BACKFOAMSREQD),IF(BACKFIP,\"Foam-in-Place\",IF(BACKFOAMSCUSTOM,$B82,INDEX(Seat!$R$63:$R$74,BACKCONTOUR))),\"NA\")","v":"NA"},{"$f":"IF(AND(BACKFOAMSREQD,BACKSHAPE>1),IF(BACKFOAMSCUSTOM,$B82,INDEX(Seat!$Z$63:$Z$74,BACKCONTOUR)),\"NA\")","v":"NA"}," ",{"$f":"Foams!G7","v":116},{"$f":"Foams!H7","v":39.440000000000005},1,"05887",{"$f":"FALSE()","v":false}]
[5,"1-1/2\" Soft Visco Foam",{"$f":"IF(AND(BACKSHAPE>1,BACKFOAMSREQD),IF(BACKFOAMSCUSTOM,$B83,INDEX(Seat!$J$63:$J$74,BACKCONTOUR)),\"NA\")","v":"NA"},{"$f":"IF(AND(BACKSHAPE>1,BACKFOAMSREQD),IF(BACKFIP,\"Foam-in-Place\",IF(BACKFOAMSCUSTOM,$B83,INDEX(Seat!$R$63:$R$74,BACKCONTOUR))),\"NA\")","v":"NA"},{"$f":"IF(AND(BACKFOAMSREQD,BACKSHAPE>1),IF(BACKFOAMSCUSTOM,$B83,INDEX(Seat!$Z$63:$Z$74,BACKCONTOUR)),\"NA\")","v":"NA"}," ",{"$f":"Foams!G8","v":195},{"$f":"Foams!H8","v":66.300000000000011},1.5,"05891",{"$f":"FALSE()","v":false}]
[6,"2\" Soft Visco Foam",{"$f":"IF(AND(BACKSHAPE>1,BACKFOAMSREQD),IF(BACKFOAMSCUSTOM,$B84,INDEX(Seat!$J$63:$J$74,BACKCONTOUR)),\"NA\")","v":"NA"},{"$f":"IF(AND(BACKSHAPE>1,BACKFOAMSREQD),IF(BACKFIP,\"Foam-in-Place\",IF(BACKFOAMSCUSTOM,$B84,INDEX(Seat!$R$63:$R$74,BACKCONTOUR))),\"NA\")","v":"NA"},{"$f":"IF(AND(BACKFOAMSREQD,BACKSHAPE>1),IF(BACKFOAMSCUSTOM,$B84,INDEX(Seat!$Z$63:$Z$74,BACKCONTOUR)),\"NA\")","v":"NA"}," ",{"$f":"Foams!G9","v":232},{"$f":"Foams!H9","v":0},2,"05864",{"$f":"FALSE()","v":false}]
[7,"3\" Soft Visco Foam",{"$f":"IF(AND(BACKSHAPE>1,BACKFOAMSREQD),IF(BACKFOAMSCUSTOM,$B85,INDEX(Seat!$J$63:$J$74,BACKCONTOUR)),\"NA\")","v":"NA"},{"$f":"IF(AND(BACKSHAPE>1,BACKFOAMSREQD),IF(BACKFIP,\"Foam-in-Place\",IF(BACKFOAMSCUSTOM,$B85,INDEX(Seat!$R$63:$R$74,BACKCONTOUR))),\"NA\")","v":"NA"},{"$f":"IF(AND(BACKFOAMSREQD,BACKSHAPE>1),IF(BACKFOAMSCUSTOM,$B85,INDEX(Seat!$Z$63:$Z$74,BACKCONTOUR)),\"NA\")","v":"NA"}," ",{"$f":"Foams!G10","v":348},{"$f":"Foams!H10","v":0},3,"05865",{"$f":"FALSE()","v":false}]
[8,"1/4\" Med Visco Foam",{"$f":"IF(AND(BACKSHAPE>1,BACKFOAMSREQD),IF(BACKFOAMSCUSTOM,$B86,INDEX(Seat!$J$63:$J$74,BACKCONTOUR)),\"NA\")","v":"NA"},{"$f":"IF(AND(BACKSHAPE>1,BACKFOAMSREQD),IF(BACKFIP,\"Foam-in-Place\",IF(BACKFOAMSCUSTOM,$B86,INDEX(Seat!$R$63:$R$74,BACKCONTOUR))),\"NA\")","v":"NA"},{"$f":"IF(AND(BACKFOAMSREQD,BACKSHAPE>1),IF(BACKFOAMSCUSTOM,$B86,INDEX(Seat!$Z$63:$Z$74,BACKCONTOUR)),\"NA\")","v":"NA"}," ",{"$f":"Foams!G11","v":79},{"$f":"Foams!H11","v":26.860000000000003},0.25,"05861",{"$f":"FALSE()","v":false}]
[9,"1/2\" Med Visco Foam",{"$f":"IF(AND(BACKSHAPE>1,BACKFOAMSREQD),IF(BACKFOAMSCUSTOM,$B87,INDEX(Seat!$J$63:$J$74,BACKCONTOUR)),\"NA\")","v":"NA"},{"$f":"IF(AND(BACKSHAPE>1,BACKFOAMSREQD),IF(BACKFIP,\"Foam-in-Place\",IF(BACKFOAMSCUSTOM,$B87,INDEX(Seat!$R$63:$R$74,BACKCONTOUR))),\"NA\")","v":"NA"},{"$f":"IF(AND(BACKFOAMSREQD,BACKSHAPE>1),IF(BACKFOAMSCUSTOM,$B87,INDEX(Seat!$Z$63:$Z$74,BACKCONTOUR)),\"NA\")","v":"NA"}," ",{"$f":"Foams!G12","v":79},{"$f":"Foams!H12","v":26.860000000000003},0.5,"05889",{"$f":"FALSE()","v":false}]
[10,"1\" Med Visco Foam",{"$f":"IF(AND(BACKSHAPE>1,BACKFOAMSREQD),IF(BACKFOAMSCUSTOM,$B88,INDEX(Seat!$J$63:$J$74,BACKCONTOUR)),\"NA\")","v":"NA"},{"$f":"IF(AND(BACKSHAPE>1,BACKFOAMSREQD),IF(BACKFIP,\"Foam-in-Place\",IF(BACKFOAMSCUSTOM,$B88,INDEX(Seat!$R$63:$R$74,BACKCONTOUR))),\"NA\")","v":"NA"},{"$f":"IF(AND(BACKFOAMSREQD,BACKSHAPE>1),IF(BACKFOAMSCUSTOM,$B88,INDEX(Seat!$Z$63:$Z$74,BACKCONTOUR)),\"NA\")","v":"NA"}," ",{"$f":"Foams!G13","v":116},{"$f":"Foams!H13","v":39.440000000000005},1,"05890",{"$f":"FALSE()","v":false}]
[11,"1-1/2\" Med Visco Foam",{"$f":"IF(AND(BACKSHAPE>1,BACKFOAMSREQD),IF(BACKFOAMSCUSTOM,$B89,INDEX(Seat!$J$63:$J$74,BACKCONTOUR)),\"NA\")","v":"NA"},{"$f":"IF(AND(BACKSHAPE>1,BACKFOAMSREQD),IF(BACKFIP,\"Foam-in-Place\",IF(BACKFOAMSCUSTOM,$B89,INDEX(Seat!$R$63:$R$74,BACKCONTOUR))),\"NA\")","v":"NA"},{"$f":"IF(AND(BACKFOAMSREQD,BACKSHAPE>1),IF(BACKFOAMSCUSTOM,$B89,INDEX(Seat!$Z$63:$Z$74,BACKCONTOUR)),\"NA\")","v":"NA"}," ",{"$f":"Foams!G14","v":195},{"$f":"Foams!H14","v":66.300000000000011},1.5,"05892",{"$f":"FALSE()","v":false}]
[12,"2\" Med Visco Foam",{"$f":"IF(AND(BACKSHAPE>1,BACKFOAMSREQD),IF(BACKFOAMSCUSTOM,$B90,INDEX(Seat!$J$63:$J$74,BACKCONTOUR)),\"NA\")","v":"NA"},{"$f":"IF(AND(BACKSHAPE>1,BACKFOAMSREQD),IF(BACKFIP,\"Foam-in-Place\",IF(BACKFOAMSCUSTOM,$B90,INDEX(Seat!$R$63:$R$74,BACKCONTOUR))),\"NA\")","v":"NA"},{"$f":"IF(AND(BACKFOAMSREQD,BACKSHAPE>1),IF(BACKFOAMSCUSTOM,$B90,INDEX(Seat!$Z$63:$Z$74,BACKCONTOUR)),\"NA\")","v":"NA"}," ",{"$f":"Foams!G15","v":232},{"$f":"Foams!H15","v":0},2,"05863",{"$f":"FALSE()","v":false}]
[13,"1\" Firm Visco Foam",{"$f":"IF(AND(BACKSHAPE>1,BACKFOAMSREQD),IF(BACKFOAMSCUSTOM,$B91,INDEX(Seat!$J$63:$J$74,BACKCONTOUR)),\"NA\")","v":"NA"},{"$f":"IF(AND(BACKSHAPE>1,BACKFOAMSREQD),IF(BACKFIP,\"Foam-in-Place\",IF(BACKFOAMSCUSTOM,$B91,INDEX(Seat!$R$63:$R$74,BACKCONTOUR))),\"NA\")","v":"NA"},{"$f":"IF(AND(BACKFOAMSREQD,BACKSHAPE>1),IF(BACKFOAMSCUSTOM,$B91,INDEX(Seat!$Z$63:$Z$74,BACKCONTOUR)),\"NA\")","v":"NA"}," ",{"$f":"Foams!G16","v":116},{"$f":"Foams!H16","v":39.440000000000005},1,"05920",{"$f":"FALSE()","v":false}]
[14,"1/2\" XX-Soft T-Foam",{"$f":"IF(AND(BACKSHAPE>1,BACKFOAMSREQD),IF(BACKFOAMSCUSTOM,$B92,INDEX(Seat!$J$63:$J$74,BACKCONTOUR)),\"NA\")","v":"NA"},{"$f":"IF(AND(BACKSHAPE>1,BACKFOAMSREQD),IF(BACKFIP,\"Foam-in-Place\",IF(BACKFOAMSCUSTOM,$B92,INDEX(Seat!$R$63:$R$74,BACKCONTOUR))),\"NA\")","v":"NA"},{"$f":"IF(AND(BACKFOAMSREQD,BACKSHAPE>1),IF(BACKFOAMSCUSTOM,$B92,INDEX(Seat!$Z$63:$Z$74,BACKCONTOUR)),\"NA\")","v":"NA"}," ",{"$f":"Foams!G17","v":79},{"$f":"Foams!H17","v":26.860000000000003},0.5,"05846",{"$f":"FALSE()","v":false}]
[15,"1\" XX-Soft T-Foam",{"$f":"IF(AND(BACKSHAPE>1,BACKFOAMSREQD),IF(BACKFOAMSCUSTOM,$B93,INDEX(Seat!$J$63:$J$74,BACKCONTOUR)),\"NA\")","v":"NA"},{"$f":"IF(AND(BACKSHAPE>1,BACKFOAMSREQD),IF(BACKFIP,\"Foam-in-Place\",IF(BACKFOAMSCUSTOM,$B93,INDEX(Seat!$R$63:$R$74,BACKCONTOUR))),\"NA\")","v":"NA"},{"$f":"IF(AND(BACKFOAMSREQD,BACKSHAPE>1),IF(BACKFOAMSCUSTOM,$B93,INDEX(Seat!$Z$63:$Z$74,BACKCONTOUR)),\"NA\")","v":"NA"}," ",{"$f":"Foams!G18","v":116},{"$f":"Foams!H18","v":39.440000000000005},1,"05847",{"$f":"FALSE()","v":false}]
[16,"1/2\" Soft Poly Foam",{"$f":"IF(AND(BACKSHAPE>1,BACKFOAMSREQD),IF(BACKFOAMSCUSTOM,$B94,INDEX(Seat!$J$63:$J$74,BACKCONTOUR)),\"NA\")","v":"NA"},{"$f":"IF(AND(BACKSHAPE>1,BACKFOAMSREQD),IF(BACKFIP,\"Foam-in-Place\",IF(BACKFOAMSCUSTOM,$B94,INDEX(Seat!$R$63:$R$74,BACKCONTOUR))),\"NA\")","v":"NA"},{"$f":"IF(AND(BACKFOAMSREQD,BACKSHAPE>1),IF(BACKFOAMSCUSTOM,$B94,INDEX(Seat!$Z$63:$Z$74,BACKCONTOUR)),\"NA\")","v":"NA"},"Foam",{"$f":"Foams!G19","v":0},{"$f":"Foams!H19","v":0},0.5,"05848",{"$f":"TRUE()","v":true}]
[17,"1\" Soft Poly Foam",{"$f":"IF(AND(BACKSHAPE>1,BACKFOAMSREQD),IF(BACKFOAMSCUSTOM,$B95,INDEX(Seat!$J$63:$J$74,BACKCONTOUR)),\"NA\")","v":"NA"},{"$f":"IF(AND(BACKSHAPE>1,BACKFOAMSREQD),IF(BACKFIP,\"Foam-in-Place\",IF(BACKFOAMSCUSTOM,$B95,INDEX(Seat!$R$63:$R$74,BACKCONTOUR))),\"NA\")","v":"NA"},{"$f":"IF(AND(BACKFOAMSREQD,BACKSHAPE>1),IF(BACKFOAMSCUSTOM,$B95,INDEX(Seat!$Z$63:$Z$74,BACKCONTOUR)),\"NA\")","v":"NA"},"Foam",{"$f":"Foams!G20","v":0},{"$f":"Foams!H20","v":0},1,"05849",{"$f":"TRUE()","v":true}]
[18,"1/2\" Firm Poly Foam",{"$f":"IF(AND(BACKSHAPE>1,BACKFOAMSREQD),IF(BACKFOAMSCUSTOM,$B96,INDEX(Seat!$J$63:$J$74,BACKCONTOUR)),\"NA\")","v":"NA"},{"$f":"IF(AND(BACKSHAPE>1,BACKFOAMSREQD),IF(BACKFIP,\"Foam-in-Place\",IF(BACKFOAMSCUSTOM,$B96,INDEX(Seat!$R$63:$R$74,BACKCONTOUR))),\"NA\")","v":"NA"},{"$f":"IF(AND(BACKFOAMSREQD,BACKSHAPE>1),IF(BACKFOAMSCUSTOM,$B96,INDEX(Seat!$Z$63:$Z$74,BACKCONTOUR)),\"NA\")","v":"NA"},"Foam",{"$f":"Foams!G21","v":0},{"$f":"Foams!H21","v":0},0.5,"05919",{"$f":"TRUE()","v":true}]
[19,"1\" Firm Poly Foam",{"$f":"IF(AND(BACKSHAPE>1,BACKFOAMSREQD),IF(BACKFOAMSCUSTOM,$B97,INDEX(Seat!$J$63:$J$74,BACKCONTOUR)),\"NA\")","v":"NA"},{"$f":"IF(AND(BACKSHAPE>1,BACKFOAMSREQD),IF(BACKFIP,\"Foam-in-Place\",IF(BACKFOAMSCUSTOM,$B97,INDEX(Seat!$R$63:$R$74,BACKCONTOUR))),\"NA\")","v":"NA"},{"$f":"IF(AND(BACKFOAMSREQD,BACKSHAPE>1),IF(BACKFOAMSCUSTOM,$B97,INDEX(Seat!$Z$63:$Z$74,BACKCONTOUR)),\"NA\")","v":"NA"},"Foam",{"$f":"Foams!G22","v":0},{"$f":"Foams!H22","v":0},1,"05900",{"$f":"TRUE()","v":true}]
[20,"1-1/2\" Firm Poly Foam",{"$f":"IF(AND(BACKSHAPE>1,BACKFOAMSREQD),IF(BACKFOAMSCUSTOM,$B98,INDEX(Seat!$J$63:$J$74,BACKCONTOUR)),\"NA\")","v":"NA"},{"$f":"IF(AND(BACKSHAPE>1,BACKFOAMSREQD),IF(BACKFIP,\"Foam-in-Place\",IF(BACKFOAMSCUSTOM,$B98,INDEX(Seat!$R$63:$R$74,BACKCONTOUR))),\"NA\")","v":"NA"},{"$f":"IF(AND(BACKFOAMSREQD,BACKSHAPE>1),IF(BACKFOAMSCUSTOM,$B98,INDEX(Seat!$Z$63:$Z$74,BACKCONTOUR)),\"NA\")","v":"NA"},"Foam",{"$f":"Foams!G23","v":0},{"$f":"Foams!H23","v":0},1.5,"05921",{"$f":"TRUE()","v":true}]
[21,"2\" Firm Poly Foam",{"$f":"IF(AND(BACKSHAPE>1,BACKFOAMSREQD),IF(BACKFOAMSCUSTOM,$B99,INDEX(Seat!$J$63:$J$74,BACKCONTOUR)),\"NA\")","v":"NA"},{"$f":"IF(AND(BACKSHAPE>1,BACKFOAMSREQD),IF(BACKFIP,\"Foam-in-Place\",IF(BACKFOAMSCUSTOM,$B99,INDEX(Seat!$R$63:$R$74,BACKCONTOUR))),\"NA\")","v":"NA"},{"$f":"IF(AND(BACKFOAMSREQD,BACKSHAPE>1),IF(BACKFOAMSCUSTOM,$B99,INDEX(Seat!$Z$63:$Z$74,BACKCONTOUR)),\"NA\")","v":"NA"},"Foam",{"$f":"Foams!G24","v":0},{"$f":"Foams!H24","v":0},2,"05922",{"$f":"TRUE()","v":true}]
[22,{"$f":"\"1/2\"\" Pudgee Foam\"","v":"1/2\" Pudgee Foam"},{"$f":"IF(AND(BACKSHAPE>1,BACKFOAMSREQD),IF(BACKFOAMSCUSTOM,$B100,INDEX(Seat!$J$63:$J$74,BACKCONTOUR)),\"NA\")","v":"NA"},{"$f":"IF(AND(BACKSHAPE>1,BACKFOAMSREQD),IF(BACKFIP,\"Foam-in-Place\",IF(BACKFOAMSCUSTOM,$B100,INDEX(Seat!$R$63:$R$74,BACKCONTOUR))),\"NA\")","v":"NA"},{"$f":"IF(AND(BACKFOAMSREQD,BACKSHAPE>1),IF(BACKFOAMSCUSTOM,$B100,INDEX(Seat!$Z$63:$Z$74,BACKCONTOUR)),\"NA\")","v":"NA"},71018,{"$f":"Foams!G25","v":192},{"$f":"Foams!H25","v":65.28},0.5,"05896",{"$f":"TRUE()","v":true}]
[23,{"$f":"\"1\"\" Pudgee Foam\"","v":"1\" Pudgee Foam"},{"$f":"IF(AND(BACKSHAPE>1,BACKFOAMSREQD),IF(BACKFOAMSCUSTOM,$B101,INDEX(Seat!$J$63:$J$74,BACKCONTOUR)),\"NA\")","v":"NA"},{"$f":"IF(AND(BACKSHAPE>1,BACKFOAMSREQD),IF(BACKFIP,\"Foam-in-Place\",IF(BACKFOAMSCUSTOM,$B101,INDEX(Seat!$R$63:$R$74,BACKCONTOUR))),\"NA\")","v":"NA"},{"$f":"IF(AND(BACKFOAMSREQD,BACKSHAPE>1),IF(BACKFOAMSCUSTOM,$B101,INDEX(Seat!$Z$63:$Z$74,BACKCONTOUR)),\"NA\")","v":"NA"},71019,{"$f":"Foams!G26","v":247},{"$f":"Foams!H26","v":83.98},1,"05897",{"$f":"TRUE()","v":true}]
[24,{"$f":"\"1/4\"\" Gel Pad\"","v":"1/4\" Gel Pad"},{"$f":"IF(AND(BACKSHAPE>1,BACKFOAMSREQD),IF(BACKFOAMSCUSTOM,$B102,INDEX(Seat!$J$63:$J$74,BACKCONTOUR)),\"NA\")","v":"NA"},{"$f":"IF(AND(BACKSHAPE>1,BACKFOAMSREQD),IF(BACKFIP,\"Foam-in-Place\",IF(BACKFOAMSCUSTOM,$B102,INDEX(Seat!$R$63:$R$74,BACKCONTOUR))),\"NA\")","v":"NA"},{"$f":"IF(AND(BACKFOAMSREQD,BACKSHAPE>1),IF(BACKFOAMSCUSTOM,$B102,INDEX(Seat!$Z$63:$Z$74,BACKCONTOUR)),\"NA\")","v":"NA"},{"$f":"VLOOKUP(Seat!$BA$47,Seat!$AT$43:$AW$45,2)","v":71059},{"$f":"VLOOKUP(Seat!$BA$47,Seat!$AT$43:$AW$45,3)","v":195},{"$f":"VLOOKUP(Seat!$BA$47,Seat!$AT$43:$AW$45,4)","v":66.300000000000011},0.25,"05940",{"$f":"TRUE()","v":true}]
[25,{"$f":"\"1/2\"\" Gel Pad\"","v":"1/2\" Gel Pad"},{"$f":"IF(AND(BACKSHAPE>1,BACKFOAMSREQD),IF(BACKFOAMSCUSTOM,$B103,INDEX(Seat!$J$63:$J$74,BACKCONTOUR)),\"NA\")","v":"NA"},{"$f":"IF(AND(BACKSHAPE>1,BACKFOAMSREQD),IF(BACKFIP,\"Foam-in-Place\",IF(BACKFOAMSCUSTOM,$B103,INDEX(Seat!$R$63:$R$74,BACKCONTOUR))),\"NA\")","v":"NA"},{"$f":"IF(AND(BACKFOAMSREQD,BACKSHAPE>1),IF(BACKFOAMSCUSTOM,$B103,INDEX(Seat!$Z$63:$Z$74,BACKCONTOUR)),\"NA\")","v":"NA"},{"$f":"VLOOKUP(Seat!$BA$47,Seat!$AT$37:$AW$39,2)","v":71020},{"$f":"VLOOKUP(Seat!$BA$47,Seat!$AT$37:$AW$39,3)","v":247},{"$f":"VLOOKUP(Seat!$BA$47,Seat!$AT$37:$AW$39,4)","v":83.98},0.5,"05941",{"$f":"TRUE()","v":true}]
[26,"1/2\" Cubed Gel",{"$f":"IF(AND(BACKSHAPE>1,BACKFOAMSREQD),IF(BACKFOAMSCUSTOM,$B104,INDEX(Seat!$J$63:$J$74,BACKCONTOUR)),\"NA\")","v":"NA"},{"$f":"IF(AND(BACKSHAPE>1,BACKFOAMSREQD),IF(BACKFIP,\"Foam-in-Place\",IF(BACKFOAMSCUSTOM,$B104,INDEX(Seat!$R$63:$R$74,BACKCONTOUR))),\"NA\")","v":"NA"},{"$f":"IF(AND(BACKFOAMSREQD,BACKSHAPE>1),IF(BACKFOAMSCUSTOM,$B104,INDEX(Seat!$Z$63:$Z$74,BACKCONTOUR)),\"NA\")","v":"NA"},{"$f":"VLOOKUP(Seat!$BA$48,Seat!$AT$49:$AW$52,2)","v":71099},{"$f":"VLOOKUP(Seat!$BA$48,Seat!$AT$49:$AW$52,3)","v":242},{"$f":"VLOOKUP(Seat!$BA$48,Seat!$AT$49:$AW$52,4)","v":82.28},0.5,"DGEL",{"$f":"TRUE()","v":true}]
[27,"2\" Grid-cut Soft Foam",{"$f":"IF(AND(BACKSHAPE>1,BACKFOAMSREQD),IF(BACKFOAMSCUSTOM,$B105,INDEX(Seat!$J$63:$J$74,BACKCONTOUR)),\"NA\")","v":"NA"},{"$f":"IF(AND(BACKSHAPE>1,BACKFOAMSREQD),IF(BACKFIP,\"Foam-in-Place\",IF(BACKFOAMSCUSTOM,$B105,INDEX(Seat!$R$63:$R$74,BACKCONTOUR))),\"NA\")","v":"NA"},{"$f":"IF(AND(BACKFOAMSREQD,BACKSHAPE>1),IF(BACKFOAMSCUSTOM,$B105,INDEX(Seat!$Z$63:$Z$74,BACKCONTOUR)),\"NA\")","v":"NA"},71074,378,null,2,"05864",{"$f":"TRUE()","v":true}]
[28,"3\" Grid-cut Soft Foam",{"$f":"IF(AND(BACKSHAPE>1,BACKFOAMSREQD),IF(BACKFOAMSCUSTOM,$B106,INDEX(Seat!$J$63:$J$74,BACKCONTOUR)),\"NA\")","v":"NA"},{"$f":"IF(AND(BACKSHAPE>1,BACKFOAMSREQD),IF(BACKFIP,\"Foam-in-Place\",IF(BACKFOAMSCUSTOM,$B106,INDEX(Seat!$R$63:$R$74,BACKCONTOUR))),\"NA\")","v":"NA"},{"$f":"IF(AND(BACKFOAMSREQD,BACKSHAPE>1),IF(BACKFOAMSCUSTOM,$B106,INDEX(Seat!$Z$63:$Z$74,BACKCONTOUR)),\"NA\")","v":"NA"},71091,415,null,3,"05865",{"$f":"TRUE()","v":true}]
[29,"NA",{"$f":"IF(AND(BACKSHAPE>1,BACKFOAMSREQD),IF(BACKFOAMSCUSTOM,$B107,INDEX(Seat!$J$63:$J$74,BACKCONTOUR)),\"NA\")","v":"NA"},{"$f":"IF(AND(BACKSHAPE>1,BACKFOAMSREQD),IF(BACKFIP,\"Foam-in-Place\",IF(BACKFOAMSCUSTOM,$B107,INDEX(Seat!$R$63:$R$74,BACKCONTOUR))),\"NA\")","v":"NA"},{"$f":"IF(AND(BACKFOAMSREQD,BACKSHAPE>1),IF(BACKFOAMSCUSTOM,$B107,INDEX(Seat!$Z$63:$Z$74,BACKCONTOUR)),\"NA\")","v":"NA"}," ",null,null,0," ",{"$f":"FALSE()","v":false}]
[30,"Foam-in-Place",{"$f":"IF(BACKFOAMSREQD,IF(BACKFOAMSCUSTOM,$B108,INDEX(Seat!$J$63:$J$74,BACKCONTOUR)),\"NA\")","v":"1-1/2\" Soft Visco Foam"},{"$f":"IF(BACKFOAMSREQD,IF(BACKFIP,\"Foam-in-Place\",IF(BACKFOAMSCUSTOM,$B108,INDEX(Seat!$R$63:$R$74,BACKCONTOUR))),\"NA\")","v":"NA"},{"$f":"IF(BACKFOAMSREQD,IF(BACKFOAMSCUSTOM,$B108,INDEX(Seat!$Z$63:$Z$74,BACKCONTOUR)),\"NA\")","v":"NA"},71007,93,null,0,"FIP",true]

{"sheet":"Parts","index":12,"n_rows":386,"n_cols":4,"rows_kept":386,"cut":false,"hidden":true,"merged":[]}
["BELTS LOOKUP TABLE USED WHEN USER ENTERS PART NUMBER DIRECTLY"]
[]
["ORDER","ITEM","DESCRIPTION","PRICE"]
[1,"33130","1-1/2\" Single Front Pull Belt w/push button buckle",45]
[2,"51034","Belt, 1.5\" Basic 4-Point Y-Style, Padded, PB Security",167]
[3,"51035","Belt, 2\" Basic 4-Point Y-Style, Padded, PB Security",167]
[4,"51058","Belt, 1\" Basic 4-Point Y-Style, Padded, SR Buckle",142]
[5,"51059","Belt, 1.5\" Basic 4-Point Y-Style, Padded, SR Buckle",142]
[6,"51060","Belt, 2\" Basic 4-Point Y-Style, Padded, SR Buckle",142]
[7,"51065","Belt, 1.5\" Basic 4-Point Y-Style, Padded, PB Buckle",157]
[8,"51066","Belt, 2\" Basic 4-Point Y-Style, Padded, PB Buckle",157]
[9,"60024","Therafit 4 point Y-style hip belt w/metal buckle, Small",158]
[10,"60025","Therafit 4 point Y-style hip belt w/metal buckle, Medium",158]
[11,"60026","Therafit 4 point Y-style hip belt w/metal buckle, Large",158]
[12,"60027","Therafit 4 point Y-style hip belt w/side-release buckle, Small",153]
[13,"60028","Therafit 4 point Y-style hip belt w/side-release buckle, Medium",153]
[14,"60029","Therafit 4 point Y-style hip belt w/side-release buckle, Large",153]
[15,"60046","Therafit 4-Point Y-Style hip belt w/security buckle, Small",168]
[16,"60047","Therafit 4-Point Y-Style hip belt w/security buckle, Medium",168]
[17,"60048","Therafit 4-Point Y-Style hip belt w/security buckle, Large",168]
[18,"60125","1\" 4-Point Belt w/adj straps , 4.25W x 1.75H pad & push button buckle",128]
[19,"60126","1\" 4-Point Belt w/adj straps , 5.25W x 1.75H pad & push button buckle",128]
[20,"60127","1-1/2\" 4-Point Belt w/adj straps , 5.25W x 2.25H pad & push button buckle",128]
[21,"60128","1-1/2\" 4-Point Belt w/adj straps , 7.25W x 2.25H pad & push button buckle",128]
[22,"60130","1\" 4-Point Belt, 4.25W x 1.75H pad & push button buckle",121]
[23,"60131","1\" 4-Point Belt, 5.25W x 1.75H pad & push button buckle",121]
[24,"60132","1-1/2\" 4-Point Belt, 5.25W x 2.25H pad & push button buckle",121]
[25,"60133","1-1/2\" 4-Point Belt, 7.25W x 2.25H pad & push button buckle",121]
[26,"60135","1\" 4-Point Belt w/adj straps , 4.25W x 1.75H pad & side release buckle",125]
[27,"60136","1\" 4-Point Belt w/adj straps , 5.25W x 1.75H pad & side release buckle",125]
[28,"60137","1-1/2\" 4-Point Belt w/adj straps , 5.25W x 2.25H pad & side release buckle",125]
[29,"60138","1-1/2\" 4-Point Belt w/adj straps , 7.25W x 2.25H pad & side release buckle",125]
[30,"60140","1\" 4-Point Belt, 4.25W x 1.75H pad & side release buckle",118]
[31,"60141","1\" 4-Point Belt, 5.25W x 1.75H pad & side release buckle",118]
[32,"60142","1-1/2\" 4-Point Belt, 5.25W x 2.25H pad & side release buckle",118]
[33,"60143","1-1/2\" 4-Point Belt, 7.25W x 2.25H pad & side release buckle",118]
[34,"60161","1\" Rear Pull Belt, 6.25Wx1.75H pad, metal attaching clips+push button buckle",87]
[35,"60162","1\" Rear Pull Belt, 6.25Wx1.75H pad, plastic camlocks+push button buckle",87]
[36,"60163","1\" Rear Pull Belt, 6.25Wx1.75H pad, metal clips & camlocks+push button buckle",89]
[37,"60164","1\" Rear Pull Belt, 6.25Wx1.75H pad, metal clips & hinged collars+push button buckle",110]
[38,"60165","1\" Rear Pull Belt, 6.25Wx1.75H pad, camlocks & hinged collars+push button buckle",110]
[39,"60166","1\" Rear Pull Belt, 6.25Wx1.75H pad, clips, camlocks & collars+push button buckle",113]
[40,"60171","1-1/2\" Rear Pull Belt, 7.25Wx2.25H pad, metal attaching clips+push button buckle",95]
[41,"60172","1-1/2\" Rear Pull Belt, 7.25Wx2.25H pad, plastic camlocks+push button buckle",107]
[42,"60173","1-1/2\" Rear Pull Belt, 7.25Wx2.25H pad, metal clips & camlocks+push button buckle",111]
[43,"60174","1-1/2\" Rear Pull Belt, 7.25Wx2.25H pad, metal clips & hinged collars+push button buckle",119]
[44,"60175","1-1/2\" Rear Pull Belt, 7.25Wx2.25H pad, camlocks & hinged collars+push button buckle",131]
[45,"60176","1-1/2\" Rear Pull Belt, 7.25Wx2.25H pad, clips, camlocks & collars+push button buckle",136]
[46,"60181","1-1/2\" Rear Pull Belt, 9.25Wx2.5H pad, metal attaching clips+push button buckle",95]
[47,"60182","1-1/2\" Rear Pull Belt, 9.25Wx2.5H pad, plastic camlocks+push button buckle",107]
[48,"60183","1-1/2\" Rear Pull Belt, 9.25Wx2.5H pad, metal clips & camlocks+push button buckle",111]
[49,"60184","1-1/2\" Rear Pull Belt, 9.25Wx2.5H pad, metal clips & hinged collars+push button buckle",119]
[50,"60185","1-1/2\" Rear Pull Belt, 9.25Wx2.5H pad, camlocks & hinged collars+push button buckle",131]
[51,"60186","1-1/2\" Rear Pull Belt, 9.25Wx2.5H pad, clips, camlocks & collars+push button buckle",135]
[52,"60211","1\" SR Dual Pull Belt, 4.25Wx1.75H pad, metal attaching clips",72]
[53,"60212","1\" SR Dual Pull Belt, 4.25Wx1.75H pad, plastic camlocks",72]
[54,"60213","1\" SR Dual Pull Belt, 4.25Wx1.75H pad, metal clips & camlocks",74]
[55,"60214","1\" SR Dual Pull Belt, 4.25Wx1.75H pad, metal clips & hinged collars",95]
[56,"60215","1\" SR Dual Pull Belt, 4.25Wx1.75H pad, camlocks & hinged collars",95]
[57,"60216","1\" SR Dual Pull Belt, 4.25Wx1.75H pad, clips, camlocks & collars",98]
[58,"60221","1\" SR Dual Pull Belt, 5.25Wx1.75H pad, metal attaching clips",72]
[59,"60222","1\" SR Dual Pull Belt, 5.25Wx1.75H pad, plastic camlocks",72]
[60,"60223","1\" SR Dual Pull Belt, 5.25Wx1.75H pad, metal clips & camlocks",74]
[61,"60224","1\" SR Dual Pull Belt, 5.25Wx1.75H pad, metal clips & hinged collars",95]
[62,"60225","1\" SR Dual Pull Belt, 5.25Wx1.75H pad, camlocks & hinged collars",95]
[63,"60226","1\" SR Dual Pull Belt, 5.25Wx1.75H pad, clips, camlocks & collars",98]
[64,"60231","1-1/2\" SR Dual Pull Belt, 5.25Wx2.25H pad, metal attaching clips",79]
[65,"60232","1-1/2\" SR Dual Pull Belt, 5.25Wx2.25H pad, plastic camlocks",91]
[66,"60233","1-1/2\" SR Dual Pull Belt, 5.25Wx2.25H pad, metal clips & camlocks",95]
[67,"60234","1-1/2\" SR Dual Pull Belt, 5.25Wx2.25H pad, metal clips & hinged collars",103]
[68,"60235","1-1/2\" SR Dual Pull Belt, 5.25Wx2.25H pad, camlocks & hinged collars",115]
[69,"60236","1-1/2\" SR Dual Pull Belt, 5.25Wx2.25H pad, clips, camlocks & collars",119]
[70,"60241","1-1/2\" SR Dual Pull Belt, 7.25Wx2.25H pad, metal attaching clips",79]
[71,"60242","1-1/2\" SR Dual Pull Belt, 7.25Wx2.25H pad, plastic camlocks",91]
[72,"60243","1-1/2\" SR Dual Pull Belt, 7.25Wx2.25H pad, metal clips & camlocks",95]
[73,"60244","1-1/2\" SR Dual Pull Belt, 7.25Wx2.25H pad, metal clips & hinged collars",103]
[74,"60245","1-1/2\" SR Dual Pull Belt, 7.25Wx2.25H pad, camlocks & hinged collars",115]
[75,"60246","1-1/2\" SR Dual Pull Belt, 7.25Wx2.25H pad, clips, camlocks & collars",119]
[76,"60310","Belt, 1.5\" Single Front Pull, Unpadded w/ Security Buckle and Clips",55]
[77,"60311","Belt, 1\" TheraFit Rear Pull, PB Security, 6.25 x 1.75 Pads w/ Clips ",97]
[78,"60312","Belt, 1\" TheraFit Rear Pull, PB Security, 6.25 x 1.75 Pads w/ Camlocks",97]
[79,"60313","Belt, 1\" TheraFit Rear Pull, PB Security, 6.25 x 1.75 Pads w/ Clips, Camlocks",99]
[80,"60314","Belt, 1\" TheraFit Rear Pull, PB Security, 6.25 x 1.75 Pads w/ Clips, Collars",120]
[81,"60315","Belt, 1\" TheraFit Rear Pull, PB Security, 6.25 x 1.75 Pads w/ Camlocks, Collars",120]
[82,"60316","Belt, 1\" TheraFit Rear Pull, PB Security, 6.25 x 1.75 Pads w/ Clips, Collars, Cams",123]
[83,"60321","Belt, 1.5\" TheraFit Rear Pull, PB Security, 7.25 x 2.25 Pads w/ Clips ",105]
[84,"60322","Belt, 1.5\" TheraFit Rear Pull, PB Security, 7.25 x 2.25 Pads w/ Camlocks",117]
[85,"60323","Belt, 1.5\" TheraFit Rear Pull, PB Security, 7.25 x 2.25 Pads w/ Clips, Camlocks",121]
[86,"60324","Belt, 1.5\" TheraFit Rear Pull, PB Security, 7.25 x 2.25 Pads w/ Clips, Collars",129]
[87,"60325","Belt, 1.5\" TheraFit Rear Pull, PB Security, 7.25 x 2.25 Pads w/ Camlocks, Collars",141]
[88,"60326","Belt, 1.5\" TheraFit Rear Pull, PB Security, 7.25 x 2.25 Pads w/ Clips, Collars, Cams",145]
[89,"60331","Belt, 1.5\" TheraFit Rear Pull, PB Security, 9.25 x 2.50 Pads w/ Clips ",105]
[90,"60332","Belt, 1.5\" TheraFit Rear Pull, PB Security, 9.25 x 2.50 Pads w/ Camlocks",117]
[91,"60333","Belt, 1.5\" TheraFit Rear Pull, PB Security, 9.25 x 2.50 Pads w/ Clips, Camlocks",121]
[92,"60334","Belt, 1.5\" TheraFit Rear Pull, PB Security, 9.25 x 2.50 Pads w/ Clips, Collars",129]
[93,"60335","Belt, 1.5\" TheraFit Rear Pull, PB Security, 9.25 x 2.50 Pads w/ Camlocks, Collars",141]
[94,"60336","Belt, 1.5\" TheraFit Rear Pull, PB Security, 9.25 x 2.50 Pads w/ Clips, Collars, Cams",142]
[95,"60411","Belt, 1\" TheraFit Single Pull, PB Security, 4.25 x 1.75 Pads w/ Clips",87]
[96,"60412","Belt, 1\" TheraFit Single Pull, PB Security, 4.25 x 1.75 Pads w/ Camlocks",87]
[97,"60413","Belt, 1\" TheraFit Single Pull, PB Security, 4.25 x 1.75 Pads w/ Clips, Camlocks",89]
[98,"60414","Belt, 1\" TheraFit Single Pull, PB Security, 4.25 x 1.75 Pads w/ Clips, Clamps",110]
[99,"60415","Belt, 1\" TheraFit Single Pull, PB Security, 4.25 x 1.75 Pads w/ Cams, Clamps",110]
[100,"60416","Belt, 1\" TheraFit Single Pull, PB Security, 4.25 x 1.75 Pads w/ Clips, Cams, Clamps",113]
[101,"60421","Belt, 1\" TheraFit Single Pull, PB Security, 5.25  x 1.75 Pads w/ Clips",87]
[102,"60422","Belt, 1\" TheraFit Single Pull, PB Security, 5.25  x 1.75 Pads w/ Camlocks",87]
[103,"60423","Belt, 1\" TheraFit Single Pull, PB Security, 5.25 x 1.75 Pads w/ Clips, Camlocks",89]
[104,"60424","Belt, 1\" TheraFit Single Pull, PB Security, 5.25  x 1.75 Pads w/ Clips, Clamps",110]
[105,"60425","Belt, 1\" TheraFit Single Pull, PB Security, 5.25  x 1.75 Pads w/ Cams, Clamps",110]
[106,"60426","Belt, 1\" TheraFit Single Pull, PB Security, 5.25 x 1.75 Pads w/ Clips, Cams, Clamps",113]
[107,"60431","Belt, 1\" TheraFit Single Pull, PB Security, 6.25 x 1.75 Pads w/ Clips",87]
[108,"60432","Belt, 1\" TheraFit Single Pull, PB Security, 6.25 x 1.75 Pads w/ Camlocks",87]
[109,"60433","Belt, 1\" TheraFit Single Pull, PB Security, 6.25 x 1.75 Pads w/ Clips, Camlocks",89]
[110,"60434","Belt, 1\" TheraFit Single Pull, PB Security, 6.25 x 1.75 Pads w/ Clips, Clamps",110]
[111,"60435","Belt, 1\" TheraFit Single Pull, PB Security, 6.25 x 1.75 Pads w/ Cams, Clamps",110]
[112,"60436","Belt, 1\" TheraFit Single Pull, PB Security, 6.25 x 1.75 Pads w/ Clips, Cams, Clamps",113]
[113,"60441","Belt, 1.5\" TheraFit Single Pull, PB Security, 5.25 x 2.25 Pads w/ Clips",95]
[114,"60442","Belt, 1.5\" TheraFit Single Pull, PB Security, 5.25 x 2.25 Pads w/ Camlocks",107]
[115,"60443","Belt, 1.5\" TheraFit Single Pull, PB Security, 5.25 x 2.25 Pads w/ Clips, Camlocks",111]
[116,"60444","Belt, 1.5\" TheraFit Single Pull, PB Security, 5.25 x 2.25 Pads w/ Clips, Clamps",119]
[117,"60445","Belt, 1.5\" TheraFit Single Pull, PB Security, 5.25 x 2.25 Pads w/ Cams, Clamps",131]
[118,"60446","Belt, 1.5\" TheraFit Single Pull, PB Security, 5.25 x 2.25 Pads w/ Clips, Cams, Clamps",135]
[119,"60451","Belt, 1.5\" TheraFit Single Pull, PB Security, 7.25 x 2.25 Pads w/ Clips",95]
[120,"60452","Belt, 1.5\" TheraFit Single Pull, PB Security, 7.25 x 2.25 Pads w/ Camlocks",107]
[121,"60453","Belt, 1.5\" TheraFit Single Pull, PB Security, 7.25 x 2.25 Pads w/ Clips, Camlocks",111]
[122,"60454","Belt, 1.5\" TheraFit Single Pull, PB Security, 7.25 x 2.25 Pads w/ Clips, Clamps",119]
[123,"60455","Belt, 1.5\" TheraFit Single Pull, PB Security, 7.25 x 2.25 Pads w/ Cams, Clamps",131]
[124,"60456","Belt, 1.5\" TheraFit Single Pull, PB Security, 7.25 x 2.25 Pads w/ Clips, Cams, Clamps",135]
[125,"60461","Belt, 1.5\" TheraFit Single Pull, PB Security, 9.25 x 2.5 Pads w/ Clips",95]
[126,"60462","Belt, 1.5\" TheraFit Single Pull, PB Security, 9.25 x 2.5 Pads w/ Camlocks",107]
[127,"60463","Belt, 1.5\" TheraFit Single Pull, PB Security, 9.25 x 2.5 Pads w/ Clips, Cams",111]
[128,"60464","Belt, 1.5\" TheraFit Single Pull, PB Security, 9.25 x 2.5 Pads w/ Clips, Clamps",119]
[129,"60465","Belt, 1.5\" TheraFit Single Pull, PB Security, 9.25 x 2.5 Pads w/ Cams, Clamps",131]
[130,"60466","Belt, 1.5\" TheraFit Single Pull, PB Security, 9.25 x 2.5 Pads w/ Clips, Cams, Clamps",135]
[131,"60471","Belt, 2\" TheraFit Single Pull, PB Security, 9.25 x 3 Pads w/ Clips",101]
[132,"60472","Belt, 2\" TheraFit Single Pull, PB Security, 9.25 x 3 Pads w/ Camlocks",113]
[133,"60473","Belt, 2\" TheraFit Single Pull, PB Security, 9.25 x 3 Pads w/ Clips, Camlocks",117]
[134,"60474","Belt, 2\" TheraFit Single Pull, PB Security, 9.25 x 3 Pads w/ Clips, Clamps",125]
[135,"60475","Belt, 2\" TheraFit Single Pull, PB Security, 9.25 x 3 Pads w/ Cams, Clamps",137]
[136,"60476","Belt, 2\" TheraFit Single Pull, PB Security, 9.25 x 3 Pads w/ Clips, Cams, Clamps",141]
[137,"60481","Belt, 2\" TheraFit Single Pull, PB Security, 11.25 x 3 Pads w/ Clips",101]
[138,"60482","Belt, 2\" TheraFit Single Pull, PB Security, 11.25 x 3 Pads w/ Camlocks",113]
[139,"60483","Belt, 2\" TheraFit Single Pull, PB Security, 11.25 x 3 Pads w/ Clips, Camlocks",117]
[140,"60484","Belt, 2\" TheraFit Single Pull, PB Security, 11.25 x 3 Pads w/ Clips, Clamps",125]
[141,"60485","Belt, 2\" TheraFit Single Pull, PB Security, 11.25 x 3 Pads w/ Cams, Clamps",137]
[142,"60486","Belt, 2\" TheraFit Single Pull, PB Security, 11.25 x 3 Pads w/ Clips, Cams, Clamps",141]
[143,"60490","Belt, 1\" TheraFit 4-Point, PB Security, 4.25 x 1.75 Pads w/ Adj Straps",138]
[144,"60491","Belt, 1\" TheraFit 4-Point, PB Security, 5.25 x 1.75 Pads w/ Adj Straps",138]
[145,"60492","Belt, 1.5\" TheraFit 4-Point, PB Security, 5.25 x 2.25 Pads w/ Adj Straps",138]
[146,"60493","Belt, 1.5\" TheraFit 4-Point, PB Security, 7.25 x 2.25 Pads w/ Adj Straps",138]
[147,"60494","Belt, 1\" TheraFit 4-Point, PB Security, 4.25 x 1.75 Pads",131]
[148,"60495","Belt, 1\" TheraFit 4-Point, PB Security, 5.25 x 1.75 Pads",131]
[149,"60496","Belt, 1.5\" TheraFit 4-Point, PB Security, 5.25 x 2.25 Pads",131]
[150,"60497","Belt, 1.5\" TheraFit 4-Point, PB Security, 7.25 x 2.25 Pads",131]
[151,"61001","1\" Belt, 4.25Wx1.75H pad, metal attaching clips+push button buckle",77]
[152,"61002","1\" Belt, 4.25Wx1.75H pad, plastic camlocks+push button buckle",77]
[153,"61003","1\" Belt, 4.25Wx1.75H pad, metal clips & camlocks+push button buckle",81]
[154,"61004","1\" Belt, 4.25Wx1.75H pad, metal clips & hinged collars+push button buckle",100]
[155,"61005","1\" Belt, 4.25Wx1.75H pad, camlocks & hinged collars+push button buckle",100]
[156,"61006","1\" Belt, 4.25Wx1.75H pad, clips, camlocks & collars+push button buckle",103]
[157,"61101","1\" Belt, 5.25Wx1.75H pad, metal attaching clips+push button buckle",77]
[158,"61102","1\" Belt, 5.25Wx1.75H pad, plastic camlocks+push button buckle",77]
[159,"61103","1\" Belt, 5.25Wx1.75H pad, metal clips & camlocks+push button buckle",79]
[160,"61104","1\" Belt, 5.25Wx1.75H pad, metal clips & hinged collars+push button buckle",100]
[161,"61105","1\" Belt, 5.25Wx1.75H pad, camlocks & hinged collars+push button buckle",100]
[162,"61106","1\" Belt, 5.25Wx1.75H pad, clips, camlocks & collars+push button buckle",103]
[163,"61201","1\" Belt, 6.25Wx1.75H pad, metal attaching clips+push button buckle",77]
[164,"61202","1\" Belt, 6.25Wx1.75H pad, plastic camlocks+push button buckle",77]
[165,"61203","1\" Belt, 6.25Wx1.75H pad, metal clips & camlocks+push button buckle",79]
[166,"61204","1\" Belt, 6.25Wx1.75H pad, metal clips & hinged collars+push button buckle",100]
[167,"61205","1\" Belt, 6.25Wx1.75H pad, camlocks & hinged collars+push button buckle",100]
[168,"61206","1\" Belt, 6.25Wx1.75H pad, clips, camlocks & collars+push button buckle",103]
[169,"62001","1-1/2\" Belt, 5.25Wx2.25H pad, metal attaching clips+push button buckle",85]
[170,"62002","1-1/2\" Belt, 5.25Wx2.25H pad, plastic camlocks+push button buckle",97]
[171,"62003","1-1/2\" Belt, 5.25Wx2.25H pad, metal clips & camlocks+push button buckle",101]
[172,"62004","1-1/2\" Belt, 5.25Wx2.25H pad, metal clips & hinged collars+push button buckle",109]
[173,"62005","1-1/2\" Belt, 5.25Wx2.25H pad, camlocks & hinged collars+push button buckle",121]
[174,"62006","1-1/2\" Belt, 5.25Wx2.25H pad, clips, camlocks & collars+push button buckle",125]
[175,"62101","1-1/2\" Belt, 7.25Wx2.25H pad, metal attaching clips+push button buckle",85]
[176,"62102","1-1/2\" Belt, 7.25Wx2.25H pad, plastic camlocks+push button buckle",97]
[177,"62103","1-1/2\" Belt, 7.25Wx2.25H pad, metal clips & camlocks+push button buckle",101]
[178,"62104","1-1/2\" Belt, 7.25Wx2.25H pad, metal clips & hinged collars+push button buckle",109]
[179,"62105","1-1/2\" Belt, 7.25Wx2.25H pad, camlocks & hinged collars+push button buckle",121]
[180,"62106","1-1/2\" Belt, 7.25Wx2.25H pad, clips, camlocks & collars+push button buckle",125]
[181,"62201","1-1/2\" Belt, 9.25Wx2.5H pad, metal attaching clips+push button buckle",85]
[182,"62202","1-1/2\" Belt, 9.25Wx2.5H pad, plastic camlocks+push button buckle",97]
[183,"62203","1-1/2\" Belt, 9.25Wx2.5H pad, metal clips & camlocks+push button buckle",101]
[184,"62204","1-1/2\" Belt, 9.25Wx2.5H pad, metal clips & hinged collars+push button buckle",109]
[185,"62205","1-1/2\" Belt, 9.25Wx2.5H pad, camlocks & hinged collars+push button buckle",121]
[186,"62206","1-1/2\" Belt, 9.25Wx2.5H pad, clips, camlocks & collars+push button buckle",125]
[187,"64001","2\" Belt, 9.25Wx3H pad, metal attaching clips+push button buckle",91]
[188,"64002","2\" Belt, 9.25Wx3H pad, plastic camlocks+push button buckle",103]
[189,"64003","2\" Belt, 9.25Wx3H pad, metal clips & camlocks+push button buckle",107]
[190,"64004","2\" Belt, 9.25Wx3H pad, metal clips & hinged collars+push button buckle",115]
[191,"64005","2\" Belt, 9.25Wx3H pad, camlocks & hinged collars+push button buckle",127]
[192,"64006","2\" Belt, 9.25Wx3H pad, clips, camlocks & collars+push button buckle",131]
[193,"64101","2\" Belt, 11.25Wx3H pad, metal attaching clips+push button buckle",91]
[194,"64102","2\" Belt, 11.25Wx3H pad, plastic camlocks+push button buckle",103]
[195,"64103","2\" Belt, 11.25Wx3H pad, metal clips & camlocks+push button buckle",107]
[196,"64104","2\" Belt, 11.25Wx3H pad, metal clips & hinged collars+push button buckle",115]
[197,"64105","2\" Belt, 11.25Wx3H pad, camlocks & hinged collars+push button buckle",127]
[198,"64106","2\" Belt, 11.25Wx3H pad, clips, camlocks & collars+push button buckle",131]
[199,"64301","2\" Belt, Bariatric, 11.25Wx3H pad, metal attaching clips+push button buckle",100]
[200,"64302","2\" Belt, Bariatric, 11.25Wx3H pad, plastic camlocks+push button buckle",120]
[201,"64303","2\" Belt, Bariatric, 11.25Wx3H pad, metal clips & camlocks+push button buckle",122]
[202,"64304","2\" Belt, Bariatric, 11.25Wx3H pad, metal clips & hinged collars+push button buckle",141]
[203,"64305","2\" Belt, Bariatric, 11.25Wx3H pad, camlocks & hinged collars+push button buckle",158]
[204,"64306","2\" Belt, Bariatric, 11.25Wx3H pad, clips, camlocks & collars+push button buckle",161]
[205,"65001","1\" Belt, 4.25Wx1.75H pad, metal attaching clips+side release buckle",71]
[206,"65002","1\" Belt, 4.25Wx1.75H pad, plastic camlocks+side release buckle",71]
[207,"65003","1\" Belt, 4.25Wx1.75H pad, metal clips & camlocks+side release buckle",73]
[208,"65004","1\" Belt, 4.25Wx1.75H pad, metal clips & hinged collars+side release buckle",94]
[209,"65005","1\" Belt, 4.25Wx1.75H pad, camlocks & hinged collars+side release buckle",94]
[210,"65006","1\" Belt, 4.25Wx1.75H pad, clips, camlocks & collars+side release buckle",97]
[211,"65101","1\" Belt, 5.25Wx1.75H pad, metal attaching clips+side release buckle",71]
[212,"65102","1\" Belt, 5.25Wx1.75H pad, plastic camlocks+side release buckle",71]
[213,"65103","1\" Belt, 5.25Wx1.75H pad, metal clips & camlocks+side release buckle",73]
[214,"65104","1\" Belt, 5.25Wx1.75H pad, metal clips & hinged collars+side release buckle",94]
[215,"65105","1\" Belt, 5.25Wx1.75H pad, camlocks & hinged collars+side release buckle",94]
[216,"65106","1\" Belt, 5.25Wx1.75H pad, clips, camlocks & collars+side release buckle",97]
[217,"65201","1\" Belt, 6.25Wx1.75H pad, metal attaching clips+side release buckle",71]
[218,"65202","1\" Belt, 6.25Wx1.75H pad, plastic camlocks+side release buckle",71]
[219,"65203","1\" Belt, 6.25Wx1.75H pad, metal clips & camlocks+side release buckle",73]
[220,"65204","1\" Belt, 6.25Wx1.75H pad, metal clips & hinged collars+side release buckle",94]
[221,"65205","1\" Belt, 6.25Wx1.75H pad, camlocks & hinged collars+side release buckle",94]
[222,"65206","1\" Belt, 6.25Wx1.75H pad, clips, camlocks & collars+side release buckle",97]
[223,"65301","1-1/2\" Belt, 5.25Wx2.25H pad, metal attaching clips+side release buckle",78]
[224,"65302","1-1/2\" Belt, 5.25Wx2.25H pad, plastic camlocks+side release buckle",90]
[225,"65303","1-1/2\" Belt, 5.25Wx2.25H pad, metal clips & camlocks+side release buckle",94]
[226,"65304","1-1/2\" Belt, 5.25Wx2.25H pad, metal clips & hinged collars+side release buckle",102]
[227,"65305","1-1/2\" Belt, 5.25Wx2.25H pad, camlocks & hinged collars+side release buckle",114]
[228,"65306","1-1/2\" Belt, 5.25Wx2.25H pad, clips, camlocks & collars+side release buckle",118]
[229,"65401","1-1/2\" Belt, 7.25Wx2.25H pad, metal attaching clips+side release buckle",78]
[230,"65402","1-1/2\" Belt, 7.25Wx2.25H pad, plastic camlocks+side release buckle",90]
[231,"65403","1-1/2\" Belt, 7.25Wx2.25H pad, metal clips & camlocks+side release buckle",94]
[232,"65404","1-1/2\" Belt, 7.25Wx2.25H pad, metal clips & hinged collars+side release buckle",102]
[233,"65405","1-1/2\" Belt, 7.25Wx2.25H pad, camlocks & hinged collars+side release buckle",114]
[234,"65406","1-1/2\" Belt, 7.25Wx2.25H pad, clips, camlocks & collars+side release buckle",118]
[235,"65501","1-1/2\" Belt, 9.25Wx2.5H pad, metal attaching clips+side release buckle",78]
[236,"65502","1-1/2\" Belt, 9.25Wx2.5H pad, plastic camlocks+side release buckle",90]
[237,"65503","1-1/2\" Belt, 9.25Wx2.5H pad, metal clips & camlocks+side release buckle",94]
[238,"65504","1-1/2\" Belt, 9.25Wx2.5H pad, metal clips & hinged collars+side release buckle",102]
[239,"65505","1-1/2\" Belt, 9.25Wx2.5H pad, camlocks & hinged collars+side release buckle",114]
[240,"65506","1-1/2\" Belt, 9.25Wx2.5H pad, clips, camlocks & collars+side release buckle",118]
[241,"65601","2\" Belt, 9.25Wx3H pad, metal attaching clips+side release buckle",84]
[242,"65602","2\" Belt, 9.25Wx3H pad, plastic camlocks+side release buckle",96]
[243,"65603","2\" Belt, 9.25Wx3H pad, metal clips & camlocks+side release buckle",100]
[244,"65604","2\" Belt, 9.25Wx3H pad, metal clips & hinged collars+side release buckle",108]
[245,"65605","2\" Belt, 9.25Wx3H pad, camlocks & hinged collars+side release buckle",120]
[246,"65606","2\" Belt, 9.25Wx3H pad, clips, camlocks & collars+side release buckle",124]
[247,"65701","2\" Belt, 11.25Wx3H pad, metal attaching clips+side release buckle",84]
[248,"65702","2\" Belt, 11.25Wx3H pad, plastic camlocks+side release buckle",96]
[249,"65703","2\" Belt, 11.25Wx3H pad, metal clips & camlocks+side release buckle",100]
[250,"65704","2\" Belt, 11.25Wx3H pad, metal clips & hinged collars+side release buckle",108]
[251,"65705","2\" Belt, 11.25Wx3H pad, camlocks & hinged collars+side release buckle",120]
[252,"65706","2\" Belt, 11.25Wx3H pad, clips, camlocks & collars+side release buckle",124]
[]
[]
[]
[]
["ANTERIOR SUPPORTS LOOKUP TABLE"]
[]
["ORDER","ITEM","DESCRIPTION","PRICE"]
[1,"30412","Vest: Male stretch fixed strap, X-Small",135]
[2,"30413","Vest: Male stretch fixed strap, Small",135]
[3,"30414","Vest: Male stretch fixed strap, Medium",135]
[4,"30415","Vest: Male stretch fixed strap, Large",135]
[5,"30416","Vest: Male stretch fixed strap, X-Large",135]
[6,"30417","Vest: Female stretch fixed strap, Small",135]
[7,"30418","Vest: Female stretch fixed strap, Medium",135]
[8,"30419","Vest: Female stretch fixed strap, Large",135]
[9,"30420","Vest: Male stretch zip up, Small",149]
[10,"30421","Vest: Male stretch zip up, Medium",149]
[11,"30422","Vest: Male stretch zip up, Large",149]
[12,"30423","Vest: Female stretch zip up, Junior",149]
[13,"30424","Vest: Female stretch zip up, Miss",149]
[14,"30425","Vest: Female stretch zip up, Plus",149]
[15,"30426","Vest: Male stretch zip down, Small",149]
[16,"30427","Vest: Male stretch zip down, Medium",149]
[17,"30428","Vest: Male stretch zip down, Large",149]
[18,"30429","Vest: Female stretch zip down, Junior",149]
[19,"30430","Vest: Female stretch zip down, Miss",149]
[20,"30431","Vest: Female stretch zip down, Plus",149]
[21,"30457","Vest: Female stretch extended strap, Small",130]
[22,"30458","Vest: Female stretch extended strap, Medium",130]
[23,"30459","Vest: Female stretch extended strap, Large",130]
[24,"30479","Vest: Male non-stretch w/no sew buckle, Small",155]
[25,"30480","Vest: Male non-stretch w/no sew buckle, Medium",155]
[26,"30481","Vest: Male non-stretch w/no sew buckle, Large",155]
[27,"30482","Vest: Female non-stretch w/no sew buckle, Small",155]
[28,"30483","Vest: Female non-stretch w/no sew buckle, Medium",155]
[29,"30484","Vest: Female non-stretch w/no sew buckle, Large",155]
[30,"30507","Vest: Male non-stretch w/no sew buckle, X-Large",155]
[31,"30519","Padded X-harness - Small",155]
[32,"30520","Padded X-harness - Medium",155]
[33,"30521","Padded X-harness - Large",165]
[34,"30559","Vest: Male stretch no-sew buckle, Small",130]
[35,"30560","Vest: Male stretch no-sew buckle, Medium",130]
[36,"30561","Vest: Male stretch no-sew buckle, Large",130]
[37,"30562","Vest: Male stretch no-sew buckle, X-Large",130]
[38,"30563","Vest: Female stretch no sew buckle, Small",135]
[39,"30564","Vest: Female stretch no sew buckle, Medium",135]
[40,"30565","Vest: Female stretch no sew buckle, Large",135]
[41,"30589","Vest: Therafit w/Comfort Straps, Full - Small",150]
[42,"30590","Vest: Therafit w/Comfort Straps, Full - Medium",150]
[43,"30591","Vest: Therafit w/Comfort Straps, Full - Large",150]
[44,"30592","Vest: Therafit w/Comfort Straps, Full - X-Large",150]
[45,"30593","Vest: Therafit w/Comfort Straps, Full - XX-Large",155]
[46,"30594","Vest: Therafit w/Extended Straps, Full - Small",150]
[47,"30595","Vest: Therafit w/Extended Straps, Full - Medium",150]
[48,"30596","Vest: Therafit w/Extended Straps, Full - Large",150]
[49,"30597","Vest: Therafit w/Extended Straps, Full - X-Large",155]
[50,"30598","Vest: Therafit w/Extended Straps, Full - XX-Large",155]
[51,"30601","Vest: Therafit w/Comfort Straps, Trim - Early Intervention",152]
[52,"30603","Vest: Therafit w/Extended Straps, Trim - Early Intervention",152]
[53,"30604","Vest: Therafit w/Extended Straps, Trim - Small",152]
[54,"30618","Vest: Therafit w/Comfort Straps, Trim - Small",152]
[55,"30619","Vest: Therafit w/Comfort Straps, Trim - Medium",152]
[56,"30620","Vest: Therafit w/Comfort Straps, Trim - Large",152]
[57,"30621","Vest: Therafit w/Comfort Straps, Trim - X-Large",157]
[58,"30622","Vest: Therafit w/Comfort Straps, Trim - XX-Large",157]
[59,"30624","Vest: Therafit w/Extended Straps, Trim - Medium",152]
[60,"30625","Vest: Therafit w/Extended Straps, Trim - Large",152]
[61,"30626","Vest: Therafit w/Extended Straps, Trim - X-Large",152]
[62,"30627","Vest: Therafit w/Extended Straps, Trim - XX-Large",157]
[63,"51044","Vest: Male non-stretch extended strap, X-Small",155]
[64,"51045","Vest: Male non-stretch extended strap, Small",155]
[65,"51046","Vest: Male non-stretch extended strap, Medium",155]
[66,"51047","Vest: Male non-stretch extended strap, Large",155]
[67,"51048","Vest: Male non-stretch extended strap, X-Large",155]
[68,"51049","Vest: Female non-stretch extended strap, Small ",155]
[69,"51050","Vest: Female non-stretch extended strap, Medium",155]
[70,"51051","Vest: Female non-stretch extended strap, Large",155]
[71,"60110","Stretch padded chest strap - Small, w/ two side release buckles & D-rings",98]
[72,"60111","Stretch padded chest Strap - Medium, w/ two Side release buckles & D-rings",98]
[73,"60112","Stretch padded chest strap - Large, w/ two side release buckles & D-rings",98]
[74,"60113","Stretch padded chest strap - Small, w/ one side release buckle & D-ring",125]
[75,"60114","Stretch padded chest Strap - Medium, w/ one Side release buckle & D-ring",125]
[76,"60115","Stretch padded chest strap - Large, w/ one side release buckle & D-ring",125]
[77,"60116","Stretch padded chest strap - Small, w/ two camlock buckles",90]
[78,"60117","Stretch padded chest Strap - Medium, w/ two camlock buckleS",90]
[79,"60118","Stretch padded chest strap - Large, w/ two camlock buckles",90]
[80,"60119","Stretch padded chest strap - Small, two piece w/ hook-n-loop closure",125]
[81,"60120","Stretch padded chest Strap - Medium, two piece w/ hook-n-loop cloSure",125]
[82,"60121","Stretch padded chest strap - Large, two piece w/ hook-n-loop closure",125]
[83,"60123","Stretch padded chest strap - X-Large, w/ one side release buckle & D-ring",145]
[84,"60124","Stretch padded chest strap - 2X-Large, w/ one side release buckle & D-ring",155]
[85,"60147","Non-stretch padded chest strap - Small, one piece w/ two camlock buckles",90]
[86,"60148","Non-Stretch padded chest Strap - Medium, one piece w/ two camlock buckles",90]
[87,"60149","Non-stretch padded chest strap - Large, one piece w/ two camlock buckles",90]
[88,"60150","Non-stretch padded chest strap - Small, two piece w/ hook-n-loop closure",125]
[89,"60151","Non-Stretch padded chest Strap - Medium, two piece w/ hook-n-loop cloSure",125]
[90,"60152","Non-stretch padded chest strap - Large, two piece w/ hook-n-loop closure",125]
[91,"60153","Non-stretch padded chest strap - Small, two piece w/ hook-n-loop & safety strap",125]
[92,"60154","Non-Stretch padded chest Strap - Medium, two piece w/ hook-n-loop & Safety Strap",125]
[93,"60155","Non-stretch padded chest strap - Large, two piece w/ hook-n-loop & safety strap",125]
[94,"60157","Non-stretch padded chest strap - Small, one piece w/ one rear SR buckle",90]
[95,"60158","Non-Stretch padded chest Strap - Medium, one piece w/ one rear SR buckle",90]
[96,"60159","Non-stretch padded chest strap - Large, one piece w/ one rear SR buckle",90]
[97,"61301","Padded shoulder harness - X-Small, w/ attaching clips",145]
[98,"61302","Padded shoulder harness - X-Small, w/ plastic camlock buckles",145]
[99,"61303","Padded shoulder harness - X-Small, w/ clips & camlocks",145]
[100,"61401","Padded shoulder harness - Small, w/ attaching clips",141]
[101,"61402","Padded shoulder harness - Small, w/ plastic camlock buckles",141]
[102,"61403","Padded shoulder harness - Small, w/ clips & camlocks",141]
[103,"61501","Padded shoulder harness - Medium, w/ attaching clips",147]
[104,"61502","Padded shoulder harness - Medium, w/ plastic camlock buckles",147]
[105,"61503","Padded shoulder harness - Medium, w/ clips & camlocks",147]
[106,"61701","Padded shoulder harness - Large, w/ attaching clips",153]
[107,"61702","Padded shoulder harness - Large, w/ plastic camlock buckles",153]
[108,"61703","Padded shoulder harness - Large, w/ clips & camlocks",153]
[109,"61801","Padded shoulder harness - X-Large, w/ attaching clips",159]
[110,"61802","Padded shoulder harness - X-Large, w/ plastic camlock buckles",159]
[111,"61803","Padded shoulder harness - X-Large, w/ clips & camlocks",159]
[112,"30401L","Vest: Male stretch extended strap, Large",130]
[113,"30401M","Vest: Male stretch extended strap, Medium",130]
[114,"30401P","Vest: Male stretch extended strap, X-Small",130]
[115,"30401S","Vest: Male stretch extended strap, Small",130]
[116,"30401X","Vest: Male stretch extended strap, X-Large",130]
[117,"30402L","Vest: Male stretch comfort strap, Large",130]
[118,"30402M","Vest: Male stretch comfort strap, Medium",130]
[119,"30402P","Vest: Male stretch comfort strap, X-Small",130]
[120,"30402S","Vest: Male stretch comfort strap, Small",130]
[121,"30402X","Vest: Male stretch comfort strap, X-Large",130]
[122,"31497L","Vest: Female stretch comfort strap, Large",130]
[123,"31497M","Vest: Female stretch comfort strap, Medium",130]
[124,"31497S","Vest: Female stretch comfort strap, Small",130]

{"sheet":"TheraSleeves","index":13,"n_rows":214,"n_cols":10,"rows_kept":214,"cut":false,"hidden":true,"merged":[[8,0,8,1]]}
[null,"THERASLEEVES FOR ANTERIOR SUPPORTS AND BELTS",null,"Anterior Support Selected:"]
[null,{"$f":"B3&\" TheraSleeves\"","v":"Black TheraSleeves"},null,{"$f":"'Pick List'!AM307","v":""},{"$f":"IF(ISNA(VLOOKUP(LEFT($D$2,5),$A$10:$B$214,1,FALSE)),\"TheraSleeves NA for this product\",VLOOKUP(LEFT($D$2,5),$A$10:$B$214,2,FALSE))","v":"TheraSleeves NA for this product"}]
[1,{"$f":"INDEX(B$4:B$8,TSleeveMatl)","v":"Black"},null,"Matching TheraSleeve:"]
[1,"Black",{"$f":"IF(TSleeveMatl=5,VLOOKUP(D2,$A$10:$J$214,10,FALSE),VLOOKUP(D2,$A$10:$I$214,9,FALSE))","v":{"$error":"#N/A"}},{"$f":"IF(ISNA(VLOOKUP(LEFT($D$2,5),$A$10:$B$214,2,FALSE)),\"NA\",VLOOKUP(LEFT($D$2,5),$A$10:$H$214,3+$A$3,FALSE))","v":"NA"},{"$f":"IF($D$4=\"NA\",IF(TSleeveMatl=5,\"Ballistic Nylon \",\"\")&\"TheraSleeves not available for \"&$D$2,SUBSTITUTE(\"TheraSleeves, \"&VLOOKUP(LEFT($D$2,5),$A$10:$C$214,3,FALSE),\"#\",$B$3))","v":"TheraSleeves not available for "}]
[2,"Airplanes",null,"Belt Selected (TheraSleeves only available in black):"]
[3,"Animals",null,{"$f":"'Pick List'!AM377","v":""},{"$f":"IF(ISNA(VLOOKUP(LEFT($D$6,5),$A$10:$B$214,1,FALSE)),\"TheraSleeves NA for this product\",VLOOKUP(LEFT($D$6,5),$A$10:$B$214,2,FALSE))","v":"TheraSleeves NA for this product"}]
[4,"Dragonflies",null,"Matching TheraSleeve (Formula assumes black):"]
[5,"Ballistic Nylon",{"$f":"VLOOKUP(D6,$A$10:$I$214,9,FALSE)","v":{"$error":"#N/A"}},{"$f":"IF(ISNA(VLOOKUP(LEFT($D$6,5),$A$10:$B$214,2,FALSE)),\"NA\",VLOOKUP(LEFT($D$6,5),$A$10:$D$214,4,FALSE))","v":"NA"},{"$f":"IF($D$8=\"NA\",\"TheraSleeves not available for \"&IF($D$6=\"\",\"NA\",$D$6),SUBSTITUTE(\"TheraSleeves, \"&VLOOKUP(LEFT($D$6,5),$A$10:$C$214,3,FALSE),\"#\",\"Black\"))","v":"TheraSleeves not available for NA"}]
["Anterior Support",null,"Description Text","Black","Airplanes","Animals","Dragonflies","B Nylon","Price(not nylon)","Price(nylon)"]
["60110","Chest Strap, TheraFit Dynamic w/ Dual D-Ring Adj, Small","Chest Strap, #, Small, 2 ea","60078","60069","60072","60075","NA",38,{"$error":"#N/A"}]
["60113","Chest Strap, TheraFit Dynamic w/ Single D-Ring Adj, Small","Chest Strap, #, Small, 2 ea","60078","60069","60072","60075","NA",38,{"$error":"#N/A"}]
["60116","Chest Strap, TheraFit Dynamic w/ Fixed Straps, Small","Chest Strap, #, Small, 2 ea","60078","60069","60072","60075","NA",38,{"$error":"#N/A"}]
["60119","TheraSleeves Not Available",null,"NA","NA","NA","NA","NA",{"$error":"#N/A"},{"$error":"#N/A"}]
["60147","Chest Strap, TheraFit Static w/ Fixed Straps, Small","Chest Strap, #, Small, 2 ea","60078","60069","60072","60075","NA",38,{"$error":"#N/A"}]
["60150","TheraSleeves Not Available",null,"NA","NA","NA","NA","NA",{"$error":"#N/A"},{"$error":"#N/A"}]
["60153","TheraSleeves Not Available",null,"NA","NA","NA","NA","NA",{"$error":"#N/A"},{"$error":"#N/A"}]
["60157","Chest Strap, Static w/ Single D-Ring Adj, Small","Chest Strap, #, Small, 2 ea","60078","60069","60072","60075","NA",38,{"$error":"#N/A"}]
["60111","Chest Strap, TheraFit Dynamic w/ Dual D-Ring Adj, Medium","Chest Strap, #, Medium, 2 ea","60079","60070","60073","60076","NA",38,{"$error":"#N/A"}]
["60114","Chest Strap, TheraFit Dynamic w/ Single D-Ring Adj, Medium","Chest Strap, #, Medium, 2 ea","60079","60070","60073","60076","NA",38,{"$error":"#N/A"}]
["60117","Chest Strap, TheraFit Dynamic w/ Fixed Straps, Medium","Chest Strap, #, Medium, 2 ea","60079","60070","60073","60076","NA",38,{"$error":"#N/A"}]
["60120","TheraSleeves Not Available",null,"NA","NA","NA","NA","NA",{"$error":"#N/A"},{"$error":"#N/A"}]
["60148","Chest Strap, TheraFit Static w/ Fixed Straps, Medium","Chest Strap, #, Medium, 2 ea","60079","60070","60073","60076","NA",38,{"$error":"#N/A"}]
["60151","TheraSleeves Not Available",null,"NA","NA","NA","NA","NA",{"$error":"#N/A"},{"$error":"#N/A"}]
["60154","TheraSleeves Not Available",null,"NA","NA","NA","NA","NA",{"$error":"#N/A"},{"$error":"#N/A"}]
["60158","Chest Strap, Static w/ Single D-Ring Adj, Medium","Chest Strap, #, Medium, 2 ea","60079","60070","60073","60076","NA",38,{"$error":"#N/A"}]
["60112","Chest Strap, TheraFit Dynamic w/ Dual D-Ring Adj, Large","Chest Strap, #, Large, 2 ea","60080","60071","60074","60077","NA",38,{"$error":"#N/A"}]
["60115","Chest Strap, TheraFit Dynamic w/ Single D-Ring Adj, Large","Chest Strap, #, Large, 2 ea","60080","60071","60074","60077","NA",38,{"$error":"#N/A"}]
["60118","Chest Strap, TheraFit Dynamic w/ Fixed Straps, Large","Chest Strap, #, Large, 2 ea","60080","60071","60074","60077","NA",38,{"$error":"#N/A"}]
["60121","TheraSleeves Not Available",null,"NA","NA","NA","NA","NA",{"$error":"#N/A"},{"$error":"#N/A"}]
["60149","Chest Strap, TheraFit Static w/ Fixed Straps, Large","Chest Strap, #, Large, 2 ea","60080","60071","60074","60077","NA",38,{"$error":"#N/A"}]
["60152","TheraSleeves Not Available",null,"NA","NA","NA","NA","NA",{"$error":"#N/A"},{"$error":"#N/A"}]
["60155","TheraSleeves Not Available",null,"NA","NA","NA","NA","NA",{"$error":"#N/A"},{"$error":"#N/A"}]
["60159","Chest Strap, Static w/ Single D-Ring Adj, Large","Chest Strap, #, Large, 2 ea","60080","60071","60074","60077","NA",38,{"$error":"#N/A"}]
["61301","Shoulder Harness, TheraFit, X-Small w/ Clips",{"$f":"\"Harness, #, X-Small\"&IF(TSleeveMatl=5,\"\",\", 2 pair\")","v":"Harness, #, X-Small, 2 pair"},"60064","60049","60054","60059",60384,35,53]
["61302","Shoulder Harness, TheraFit, X-Small w/ Camlocks",{"$f":"\"Harness, #, X-Small\"&IF(TSleeveMatl=5,\"\",\", 2 pair\")","v":"Harness, #, X-Small, 2 pair"},"60064","60049","60054","60059",60384,35,53]
["61303","Shoulder Harness, TheraFit, X-Small w/ Clips & Camlocks",{"$f":"\"Harness, #, X-Small\"&IF(TSleeveMatl=5,\"\",\", 2 pair\")","v":"Harness, #, X-Small, 2 pair"},"60064","60049","60054","60059",60384,35,53]
["61401","Shoulder Harness, TheraFit, Small w/ Clips",{"$f":"\"Harness, #, Small\"&IF(TSleeveMatl=5,\"\",\", 2 pair\")","v":"Harness, #, Small, 2 pair"},"60065","60050","60055","60060",60385,35,53]
["61402","Shoulder Harness, TheraFit, Small w/ Camlocks",{"$f":"\"Harness, #, Small\"&IF(TSleeveMatl=5,\"\",\", 2 pair\")","v":"Harness, #, Small, 2 pair"},"60065","60050","60055","60060",60385,35,53]
["61403","Shoulder Harness, TheraFit, Small w/ Clips & Camlocks",{"$f":"\"Harness, #, Small\"&IF(TSleeveMatl=5,\"\",\", 2 pair\")","v":"Harness, #, Small, 2 pair"},"60065","60050","60055","60060",60385,35,53]
["61501","Shoulder Harness, TheraFit, Medium w/ Clips",{"$f":"\"Harness, #, Medium\"&IF(TSleeveMatl=5,\"\",\", 2 pair\")","v":"Harness, #, Medium, 2 pair"},"60066","60051","60056","60061",60386,35,53]
["61502","Shoulder Harness, TheraFit, Medium w/ Camlocks",{"$f":"\"Harness, #, Medium\"&IF(TSleeveMatl=5,\"\",\", 2 pair\")","v":"Harness, #, Medium, 2 pair"},"60066","60051","60056","60061",60386,35,53]
["61503","Shoulder Harness, TheraFit, Medium w/ Clips & Camlocks",{"$f":"\"Harness, #, Medium\"&IF(TSleeveMatl=5,\"\",\", 2 pair\")","v":"Harness, #, Medium, 2 pair"},"60066","60051","60056","60061",60386,35,53]
["61701","Shoulder Harness, TheraFit, Large w/ Clips",{"$f":"\"Harness, #, Large\"&IF(TSleeveMatl=5,\"\",\", 2 pair\")","v":"Harness, #, Large, 2 pair"},"60067","60052","60057","60062",60387,35,53]
["61702","Shoulder Harness, TheraFit, Large w/ Camlocks",{"$f":"\"Harness, #, Large\"&IF(TSleeveMatl=5,\"\",\", 2 pair\")","v":"Harness, #, Large, 2 pair"},"60067","60052","60057","60062",60387,35,53]
["61703","Shoulder Harness, TheraFit, Large w/ Clips & Camlocks",{"$f":"\"Harness, #, Large\"&IF(TSleeveMatl=5,\"\",\", 2 pair\")","v":"Harness, #, Large, 2 pair"},"60067","60052","60057","60062",60387,35,53]
["61801","Shoulder Harness, TheraFit, X-Large w/ Clips",{"$f":"\"Harness, #, X-Large\"&IF(TSleeveMatl=5,\"\",\", 2 pair\")","v":"Harness, #, X-Large, 2 pair"},"60068","60053","60058","60063",60388,35,53]
["61802","Shoulder Harness, TheraFit, X-Large w/ Camlocks",{"$f":"\"Harness, #, X-Large\"&IF(TSleeveMatl=5,\"\",\", 2 pair\")","v":"Harness, #, X-Large, 2 pair"},"60068","60053","60058","60063",60388,35,53]
["61803","Shoulder Harness, TheraFit, X-Large w/ Clips & Camlocks",{"$f":"\"Harness, #, X-Large\"&IF(TSleeveMatl=5,\"\",\", 2 pair\")","v":"Harness, #, X-Large, 2 pair"},"60068","60053","60058","60063",60388,35,53]
["30589","Vest, TheraFit Comfort Fit Straps, Stretch Full, Small",{"$f":"\"Vest, ComfortFit, Full, #, Small\"&IF(TSleeveMatl=5,\"\",\", 2 ea\")","v":"Vest, ComfortFit, Full, #, Small, 2 ea"},"60240","60207","60218","60229",60389,48,53]
["30590","Vest, TheraFit Comfort Fit Straps, Stretch Full, Medium",{"$f":"\"Vest, ComfortFit, Full, #, Medium\"&IF(TSleeveMatl=5,\"\",\", 2 ea\")","v":"Vest, ComfortFit, Full, #, Medium, 2 ea"},"60247","60208","60219","60230",60390,48,53]
["30591","Vest, TheraFit Comfort Fit Straps, Stretch Full, Large",{"$f":"\"Vest, ComfortFit, Full, #, Large\"&IF(TSleeveMatl=5,\"\",\", 2 ea\")","v":"Vest, ComfortFit, Full, #, Large, 2 ea"},"60248","60209","60220","60237",60391,53,53]
["30592","Vest, TheraFit Comfort Fit Straps, Stretch Full, X-Large",{"$f":"\"Vest, ComfortFit, Full, #, X-Large\"&IF(TSleeveMatl=5,\"\",\", 2 ea\")","v":"Vest, ComfortFit, Full, #, X-Large, 2 ea"},"60249","60210","60227","60238",60392,69,53]
["30593","Vest, TheraFit Comfort Fit Straps, Stretch Full, 2X-Large",{"$f":"\"Vest, ComfortFit, Full, #, XX-Large\"&IF(TSleeveMatl=5,\"\",\", 2 ea\")","v":"Vest, ComfortFit, Full, #, XX-Large, 2 ea"},"60280","60217","60228","60239",60393,74,69]
["30594","Vest, TheraFit Extended Strap, Stretch Full, Small",{"$f":"\"Vest, Extended Strap, Full, #, Small\"&IF(TSleeveMatl=5,\"\",\", 2 ea\")","v":"Vest, Extended Strap, Full, #, Small, 2 ea"},"60345","60318","60329","60340",60407,48,53]
["30595","Vest, TheraFit Extended Strap, Stretch Full, Medium",{"$f":"\"Vest, Extended Strap, Full, #, Medium\"&IF(TSleeveMatl=5,\"\",\", 2 ea\")","v":"Vest, Extended Strap, Full, #, Medium, 2 ea"},"60346","60319","60330","60341",60408,48,53]
["30596","Vest, TheraFit Extended Strap, Stretch Full, Large",{"$f":"\"Vest, Extended Strap, Full, #, Large\"&IF(TSleeveMatl=5,\"\",\", 2 ea\")","v":"Vest, Extended Strap, Full, #, Large, 2 ea"},"60347","60320","60337","60342",60409,53,53]
["30597","Vest, TheraFit Extended Strap, Stretch Full, X-Large",{"$f":"\"Vest, Extended Strap, Full, #, X-Large\"&IF(TSleeveMatl=5,\"\",\", 2 ea\")","v":"Vest, Extended Strap, Full, #, X-Large, 2 ea"},"60348","60327","60338","60343",60410,69,53]
["30598","Vest, TheraFit Extended Strap, Stretch Full, 2X-Large",{"$f":"\"Vest, Extended Strap, Full, #, XX-Large\"&IF(TSleeveMatl=5,\"\",\", 2 ea\")","v":"Vest, Extended Strap, Full, #, XX-Large, 2 ea"},"60349","60328","60339","60344",60417,74,69]
["30601","Vest, TheraFit Comfort Fit Straps, Stretch Trim, Early Intervention",{"$f":"\"Vest, Comfortfit, Trim, #, Early Intervention\"&IF(TSleeveMatl=5,\"\",\", 2 ea\")","v":"Vest, Comfortfit, Trim, #, Early Intervention, 2 ea"},"60299","60281","60287","60293",60394,48,53]
["30618","Vest, TheraFit Comfort Fit Straps, Stretch Trim, Small",{"$f":"\"Vest, Comfortfit, Trim, #, Small\"&IF(TSleeveMatl=5,\"\",\", 2 ea\")","v":"Vest, Comfortfit, Trim, #, Small, 2 ea"},"60300","60282","60288","60294",60395,48,53]
["30619","Vest, TheraFit Comfort Fit Straps, Stretch Trim, Medium",{"$f":"\"Vest, Comfortfit, Trim, #, Medium\"&IF(TSleeveMatl=5,\"\",\", 2 ea\")","v":"Vest, Comfortfit, Trim, #, Medium, 2 ea"},"60307","60283","60289","60295",60396,48,53]
["30620","Vest, TheraFit Comfort Fit Straps, Stretch Trim, Large",{"$f":"\"Vest, Comfortfit, Trim, #, Large\"&IF(TSleeveMatl=5,\"\",\", 2 ea\")","v":"Vest, Comfortfit, Trim, #, Large, 2 ea"},"60308","60284","60290","60296",60397,53,53]
["30621","Vest, TheraFit Comfort Fit Straps, Stretch Trim, X-Large",{"$f":"\"Vest, Comfortfit, Trim, #, X-Large\"&IF(TSleeveMatl=5,\"\",\", 2 ea\")","v":"Vest, Comfortfit, Trim, #, X-Large, 2 ea"},"60309","60285","60291","60297",60398,69,53]
["30622","Vest, TheraFit Comfort Fit Straps, Stretch Trim, 2X-Large",{"$f":"\"Vest, Comfortfit, Trim, #, XX-Large\"&IF(TSleeveMatl=5,\"\",\", 2 ea\")","v":"Vest, Comfortfit, Trim, #, XX-Large, 2 ea"},"60317","60286","60292","60298",60399,74,69]
["30603","Vest, TheraFit Extended Strap, Stretch Trim, Early Intervention",{"$f":"\"Vest, Extended Strap, Trim, #, Early Intervention\"&IF(TSleeveMatl=5,\"\",\", 2 ea\")","v":"Vest, Extended Strap, Trim, #, Early Intervention, 2 ea"},"60368","60350","60356","60362",60418,48,53]
["30604","Vest, TheraFit Extended Strap, Stretch Trim, Small",{"$f":"\"Vest, Extended Strap, Trim, #, Small\"&IF(TSleeveMatl=5,\"\",\", 2 ea\")","v":"Vest, Extended Strap, Trim, #, Small, 2 ea"},"60369","60351","30357","60363",60419,48,53]
["30624","Vest, TheraFit Extended Strap, Stretch Trim, Medium",{"$f":"\"Vest, Extended Strap, Trim, #, Medium\"&IF(TSleeveMatl=5,\"\",\", 2 ea\")","v":"Vest, Extended Strap, Trim, #, Medium, 2 ea"},"60370","60352","60358","60364",60420,48,53]
["30625","Vest, TheraFit Extended Strap, Stretch Trim, Large",{"$f":"\"Vest, Extended Strap, Trim, #, Large\"&IF(TSleeveMatl=5,\"\",\", 2 ea\")","v":"Vest, Extended Strap, Trim, #, Large, 2 ea"},"60371","60353","60359","60365",60427,53,53]
["30626","Vest, TheraFit Extended Strap, Stretch Trim, X-Large",{"$f":"\"Vest, Extended Strap, Trim, #, X-Large\"&IF(TSleeveMatl=5,\"\",\", 2 ea\")","v":"Vest, Extended Strap, Trim, #, X-Large, 2 ea"},"60372","60354","60360","60366",60428,69,53]
["30627","Vest, TheraFit Extended Strap, Stretch Trim, 2X-Large",{"$f":"\"Vest, Extended Strap, Trim, #, XX-Large\"&IF(TSleeveMatl=5,\"\",\", 2 ea\")","v":"Vest, Extended Strap, Trim, #, XX-Large, 2 ea"},"60373","60355","60361","60367",60429,74,69]
["60411","Belt, 1\" TheraFit Single Pull, PB Security, 4.25 x 1.75 Pads w/ Clips","Hip Belt, 4.25 x 1.75 Pad, #, 2 pair","60081","NA","NA","NA","NA",34,{"$error":"#N/A"}]
["60412","Belt, 1\" TheraFit Single Pull, PB Security, 4.25 x 1.75 Pads w/ Camlocks","Hip Belt, 4.25 x 1.75 Pad, #, 2 pair","60081","NA","NA","NA","NA",34,{"$error":"#N/A"}]
["60413","Belt, 1\" TheraFit Single Pull, PB Security, 4.25 x 1.75 Pads w/ Clips, Camlocks","Hip Belt, 4.25 x 1.75 Pad, #, 2 pair","60081","NA","NA","NA","NA",34,{"$error":"#N/A"}]
["60414","Belt, 1\" TheraFit Single Pull, PB Security, 4.25 x 1.75 Pads w/ Clips, Clamps","Hip Belt, 4.25 x 1.75 Pad, #, 2 pair","60081","NA","NA","NA","NA",34,{"$error":"#N/A"}]
["60415","Belt, 1\" TheraFit Single Pull, PB Security, 4.25 x 1.75 Pads w/ Cams, Clamps","Hip Belt, 4.25 x 1.75 Pad, #, 2 pair","60081","NA","NA","NA","NA",34,{"$error":"#N/A"}]
["60416","Belt, 1\" TheraFit Single Pull, PB Security, 4.25 x 1.75 Pads w/ Clips, Cams, Clamps","Hip Belt, 4.25 x 1.75 Pad, #, 2 pair","60081","NA","NA","NA","NA",34,{"$error":"#N/A"}]
["61001","Belt, 1\" TheraFit Single Pull, PB Buckle, 4.25 x 1.75 Pads w/ Clips","Hip Belt, 4.25 x 1.75 Pad, #, 2 pair","60081","NA","NA","NA","NA",34,{"$error":"#N/A"}]
["61002","Belt, 1\" TheraFit Single Pull, PB Buckle, 4.25 x 1.75 Pads w/ Camlocks","Hip Belt, 4.25 x 1.75 Pad, #, 2 pair","60081","NA","NA","NA","NA",34,{"$error":"#N/A"}]
["61003","Belt, 1\" TheraFit Single Pull, PB Buckle, 4.25 x 1.75 Pads w/ Clips, Camlocks","Hip Belt, 4.25 x 1.75 Pad, #, 2 pair","60081","NA","NA","NA","NA",34,{"$error":"#N/A"}]
["61004","Belt, 1\" TheraFit Single Pull, PB Buckle, 4.25 x 1.75 Pads w/ Clips, Clamps","Hip Belt, 4.25 x 1.75 Pad, #, 2 pair","60081","NA","NA","NA","NA",34,{"$error":"#N/A"}]
["61005","Belt, 1\" TheraFit Single Pull, PB Buckle, 4.25 x 1.75 Pads w/ Cams, Clamps","Hip Belt, 4.25 x 1.75 Pad, #, 2 pair","60081","NA","NA","NA","NA",34,{"$error":"#N/A"}]
["61006","Belt, 1\" TheraFit Single Pull, PB Buckle, 4.25 x 1.75 Pads w/ Clips, Cams, Clamps","Hip Belt, 4.25 x 1.75 Pad, #, 2 pair","60081","NA","NA","NA","NA",34,{"$error":"#N/A"}]
["65001","Belt, 1\" TheraFit Single Pull, SR Buckle, 4.25 x 1.75 Pads w/ Clips","Hip Belt, 4.25 x 1.75 Pad, #, 2 pair","60081","NA","NA","NA","NA",34,{"$error":"#N/A"}]
["65002","Belt, 1\" TheraFit Single Pull, SR Buckle, 4.25 x 1.75 Pads w/ Camlocks","Hip Belt, 4.25 x 1.75 Pad, #, 2 pair","60081","NA","NA","NA","NA",34,{"$error":"#N/A"}]
["65003","Belt, 1\" TheraFit Single Pull, SR Buckle, 4.25 x 1.75 Pads w/ Clips, Camlocks","Hip Belt, 4.25 x 1.75 Pad, #, 2 pair","60081","NA","NA","NA","NA",34,{"$error":"#N/A"}]
["65004","Belt, 1\" TheraFit Single Pull, SR Buckle, 4.25 x 1.75 Pads w/ Clips, Clamps","Hip Belt, 4.25 x 1.75 Pad, #, 2 pair","60081","NA","NA","NA","NA",34,{"$error":"#N/A"}]
["65005","Belt, 1\" TheraFit Single Pull, SR Buckle, 4.25 x 1.75 Pads w/ Cams, Clamps","Hip Belt, 4.25 x 1.75 Pad, #, 2 pair","60081","NA","NA","NA","NA",34,{"$error":"#N/A"}]
["65006","Belt, 1\" TheraFit Single Pull, SR Buckle, 4.25 x 1.75 Pads w/ Clips, Cams, Clamps","Hip Belt, 4.25 x 1.75 Pad, #, 2 pair","60081","NA","NA","NA","NA",34,{"$error":"#N/A"}]
["60421","Belt, 1\" TheraFit Single Pull, PB Security, 5.25  x 1.75 Pads w/ Clips","Hip Belt, 5.25 x 1.75 Pad, #, 2 pair","60082","NA","NA","NA","NA",34,{"$error":"#N/A"}]
["60422","Belt, 1\" TheraFit Single Pull, PB Security, 5.25  x 1.75 Pads w/ Camlocks","Hip Belt, 5.25 x 1.75 Pad, #, 2 pair","60082","NA","NA","NA","NA",34,{"$error":"#N/A"}]
["60423","Belt, 1\" TheraFit Single Pull, PB Security, 5.25 x 1.75 Pads w/ Clips, Camlocks","Hip Belt, 5.25 x 1.75 Pad, #, 2 pair","60082","NA","NA","NA","NA",34,{"$error":"#N/A"}]
["60424","Belt, 1\" TheraFit Single Pull, PB Security, 5.25  x 1.75 Pads w/ Clips, Clamps","Hip Belt, 5.25 x 1.75 Pad, #, 2 pair","60082","NA","NA","NA","NA",34,{"$error":"#N/A"}]
["60425","Belt, 1\" TheraFit Single Pull, PB Security, 5.25  x 1.75 Pads w/ Cams, Clamps","Hip Belt, 5.25 x 1.75 Pad, #, 2 pair","60082","NA","NA","NA","NA",34,{"$error":"#N/A"}]
["60426","Belt, 1\" TheraFit Single Pull, PB Security, 5.25 x 1.75 Pads w/ Clips, Cams, Clamps","Hip Belt, 5.25 x 1.75 Pad, #, 2 pair","60082","NA","NA","NA","NA",34,{"$error":"#N/A"}]
["61101","Belt, 1\" TheraFit Single Pull, PB Buckle, 5.25  x 1.75 Pads w/ Clips","Hip Belt, 5.25 x 1.75 Pad, #, 2 pair","60082","NA","NA","NA","NA",34,{"$error":"#N/A"}]
["61102","Belt, 1\" TheraFit Single Pull, PB Buckle, 5.25  x 1.75 Pads w/ Camlocks","Hip Belt, 5.25 x 1.75 Pad, #, 2 pair","60082","NA","NA","NA","NA",34,{"$error":"#N/A"}]
["61103","Belt, 1\" TheraFit Single Pull, PB Buckle, 5.25 x 1.75 Pads w/ Clips, Camlocks","Hip Belt, 5.25 x 1.75 Pad, #, 2 pair","60082","NA","NA","NA","NA",34,{"$error":"#N/A"}]
["61104","Belt, 1\" TheraFit Single Pull, PB Buckle, 5.25  x 1.75 Pads w/ Clips, Clamps","Hip Belt, 5.25 x 1.75 Pad, #, 2 pair","60082","NA","NA","NA","NA",34,{"$error":"#N/A"}]
["61105","Belt, 1\" TheraFit Single Pull, PB Buckle, 5.25  x 1.75 Pads w/ Cams, Clamps","Hip Belt, 5.25 x 1.75 Pad, #, 2 pair","60082","NA","NA","NA","NA",34,{"$error":"#N/A"}]
["61106","Belt, 1\" TheraFit Single Pull, PB Buckle, 5.25 x 1.75 Pads w/ Clips, Cams, Clamps","Hip Belt, 5.25 x 1.75 Pad, #, 2 pair","60082","NA","NA","NA","NA",34,{"$error":"#N/A"}]
["65101","Belt, 1\" TheraFit Single Pull, SR Buckle, 5.25 x 1.75 Pads w/ Clips","Hip Belt, 5.25 x 1.75 Pad, #, 2 pair","60082","NA","NA","NA","NA",34,{"$error":"#N/A"}]
["65102","Belt, 1\" TheraFit Single Pull, SR Buckle, 5.25 x 1.75 Pads w/ Camlocks","Hip Belt, 5.25 x 1.75 Pad, #, 2 pair","60082","NA","NA","NA","NA",34,{"$error":"#N/A"}]
["65103","Belt, 1\" TheraFit Single Pull, SR Buckle, 5.25 x 1.75 Pads w/ Clips, Camlocks","Hip Belt, 5.25 x 1.75 Pad, #, 2 pair","60082","NA","NA","NA","NA",34,{"$error":"#N/A"}]
["65104","Belt, 1\" TheraFit Single Pull, SR Buckle, 5.25 x 1.75 Pads w/ Clips, Clamps","Hip Belt, 5.25 x 1.75 Pad, #, 2 pair","60082","NA","NA","NA","NA",34,{"$error":"#N/A"}]
["65105","Belt, 1\" TheraFit Single Pull, SR Buckle, 5.25 x 1.75 Pads w/ Cams, Clamps","Hip Belt, 5.25 x 1.75 Pad, #, 2 pair","60082","NA","NA","NA","NA",34,{"$error":"#N/A"}]
["65106","Belt, 1\" TheraFit Single Pull, SR Buckle, 5.25 x 1.75 Pads w/ Clips, Cams, Clamps","Hip Belt, 5.25 x 1.75 Pad, #, 2 pair","60082","NA","NA","NA","NA",34,{"$error":"#N/A"}]
["60431","Belt, 1\" TheraFit Single Pull, PB Security, 6.25 x 1.75 Pads w/ Clips","Hip Belt, 6.25 x 1.75 Pad, #, 2 pair","60083","NA","NA","NA","NA",34,{"$error":"#N/A"}]
["60432","Belt, 1\" TheraFit Single Pull, PB Security, 6.25 x 1.75 Pads w/ Camlocks","Hip Belt, 6.25 x 1.75 Pad, #, 2 pair","60083","NA","NA","NA","NA",34,{"$error":"#N/A"}]
["60433","Belt, 1\" TheraFit Single Pull, PB Security, 6.25 x 1.75 Pads w/ Clips, Camlocks","Hip Belt, 6.25 x 1.75 Pad, #, 2 pair","60083","NA","NA","NA","NA",34,{"$error":"#N/A"}]
["60434","Belt, 1\" TheraFit Single Pull, PB Security, 6.25 x 1.75 Pads w/ Clips, Clamps","Hip Belt, 6.25 x 1.75 Pad, #, 2 pair","60083","NA","NA","NA","NA",34,{"$error":"#N/A"}]
["60435","Belt, 1\" TheraFit Single Pull, PB Security, 6.25 x 1.75 Pads w/ Cams, Clamps","Hip Belt, 6.25 x 1.75 Pad, #, 2 pair","60083","NA","NA","NA","NA",34,{"$error":"#N/A"}]
["60436","Belt, 1\" TheraFit Single Pull, PB Security, 6.25 x 1.75 Pads w/ Clips, Cams, Clamps","Hip Belt, 6.25 x 1.75 Pad, #, 2 pair","60083","NA","NA","NA","NA",34,{"$error":"#N/A"}]
["61201","Belt, 1\" TheraFit Single Pull, PB Buckle, 6.25 x 1.75 Pads w/ Clips","Hip Belt, 6.25 x 1.75 Pad, #, 2 pair","60083","NA","NA","NA","NA",34,{"$error":"#N/A"}]
["61202","Belt, 1\" TheraFit Single Pull, PB Buckle, 6.25 x 1.75 Pads w/ Camlocks","Hip Belt, 6.25 x 1.75 Pad, #, 2 pair","60083","NA","NA","NA","NA",34,{"$error":"#N/A"}]
["61203","Belt, 1\" TheraFit Single Pull, PB Buckle, 6.25 x 1.75 Pads w/ Clips, Camlocks","Hip Belt, 6.25 x 1.75 Pad, #, 2 pair","60083","NA","NA","NA","NA",34,{"$error":"#N/A"}]
["61204","Belt, 1\" TheraFit Single Pull, PB Buckle, 6.25 x 1.75 Pads w/ Clips, Clamps","Hip Belt, 6.25 x 1.75 Pad, #, 2 pair","60083","NA","NA","NA","NA",34,{"$error":"#N/A"}]
["61205","Belt, 1\" TheraFit Single Pull, PB Buckle, 6.25 x 1.75 Pads w/ Cams, Clamps","Hip Belt, 6.25 x 1.75 Pad, #, 2 pair","60083","NA","NA","NA","NA",34,{"$error":"#N/A"}]
["61206","Belt, 1\" TheraFit Single Pull, PB Buckle, 6.25 x 1.75 Pads w/ Clips, Cams, Clamps","Hip Belt, 6.25 x 1.75 Pad, #, 2 pair","60083","NA","NA","NA","NA",34,{"$error":"#N/A"}]
["65201","Belt, 1\" TheraFit Single Pull, SR Buckle, 6.25 x 1.75 Pads w/ Clips","Hip Belt, 6.25 x 1.75 Pad, #, 2 pair","60083","NA","NA","NA","NA",34,{"$error":"#N/A"}]
["65202","Belt, 1\" TheraFit Single Pull, SR Buckle, 6.25 x 1.75 Pads w/ Camlocks","Hip Belt, 6.25 x 1.75 Pad, #, 2 pair","60083","NA","NA","NA","NA",34,{"$error":"#N/A"}]
["65203","Belt, 1\" TheraFit Single Pull, SR Buckle, 6.25 x 1.75 Pads w/ Clips, Camlocks","Hip Belt, 6.25 x 1.75 Pad, #, 2 pair","60083","NA","NA","NA","NA",34,{"$error":"#N/A"}]
["65204","Belt, 1\" TheraFit Single Pull, SR Buckle, 6.25 x 1.75 Pads w/ Clips, Clamps","Hip Belt, 6.25 x 1.75 Pad, #, 2 pair","60083","NA","NA","NA","NA",34,{"$error":"#N/A"}]
["65205","Belt, 1\" TheraFit Single Pull, SR Buckle, 6.25 x 1.75 Pads w/ Cams, Clamps","Hip Belt, 6.25 x 1.75 Pad, #, 2 pair","60083","NA","NA","NA","NA",34,{"$error":"#N/A"}]
["65206","Belt, 1\" TheraFit Single Pull, SR Buckle, 6.25 x 1.75 Pads w/ Clips, Cams, Clamps","Hip Belt, 6.25 x 1.75 Pad, #, 2 pair","60083","NA","NA","NA","NA",34,{"$error":"#N/A"}]
["60441","Belt, 1.5\" TheraFit Single Pull, PB Security, 5.25 x 2.25 Pads w/ Clips","Hip Belt, 5.25 x 2.25 Pad, #, 2 pair","60084","NA","NA","NA","NA",34,{"$error":"#N/A"}]
["60442","Belt, 1.5\" TheraFit Single Pull, PB Security, 5.25 x 2.25 Pads w/ Camlocks","Hip Belt, 5.25 x 2.25 Pad, #, 2 pair","60084","NA","NA","NA","NA",34,{"$error":"#N/A"}]
["60443","Belt, 1.5\" TheraFit Single Pull, PB Security, 5.25 x 2.25 Pads w/ Clips, Camlocks","Hip Belt, 5.25 x 2.25 Pad, #, 2 pair","60084","NA","NA","NA","NA",34,{"$error":"#N/A"}]
["60444","Belt, 1.5\" TheraFit Single Pull, PB Security, 5.25 x 2.25 Pads w/ Clips, Clamps","Hip Belt, 5.25 x 2.25 Pad, #, 2 pair","60084","NA","NA","NA","NA",34,{"$error":"#N/A"}]
["60445","Belt, 1.5\" TheraFit Single Pull, PB Security, 5.25 x 2.25 Pads w/ Cams, Clamps","Hip Belt, 5.25 x 2.25 Pad, #, 2 pair","60084","NA","NA","NA","NA",34,{"$error":"#N/A"}]
["60446","Belt, 1.5\" TheraFit Single Pull, PB Security, 5.25 x 2.25 Pads w/ Clips, Cams, Clamps","Hip Belt, 5.25 x 2.25 Pad, #, 2 pair","60084","NA","NA","NA","NA",34,{"$error":"#N/A"}]
["62001","Belt, 1.5\" TheraFit Single Pull, PB Buckle, 5.25 x 2.25 Pads w/ Clips","Hip Belt, 5.25 x 2.25 Pad, #, 2 pair","60084","NA","NA","NA","NA",34,{"$error":"#N/A"}]
["62002","Belt, 1.5\" TheraFit Single Pull, PB Buckle, 5.25 x 2.25 Pads w/ Camlocks","Hip Belt, 5.25 x 2.25 Pad, #, 2 pair","60084","NA","NA","NA","NA",34,{"$error":"#N/A"}]
["62003","Belt, 1.5\" TheraFit Single Pull, PB Buckle, 5.25 x 2.25 Pads w/ Clips, Camlocks","Hip Belt, 5.25 x 2.25 Pad, #, 2 pair","60084","NA","NA","NA","NA",34,{"$error":"#N/A"}]
["62004","Belt, 1.5\" TheraFit Single Pull, PB Buckle, 5.25 x 2.25 Pads w/ Clips, Clamps","Hip Belt, 5.25 x 2.25 Pad, #, 2 pair","60084","NA","NA","NA","NA",34,{"$error":"#N/A"}]
["62005","Belt, 1.5\" TheraFit Single Pull, PB Buckle, 5.25 x 2.25 Pads w/ Cams, Clamps","Hip Belt, 5.25 x 2.25 Pad, #, 2 pair","60084","NA","NA","NA","NA",34,{"$error":"#N/A"}]
["62006","Belt, 1.5\" TheraFit Single Pull, PB Buckle, 5.25 x 2.25 Pads w/ Clips, Cams, Clamps","Hip Belt, 5.25 x 2.25 Pad, #, 2 pair","60084","NA","NA","NA","NA",34,{"$error":"#N/A"}]
["65301","Belt, 1.5\" TheraFit Single Pull, SR Buckle, 5.25 x 2.25 Pads w/ Clips","Hip Belt, 5.25 x 2.25 Pad, #, 2 pair","60084","NA","NA","NA","NA",34,{"$error":"#N/A"}]
["65302","Belt, 1.5\" TheraFit Single Pull, SR Buckle, 5.25 x 2.25 Pads w/ Camlocks","Hip Belt, 5.25 x 2.25 Pad, #, 2 pair","60084","NA","NA","NA","NA",34,{"$error":"#N/A"}]
["65303","Belt, 1.5\" TheraFit Single Pull, SR Buckle, 5.25 x 2.25 Pads w/ Clips, Camlocks","Hip Belt, 5.25 x 2.25 Pad, #, 2 pair","60084","NA","NA","NA","NA",34,{"$error":"#N/A"}]
["65304","Belt, 1.5\" TheraFit Single Pull, SR Buckle, 5.25 x 2.25 Pads w/ Clips, Clamp","Hip Belt, 5.25 x 2.25 Pad, #, 2 pair","60084","NA","NA","NA","NA",34,{"$error":"#N/A"}]
["65305","Belt, 1.5\" TheraFit Single Pull, SR Buckle, 5.25 x 2.25 Pads w/ Cams, Clamps","Hip Belt, 5.25 x 2.25 Pad, #, 2 pair","60084","NA","NA","NA","NA",34,{"$error":"#N/A"}]
["65306","Belt, 1.5\" TheraFit Single Pull, SR Buckle, 5.25 x 2.25 Pads w/ Clips, Cams, Clamps","Hip Belt, 5.25 x 2.25 Pad, #, 2 pair","60084","NA","NA","NA","NA",34,{"$error":"#N/A"}]
["60451","Belt, 1.5\" TheraFit Single Pull, PB Security, 7.25 x 2.25 Pads w/ Clips","Hip Belt, 7.25 x 2.25 Pad, #, 2 pair","60085","NA","NA","NA","NA",34,{"$error":"#N/A"}]
["60452","Belt, 1.5\" TheraFit Single Pull, PB Security, 7.25 x 2.25 Pads w/ Camlocks","Hip Belt, 7.25 x 2.25 Pad, #, 2 pair","60085","NA","NA","NA","NA",34,{"$error":"#N/A"}]
["60453","Belt, 1.5\" TheraFit Single Pull, PB Security, 7.25 x 2.25 Pads w/ Clips, Camlocks","Hip Belt, 7.25 x 2.25 Pad, #, 2 pair","60085","NA","NA","NA","NA",34,{"$error":"#N/A"}]
["60454","Belt, 1.5\" TheraFit Single Pull, PB Security, 7.25 x 2.25 Pads w/ Clips, Clamps","Hip Belt, 7.25 x 2.25 Pad, #, 2 pair","60085","NA","NA","NA","NA",34,{"$error":"#N/A"}]
["60455","Belt, 1.5\" TheraFit Single Pull, PB Security, 7.25 x 2.25 Pads w/ Cams, Clamps","Hip Belt, 7.25 x 2.25 Pad, #, 2 pair","60085","NA","NA","NA","NA",34,{"$error":"#N/A"}]
["60456","Belt, 1.5\" TheraFit Single Pull, PB Security, 7.25 x 2.25 Pads w/ Clips, Cams, Clamps","Hip Belt, 7.25 x 2.25 Pad, #, 2 pair","60085","NA","NA","NA","NA",34,{"$error":"#N/A"}]
["62101","Belt, 1.5\" TheraFit Single Pull, PB Buckle, 7.25 x 2.25 Pads w/ Clips","Hip Belt, 7.25 x 2.25 Pad, #, 2 pair","60085","NA","NA","NA","NA",34,{"$error":"#N/A"}]
["62102","Belt, 1.5\" TheraFit Single Pull, PB Buckle, 7.25 x 2.25 Pads w/ Camlocks","Hip Belt, 7.25 x 2.25 Pad, #, 2 pair","60085","NA","NA","NA","NA",34,{"$error":"#N/A"}]
["62103","Belt, 1.5\" TheraFit Single Pull, PB Buckle, 7.25 x 2.25 Pads w/ Clips, Camlocks","Hip Belt, 7.25 x 2.25 Pad, #, 2 pair","60085","NA","NA","NA","NA",34,{"$error":"#N/A"}]
["62104","Belt, 1.5\" TheraFit Single Pull, PB Buckle, 7.25 x 2.25 Pads w/ Clips, Clamps","Hip Belt, 7.25 x 2.25 Pad, #, 2 pair","60085","NA","NA","NA","NA",34,{"$error":"#N/A"}]
["62105","Belt, 1.5\" TheraFit Single Pull, PB Buckle, 7.25 x 2.25 Pads w/ Cams, Clamps","Hip Belt, 7.25 x 2.25 Pad, #, 2 pair","60085","NA","NA","NA","NA",34,{"$error":"#N/A"}]
["62106","Belt, 1.5\" TheraFit Single Pull, PB Buckle, 7.25 x 2.25 Pads w/ Clips, Cams, Clamps","Hip Belt, 7.25 x 2.25 Pad, #, 2 pair","60085","NA","NA","NA","NA",34,{"$error":"#N/A"}]
["65401","Belt, 1.5\" TheraFit Single Pull, SR Buckle, 7.25 x 2.25 Pads w/ Clips","Hip Belt, 7.25 x 2.25 Pad, #, 2 pair","60085","NA","NA","NA","NA",34,{"$error":"#N/A"}]
["65402","Belt, 1.5\" TheraFit Single Pull, SR Buckle, 7.25 x 2.25 Pads w/ Camlocks","Hip Belt, 7.25 x 2.25 Pad, #, 2 pair","60085","NA","NA","NA","NA",34,{"$error":"#N/A"}]
["65403","Belt, 1.5\" TheraFit Single Pull, SR Buckle, 7.25 x 2.25 Pads w/ Clips, Camlocks","Hip Belt, 7.25 x 2.25 Pad, #, 2 pair","60085","NA","NA","NA","NA",34,{"$error":"#N/A"}]
["65404","Belt, 1.5\" TheraFit Single Pull, SR Buckle, 7.25 x 2.25 Pads w/ Clips, Clamps","Hip Belt, 7.25 x 2.25 Pad, #, 2 pair","60085","NA","NA","NA","NA",34,{"$error":"#N/A"}]
["65405","Belt, 1.5\" TheraFit Single Pull, SR Buckle, 7.25 x 2.25 Pads w/ Cams, Clamps","Hip Belt, 7.25 x 2.25 Pad, #, 2 pair","60085","NA","NA","NA","NA",34,{"$error":"#N/A"}]
["65406","Belt, 1.5\" TheraFit Single Pull, SR Buckle, 7.25 x 2.25 Pads w/ Clips, Cams, Clamps","Hip Belt, 7.25 x 2.25 Pad, #, 2 pair","60085","NA","NA","NA","NA",34,{"$error":"#N/A"}]
["60461","Belt, 1.5\" TheraFit Single Pull, PB Security, 9.25 x 2.5 Pads w/ Clips","Hip Belt, 9.25 x 2.5 Pad, #, 2 pair","60086","NA","NA","NA","NA",34,{"$error":"#N/A"}]
["60462","Belt, 1.5\" TheraFit Single Pull, PB Security, 9.25 x 2.5 Pads w/ Camlocks","Hip Belt, 9.25 x 2.5 Pad, #, 2 pair","60086","NA","NA","NA","NA",34,{"$error":"#N/A"}]
["60463","Belt, 1.5\" TheraFit Single Pull, PB Security, 9.25 x 2.5 Pads w/ Clips, Cams","Hip Belt, 9.25 x 2.5 Pad, #, 2 pair","60086","NA","NA","NA","NA",34,{"$error":"#N/A"}]
["60464","Belt, 1.5\" TheraFit Single Pull, PB Security, 9.25 x 2.5 Pads w/ Clips, Clamps","Hip Belt, 9.25 x 2.5 Pad, #, 2 pair","60086","NA","NA","NA","NA",34,{"$error":"#N/A"}]
["60465","Belt, 1.5\" TheraFit Single Pull, PB Security, 9.25 x 2.5 Pads w/ Cams, Clamps","Hip Belt, 9.25 x 2.5 Pad, #, 2 pair","60086","NA","NA","NA","NA",34,{"$error":"#N/A"}]
["60466","Belt, 1.5\" TheraFit Single Pull, PB Security, 9.25 x 2.5 Pads w/ Clips, Cams, Clamps","Hip Belt, 9.25 x 2.5 Pad, #, 2 pair","60086","NA","NA","NA","NA",34,{"$error":"#N/A"}]
["62201","Belt, 1.5\" TheraFit Single Pull, PB Buckle, 9.25 x 2.5 Pads w/ Clips","Hip Belt, 9.25 x 2.5 Pad, #, 2 pair","60086","NA","NA","NA","NA",34,{"$error":"#N/A"}]
["62202","Belt, 1.5\" TheraFit Single Pull, PB Buckle, 9.25 x 2.5 Pads w/ Camlocks","Hip Belt, 9.25 x 2.5 Pad, #, 2 pair","60086","NA","NA","NA","NA",34,{"$error":"#N/A"}]
["62203","Belt, 1.5\" TheraFit Single Pull, PB Buckle, 9.25 x 2.5 Pads w/ Clips, Cams","Hip Belt, 9.25 x 2.5 Pad, #, 2 pair","60086","NA","NA","NA","NA",34,{"$error":"#N/A"}]
["62204","Belt, 1.5\" TheraFit Single Pull, PB Buckle, 9.25 x 2.5 Pads w/ Clips, Clamps","Hip Belt, 9.25 x 2.5 Pad, #, 2 pair","60086","NA","NA","NA","NA",34,{"$error":"#N/A"}]
["62205","Belt, 1.5\" TheraFit Single Pull, PB Buckle, 9.25 x 2.5 Pads w/ Cams, Clamps","Hip Belt, 9.25 x 2.5 Pad, #, 2 pair","60086","NA","NA","NA","NA",34,{"$error":"#N/A"}]
["62206","Belt, 1.5\" TheraFit Single Pull, PB Buckle, 9.25 x 2.5 Pads w/ Clips, Cams, Clamps","Hip Belt, 9.25 x 2.5 Pad, #, 2 pair","60086","NA","NA","NA","NA",34,{"$error":"#N/A"}]
["65501","Belt, 1.5\" TheraFit Single Pull, SR Buckle, 9.25 x 2.5 Pads w/ Clips","Hip Belt, 9.25 x 2.5 Pad, #, 2 pair","60086","NA","NA","NA","NA",34,{"$error":"#N/A"}]
["65502","Belt, 1.5\" TheraFit Single Pull, SR Buckle, 9.25 x 2.5 Pads w/ Camlocks","Hip Belt, 9.25 x 2.5 Pad, #, 2 pair","60086","NA","NA","NA","NA",34,{"$error":"#N/A"}]
["65503","Belt, 1.5\" TheraFit Single Pull, SR Buckle, 9.25 x 2.5 Pads w/ Clips, Camlocks","Hip Belt, 9.25 x 2.5 Pad, #, 2 pair","60086","NA","NA","NA","NA",34,{"$error":"#N/A"}]
["65504","Belt, 1.5\" TheraFit Single Pull, SR Buckle, 9.25 x 2.5 Pads w/ Clips, Clamps","Hip Belt, 9.25 x 2.5 Pad, #, 2 pair","60086","NA","NA","NA","NA",34,{"$error":"#N/A"}]
["65505","Belt, 1.5\" TheraFit Single Pull, SR Buckle, 9.25 x 2.5 Pads w/ Cams, Clamps","Hip Belt, 9.25 x 2.5 Pad, #, 2 pair","60086","NA","NA","NA","NA",34,{"$error":"#N/A"}]
["65506","Belt, 1.5\" TheraFit Single Pull, SR Buckle, 9.25 x 2.5 Pads w/ Clips, Cams, Clamps","Hip Belt, 9.25 x 2.5 Pad, #, 2 pair","60086","NA","NA","NA","NA",34,{"$error":"#N/A"}]
["60471","Belt, 2\" TheraFit Single Pull, PB Security, 9.25 x 3 Pads w/ Clips","Hip Belt, 9.25 x 3 Pad, #, 2 pair","60087","NA","NA","NA","NA",34,{"$error":"#N/A"}]
["60472","Belt, 2\" TheraFit Single Pull, PB Security, 9.25 x 3 Pads w/ Camlocks","Hip Belt, 9.25 x 3 Pad, #, 2 pair","60087","NA","NA","NA","NA",34,{"$error":"#N/A"}]
["60473","Belt, 2\" TheraFit Single Pull, PB Security, 9.25 x 3 Pads w/ Clips, Camlocks","Hip Belt, 9.25 x 3 Pad, #, 2 pair","60087","NA","NA","NA","NA",34,{"$error":"#N/A"}]
["60474","Belt, 2\" TheraFit Single Pull, PB Security, 9.25 x 3 Pads w/ Clips, Clamps","Hip Belt, 9.25 x 3 Pad, #, 2 pair","60087","NA","NA","NA","NA",34,{"$error":"#N/A"}]
["60475","Belt, 2\" TheraFit Single Pull, PB Security, 9.25 x 3 Pads w/ Cams, Clamps","Hip Belt, 9.25 x 3 Pad, #, 2 pair","60087","NA","NA","NA","NA",34,{"$error":"#N/A"}]
["60476","Belt, 2\" TheraFit Single Pull, PB Security, 9.25 x 3 Pads w/ Clips, Cams, Clamps","Hip Belt, 9.25 x 3 Pad, #, 2 pair","60087","NA","NA","NA","NA",34,{"$error":"#N/A"}]
["64001","Belt, 2\" TheraFit Single Pull, PB Buckle, 9.25 x 3 Pads w/ Clips","Hip Belt, 9.25 x 3 Pad, #, 2 pair","60087","NA","NA","NA","NA",34,{"$error":"#N/A"}]
["64002","Belt, 2\" TheraFit Single Pull, PB Buckle, 9.25 x 3 Pads w/ Camlocks","Hip Belt, 9.25 x 3 Pad, #, 2 pair","60087","NA","NA","NA","NA",34,{"$error":"#N/A"}]
["64003","Belt, 2\" TheraFit Single Pull, PB Buckle, 9.25 x 3 Pads w/ Clips, Camlocks","Hip Belt, 9.25 x 3 Pad, #, 2 pair","60087","NA","NA","NA","NA",34,{"$error":"#N/A"}]
["64004","Belt, 2\" TheraFit Single Pull, PB Buckle, 9.25 x 3 Pads w/ Clips, Clamps","Hip Belt, 9.25 x 3 Pad, #, 2 pair","60087","NA","NA","NA","NA",34,{"$error":"#N/A"}]
["64005","Belt, 2\" TheraFit Single Pull, PB Buckle, 9.25 x 3 Pads w/ Cams, Clamps","Hip Belt, 9.25 x 3 Pad, #, 2 pair","60087","NA","NA","NA","NA",34,{"$error":"#N/A"}]
["64006","Belt, 2\" TheraFit Single Pull, PB Buckle, 9.25 x 3 Pads w/ Clips, Cams, Clamps","Hip Belt, 9.25 x 3 Pad, #, 2 pair","60087","NA","NA","NA","NA",34,{"$error":"#N/A"}]
["65601","Belt, 2\" TheraFit Single Pull, SR Buckle, 9.25 x 3 Pads w/ Clips","Hip Belt, 9.25 x 3 Pad, #, 2 pair","60087","NA","NA","NA","NA",34,{"$error":"#N/A"}]
["65602","Belt, 2\" TheraFit Single Pull, SR Buckle, 9.25 x 3 Pads w/ Camlocks","Hip Belt, 9.25 x 3 Pad, #, 2 pair","60087","NA","NA","NA","NA",34,{"$error":"#N/A"}]
["65603","Belt, 2\" TheraFit Single Pull, SR Buckle, 9.25 x 3 Pads w/ Clips, Camlocks","Hip Belt, 9.25 x 3 Pad, #, 2 pair","60087","NA","NA","NA","NA",34,{"$error":"#N/A"}]
["65604","Belt, 2\" TheraFit Single Pull, SR Buckle, 9.25 x 3 Pads w/ Clips, Clamps","Hip Belt, 9.25 x 3 Pad, #, 2 pair","60087","NA","NA","NA","NA",34,{"$error":"#N/A"}]
["65605","Belt, 2\" TheraFit Single Pull, SR Buckle, 9.25 x 3 Pads w/ Cams, Clamps","Hip Belt, 9.25 x 3 Pad, #, 2 pair","60087","NA","NA","NA","NA",34,{"$error":"#N/A"}]
["65606","Belt, 2\" TheraFit Single Pull, SR Buckle, 9.25 x 3 Pads w/ Clips, Cams, Clamps","Hip Belt, 9.25 x 3 Pad, #, 2 pair","60087","NA","NA","NA","NA",34,{"$error":"#N/A"}]
["60481","Belt, 2\" TheraFit Single Pull, PB Security, 11.25 x 3 Pads w/ Clips","Hip Belt,11.25 x 3 Pad, #, 2 pair","60088","NA","NA","NA","NA",34,{"$error":"#N/A"}]
["60482","Belt, 2\" TheraFit Single Pull, PB Security, 11.25 x 3 Pads w/ Camlocks","Hip Belt,11.25 x 3 Pad, #, 2 pair","60088","NA","NA","NA","NA",34,{"$error":"#N/A"}]
["60483","Belt, 2\" TheraFit Single Pull, PB Security, 11.25 x 3 Pads w/ Clips, Camlocks","Hip Belt,11.25 x 3 Pad, #, 2 pair","60088","NA","NA","NA","NA",34,{"$error":"#N/A"}]
["60484","Belt, 2\" TheraFit Single Pull, PB Security, 11.25 x 3 Pads w/ Clips, Clamps","Hip Belt,11.25 x 3 Pad, #, 2 pair","60088","NA","NA","NA","NA",34,{"$error":"#N/A"}]
["60485","Belt, 2\" TheraFit Single Pull, PB Security, 11.25 x 3 Pads w/ Cams, Clamps","Hip Belt,11.25 x 3 Pad, #, 2 pair","60088","NA","NA","NA","NA",34,{"$error":"#N/A"}]
["60486","Belt, 2\" TheraFit Single Pull, PB Security, 11.25 x 3 Pads w/ Clips, Cams, Clamps","Hip Belt,11.25 x 3 Pad, #, 2 pair","60088","NA","NA","NA","NA",34,{"$error":"#N/A"}]
["64101","Belt, 2\" TheraFit Single Pull, PB Buckle, 11.25 x 3 Pads w/ Clips","Hip Belt,11.25 x 3 Pad, #, 2 pair","60088","NA","NA","NA","NA",34,{"$error":"#N/A"}]
["64102","Belt, 2\" TheraFit Single Pull, PB Buckle, 11.25 x 3 Pads w/ Camlocks","Hip Belt,11.25 x 3 Pad, #, 2 pair","60088","NA","NA","NA","NA",34,{"$error":"#N/A"}]
["64103","Belt, 2\" TheraFit Single Pull, PB Buckle, 11.25 x 3 Pads w/ Clips, Camlocks","Hip Belt,11.25 x 3 Pad, #, 2 pair","60088","NA","NA","NA","NA",34,{"$error":"#N/A"}]
["64104","Belt, 2\" TheraFit Single Pull, PB Buckle, 11.25 x 3 Pads w/ Clips, Clamps","Hip Belt,11.25 x 3 Pad, #, 2 pair","60088","NA","NA","NA","NA",34,{"$error":"#N/A"}]
["64105","Belt, 2\" TheraFit Single Pull, PB Buckle, 11.25 x 3 Pads w/ Cams, Clamps","Hip Belt,11.25 x 3 Pad, #, 2 pair","60088","NA","NA","NA","NA",34,{"$error":"#N/A"}]
["64106","Belt, 2\" TheraFit Single Pull, PB Buckle, 11.25 x 3 Pads w/ Clips, Cams, Clamps","Hip Belt,11.25 x 3 Pad, #, 2 pair","60088","NA","NA","NA","NA",34,{"$error":"#N/A"}]
["65701","Belt, 2\" TheraFit Single Pull, SR Buckle, 11.25 x 3 Pads w/ Clips","Hip Belt,11.25 x 3 Pad, #, 2 pair","60088","NA","NA","NA","NA",34,{"$error":"#N/A"}]
["65702","Belt, 2\" TheraFit Single Pull, SR Buckle, 11.25 x 3 Pads w/ Camlocks","Hip Belt,11.25 x 3 Pad, #, 2 pair","60088","NA","NA","NA","NA",34,{"$error":"#N/A"}]
["65703","Belt, 2\" TheraFit Single Pull, SR Buckle, 11.25 x 3 Pads w/ Clips, Camlocks","Hip Belt,11.25 x 3 Pad, #, 2 pair","60088","NA","NA","NA","NA",34,{"$error":"#N/A"}]
["65704","Belt, 2\" TheraFit Single Pull, SR Buckle, 11.25 x 3 Pads w/ Clips, Clamps","Hip Belt,11.25 x 3 Pad, #, 2 pair","60088","NA","NA","NA","NA",34,{"$error":"#N/A"}]
["65705","Belt, 2\" TheraFit Single Pull, SR Buckle, 11.25 x 3 Pads w/ Cams, Clamps","Hip Belt,11.25 x 3 Pad, #, 2 pair","60088","NA","NA","NA","NA",34,{"$error":"#N/A"}]
["65706","Belt, 2\" TheraFit Single Pull, SR Buckle, 11.25 x 3 Pads Clips, Cams, Clamps","Hip Belt,11.25 x 3 Pad, #, 2 pair","60088","NA","NA","NA","NA",34,{"$error":"#N/A"}]

{"sheet":"TrayInfo","index":14,"n_rows":561,"n_cols":13,"rows_kept":561,"cut":false,"hidden":true,"merged":[]}
["TRAYS"]
[{"$f":"VLOOKUP('Tray Maker'!$S$32,$C$4:$D$561,2,FALSE)","v":{"$error":"#N/A"}},"Mult=",6.6,"Add=",0,"No match >",{"$f":"ISNA(VLOOKUP('Tray Maker'!$S$32,$C$4:$D$561,2,FALSE))","v":true},null,{"$f":"INDEX(I4:I561,A2,1)","v":{"$error":"#N/A"}}]
["Typical CWs","Actual Key","Avail Key","IDX","Clamp","Material","Size","body","Part#","Matl","Size","Cutout","Clamp"]
["BC","BEZ18160000",{"$f":"IF(CHAIRCONFIG<>1,B4,IF(ISERROR(SEARCH(SIZELETTER,A4,1)),\"\",B4))","v":""},1,"EZ LOCK","BLACK","18W x 16D","NO",{"$f":"J4&K4&L4","v":"310"},3,1,0,1]
["BC","BEZ18160805","",2,"EZ LOCK","BLACK","18W x 16D","8.5 x 5","311",3,1,1,1]
["BC","BEZ18160906","",3,"EZ LOCK","BLACK","18W x 16D","9 x 6","312",3,1,2,1]
["DE","BEZ20180000","",4,"EZ LOCK","BLACK","20W x 18D","NO","320",3,2,0,1]
["DE","BEZ20180906","",5,"EZ LOCK","BLACK","20W x 18D","9 x 6","321",3,2,1,1]
["DE","BEZ20181007","",6,"EZ LOCK","BLACK","20W x 18D","10 x 7","322",3,2,2,1]
["E","BEZ20181207","",7,"EZ LOCK","BLACK","20W x 18D","12 x 7","323",3,2,3,1]
["EF","BEZ21180000","",8,"EZ LOCK","BLACK","21W x 18D","NO","330",3,3,0,1]
["EF","BEZ21181007","",9,"EZ LOCK","BLACK","21W x 18D","10 x 7","331",3,3,1,1]
["EF","BEZ21181206","",10,"EZ LOCK","BLACK","21W x 18D","12 x 6","332",3,3,2,1]
["EF","BEZ21181207","",11,"EZ LOCK","BLACK","21W x 18D","12 x 7","333",3,3,3,1]
["F","BEZ21181308","",12,"EZ LOCK","BLACK","21W x 18D","13 x 8","334",3,3,4,1]
["FG","BEZ22210000","",13,"EZ LOCK","BLACK","22W x 21D","NO","340",3,4,0,1]
["FG","BEZ22211207","",14,"EZ LOCK","BLACK","22W x 21D","12 x 7","341",3,4,1,1]
["FG","BEZ22211308","",15,"EZ LOCK","BLACK","22W x 21D","13 x 8","342",3,4,2,1]
["GHI","BEZ23220000","",16,"EZ LOCK","BLACK","23.5W x 22D","NO","350",3,5,0,1]
["GHI","BEZ23221308","",17,"EZ LOCK","BLACK","23.5W x 22D","13 x 8","351",3,5,1,1]
["GHI","BEZ23221409","",18,"EZ LOCK","BLACK","23.5W x 22D","14 x 9","352",3,5,2,1]
["HI","BEZ23221509","",19,"EZ LOCK","BLACK","23.5W x 22D","15 x 9","353",3,5,3,1]
["IJK","BEZ25220000","",20,"EZ LOCK","BLACK","25.5W x 22D","NO","360",3,6,0,1]
["IJK","BEZ25221509","",21,"EZ LOCK","BLACK","25.5W x 22D","15 x 9","361",3,6,1,1]
["IJK","BEZ25221610","",22,"EZ LOCK","BLACK","25.5W x 22D","16 x 10","362",3,6,2,1]
["JK","BEZ25221710","",23,"EZ LOCK","BLACK","25.5W x 22D","17 x 10","363",3,6,3,1]
["KLM","BEZ27230000","",24,"EZ LOCK","BLACK","27.5W x 23.5D","NO","370",3,7,0,1]
["KLM","BEZ27231710","",25,"EZ LOCK","BLACK","27.5W x 23.5D","17 x 10","371",3,7,1,1]
["KLM","BEZ27231810","",26,"EZ LOCK","BLACK","27.5W x 23.5D","18 x 10","372",3,7,2,1]
["LM","BEZ27231910","",27,"EZ LOCK","BLACK","27.5W x 23.5D","19 x 10","373",3,7,3,1]
["NO","BEZ29230000","",28,"EZ LOCK","BLACK","29.5W x 23.5D","NO","380",3,8,0,1]
["NO","BEZ29231910","",29,"EZ LOCK","BLACK","29.5W x 23.5D","19 x 10","381",3,8,1,1]
["PQ","BEZ31230000","",30,"EZ LOCK","BLACK","31.5W x 23.5D","NO","390",3,9,0,1]
["PQ","BEZ31231910","",31,"EZ LOCK","BLACK","31.5W x 23.5D","19 x 10","391",3,9,1,1]
["BCD","BXX18160000","",32,"NO","BLACK","18W x 16D","NO","310",3,1,0,0]
["BCD","BXX18160805","",33,"NO","BLACK","18W x 16D","8.5 x 5","311",3,1,1,0]
["BCD","BXX18160906","",34,"NO","BLACK","18W x 16D","9 x 6","312",3,1,2,0]
["BCDEF","BXX20180000","",35,"NO","BLACK","20W x 18D","NO","320",3,2,0,0]
["BCDEF","BXX20180906","",36,"NO","BLACK","20W x 18D","9 x 6","321",3,2,1,0]
["BCDEF","BXX20181007","",37,"NO","BLACK","20W x 18D","10 x 7","322",3,2,2,0]
["CDEF","BXX20181207","",38,"NO","BLACK","20W x 18D","12 x 7","323",3,2,3,0]
["EFG","BXX21180000","",39,"NO","BLACK","21W x 18D","NO","330",3,3,0,0]
["EFG","BXX21181007","",40,"NO","BLACK","21W x 18D","10 x 7","331",3,3,1,0]
["EFG","BXX21181206","",41,"NO","BLACK","21W x 18D","12 x 6","332",3,3,2,0]
["EFG","BXX21181207","",42,"NO","BLACK","21W x 18D","12 x 7","333",3,3,3,0]
["EFG","BXX21181308","",43,"NO","BLACK","21W x 18D","13 x 8","334",3,3,4,0]
["GH","BXX22210000","",44,"NO","BLACK","22W x 21D","NO","340",3,4,0,0]
["GH","BXX22211207","",45,"NO","BLACK","22W x 21D","12 x 7","341",3,4,1,0]
["GH","BXX22211308","",46,"NO","BLACK","22W x 21D","13 x 8","342",3,4,2,0]
["HI","BXX23220000","",47,"NO","BLACK","23.5W x 22D","NO","350",3,5,0,0]
["HI","BXX23221308","",48,"NO","BLACK","23.5W x 22D","13 x 8","351",3,5,1,0]
["HI","BXX23221409","",49,"NO","BLACK","23.5W x 22D","14 x 9","352",3,5,2,0]
["HI","BXX23221509","",50,"NO","BLACK","23.5W x 22D","15 x 9","353",3,5,3,0]
["IJK","BXX25220000","",51,"NO","BLACK","25.5W x 22D","NO","360",3,6,0,0]
["IJK","BXX25221509","",52,"NO","BLACK","25.5W x 22D","15 x 9","361",3,6,1,0]
["IJK","BXX25221610","",53,"NO","BLACK","25.5W x 22D","16 x 10","362",3,6,2,0]
["IJK","BXX25221710","",54,"NO","BLACK","25.5W x 22D","17 x 10","363",3,6,3,0]
["JKLM","BXX27230000","",55,"NO","BLACK","27.5W x 23.5D","NO","370",3,7,0,0]
["JKLM","BXX27231710","",56,"NO","BLACK","27.5W x 23.5D","17 x 10","371",3,7,1,0]
["JKLM","BXX27231810","",57,"NO","BLACK","27.5W x 23.5D","18 x 10","372",3,7,2,0]
["JKLM","BXX27231910","",58,"NO","BLACK","27.5W x 23.5D","19 x 10","373",3,7,3,0]
["LMNO","BXX29230000","",59,"NO","BLACK","29.5W x 23.5D","NO","380",3,8,0,0]
["LMNO","BXX29231910","",60,"NO","BLACK","29.5W x 23.5D","19 x 10","381",3,8,1,0]
["NOPQ","BXX31230000","",61,"NO","BLACK","31.5W x 23.5D","NO","390",3,9,0,0]
["NOPQ","BXX31231910","",62,"NO","BLACK","31.5W x 23.5D","19 x 10","391",3,9,1,0]
["Z","BTD18160000","BTD18160000",63,"TOP DROP","BLACK","18W x 16D","NO","310",3,1,0,2]
["Z","BTD18160805","BTD18160805",64,"TOP DROP","BLACK","18W x 16D","8.5 x 5","311",3,1,1,2]
["Z","BTD18160906",{"$f":"IF(CHAIRCONFIG<>1,B68,IF(ISERROR(SEARCH(SIZELETTER,A68,1)),\"\",B68))","v":"BTD18160906"},65,"TOP DROP","BLACK","18W x 16D","9 x 6",{"$f":"J68&K68&L68","v":"312"},3,1,2,2]
["BC","BTD20180000","",66,"TOP DROP","BLACK","20W x 18D","NO","320",3,2,0,2]
["BC","BTD20180906","",67,"TOP DROP","BLACK","20W x 18D","9 x 6","321",3,2,1,2]
["BC","BTD20181007","",68,"TOP DROP","BLACK","20W x 18D","10 x 7","322",3,2,2,2]
["C","BTD20181207","",69,"TOP DROP","BLACK","20W x 18D","12 x 7","323",3,2,3,2]
["BCD","BTD21180000","",70,"TOP DROP","BLACK","21W x 18D","NO","330",3,3,0,2]
["BCD","BTD21181007","",71,"TOP DROP","BLACK","21W x 18D","10 x 7","331",3,3,1,2]
["CD","BTD21181206","",72,"TOP DROP","BLACK","21W x 18D","12 x 6","332",3,3,2,2]
["CD","BTD21181207","",73,"TOP DROP","BLACK","21W x 18D","12 x 7","333",3,3,3,2]
["D","BTD21181308","",74,"TOP DROP","BLACK","21W x 18D","13 x 8","334",3,3,4,2]
["CDE","BTD22210000","",75,"TOP DROP","BLACK","22W x 21D","NO","340",3,4,0,2]
["CDE","BTD22211207","",76,"TOP DROP","BLACK","22W x 21D","12 x 7","341",3,4,1,2]
["DE","BTD22211308","",77,"TOP DROP","BLACK","22W x 21D","13 x 8","342",3,4,2,2]
["DEF","BTD23220000","",78,"TOP DROP","BLACK","23.5W x 22D","NO","350",3,5,0,2]
["DEF","BTD23221308","",79,"TOP DROP","BLACK","23.5W x 22D","13 x 8","351",3,5,1,2]
["EF","BTD23221409","",80,"TOP DROP","BLACK","23.5W x 22D","14 x 9","352",3,5,2,2]
["F","BTD23221509","",81,"TOP DROP","BLACK","23.5W x 22D","15 x 9","353",3,5,3,2]
["FGH","BTD25220000","",82,"TOP DROP","BLACK","25.5W x 22D","NO","350",3,5,0,2]
["FGH","BTD25221509","",83,"TOP DROP","BLACK","25.5W x 22D","15 x 9","361",3,6,1,2]
["GH","BTD25221610","",84,"TOP DROP","BLACK","25.5W x 22D","16 x 10","362",3,6,2,2]
["H","BTD25221710","",85,"TOP DROP","BLACK","25.5W x 22D","17 x 10","363",3,6,3,2]
["HIJ","BTD27230000","",86,"TOP DROP","BLACK","27.5W x 23.5D","NO","370",3,7,0,2]
["HIJ","BTD27231710","",87,"TOP DROP","BLACK","27.5W x 23.5D","17 x 10","371",3,7,1,2]
["IJ","BTD27231810","",88,"TOP DROP","BLACK","27.5W x 23.5D","18 x 10","372",3,7,2,2]
["J","BTD27231910","",89,"TOP DROP","BLACK","27.5W x 23.5D","19 x 10","373",3,7,3,2]
["JKL","BTD29230000","",90,"TOP DROP","BLACK","29.5W x 23.5D","NO","380",3,8,0,2]
["JKL","BTD29231910","",91,"TOP DROP","BLACK","29.5W x 23.5D","19 x 10","381",3,8,1,2]
["LM","BTD31230000","",92,"TOP DROP","BLACK","31.5W x 23.5D","NO","390",3,9,0,2]
["LM","BTD31231910","",93,"TOP DROP","BLACK","31.5W x 23.5D","19 x 10","391",3,9,1,2]
["BCD","BTL18160000","",94,"TUBE LOCK","BLACK","18W x 16D","NO","310",3,1,0,3]
["BCD","BTL18160805","",95,"TUBE LOCK","BLACK","18W x 16D","8.5 x 5","311",3,1,1,3]
["BCD","BTL18160906","",96,"TUBE LOCK","BLACK","18W x 16D","9 x 6","312",3,1,2,3]
["EFG","BTL20180000","",97,"TUBE LOCK","BLACK","20W x 18D","NO","320",3,2,0,3]
["EFG","BTL20180906","",98,"TUBE LOCK","BLACK","20W x 18D","9 x 6","321",3,2,1,3]
["EFG","BTL20181007","",99,"TUBE LOCK","BLACK","20W x 18D","10 x 7","322",3,2,2,3]
["Z","BTL20181207","BTL20181207",100,"TUBE LOCK","BLACK","20W x 18D","12 x 7","323",3,2,3,3]
["GH","BTL21180000","",101,"TUBE LOCK","BLACK","21W x 18D","NO","330",3,3,0,3]
["GH","BTL21181007","",102,"TUBE LOCK","BLACK","21W x 18D","10 x 7","331",3,3,1,3]
["GH","BTL21181206","",103,"TUBE LOCK","BLACK","21W x 18D","12 x 6","332",3,3,2,3]
["GH","BTL21181207","",104,"TUBE LOCK","BLACK","21W x 18D","12 x 7","333",3,3,3,3]
["H","BTL21181308","",105,"TUBE LOCK","BLACK","21W x 18D","13 x 8","334",3,3,4,3]
["HI","BTL22210000","",106,"TUBE LOCK","BLACK","22W x 21D","NO","340",3,4,0,3]
["HI","BTL22211207","",107,"TUBE LOCK","BLACK","22W x 21D","12 x 7","341",3,4,1,3]
["HI","BTL22211308","",108,"TUBE LOCK","BLACK","22W x 21D","13 x 8","342",3,4,2,3]
["IJ","BTL23220000","",109,"TUBE LOCK","BLACK","23.5W x 22D","NO","350",3,5,0,3]
["IJ","BTL23221308","",110,"TUBE LOCK","BLACK","23.5W x 22D","13 x 8","351",3,5,1,3]
["IJ","BTL23221409","",111,"TUBE LOCK","BLACK","23.5W x 22D","14 x 9","352",3,5,2,3]
["J","BTL23221509","",112,"TUBE LOCK","BLACK","23.5W x 22D","15 x 9","353",3,5,3,3]
["KL","BTL25220000","",113,"TUBE LOCK","BLACK","25.5W x 22D","NO","360",3,6,0,3]
["KL","BTL25221509","",114,"TUBE LOCK","BLACK","25.5W x 22D","15 x 9","361",3,6,1,3]
["KL","BTL25221610","",115,"TUBE LOCK","BLACK","25.5W x 22D","16 x 10","362",3,6,2,3]
["L","BTL25221710","",116,"TUBE LOCK","BLACK","25.5W x 22D","17 x 10","363",3,6,3,3]
["M","BTL27230000","",117,"TUBE LOCK","BLACK","27.5W x 23.5D","NO","370",3,7,0,3]
["M","BTL27231710","",118,"TUBE LOCK","BLACK","27.5W x 23.5D","17 x 10","371",3,7,1,3]
["M","BTL27231810","",119,"TUBE LOCK","BLACK","27.5W x 23.5D","18 x 10","372",3,7,2,3]
["Z","BTL27231910","BTL27231910",120,"TUBE LOCK","BLACK","27.5W x 23.5D","19 x 10","373",3,7,3,3]
["MNOP","BTL29230000","",121,"TUBE LOCK","BLACK","29.5W x 23.5D","NO","380",3,8,0,3]
["MNOP","BTL29231910","",122,"TUBE LOCK","BLACK","29.5W x 23.5D","19 x 10","381",3,8,1,3]
["MNOPQ","BTL31230000","",123,"TUBE LOCK","BLACK","31.5W x 23.5D","NO","390",3,9,0,3]
["MNOPQ","BTL31231910","",124,"TUBE LOCK","BLACK","31.5W x 23.5D","19 x 10","391",3,9,1,3]
["BC","CEZ18160000","",125,"EZ LOCK","CLEAR","18W x 16D","NO","110",1,1,0,1]
["BC","CEZ18160805","",126,"EZ LOCK","CLEAR","18W x 16D","8.5 x 5","111",1,1,1,1]
["BC","CEZ18160906","",127,"EZ LOCK","CLEAR","18W x 16D","9 x 6","112",1,1,2,1]
["DE","CEZ20180000","",128,"EZ LOCK","CLEAR","20W x 18D","NO","120",1,2,0,1]
["DE","CEZ20180906",{"$f":"IF(CHAIRCONFIG<>1,B132,IF(ISERROR(SEARCH(SIZELETTER,A132,1)),\"\",B132))","v":""},129,"EZ LOCK","CLEAR","20W x 18D","9 x 6",{"$f":"J132&K132&L132","v":"121"},1,2,1,1]
["DE","CEZ20181007","",130,"EZ LOCK","CLEAR","20W x 18D","10 x 7","122",1,2,2,1]
["E","CEZ20181207","",131,"EZ LOCK","CLEAR","20W x 18D","12 x 7","123",1,2,3,1]
["EF","CEZ21180000","",132,"EZ LOCK","CLEAR","21W x 18D","NO","130",1,3,0,1]
["EF","CEZ21181007","",133,"EZ LOCK","CLEAR","21W x 18D","10 x 7","131",1,3,1,1]
["EF","CEZ21181206","",134,"EZ LOCK","CLEAR","21W x 18D","12 x 6","132",1,3,2,1]
["EF","CEZ21181207","",135,"EZ LOCK","CLEAR","21W x 18D","12 x 7","133",1,3,3,1]
["F","CEZ21181308","",136,"EZ LOCK","CLEAR","21W x 18D","13 x 8","134",1,3,4,1]
["FG","CEZ22210000","",137,"EZ LOCK","CLEAR","22W x 21D","NO","140",1,4,0,1]
["FG","CEZ22211207","",138,"EZ LOCK","CLEAR","22W x 21D","12 x 7","141",1,4,1,1]
["FG","CEZ22211308","",139,"EZ LOCK","CLEAR","22W x 21D","13 x 8","142",1,4,2,1]
["GHI","CEZ23220000","",140,"EZ LOCK","CLEAR","23.5W x 22D","NO","150",1,5,0,1]
["GHI","CEZ23221308","",141,"EZ LOCK","CLEAR","23.5W x 22D","13 x 8","151",1,5,1,1]
["GHI","CEZ23221409","",142,"EZ LOCK","CLEAR","23.5W x 22D","14 x 9","152",1,5,2,1]
["HI","CEZ23221509","",143,"EZ LOCK","CLEAR","23.5W x 22D","15 x 9","153",1,5,3,1]
["IJK","CEZ25220000","",144,"EZ LOCK","CLEAR","25.5W x 22D","NO","160",1,6,0,1]
["IJK","CEZ25221509","",145,"EZ LOCK","CLEAR","25.5W x 22D","15 x 9","161",1,6,1,1]
["IJK","CEZ25221610","",146,"EZ LOCK","CLEAR","25.5W x 22D","16 x 10","162",1,6,2,1]
["JK","CEZ25221710","",147,"EZ LOCK","CLEAR","25.5W x 22D","17 x 10","163",1,6,3,1]
["KLM","CEZ27230000","",148,"EZ LOCK","CLEAR","27.5W x 23.5D","NO","170",1,7,0,1]
["KLM","CEZ27231710","",149,"EZ LOCK","CLEAR","27.5W x 23.5D","17 x 10","171",1,7,1,1]
["KLM","CEZ27231810","",150,"EZ LOCK","CLEAR","27.5W x 23.5D","18 x 10","172",1,7,2,1]
["LM","CEZ27231910","",151,"EZ LOCK","CLEAR","27.5W x 23.5D","19 x 10","173",1,7,3,1]
["NO","CEZ29230000","",152,"EZ LOCK","CLEAR","29.5W x 23.5D","NO","180",1,8,0,1]
["NO","CEZ29231910","",153,"EZ LOCK","CLEAR","29.5W x 23.5D","19 x 10","181",1,8,1,1]
["PQ","CEZ31230000","",154,"EZ LOCK","CLEAR","31.5W x 23.5D","NO","190",1,9,0,1]
["PQ","CEZ31231910","",155,"EZ LOCK","CLEAR","31.5W x 23.5D","19 x 10","191",1,9,1,1]
["BCD","CXX18160000","",156,"NO","CLEAR","18W x 16D","NO","110",1,1,0,0]
["BCD","CXX18160805","",157,"NO","CLEAR","18W x 16D","8.5 x 5","111",1,1,1,0]
["BCD","CXX18160906","",158,"NO","CLEAR","18W x 16D","9 x 6","112",1,1,2,0]
["BCDEF","CXX20180000","",159,"NO","CLEAR","20W x 18D","NO","120",1,2,0,0]
["BCDEF","CXX20180906","",160,"NO","CLEAR","20W x 18D","9 x 6","121",1,2,1,0]
["BCDEF","CXX20181007","",161,"NO","CLEAR","20W x 18D","10 x 7","122",1,2,2,0]
["CDEF","CXX20181207","",162,"NO","CLEAR","20W x 18D","12 x 7","123",1,2,3,0]
["EFG","CXX21180000","",163,"NO","CLEAR","21W x 18D","NO","130",1,3,0,0]
["EFG","CXX21181007","",164,"NO","CLEAR","21W x 18D","10 x 7","131",1,3,1,0]
["EFG","CXX21181206","",165,"NO","CLEAR","21W x 18D","12 x 6","132",1,3,2,0]
["EFG","CXX21181207","",166,"NO","CLEAR","21W x 18D","12 x 7","133",1,3,3,0]
["EFG","CXX21181308","",167,"NO","CLEAR","21W x 18D","13 x 8","134",1,3,4,0]
["GH","CXX22210000","",168,"NO","CLEAR","22W x 21D","NO","140",1,4,0,0]
["GH","CXX22211207","",169,"NO","CLEAR","22W x 21D","12 x 7","141",1,4,1,0]
["GH","CXX22211308","",170,"NO","CLEAR","22W x 21D","13 x 8","142",1,4,2,0]
["HI","CXX23220000","",171,"NO","CLEAR","23.5W x 22D","NO","150",1,5,0,0]
["HI","CXX23221308","",172,"NO","CLEAR","23.5W x 22D","13 x 8","151",1,5,1,0]
["HI","CXX23221409","",173,"NO","CLEAR","23.5W x 22D","14 x 9","152",1,5,2,0]
["HI","CXX23221509","",174,"NO","CLEAR","23.5W x 22D","15 x 9","153",1,5,3,0]
["IJK","CXX25220000","",175,"NO","CLEAR","25.5W x 22D","NO","160",1,6,0,0]
["IJK","CXX25221509","",176,"NO","CLEAR","25.5W x 22D","15 x 9","161",1,6,1,0]
["IJK","CXX25221610","",177,"NO","CLEAR","25.5W x 22D","16 x 10","162",1,6,2,0]
["IJK","CXX25221710","",178,"NO","CLEAR","25.5W x 22D","17 x 10","163",1,6,3,0]
["JKLM","CXX27230000","",179,"NO","CLEAR","27.5W x 23.5D","NO","170",1,7,0,0]
["JKLM","CXX27231710","",180,"NO","CLEAR","27.5W x 23.5D","17 x 10","171",1,7,1,0]
["JKLM","CXX27231810","",181,"NO","CLEAR","27.5W x 23.5D","18 x 10","172",1,7,2,0]
["JKLM","CXX27231910","",182,"NO","CLEAR","27.5W x 23.5D","19 x 10","173",1,7,3,0]
["LMNO","CXX29230000","",183,"NO","CLEAR","29.5W x 23.5D","NO","180",1,8,0,0]
["LMNO","CXX29231910","",184,"NO","CLEAR","29.5W x 23.5D","19 x 10","181",1,8,1,0]
["NOPQ","CXX31230000","",185,"NO","CLEAR","31.5W x 23.5D","NO","190",1,9,0,0]
["NOPQ","CXX31231910","",186,"NO","CLEAR","31.5W x 23.5D","19 x 10","191",1,9,1,0]
["Z","CTD18160000","CTD18160000",187,"TOP DROP","CLEAR","18W x 16D","NO","110",1,1,0,2]
["Z","CTD18160805","CTD18160805",188,"TOP DROP","CLEAR","18W x 16D","8.5 x 5","111",1,1,1,2]
["Z","CTD18160906","CTD18160906",189,"TOP DROP","CLEAR","18W x 16D","9 x 6","112",1,1,2,2]
["BC","CTD20180000","",190,"TOP DROP","CLEAR","20W x 18D","NO","120",1,2,0,2]
["BC","CTD20180906","",191,"TOP DROP","CLEAR","20W x 18D","9 x 6","121",1,2,1,2]
["BC","CTD20181007","",192,"TOP DROP","CLEAR","20W x 18D","10 x 7","122",1,2,2,2]
["C","CTD20181207",{"$f":"IF(CHAIRCONFIG<>1,B196,IF(ISERROR(SEARCH(SIZELETTER,A196,1)),\"\",B196))","v":""},193,"TOP DROP","CLEAR","20W x 18D","12 x 7",{"$f":"J196&K196&L196","v":"123"},1,2,3,2]
["BCD","CTD21180000","",194,"TOP DROP","CLEAR","21W x 18D","NO","130",1,3,0,2]
["BCD","CTD21181007","",195,"TOP DROP","CLEAR","21W x 18D","10 x 7","131",1,3,1,2]
["CD","CTD21181206","",196,"TOP DROP","CLEAR","21W x 18D","12 x 6","132",1,3,2,2]
["CD","CTD21181207","",197,"TOP DROP","CLEAR","21W x 18D","12 x 7","133",1,3,3,2]
["D","CTD21181308","",198,"TOP DROP","CLEAR","21W x 18D","13 x 8","134",1,3,4,2]
["CDE","CTD22210000","",199,"TOP DROP","CLEAR","22W x 21D","NO","140",1,4,0,2]
["CDE","CTD22211207","",200,"TOP DROP","CLEAR","22W x 21D","12 x 7","141",1,4,1,2]
["DE","CTD22211308","",201,"TOP DROP","CLEAR","22W x 21D","13 x 8","142",1,4,2,2]
["DEF","CTD23220000","",202,"TOP DROP","CLEAR","23.5W x 22D","NO","150",1,5,0,2]
["DEF","CTD23221308","",203,"TOP DROP","CLEAR","23.5W x 22D","13 x 8","151",1,5,1,2]
["EF","CTD23221409","",204,"TOP DROP","CLEAR","23.5W x 22D","14 x 9","152",1,5,2,2]
["F","CTD23221509","",205,"TOP DROP","CLEAR","23.5W x 22D","15 x 9","153",1,5,3,2]
["FGH","CTD25220000","",206,"TOP DROP","CLEAR","25.5W x 22D","NO","160",1,6,0,2]
["FGH","CTD25221509","",207,"TOP DROP","CLEAR","25.5W x 22D","15 x 9","161",1,6,1,2]
["GH","CTD25221610","",208,"TOP DROP","CLEAR","25.5W x 22D","16 x 10","162",1,6,2,2]
["H","CTD25221710","",209,"TOP DROP","CLEAR","25.5W x 22D","17 x 10","163",1,6,3,2]
["HIJ","CTD27230000","",210,"TOP DROP","CLEAR","27.5W x 23.5D","NO","170",1,7,0,2]
["HIJ","CTD27231710","",211,"TOP DROP","CLEAR","27.5W x 23.5D","17 x 10","171",1,7,1,2]
["IJ","CTD27231810","",212,"TOP DROP","CLEAR","27.5W x 23.5D","18 x 10","172",1,7,2,2]
["J","CTD27231910","",213,"TOP DROP","CLEAR","27.5W x 23.5D","19 x 10","173",1,7,3,2]
["JKL","CTD29230000","",214,"TOP DROP","CLEAR","29.5W x 23.5D","NO","180",1,8,0,2]
["JKL","CTD29231910","",215,"TOP DROP","CLEAR","29.5W x 23.5D","19 x 10","181",1,8,1,2]
["LM","CTD31230000","",216,"TOP DROP","CLEAR","31.5W x 23.5D","NO","190",1,9,0,2]
["LM","CTD31231910","",217,"TOP DROP","CLEAR","31.5W x 23.5D","19 x 10","191",1,9,1,2]
["BCD","CTL18160000","",218,"TUBE LOCK","CLEAR","18W x 16D","NO","110",1,1,0,3]
["BCD","CTL18160805","",219,"TUBE LOCK","CLEAR","18W x 16D","8.5 x 5","111",1,1,1,3]
["BCD","CTL18160906","",220,"TUBE LOCK","CLEAR","18W x 16D","9 x 6","112",1,1,2,3]
["EFG","CTL20180000","",221,"TUBE LOCK","CLEAR","20W x 18D","NO","120",1,2,0,3]
["EFG","CTL20180906","",222,"TUBE LOCK","CLEAR","20W x 18D","9 x 6","121",1,2,1,3]
["EFG","CTL20181007","",223,"TUBE LOCK","CLEAR","20W x 18D","10 x 7","122",1,2,2,3]
["Z","CTL20181207","CTL20181207",224,"TUBE LOCK","CLEAR","20W x 18D","12 x 7","123",1,2,3,3]
["GH","CTL21180000","",225,"TUBE LOCK","CLEAR","21W x 18D","NO","130",1,3,0,3]
["GH","CTL21181007","",226,"TUBE LOCK","CLEAR","21W x 18D","10 x 7","131",1,3,1,3]
["GH","CTL21181206","",227,"TUBE LOCK","CLEAR","21W x 18D","12 x 6","132",1,3,2,3]
["GH","CTL21181207","",228,"TUBE LOCK","CLEAR","21W x 18D","12 x 7","133",1,3,3,3]
["H","CTL21181308","",229,"TUBE LOCK","CLEAR","21W x 18D","13 x 8","134",1,3,4,3]
["HI","CTL22210000","",230,"TUBE LOCK","CLEAR","22W x 21D","NO","140",1,4,0,3]
["HI","CTL22211207","",231,"TUBE LOCK","CLEAR","22W x 21D","12 x 7","141",1,4,1,3]
["HI","CTL22211308","",232,"TUBE LOCK","CLEAR","22W x 21D","13 x 8","142",1,4,2,3]
["IJ","CTL23220000","",233,"TUBE LOCK","CLEAR","23.5W x 22D","NO","150",1,5,0,3]
["IJ","CTL23221308","",234,"TUBE LOCK","CLEAR","23.5W x 22D","13 x 8","151",1,5,1,3]
["IJ","CTL23221409","",235,"TUBE LOCK","CLEAR","23.5W x 22D","14 x 9","152",1,5,2,3]
["J","CTL23221509","",236,"TUBE LOCK","CLEAR","23.5W x 22D","15 x 9","153",1,5,3,3]
["KL","CTL25220000","",237,"TUBE LOCK","CLEAR","25.5W x 22D","NO","160",1,6,0,3]
["KL","CTL25221509","",238,"TUBE LOCK","CLEAR","25.5W x 22D","15 x 9","161",1,6,1,3]
["KL","CTL25221610","",239,"TUBE LOCK","CLEAR","25.5W x 22D","16 x 10","162",1,6,2,3]
["L","CTL25221710","",240,"TUBE LOCK","CLEAR","25.5W x 22D","17 x 10","163",1,6,3,3]
["M","CTL27230000","",241,"TUBE LOCK","CLEAR","27.5W x 23.5D","NO","170",1,7,0,3]
["M","CTL27231710","",242,"TUBE LOCK","CLEAR","27.5W x 23.5D","17 x 10","171",1,7,1,3]
["M","CTL27231810","",243,"TUBE LOCK","CLEAR","27.5W x 23.5D","18 x 10","172",1,7,2,3]
["Z","CTL27231910","CTL27231910",244,"TUBE LOCK","CLEAR","27.5W x 23.5D","19 x 10","173",1,7,3,3]
["MNOP","CTL29230000","",245,"TUBE LOCK","CLEAR","29.5W x 23.5D","NO","180",1,8,0,3]
["MNOP","CTL29231910","",246,"TUBE LOCK","CLEAR","29.5W x 23.5D","19 x 10","181",1,8,1,3]
["MNOPQ","CTL31230000","",247,"TUBE LOCK","CLEAR","31.5W x 23.5D","NO","190",1,9,0,3]
["MNOPQ","CTL31231910","",248,"TUBE LOCK","CLEAR","31.5W x 23.5D","19 x 10","191",1,9,1,3]
["BC","GEZ18160000","",249,"EZ LOCK","GREY","18W x 16D","NO","210",2,1,0,1]
["BC","GEZ18160805","",250,"EZ LOCK","GREY","18W x 16D","8.5 x 5","211",2,1,1,1]
["BC","GEZ18160906","",251,"EZ LOCK","GREY","18W x 16D","9 x 6","212",2,1,2,1]
["DE","GEZ20180000","",252,"EZ LOCK","GREY","20W x 18D","NO","220",2,2,0,1]
["DE","GEZ20180906","",253,"EZ LOCK","GREY","20W x 18D","9 x 6","221",2,2,1,1]
["DE","GEZ20181007","",254,"EZ LOCK","GREY","20W x 18D","10 x 7","222",2,2,2,1]
["E","GEZ20181207","",255,"EZ LOCK","GREY","20W x 18D","12 x 7","223",2,2,3,1]
["EF","GEZ21180000","",256,"EZ LOCK","GREY","21W x 18D","NO","230",2,3,0,1]
["EF","GEZ21181007",{"$f":"IF(CHAIRCONFIG<>1,B260,IF(ISERROR(SEARCH(SIZELETTER,A260,1)),\"\",B260))","v":""},257,"EZ LOCK","GREY","21W x 18D","10 x 7",{"$f":"J260&K260&L260","v":"231"},2,3,1,1]
["EF","GEZ21181206","",258,"EZ LOCK","GREY","21W x 18D","12 x 6","232",2,3,2,1]
["EF","GEZ21181207","",259,"EZ LOCK","GREY","21W x 18D","12 x 7","233",2,3,3,1]
["F","GEZ21181308","",260,"EZ LOCK","GREY","21W x 18D","13 x 8","234",2,3,4,1]
["FG","GEZ22210000","",261,"EZ LOCK","GREY","22W x 21D","NO","240",2,4,0,1]
["FG","GEZ22211207","",262,"EZ LOCK","GREY","22W x 21D","12 x 7","241",2,4,1,1]
["FG","GEZ22211308","",263,"EZ LOCK","GREY","22W x 21D","13 x 8","242",2,4,2,1]
["GHI","GEZ23220000","",264,"EZ LOCK","GREY","23.5W x 22D","NO","250",2,5,0,1]
["GHI","GEZ23221308","",265,"EZ LOCK","GREY","23.5W x 22D","13 x 8","251",2,5,1,1]
["GHI","GEZ23221409","",266,"EZ LOCK","GREY","23.5W x 22D","14 x 9","252",2,5,2,1]
["HI","GEZ23221509","",267,"EZ LOCK","GREY","23.5W x 22D","15 x 9","253",2,5,3,1]
["IJK","GEZ25220000","",268,"EZ LOCK","GREY","25.5W x 22D","NO","260",2,6,0,1]
["IJK","GEZ25221509","",269,"EZ LOCK","GREY","25.5W x 22D","15 x 9","261",2,6,1,1]
["IJK","GEZ25221610","",270,"EZ LOCK","GREY","25.5W x 22D","16 x 10","262",2,6,2,1]
["JK","GEZ25221710","",271,"EZ LOCK","GREY","25.5W x 22D","17 x 10","263",2,6,3,1]
["KLM","GEZ27230000","",272,"EZ LOCK","GREY","27.5W x 23.5D","NO","270",2,7,0,1]
["KLM","GEZ27231710","",273,"EZ LOCK","GREY","27.5W x 23.5D","17 x 10","271",2,7,1,1]
["KLM","GEZ27231810","",274,"EZ LOCK","GREY","27.5W x 23.5D","18 x 10","272",2,7,2,1]
["LM","GEZ27231910","",275,"EZ LOCK","GREY","27.5W x 23.5D","19 x 10","273",2,7,3,1]
["NO","GEZ29230000","",276,"EZ LOCK","GREY","29.5W x 23.5D","NO","280",2,8,0,1]
["NO","GEZ29231910","",277,"EZ LOCK","GREY","29.5W x 23.5D","19 x 10","281",2,8,1,1]
["PQ","GEZ31230000","",278,"EZ LOCK","GREY","31.5W x 23.5D","NO","290",2,9,0,1]
["PQ","GEZ31231910","",279,"EZ LOCK","GREY","31.5W x 23.5D","19 x 10","291",2,9,1,1]
["BCD","GXX18160000","",280,"NO","GREY","18W x 16D","NO","210",2,1,0,0]
["BCD","GXX18160805","",281,"NO","GREY","18W x 16D","8.5 x 5","211",2,1,1,0]
["BCD","GXX18160906","",282,"NO","GREY","18W x 16D","9 x 6","212",2,1,2,0]
["BCDEF","GXX20180000","",283,"NO","GREY","20W x 18D","NO","220",2,2,0,0]
["BCDEF","GXX20180906","",284,"NO","GREY","20W x 18D","9 x 6","221",2,2,1,0]
["BCDEF","GXX20181007","",285,"NO","GREY","20W x 18D","10 x 7","222",2,2,2,0]
["CDEF","GXX20181207","",286,"NO","GREY","20W x 18D","12 x 7","223",2,2,3,0]
["EFG","GXX21180000","",287,"NO","GREY","21W x 18D","NO","230",2,3,0,0]
["EFG","GXX21181007","",288,"NO","GREY","21W x 18D","10 x 7","231",2,3,1,0]
["EFG","GXX21181206","",289,"NO","GREY","21W x 18D","12 x 6","232",2,3,2,0]
["EFG","GXX21181207","",290,"NO","GREY","21W x 18D","12 x 7","233",2,3,3,0]
["EFG","GXX21181308","",291,"NO","GREY","21W x 18D","13 x 8","234",2,3,4,0]
["GH","GXX22210000","",292,"NO","GREY","22W x 21D","NO","240",2,4,0,0]
["GH","GXX22211207","",293,"NO","GREY","22W x 21D","12 x 7","241",2,4,1,0]
["GH","GXX22211308","",294,"NO","GREY","22W x 21D","13 x 8","242",2,4,2,0]
["HI","GXX23220000","",295,"NO","GREY","23.5W x 22D","NO","250",2,5,0,0]
["HI","GXX23221308","",296,"NO","GREY","23.5W x 22D","13 x 8","251",2,5,1,0]
["HI","GXX23221409","",297,"NO","GREY","23.5W x 22D","14 x 9","252",2,5,2,0]
["HI","GXX23221509","",298,"NO","GREY","23.5W x 22D","15 x 9","253",2,5,3,0]
["IJK","GXX25220000","",299,"NO","GREY","25.5W x 22D","NO","260",2,6,0,0]
["IJK","GXX25221509","",300,"NO","GREY","25.5W x 22D","15 x 9","261",2,6,1,0]
["IJK","GXX25221610","",301,"NO","GREY","25.5W x 22D","16 x 10","262",2,6,2,0]
["IJK","GXX25221710","",302,"NO","GREY","25.5W x 22D","17 x 10","263",2,6,3,0]
["JKLM","GXX27230000","",303,"NO","GREY","27.5W x 23.5D","NO","270",2,7,0,0]
["JKLM","GXX27231710","",304,"NO","GREY","27.5W x 23.5D","17 x 10","271",2,7,1,0]
["JKLM","GXX27231810","",305,"NO","GREY","27.5W x 23.5D","18 x 10","272",2,7,2,0]
["JKLM","GXX27231910","",306,"NO","GREY","27.5W x 23.5D","19 x 10","273",2,7,3,0]
["LMNO","GXX29230000","",307,"NO","GREY","29.5W x 23.5D","NO","280",2,8,0,0]
["LMNO","GXX29231910","",308,"NO","GREY","29.5W x 23.5D","19 x 10","281",2,8,1,0]
["NOPQ","GXX31230000","",309,"NO","GREY","31.5W x 23.5D","NO","290",2,9,0,0]
["NOPQ","GXX31231910","",310,"NO","GREY","31.5W x 23.5D","19 x 10","291",2,9,1,0]
["Z","GTD18160000","GTD18160000",311,"TOP DROP","GREY","18W x 16D","NO","210",2,1,0,2]
["Z","GTD18160805","GTD18160805",312,"TOP DROP","GREY","18W x 16D","8.5 x 5","211",2,1,1,2]
["Z","GTD18160906","GTD18160906",313,"TOP DROP","GREY","18W x 16D","9 x 6","212",2,1,2,2]
["BC","GTD20180000","",314,"TOP DROP","GREY","20W x 18D","NO","220",2,2,0,2]
["BC","GTD20180906","",315,"TOP DROP","GREY","20W x 18D","9 x 6","221",2,2,1,2]
["BC","GTD20181007","",316,"TOP DROP","GREY","20W x 18D","10 x 7","222",2,2,2,2]
["C","GTD20181207","",317,"TOP DROP","GREY","20W x 18D","12 x 7","223",2,2,3,2]
["BCD","GTD21180000","",318,"TOP DROP","GREY","21W x 18D","NO","230",2,3,0,2]
["BCD","GTD21181007","",319,"TOP DROP","GREY","21W x 18D","10 x 7","231",2,3,1,2]
["CD","GTD21181206","",320,"TOP DROP","GREY","21W x 18D","12 x 6","232",2,3,2,2]
["CD","GTD21181207",{"$f":"IF(CHAIRCONFIG<>1,B324,IF(ISERROR(SEARCH(SIZELETTER,A324,1)),\"\",B324))","v":""},321,"TOP DROP","GREY","21W x 18D","12 x 7",{"$f":"J324&K324&L324","v":"233"},2,3,3,2]
["D","GTD21181308","",322,"TOP DROP","GREY","21W x 18D","13 x 8","234",2,3,4,2]
["CDE","GTD22210000","",323,"TOP DROP","GREY","22W x 21D","NO","240",2,4,0,2]
["CDE","GTD22211207","",324,"TOP DROP","GREY","22W x 21D","12 x 7","241",2,4,1,2]
["DE","GTD22211308","",325,"TOP DROP","GREY","22W x 21D","13 x 8","242",2,4,2,2]
["DEF","GTD23220000","",326,"TOP DROP","GREY","23.5W x 22D","NO","250",2,5,0,2]
["DEF","GTD23221308","",327,"TOP DROP","GREY","23.5W x 22D","13 x 8","251",2,5,1,2]
["EF","GTD23221409","",328,"TOP DROP","GREY","23.5W x 22D","14 x 9","252",2,5,2,2]
["F","GTD23221509","",329,"TOP DROP","GREY","23.5W x 22D","15 x 9","253",2,5,3,2]
["FGH","GTD25220000","",330,"TOP DROP","GREY","25.5W x 22D","NO","260",2,6,0,2]
["FGH","GTD25221509","",331,"TOP DROP","GREY","25.5W x 22D","15 x 9","261",2,6,1,2]
["GH","GTD25221610","",332,"TOP DROP","GREY","25.5W x 22D","16 x 10","262",2,6,2,2]
["H","GTD25221710","",333,"TOP DROP","GREY","25.5W x 22D","17 x 10","263",2,6,3,2]
["HIJ","GTD27230000","",334,"TOP DROP","GREY","27.5W x 23.5D","NO","270",2,7,0,2]
["HIJ","GTD27231710","",335,"TOP DROP","GREY","27.5W x 23.5D","17 x 10","271",2,7,1,2]
["IJ","GTD27231810","",336,"TOP DROP","GREY","27.5W x 23.5D","18 x 10","272",2,7,2,2]
["J","GTD27231910","",337,"TOP DROP","GREY","27.5W x 23.5D","19 x 10","273",2,7,3,2]
["JKL","GTD29230000","",338,"TOP DROP","GREY","29.5W x 23.5D","NO","280",2,8,0,2]
["JKL","GTD29231910","",339,"TOP DROP","GREY","29.5W x 23.5D","19 x 10","281",2,8,1,2]
["LM","GTD31230000","",340,"TOP DROP","GREY","31.5W x 23.5D","NO","290",2,9,0,2]
["LM","GTD31231910","",341,"TOP DROP","GREY","31.5W x 23.5D","19 x 10","291",2,9,1,2]
["BCD","GTL18160000","",342,"TUBE LOCK","GREY","18W x 16D","NO","210",2,1,0,3]
["BCD","GTL18160805","",343,"TUBE LOCK","GREY","18W x 16D","8.5 x 5","211",2,1,1,3]
["BCD","GTL18160906","",344,"TUBE LOCK","GREY","18W x 16D","9 x 6","212",2,1,2,3]
["EFG","GTL20180000","",345,"TUBE LOCK","GREY","20W x 18D","NO","220",2,2,0,3]
["EFG","GTL20180906","",346,"TUBE LOCK","GREY","20W x 18D","9 x 6","221",2,2,1,3]
["EFG","GTL20181007","",347,"TUBE LOCK","GREY","20W x 18D","10 x 7","222",2,2,2,3]
["Z","GTL20181207","GTL20181207",348,"TUBE LOCK","GREY","20W x 18D","12 x 7","223",2,2,3,3]
["GH","GTL21180000","",349,"TUBE LOCK","GREY","21W x 18D","NO","230",2,3,0,3]
["GH","GTL21181007","",350,"TUBE LOCK","GREY","21W x 18D","10 x 7","231",2,3,1,3]
["GH","GTL21181206","",351,"TUBE LOCK","GREY","21W x 18D","12 x 6","232",2,3,2,3]
["GH","GTL21181207","",352,"TUBE LOCK","GREY","21W x 18D","12 x 7","233",2,3,3,3]
["H","GTL21181308","",353,"TUBE LOCK","GREY","21W x 18D","13 x 8","234",2,3,4,3]
["HI","GTL22210000","",354,"TUBE LOCK","GREY","22W x 21D","NO","240",2,4,0,3]
["HI","GTL22211207","",355,"TUBE LOCK","GREY","22W x 21D","12 x 7","241",2,4,1,3]
["HI","GTL22211308","",356,"TUBE LOCK","GREY","22W x 21D","13 x 8","242",2,4,2,3]
["IJ","GTL23220000","",357,"TUBE LOCK","GREY","23.5W x 22D","NO","250",2,5,0,3]
["IJ","GTL23221308","",358,"TUBE LOCK","GREY","23.5W x 22D","13 x 8","251",2,5,1,3]
["IJ","GTL23221409","",359,"TUBE LOCK","GREY","23.5W x 22D","14 x 9","252",2,5,2,3]
["J","GTL23221509","",360,"TUBE LOCK","GREY","23.5W x 22D","15 x 9","253",2,5,3,3]
["KL","GTL25220000","",361,"TUBE LOCK","GREY","25.5W x 22D","NO","260",2,6,0,3]
["KL","GTL25221509","",362,"TUBE LOCK","GREY","25.5W x 22D","15 x 9","261",2,6,1,3]
["KL","GTL25221610","",363,"TUBE LOCK","GREY","25.5W x 22D","16 x 10","262",2,6,2,3]
["L","GTL25221710","",364,"TUBE LOCK","GREY","25.5W x 22D","17 x 10","263",2,6,3,3]
["M","GTL27230000","",365,"TUBE LOCK","GREY","27.5W x 23.5D","NO","270",2,7,0,3]
["M","GTL27231710","",366,"TUBE LOCK","GREY","27.5W x 23.5D","17 x 10","271",2,7,1,3]
["M","GTL27231810","",367,"TUBE LOCK","GREY","27.5W x 23.5D","18 x 10","272",2,7,2,3]
["Z","GTL27231910","GTL27231910",368,"TUBE LOCK","GREY","27.5W x 23.5D","19 x 10","273",2,7,3,3]
["MNOP","GTL29230000","",369,"TUBE LOCK","GREY","29.5W x 23.5D","NO","280",2,8,0,3]
["MNOP","GTL29231910","",370,"TUBE LOCK","GREY","29.5W x 23.5D","19 x 10","281",2,8,1,3]
["MNOPQ","GTL31230000","",371,"TUBE LOCK","GREY","31.5W x 23.5D","NO","290",2,9,0,3]
["MNOPQ","GTL31231910","",372,"TUBE LOCK","GREY","31.5W x 23.5D","19 x 10","291",2,9,1,3]
["BCD","BU118160000","",373,"USLIDE 1-1/8","BLACK","18W x 16D","NO","310",3,1,0,4]
["BCD","BU118160805","",374,"USLIDE 1-1/8","BLACK","18W x 16D","8.5 x 5","311",3,1,1,4]
["BCD","BU118160906","",375,"USLIDE 1-1/8","BLACK","18W x 16D","9 x 6","312",3,1,2,4]
["BCDEF","BU120180000","",376,"USLIDE 1-1/8","BLACK","20W x 18D","NO","320",3,2,0,4]
["BCDEF","BU120180906","",377,"USLIDE 1-1/8","BLACK","20W x 18D","9 x 6","321",3,2,1,4]
["BCDEF","BU120181007","",378,"USLIDE 1-1/8","BLACK","20W x 18D","10 x 7","322",3,2,2,4]
["DEF","BU120181207","",379,"USLIDE 1-1/8","BLACK","20W x 18D","12 x 7","323",3,2,3,4]
["EFG","BU121180000","",380,"USLIDE 1-1/8","BLACK","21W x 18D","NO","330",3,3,0,4]
["EFG","BU121181007","",381,"USLIDE 1-1/8","BLACK","21W x 18D","10 x 7","331",3,3,1,4]
["EFG","BU121181206","",382,"USLIDE 1-1/8","BLACK","21W x 18D","12 x 6","332",3,3,2,4]
["EFG","BU121181207","",383,"USLIDE 1-1/8","BLACK","21W x 18D","12 x 7","333",3,3,3,4]
["EFG","BU121181308","",384,"USLIDE 1-1/8","BLACK","21W x 18D","13 x 8","334",3,3,4,4]
["GH","BU122210000",{"$f":"IF(CHAIRCONFIG<>1,B388,IF(ISERROR(SEARCH(SIZELETTER,A388,1)),\"\",B388))","v":""},385,"USLIDE 1-1/8","BLACK","22W x 21D","NO",{"$f":"J388&K388&L388","v":"340"},3,4,0,4]
["GH","BU122211207","",386,"USLIDE 1-1/8","BLACK","22W x 21D","12 x 7","341",3,4,1,4]
["GH","BU122211308","",387,"USLIDE 1-1/8","BLACK","22W x 21D","13 x 8","342",3,4,2,4]
["HI","BU123220000","",388,"USLIDE 1-1/8","BLACK","23.5W x 22D","NO","350",3,5,0,4]
["HI","BU123221308","",389,"USLIDE 1-1/8","BLACK","23.5W x 22D","13 x 8","351",3,5,1,4]
["HI","BU123221409","",390,"USLIDE 1-1/8","BLACK","23.5W x 22D","14 x 9","352",3,5,2,4]
["HI","BU123221509","",391,"USLIDE 1-1/8","BLACK","23.5W x 22D","15 x 9","353",3,5,3,4]
["IJK","BU125220000","",392,"USLIDE 1-1/8","BLACK","25.5W x 22D","NO","360",3,6,0,4]
["IJK","BU125221509","",393,"USLIDE 1-1/8","BLACK","25.5W x 22D","15 x 9","361",3,6,1,4]
["IJK","BU125221610","",394,"USLIDE 1-1/8","BLACK","25.5W x 22D","16 x 10","362",3,6,2,4]
["IJK","BU125221710","",395,"USLIDE 1-1/8","BLACK","25.5W x 22D","17 x 10","363",3,6,3,4]
["JKLM","BU127230000","",396,"USLIDE 1-1/8","BLACK","27.5W x 23.5D","NO","370",3,7,0,4]
["JKLM","BU127231710","",397,"USLIDE 1-1/8","BLACK","27.5W x 23.5D","17 x 10","371",3,7,1,4]
["JKLM","BU127231810","",398,"USLIDE 1-1/8","BLACK","27.5W x 23.5D","18 x 10","372",3,7,2,4]
["KLM","BU127231910","",399,"USLIDE 1-1/8","BLACK","27.5W x 23.5D","19 x 10","373",3,7,3,4]
["MNO","BU129230000","",400,"USLIDE 1-1/8","BLACK","29.5W x 23.5D","NO","380",3,8,0,4]
["MNO","BU129231910","",401,"USLIDE 1-1/8","BLACK","29.5W x 23.5D","19 x 10","381",3,8,1,4]
["OPQ","BU131230000","",402,"USLIDE 1-1/8","BLACK","31.5W x 23.5D","NO","390",3,9,0,4]
["OPQ","BU131231910","",403,"USLIDE 1-1/8","BLACK","31.5W x 23.5D","19 x 10","391",3,9,1,4]
["BCD","CU118160000","",404,"USLIDE 1-1/8","CLEAR","18W x 16D","NO","110",1,1,0,4]
["BCD","CU118160805","",405,"USLIDE 1-1/8","CLEAR","18W x 16D","8.5 x 5","111",1,1,1,4]
["BCD","CU118160906","",406,"USLIDE 1-1/8","CLEAR","18W x 16D","9 x 6","112",1,1,2,4]
["BCDEF","CU120180000","",407,"USLIDE 1-1/8","CLEAR","20W x 18D","NO","120",1,2,0,4]
["BCDEF","CU120180906","",408,"USLIDE 1-1/8","CLEAR","20W x 18D","9 x 6","121",1,2,1,4]
["BCDEF","CU120181007","",409,"USLIDE 1-1/8","CLEAR","20W x 18D","10 x 7","122",1,2,2,4]
["DEF","CU120181207","",410,"USLIDE 1-1/8","CLEAR","20W x 18D","12 x 7","123",1,2,3,4]
["EFG","CU121180000","",411,"USLIDE 1-1/8","CLEAR","21W x 18D","NO","130",1,3,0,4]
["EFG","CU121181007","",412,"USLIDE 1-1/8","CLEAR","21W x 18D","10 x 7","131",1,3,1,4]
["EFG","CU121181206","",413,"USLIDE 1-1/8","CLEAR","21W x 18D","12 x 6","132",1,3,2,4]
["EFG","CU121181207","",414,"USLIDE 1-1/8","CLEAR","21W x 18D","12 x 7","133",1,3,3,4]
["EFG","CU121181308","",415,"USLIDE 1-1/8","CLEAR","21W x 18D","13 x 8","134",1,3,4,4]
["GH","CU122210000","",416,"USLIDE 1-1/8","CLEAR","22W x 21D","NO","140",1,4,0,4]
["GH","CU122211207","",417,"USLIDE 1-1/8","CLEAR","22W x 21D","12 x 7","141",1,4,1,4]
["GH","CU122211308","",418,"USLIDE 1-1/8","CLEAR","22W x 21D","13 x 8","142",1,4,2,4]
["HI","CU123220000","",419,"USLIDE 1-1/8","CLEAR","23.5W x 22D","NO","150",1,5,0,4]
["HI","CU123221308","",420,"USLIDE 1-1/8","CLEAR","23.5W x 22D","13 x 8","151",1,5,1,4]
["HI","CU123221409","",421,"USLIDE 1-1/8","CLEAR","23.5W x 22D","14 x 9","152",1,5,2,4]
["HI","CU123221509","",422,"USLIDE 1-1/8","CLEAR","23.5W x 22D","15 x 9","153",1,5,3,4]
["IJK","CU125220000","",423,"USLIDE 1-1/8","CLEAR","25.5W x 22D","NO","160",1,6,0,4]
["IJK","CU125221509","",424,"USLIDE 1-1/8","CLEAR","25.5W x 22D","15 x 9","161",1,6,1,4]
["IJK","CU125221610","",425,"USLIDE 1-1/8","CLEAR","25.5W x 22D","16 x 10","162",1,6,2,4]
["IJK","CU125221710","",426,"USLIDE 1-1/8","CLEAR","25.5W x 22D","17 x 10","163",1,6,3,4]
["JKLM","CU127230000","",427,"USLIDE 1-1/8","CLEAR","27.5W x 23.5D","NO","170",1,7,0,4]
["JKLM","CU127231710","",428,"USLIDE 1-1/8","CLEAR","27.5W x 23.5D","17 x 10","171",1,7,1,4]
["JKLM","CU127231810","",429,"USLIDE 1-1/8","CLEAR","27.5W x 23.5D","18 x 10","172",1,7,2,4]
["KLM","CU127231910","",430,"USLIDE 1-1/8","CLEAR","27.5W x 23.5D","19 x 10","173",1,7,3,4]
["MNO","CU129230000","",431,"USLIDE 1-1/8","CLEAR","29.5W x 23.5D","NO","180",1,8,0,4]
["MNO","CU129231910","",432,"USLIDE 1-1/8","CLEAR","29.5W x 23.5D","19 x 10","181",1,8,1,4]
["OPQ","CU131230000","",433,"USLIDE 1-1/8","CLEAR","31.5W x 23.5D","NO","190",1,9,0,4]
["OPQ","CU131231910","",434,"USLIDE 1-1/8","CLEAR","31.5W x 23.5D","19 x 10","191",1,9,1,4]
["BCD","GU118160000","",435,"USLIDE 1-1/8","GREY","18W x 16D","NO","210",2,1,0,4]
["BCD","GU118160805","",436,"USLIDE 1-1/8","GREY","18W x 16D","8.5 x 5","211",2,1,1,4]
["BCD","GU118160906","",437,"USLIDE 1-1/8","GREY","18W x 16D","9 x 6","212",2,1,2,4]
["BCDEF","GU120180000","",438,"USLIDE 1-1/8","GREY","20W x 18D","NO","220",2,2,0,4]
["BCDEF","GU120180906","",439,"USLIDE 1-1/8","GREY","20W x 18D","9 x 6","221",2,2,1,4]
["BCDEF","GU120181007","",440,"USLIDE 1-1/8","GREY","20W x 18D","10 x 7","222",2,2,2,4]
["DEF","GU120181207","",441,"USLIDE 1-1/8","GREY","20W x 18D","12 x 7","223",2,2,3,4]
["EFG","GU121180000","",442,"USLIDE 1-1/8","GREY","21W x 18D","NO","230",2,3,0,4]
["EFG","GU121181007","",443,"USLIDE 1-1/8","GREY","21W x 18D","10 x 7","231",2,3,1,4]
["EFG","GU121181206","",444,"USLIDE 1-1/8","GREY","21W x 18D","12 x 6","232",2,3,2,4]
["EFG","GU121181207","",445,"USLIDE 1-1/8","GREY","21W x 18D","12 x 7","233",2,3,3,4]
["EFG","GU121181308","",446,"USLIDE 1-1/8","GREY","21W x 18D","13 x 8","234",2,3,4,4]
["GH","GU122210000","",447,"USLIDE 1-1/8","GREY","22W x 21D","NO","240",2,4,0,4]
["GH","GU122211207","",448,"USLIDE 1-1/8","GREY","22W x 21D","12 x 7","241",2,4,1,4]
["GH","GU122211308",{"$f":"IF(CHAIRCONFIG<>1,B452,IF(ISERROR(SEARCH(SIZELETTER,A452,1)),\"\",B452))","v":""},449,"USLIDE 1-1/8","GREY","22W x 21D","13 x 8",{"$f":"J452&K452&L452","v":"242"},2,4,2,4]
["HI","GU123220000","",450,"USLIDE 1-1/8","GREY","23.5W x 22D","NO","250",2,5,0,4]
["HI","GU123221308","",451,"USLIDE 1-1/8","GREY","23.5W x 22D","13 x 8","251",2,5,1,4]
["HI","GU123221409","",452,"USLIDE 1-1/8","GREY","23.5W x 22D","14 x 9","252",2,5,2,4]
["HI","GU123221509","",453,"USLIDE 1-1/8","GREY","23.5W x 22D","15 x 9","253",2,5,3,4]
["IJK","GU125220000","",454,"USLIDE 1-1/8","GREY","25.5W x 22D","NO","260",2,6,0,4]
["IJK","GU125221509","",455,"USLIDE 1-1/8","GREY","25.5W x 22D","15 x 9","261",2,6,1,4]
["IJK","GU125221610","",456,"USLIDE 1-1/8","GREY","25.5W x 22D","16 x 10","262",2,6,2,4]
["IJK","GU125221710","",457,"USLIDE 1-1/8","GREY","25.5W x 22D","17 x 10","263",2,6,3,4]
["JKLM","GU127230000","",458,"USLIDE 1-1/8","GREY","27.5W x 23.5D","NO","270",2,7,0,4]
["JKLM","GU127231710","",459,"USLIDE 1-1/8","GREY","27.5W x 23.5D","17 x 10","271",2,7,1,4]
["JKLM","GU127231810","",460,"USLIDE 1-1/8","GREY","27.5W x 23.5D","18 x 10","272",2,7,2,4]
["KLM","GU127231910","",461,"USLIDE 1-1/8","GREY","27.5W x 23.5D","19 x 10","273",2,7,3,4]
["MNO","GU129230000","",462,"USLIDE 1-1/8","GREY","29.5W x 23.5D","NO","280",2,8,0,4]
["MNO","GU129231910","",463,"USLIDE 1-1/8","GREY","29.5W x 23.5D","19 x 10","281",2,8,1,4]
["OPQ","GU131230000","",464,"USLIDE 1-1/8","GREY","31.5W x 23.5D","NO","290",2,9,0,4]
["OPQ","GU131231910","",465,"USLIDE 1-1/8","GREY","31.5W x 23.5D","19 x 10","291",2,9,1,4]
["BCD","BU218160000","",373,"USLIDE 1-1/2","BLACK","18W x 16D","NO","310",3,1,0,5]
["BCD","BU218160805","",374,"USLIDE 1-1/2","BLACK","18W x 16D","8.5 x 5","311",3,1,1,5]
["BCD","BU218160906","",375,"USLIDE 1-1/2","BLACK","18W x 16D","9 x 6","312",3,1,2,5]
["BCDEF","BU220180000","",376,"USLIDE 1-1/2","BLACK","20W x 18D","NO","320",3,2,0,5]
["BCDEF","BU220180906","",377,"USLIDE 1-1/2","BLACK","20W x 18D","9 x 6","321",3,2,1,5]
["BCDEF","BU220181007","",378,"USLIDE 1-1/2","BLACK","20W x 18D","10 x 7","322",3,2,2,5]
["DEF","BU220181207","",379,"USLIDE 1-1/2","BLACK","20W x 18D","12 x 7","323",3,2,3,5]
["EFG","BU221180000","",380,"USLIDE 1-1/2","BLACK","21W x 18D","NO","330",3,3,0,5]
["EFG","BU221181007","",381,"USLIDE 1-1/2","BLACK","21W x 18D","10 x 7","331",3,3,1,5]
["EFG","BU221181206","",382,"USLIDE 1-1/2","BLACK","21W x 18D","12 x 6","332",3,3,2,5]
["EFG","BU221181207","",383,"USLIDE 1-1/2","BLACK","21W x 18D","12 x 7","333",3,3,3,5]
["EFG","BU221181308","",384,"USLIDE 1-1/2","BLACK","21W x 18D","13 x 8","334",3,3,4,5]
["GH","BU222210000","",385,"USLIDE 1-1/2","BLACK","22W x 21D","NO","340",3,4,0,5]
["GH","BU222211207","",386,"USLIDE 1-1/2","BLACK","22W x 21D","12 x 7","341",3,4,1,5]
["GH","BU222211308","",387,"USLIDE 1-1/2","BLACK","22W x 21D","13 x 8","342",3,4,2,5]
["HI","BU223220000","",388,"USLIDE 1-1/2","BLACK","23.5W x 22D","NO","350",3,5,0,5]
["HI","BU223221308","",389,"USLIDE 1-1/2","BLACK","23.5W x 22D","13 x 8","351",3,5,1,5]
["HI","BU223221409","",390,"USLIDE 1-1/2","BLACK","23.5W x 22D","14 x 9","352",3,5,2,5]
["HI","BU223221509","",391,"USLIDE 1-1/2","BLACK","23.5W x 22D","15 x 9","353",3,5,3,5]
["IJK","BU225220000","",392,"USLIDE 1-1/2","BLACK","25.5W x 22D","NO","360",3,6,0,5]
["IJK","BU225221509","",393,"USLIDE 1-1/2","BLACK","25.5W x 22D","15 x 9","361",3,6,1,5]
["IJK","BU225221610","",394,"USLIDE 1-1/2","BLACK","25.5W x 22D","16 x 10","362",3,6,2,5]
["IJK","BU225221710","",395,"USLIDE 1-1/2","BLACK","25.5W x 22D","17 x 10","363",3,6,3,5]
["JKLM","BU227230000","",396,"USLIDE 1-1/2","BLACK","27.5W x 23.5D","NO","370",3,7,0,5]
["JKLM","BU227231710","",397,"USLIDE 1-1/2","BLACK","27.5W x 23.5D","17 x 10","371",3,7,1,5]
["JKLM","BU227231810","",398,"USLIDE 1-1/2","BLACK","27.5W x 23.5D","18 x 10","372",3,7,2,5]
["KLM","BU227231910","",399,"USLIDE 1-1/2","BLACK","27.5W x 23.5D","19 x 10","373",3,7,3,5]
["MNO","BU229230000","",400,"USLIDE 1-1/2","BLACK","29.5W x 23.5D","NO","380",3,8,0,5]
["MNO","BU229231910","",401,"USLIDE 1-1/2","BLACK","29.5W x 23.5D","19 x 10","381",3,8,1,5]
["OPQ","BU231230000","",402,"USLIDE 1-1/2","BLACK","31.5W x 23.5D","NO","390",3,9,0,5]
["OPQ","BU231231910","",403,"USLIDE 1-1/2","BLACK","31.5W x 23.5D","19 x 10","391",3,9,1,5]
["BCD","CU218160000","",404,"USLIDE 1-1/2","CLEAR","18W x 16D","NO","110",1,1,0,5]
["BCD","CU218160805","",405,"USLIDE 1-1/2","CLEAR","18W x 16D","8.5 x 5","111",1,1,1,5]
["BCD","CU218160906","",406,"USLIDE 1-1/2","CLEAR","18W x 16D","9 x 6","112",1,1,2,5]
["BCDEF","CU220180000","",407,"USLIDE 1-1/2","CLEAR","20W x 18D","NO","120",1,2,0,5]
["BCDEF","CU220180906","",408,"USLIDE 1-1/2","CLEAR","20W x 18D","9 x 6","121",1,2,1,5]
["BCDEF","CU220181007","",409,"USLIDE 1-1/2","CLEAR","20W x 18D","10 x 7","122",1,2,2,5]
["DEF","CU220181207","",410,"USLIDE 1-1/2","CLEAR","20W x 18D","12 x 7","123",1,2,3,5]
["EFG","CU221180000","",411,"USLIDE 1-1/2","CLEAR","21W x 18D","NO","130",1,3,0,5]
["EFG","CU221181007","",412,"USLIDE 1-1/2","CLEAR","21W x 18D","10 x 7","131",1,3,1,5]
["EFG","CU221181206","",413,"USLIDE 1-1/2","CLEAR","21W x 18D","12 x 6","132",1,3,2,5]
["EFG","CU221181207","",414,"USLIDE 1-1/2","CLEAR","21W x 18D","12 x 7","133",1,3,3,5]
["EFG","CU221181308","",415,"USLIDE 1-1/2","CLEAR","21W x 18D","13 x 8","134",1,3,4,5]
["GH","CU222210000","",416,"USLIDE 1-1/2","CLEAR","22W x 21D","NO","140",1,4,0,5]
["GH","CU222211207","",417,"USLIDE 1-1/2","CLEAR","22W x 21D","12 x 7","141",1,4,1,5]
["GH","CU222211308","",418,"USLIDE 1-1/2","CLEAR","22W x 21D","13 x 8","142",1,4,2,5]
["HI","CU223220000","",419,"USLIDE 1-1/2","CLEAR","23.5W x 22D","NO","150",1,5,0,5]
["HI","CU223221308",{"$f":"IF(CHAIRCONFIG<>1,B516,IF(ISERROR(SEARCH(SIZELETTER,A516,1)),\"\",B516))","v":""},420,"USLIDE 1-1/2","CLEAR","23.5W x 22D","13 x 8",{"$f":"J516&K516&L516","v":"151"},1,5,1,5]
["HI","CU223221409","",421,"USLIDE 1-1/2","CLEAR","23.5W x 22D","14 x 9","152",1,5,2,5]
["HI","CU223221509","",422,"USLIDE 1-1/2","CLEAR","23.5W x 22D","15 x 9","153",1,5,3,5]
["IJK","CU225220000","",423,"USLIDE 1-1/2","CLEAR","25.5W x 22D","NO","160",1,6,0,5]
["IJK","CU225221509","",424,"USLIDE 1-1/2","CLEAR","25.5W x 22D","15 x 9","161",1,6,1,5]
["IJK","CU225221610","",425,"USLIDE 1-1/2","CLEAR","25.5W x 22D","16 x 10","162",1,6,2,5]
["IJK","CU225221710","",426,"USLIDE 1-1/2","CLEAR","25.5W x 22D","17 x 10","163",1,6,3,5]
["JKLM","CU227230000","",427,"USLIDE 1-1/2","CLEAR","27.5W x 23.5D","NO","170",1,7,0,5]
["JKLM","CU227231710","",428,"USLIDE 1-1/2","CLEAR","27.5W x 23.5D","17 x 10","171",1,7,1,5]
["JKLM","CU227231810","",429,"USLIDE 1-1/2","CLEAR","27.5W x 23.5D","18 x 10","172",1,7,2,5]
["KLM","CU227231910","",430,"USLIDE 1-1/2","CLEAR","27.5W x 23.5D","19 x 10","173",1,7,3,5]
["MNO","CU229230000","",431,"USLIDE 1-1/2","CLEAR","29.5W x 23.5D","NO","180",1,8,0,5]
["MNO","CU229231910","",432,"USLIDE 1-1/2","CLEAR","29.5W x 23.5D","19 x 10","181",1,8,1,5]
["OPQ","CU231230000","",433,"USLIDE 1-1/2","CLEAR","31.5W x 23.5D","NO","190",1,9,0,5]
["OPQ","CU231231910","",434,"USLIDE 1-1/2","CLEAR","31.5W x 23.5D","19 x 10","191",1,9,1,5]
["BCD","GU218160000","",435,"USLIDE 1-1/2","GREY","18W x 16D","NO","210",2,1,0,5]
["BCD","GU218160805","",436,"USLIDE 1-1/2","GREY","18W x 16D","8.5 x 5","211",2,1,1,5]
["BCD","GU218160906","",437,"USLIDE 1-1/2","GREY","18W x 16D","9 x 6","212",2,1,2,5]
["BCDEF","GU220180000","",438,"USLIDE 1-1/2","GREY","20W x 18D","NO","220",2,2,0,5]
["BCDEF","GU220180906","",439,"USLIDE 1-1/2","GREY","20W x 18D","9 x 6","221",2,2,1,5]
["BCDEF","GU220181007","",440,"USLIDE 1-1/2","GREY","20W x 18D","10 x 7","222",2,2,2,5]
["DEF","GU220181207","",441,"USLIDE 1-1/2","GREY","20W x 18D","12 x 7","223",2,2,3,5]
["EFG","GU221180000","",442,"USLIDE 1-1/2","GREY","21W x 18D","NO","230",2,3,0,5]
["EFG","GU221181007","",443,"USLIDE 1-1/2","GREY","21W x 18D","10 x 7","231",2,3,1,5]
["EFG","GU221181206","",444,"USLIDE 1-1/2","GREY","21W x 18D","12 x 6","232",2,3,2,5]
["EFG","GU221181207","",445,"USLIDE 1-1/2","GREY","21W x 18D","12 x 7","233",2,3,3,5]
["EFG","GU221181308","",446,"USLIDE 1-1/2","GREY","21W x 18D","13 x 8","234",2,3,4,5]
["GH","GU222210000","",447,"USLIDE 1-1/2","GREY","22W x 21D","NO","240",2,4,0,5]
["GH","GU222211207","",448,"USLIDE 1-1/2","GREY","22W x 21D","12 x 7","241",2,4,1,5]
["GH","GU222211308","",449,"USLIDE 1-1/2","GREY","22W x 21D","13 x 8","242",2,4,2,5]
["HI","GU223220000","",450,"USLIDE 1-1/2","GREY","23.5W x 22D","NO","250",2,5,0,5]
["HI","GU223221308","",451,"USLIDE 1-1/2","GREY","23.5W x 22D","13 x 8","251",2,5,1,5]
["HI","GU223221409","",452,"USLIDE 1-1/2","GREY","23.5W x 22D","14 x 9","252",2,5,2,5]
["HI","GU223221509","",453,"USLIDE 1-1/2","GREY","23.5W x 22D","15 x 9","253",2,5,3,5]
["IJK","GU225220000","",454,"USLIDE 1-1/2","GREY","25.5W x 22D","NO","260",2,6,0,5]
["IJK","GU225221509","",455,"USLIDE 1-1/2","GREY","25.5W x 22D","15 x 9","261",2,6,1,5]
["IJK","GU225221610","",456,"USLIDE 1-1/2","GREY","25.5W x 22D","16 x 10","262",2,6,2,5]
["IJK","GU225221710","",457,"USLIDE 1-1/2","GREY","25.5W x 22D","17 x 10","263",2,6,3,5]
["JKLM","GU227230000","",458,"USLIDE 1-1/2","GREY","27.5W x 23.5D","NO","270",2,7,0,5]
["JKLM","GU227231710","",459,"USLIDE 1-1/2","GREY","27.5W x 23.5D","17 x 10","271",2,7,1,5]
["JKLM","GU227231810","",460,"USLIDE 1-1/2","GREY","27.5W x 23.5D","18 x 10","272",2,7,2,5]
["KLM","GU227231910","",461,"USLIDE 1-1/2","GREY","27.5W x 23.5D","19 x 10","273",2,7,3,5]
["MNO","GU229230000","",462,"USLIDE 1-1/2","GREY","29.5W x 23.5D","NO","280",2,8,0,5]
["MNO","GU229231910","",463,"USLIDE 1-1/2","GREY","29.5W x 23.5D","19 x 10","281",2,8,1,5]
["OPQ","GU231230000","",464,"USLIDE 1-1/2","GREY","31.5W x 23.5D","NO","290",2,9,0,5]
["OPQ","GU231231910","",465,"USLIDE 1-1/2","GREY","31.5W x 23.5D","19 x 10","291",2,9,1,5]

{"sheet":"TrayPrices","index":15,"n_rows":2175,"n_cols":7,"rows_kept":2175,"cut":false,"hidden":true,"merged":[]}
["TRAY PRICING",null,"Seating Qualified?",{"$f":"AND(Form!$L$71=\"826T8861\",'Pick List'!$P$6<=0.6,OR('Pick List'!$B$47,'Pick List'!$B$19))","v":false},"(must order back or seat & have code)"]
[]
["These values are used for the tray portion of the pick list and at the top for price and cost"]
[null,"Retail","Primary","Best Cost","Second","Seating","Fake Retail"]
["RETAIL=",{"$f":"IFERROR(VLOOKUP('Tray Maker'!$I$8,$A$8:$B$2175,2),\"QUOTE\")","v":343},{"$f":"IFERROR('Pick List'!$P$5*B5,\"QUOTE\")","v":343},{"$f":"IF($D$1,F5,E5)","v":343},{"$f":"IFERROR('Pick List'!$P$6*B5,\"QUOTE\")","v":343},{"$f":"IFERROR(VLOOKUP('Tray Maker'!$I$8,$A$8:$C$2175,3),\"QUOTE\")","v":90.24},{"$f":"F5/'Pick List'!$P$6","v":90.24}]
["Note: Some items are not real.  They are needed so all possible values are in the lookup list. There prices are fake too."]
["ITEM#","RETAIL","SEATING",null,"new retail of 9999 means fake item",null,"Saved old retail"]
["T11000X",161,46.58,null,null,null,154]
["T11001A",9999,72.61,null,null,null,270]
["T11001U",269,62.61,null,null,null,258]
["T11002A",9999,78.08,null,null,null,289]
["T11002U",289,68.08,null,null,null,277]
["T11003A",9999,72.61,null,null,null,270]
["T11003U",269,62.61,null,null,null,258]
["T11004A",9999,70.400000000000006,null,null,null,254]
["T11004U",252,60.4,null,null,null,242]
["T11005A",9999,70.400000000000006,null,null,null,254]
["T11005U",252,60.4,null,null,null,242]
["T11010X",206,59.25,null,null,null,198]
["T11011A",9999,85.62,null,null,null,314]
["T11011U",315,75.62,null,null,null,302]
["T11012A",9999,90.79,null,null,null,333]
["T11012U",334,80.790000000000006,null,null,null,321]
["T11013A",9999,85.62,null,null,null,314]
["T11013U",315,75.62,null,null,null,302]
["T11014A",9999,83.36,null,null,null,298]
["T11014U",298,73.36,null,null,null,286]
["T11015A",9999,83.36,null,null,null,298]
["T11015U",298,73.36,null,null,null,286]
["T11100X",161,46.58,null,null,null,154]
["T11101A",281,75.45,null,null,null,270]
["T11101U",269,62.61,null,null,null,258]
["T11102A",301,80.87,null,null,null,289]
["T11102U",289,68.08,null,null,null,277]
["T11103A",281,75.45,null,null,null,270]
["T11103U",269,62.61,null,null,null,258]
["T11104A",265,73.45,null,null,null,254]
["T11104U",252,60.4,null,null,null,242]
["T11105A",265,73.45,null,null,null,254]
["T11105U",252,60.4,null,null,null,242]
["T11110X",206,59.25,null,null,null,198]
["T11111A",327,88.41,null,null,null,314]
["T11111U",315,75.62,null,null,null,302]
["T11112A",347,93.88,null,null,null,333]
["T11112U",334,80.790000000000006,null,null,null,321]
["T11113A",327,88.41,null,null,null,314]
["T11113U",315,75.62,null,null,null,302]
["T11114A",310,86.19,null,null,null,298]
["T11114U",298,73.36,null,null,null,286]
["T11115A",310,86.19,null,null,null,298]
["T11115U",298,73.36,null,null,null,286]
["T11200X",161,46.58,null,null,null,154]
["T11201A",281,75.45,null,null,null,270]
["T11201U",269,62.61,null,null,null,258]
["T11202A",301,80.87,null,null,null,289]
["T11202U",289,68.08,null,null,null,277]
["T11203A",281,75.45,null,null,null,270]
["T11203U",269,62.61,null,null,null,258]
["T11204A",265,73.45,null,null,null,254]
["T11204U",252,60.4,null,null,null,242]
["T11205A",265,73.45,null,null,null,254]
["T11205U",252,60.4,null,null,null,242]
["T11210X",206,59.25,null,null,null,198]
["T11211A",327,88.41,null,null,null,314]
["T11211U",315,75.62,null,null,null,302]
["T11212A",347,93.88,null,null,null,333]
["T11212U",334,80.790000000000006,null,null,null,321]
["T11213A",327,88.41,null,null,null,314]
["T11213U",315,75.62,null,null,null,302]
["T11214A",310,86.19,null,null,null,298]
["T11214U",298,73.36,null,null,null,286]
["T11215A",310,86.19,null,null,null,298]
["T11215U",298,73.36,null,null,null,286]
["T12000X",161,46.58,null,null,null,154]
["T12001A",9999,72.61,null,null,null,270]
["T12001U",269,62.61,null,null,null,258]
["T12002A",9999,78.08,null,null,null,289]
["T12002U",289,68.08,null,null,null,277]
["T12003A",9999,72.61,null,null,null,270]
["T12003U",269,62.61,null,null,null,258]
["T12004A",9999,70.400000000000006,null,null,null,254]
["T12004U",252,60.4,null,null,null,242]
["T12005A",9999,70.400000000000006,null,null,null,254]
["T12005U",252,60.4,null,null,null,242]
["T12010X",206,59.25,null,null,null,198]
["T12011A",9999,85.62,null,null,null,314]
["T12011U",315,75.62,null,null,null,302]
["T12012A",9999,90.79,null,null,null,333]
["T12012U",334,80.790000000000006,null,null,null,321]
["T12013A",9999,85.62,null,null,null,314]
["T12013U",315,75.62,null,null,null,302]
["T12014A",9999,83.36,null,null,null,298]
["T12014U",298,73.36,null,null,null,286]
["T12015A",9999,83.36,null,null,null,298]
["T12015U",298,73.36,null,null,null,286]
["T12100X",161,46.58,null,null,null,154]
["T12101A",281,75.45,null,null,null,270]
["T12101U",269,62.61,null,null,null,258]
["T12102A",301,80.87,null,null,null,289]
["T12102U",289,68.08,null,null,null,277]
["T12103A",281,75.45,null,null,null,270]
["T12103U",269,62.61,null,null,null,258]
["T12104A",265,73.45,null,null,null,254]
["T12104U",252,60.4,null,null,null,242]
["T12105A",265,73.45,null,null,null,254]
["T12105U",252,60.4,null,null,null,242]
["T12110X",206,59.25,null,null,null,198]
["T12111A",327,88.41,null,null,null,314]
["T12111U",315,75.62,null,null,null,302]
["T12112A",347,93.88,null,null,null,333]
["T12112U",334,80.790000000000006,null,null,null,321]
["T12113A",327,88.41,null,null,null,314]
["T12113U",315,75.62,null,null,null,302]
["T12114A",310,86.19,null,null,null,298]
["T12114U",298,73.36,null,null,null,286]
["T12115A",310,86.19,null,null,null,298]
["T12115U",298,73.36,null,null,null,286]
["T12200X",161,46.58,null,null,null,154]
["T12201A",281,75.45,null,null,null,270]
["T12201U",269,62.61,null,null,null,258]
["T12202A",301,80.87,null,null,null,289]
["T12202U",289,68.08,null,null,null,277]
["T12203A",281,75.45,null,null,null,270]
["T12203U",269,62.61,null,null,null,258]
["T12204A",265,73.45,null,null,null,254]
["T12204U",252,60.4,null,null,null,242]
["T12205A",265,73.45,null,null,null,254]
["T12205U",252,60.4,null,null,null,242]
["T12210X",206,59.25,null,null,null,198]
["T12211A",327,88.41,null,null,null,314]
["T12211U",315,75.62,null,null,null,302]
["T12212A",347,93.88,null,null,null,333]
["T12212U",334,80.790000000000006,null,null,null,321]
["T12213A",327,88.41,null,null,null,314]
["T12213U",315,75.62,null,null,null,302]
["T12214A",310,86.19,null,null,null,298]
["T12214U",298,73.36,null,null,null,286]
["T12215A",310,86.19,null,null,null,298]
["T12215U",298,73.36,null,null,null,286]
["T12300X",161,46.58,null,null,null,154]
["T12301A",281,75.45,null,null,null,270]
["T12301U",269,62.61,null,null,null,258]
["T12302A",301,80.87,null,null,null,289]
["T12302U",289,68.08,null,null,null,277]
["T12303A",281,75.45,null,null,null,270]
["T12303U",269,62.61,null,null,null,258]
["T12304A",265,73.45,null,null,null,254]
["T12304U",252,60.4,null,null,null,242]
["T12305A",265,73.45,null,null,null,254]
["T12305U",252,60.4,null,null,null,242]
["T12310X",206,59.25,null,null,null,198]
["T12311A",327,88.41,null,null,null,314]
["T12311U",315,75.62,null,null,null,302]
["T12312A",347,93.88,null,null,null,333]
["T12312U",334,80.790000000000006,null,null,null,321]
["T12313A",327,88.41,null,null,null,314]
["T12313U",315,75.62,null,null,null,302]
["T12314A",310,86.19,null,null,null,298]
["T12314U",298,73.36,null,null,null,286]
["T12315A",310,86.19,null,null,null,298]
["T12315U",298,73.36,null,null,null,286]
["T13000X",167,48.32,null,null,null,160]
["T13001A",9999,72.61,null,null,null,270]
["T13001U",269,62.61,null,null,null,258]
["T13002A",9999,78.08,null,null,null,289]
["T13002U",289,68.08,null,null,null,277]
["T13003A",9999,72.61,null,null,null,270]
["T13003U",269,62.61,null,null,null,258]
["T13004A",9999,70.400000000000006,null,null,null,254]
["T13004U",252,60.4,null,null,null,242]
["T13005A",9999,70.400000000000006,null,null,null,254]
["T13005U",252,60.4,null,null,null,242]
["T13010X",213,61.27,null,null,null,204]
["T13011A",9999,85.62,null,null,null,314]
["T13011U",315,75.62,null,null,null,302]
["T13012A",9999,90.79,null,null,null,333]
["T13012U",334,80.790000000000006,null,null,null,321]
["T13013A",9999,85.62,null,null,null,314]
["T13013U",315,75.62,null,null,null,302]
["T13014A",9999,83.36,null,null,null,298]
["T13014U",298,73.36,null,null,null,286]
["T13015A",9999,83.36,null,null,null,298]
["T13015U",298,73.36,null,null,null,286]
["T13100X",167,48.32,null,null,null,160]
["T13101A",281,75.45,null,null,null,270]
["T13101U",269,62.61,null,null,null,258]
["T13102A",301,80.87,null,null,null,289]
["T13102U",289,68.08,null,null,null,277]
["T13103A",281,75.45,null,null,null,270]
["T13103U",269,62.61,null,null,null,258]
["T13104A",265,73.45,null,null,null,254]
["T13104U",252,60.4,null,null,null,242]
["T13105A",265,73.45,null,null,null,254]
["T13105U",252,60.4,null,null,null,242]
["T13110X",213,61.27,null,null,null,204]
["T13111A",327,88.41,null,null,null,314]
["T13111U",315,75.62,null,null,null,302]
["T13112A",347,93.88,null,null,null,333]
["T13112U",334,80.790000000000006,null,null,null,321]
["T13113A",327,88.41,null,null,null,314]
["T13113U",315,75.62,null,null,null,302]
["T13114A",310,86.19,null,null,null,298]
["T13114U",298,73.36,null,null,null,286]
["T13115A",310,86.19,null,null,null,298]
["T13115U",298,73.36,null,null,null,286]
["T13200X",167,48.32,null,null,null,160]
["T13201A",281,75.45,null,null,null,270]
["T13201U",269,62.61,null,null,null,258]
["T13202A",301,80.87,null,null,null,289]
["T13202U",289,68.08,null,null,null,277]
["T13203A",281,75.45,null,null,null,270]
["T13203U",269,62.61,null,null,null,258]
["T13204A",265,73.45,null,null,null,254]
["T13204U",252,60.4,null,null,null,242]
["T13205A",265,73.45,null,null,null,254]
["T13205U",252,60.4,null,null,null,242]
["T13210X",213,61.27,null,null,null,204]
["T13211A",327,88.41,null,null,null,314]
["T13211U",315,75.62,null,null,null,302]
["T13212A",347,93.88,null,null,null,333]
["T13212U",334,80.790000000000006,null,null,null,321]
["T13213A",327,88.41,null,null,null,314]
["T13213U",315,75.62,null,null,null,302]
["T13214A",310,86.19,null,null,null,298]
["T13214U",298,73.36,null,null,null,286]
["T13215A",310,86.19,null,null,null,298]
["T13215U",298,73.36,null,null,null,286]
["T13220X",212,61.29,null,null,null,203]
["T13300X",167,48.32,null,null,null,160]
["T13301A",281,75.45,null,null,null,270]
["T13301U",269,62.61,null,null,null,258]
["T13302A",301,80.87,null,null,null,289]
["T13302U",289,68.08,null,null,null,277]
["T13303A",281,75.45,null,null,null,270]
["T13303U",269,62.61,null,null,null,258]
["T13304A",265,73.45,null,null,null,254]
["T13304U",252,60.4,null,null,null,242]
["T13305A",265,73.45,null,null,null,254]
["T13305U",252,60.4,null,null,null,242]
["T13310X",213,61.27,null,null,null,204]
["T13311A",327,88.41,null,null,null,314]
["T13311U",315,75.62,null,null,null,302]
["T13312A",347,93.88,null,null,null,333]
["T13312U",334,80.790000000000006,null,null,null,321]
["T13313A",327,88.41,null,null,null,314]
["T13313U",315,75.62,null,null,null,302]
["T13314A",310,86.19,null,null,null,298]
["T13314U",298,73.36,null,null,null,286]
["T13315A",310,86.19,null,null,null,298]
["T13315U",298,73.36,null,null,null,286]
["T13400X",167,48.32,null,null,null,160]
["T13401A",281,75.45,null,null,null,270]
["T13401U",269,62.61,null,null,null,258]
["T13402A",301,80.87,null,null,null,289]
["T13402U",289,68.08,null,null,null,277]
["T13403A",281,75.45,null,null,null,270]
["T13403U",269,62.61,null,null,null,258]
["T13404A",265,73.45,null,null,null,254]
["T13404U",252,60.4,null,null,null,242]
["T13405A",265,73.45,null,null,null,254]
["T13405U",252,60.4,null,null,null,242]
["T13410X",213,61.27,null,null,null,204]
["T13411A",327,88.41,null,null,null,314]
["T13411U",315,75.62,null,null,null,302]
["T13412A",347,93.88,null,null,null,333]
["T13412U",334,80.790000000000006,null,null,null,321]
["T13413A",327,88.41,null,null,null,314]
["T13413U",315,75.62,null,null,null,302]
["T13414A",310,86.19,null,null,null,298]
["T13414U",298,73.36,null,null,null,286]
["T13415A",310,86.19,null,null,null,298]
["T13415U",298,73.36,null,null,null,286]
["T13E00X",167,48.32,null,null,null,160]
["T13L02A",301,80.87,null,null,null,289]
["T13L10X",213,61.27,null,null,null,204]
["T13L12A",347,93.88,null,null,null,333]
["T13R02A",301,80.87,null,null,null,289]
["T13R10X",213,61.27,null,null,null,204]
["T13R12A",347,93.88,null,null,null,333]
["T14000X",193,48.77,null,null,null,185]
["T14001A",9999,75.67,null,null,null,301]
["T14001U",301,65.67,null,null,null,289]
["T14002A",9999,81.39,null,null,null,320]
["T14002U",321,71.39,null,null,null,308]
["T14003A",9999,75.67,null,null,null,301]
["T14003U",301,65.67,null,null,null,289]
["T14004A",9999,74.92,null,null,null,285]
["T14004U",291,64.92,null,null,null,279]
["T14005A",9999,74.92,null,null,null,285]
["T14005U",291,64.92,null,null,null,279]
["T14010X",239,62.41,null,null,null,229]
["T14011A",9999,89.3,null,null,null,345]
["T14011U",347,79.3,null,null,null,333]
["T14012A",9999,95.02,null,null,null,364]
["T14012U",367,85.02,null,null,null,352]
["T14013A",9999,89.3,null,null,null,345]
["T14013U",347,79.3,null,null,null,333]
["T14014A",9999,88.38,null,null,null,329]
["T14014U",336,78.38,null,null,null,323]
["T14015A",9999,88.38,null,null,null,329]
["T14015U",336,78.38,null,null,null,323]
["T14100X",193,48.77,null,null,null,185]
["T14101A",314,79.39,null,null,null,301]
["T14101U",301,65.67,null,null,null,289]
["T14102A",333,84.86,null,null,null,320]
["T14102U",321,71.39,null,null,null,308]
["T14103A",314,79.39,null,null,null,301]
["T14103U",301,65.67,null,null,null,289]
["T14104A",303,78.62,null,null,null,291]
["T14104U",291,64.92,null,null,null,279]
["T14105A",303,78.62,null,null,null,291]
["T14105U",291,64.92,null,null,null,279]
["T14110X",239,62.41,null,null,null,229]
["T14111A",359,92.77,null,null,null,345]
["T14111U",347,79.3,null,null,null,333]
["T14112A",379,98.5,null,null,null,364]
["T14112U",367,85.02,null,null,null,352]
["T14113A",359,92.77,null,null,null,345]
["T14113U",347,79.3,null,null,null,333]
["T14114A",349,92.28,null,null,null,335]
["T14114U",336,78.38,null,null,null,323]
["T14115A",349,92.28,null,null,null,335]
["T14115U",336,78.38,null,null,null,323]
["T14200X",193,48.77,null,null,null,185]
["T14201A",314,79.39,null,null,null,301]
["T14201U",301,65.67,null,null,null,289]
["T14202A",333,84.86,null,null,null,320]
["T14202U",321,71.39,null,null,null,308]
["T14203A",314,79.39,null,null,null,301]
["T14203U",301,65.67,null,null,null,289]
["T14204A",303,78.62,null,null,null,291]
["T14204U",291,64.92,null,null,null,279]
["T14205A",303,78.62,null,null,null,291]
["T14205U",291,64.92,null,null,null,279]
["T14210X",239,62.41,null,null,null,229]
["T14211A",359,92.77,null,null,null,345]
["T14211U",347,79.3,null,null,null,333]
["T14212A",379,98.5,null,null,null,364]
["T14212U",367,85.02,null,null,null,352]
["T14213A",359,92.77,null,null,null,345]
["T14213U",347,79.3,null,null,null,333]
["T14214A",349,92.28,null,null,null,335]
["T14214U",336,78.38,null,null,null,323]
["T14215A",349,92.28,null,null,null,335]
["T14215U",336,78.38,null,null,null,323]
["T15000X",199,50.28,null,null,null,191]
["T15001A",9999,75.67,null,null,null,301]
["T15001U",301,65.67,null,null,null,289]
["T15002A",9999,81.39,null,null,null,320]
["T15002U",321,71.39,null,null,null,308]
["T15003A",9999,76.98,null,null,null,301]
["T15003U",307,66.98,null,null,null,295]
["T15004A",9999,74.92,null,null,null,285]
["T15004U",291,64.92,null,null,null,279]
["T15005A",9999,75.36,null,null,null,285]
["T15005U",293,65.36,null,null,null,281]
["T15010X",245,63.98,null,null,null,235]
["T15011A",9999,89.3,null,null,null,345]
["T15011U",347,79.3,null,null,null,333]
["T15012A",9999,95.02,null,null,null,364]
["T15012U",367,85.02,null,null,null,352]
["T15013A",9999,90.67,null,null,null,345]
["T15013U",353,80.67,null,null,null,339]
["T15014A",9999,88.38,null,null,null,329]
["T15014U",336,78.38,null,null,null,323]
["T15015A",9999,88.38,null,null,null,329]
["T15015U",336,78.38,null,null,null,323]
["T15020X",244,63.99,null,null,null,234]
["T15100X",199,50.28,null,null,null,191]
["T15101A",314,79.39,null,null,null,301]
["T15101U",301,65.67,null,null,null,289]
["T15102A",333,84.86,null,null,null,320]
["T15102U",321,71.39,null,null,null,308]
["T15103A",321,81.16,null,null,null,308]
["T15103U",307,66.98,null,null,null,295]
["T15104A",303,78.62,null,null,null,291]
["T15104U",291,64.92,null,null,null,279]
["T15105A",303,78.62,null,null,null,291]
["T15105U",291,64.92,null,null,null,279]
["T15110X",245,63.98,null,null,null,235]
["T15111A",359,92.77,null,null,null,345]
["T15111U",347,79.3,null,null,null,333]
["T15112A",379,98.5,null,null,null,364]
["T15112U",367,85.02,null,null,null,352]
["T15113A",367,94.83,null,null,null,352]
["T15113U",354,80.900000000000006,null,null,null,340]
["T15114A",349,92.28,null,null,null,335]
["T15114U",336,78.38,null,null,null,323]
["T15115A",349,92.28,null,null,null,335]
["T15115U",336,78.38,null,null,null,323]
["T15200X",199,50.28,null,null,null,191]
["T15201A",314,79.39,null,null,null,301]
["T15201U",301,65.67,null,null,null,289]
["T15202A",333,84.86,null,null,null,320]
["T15202U",321,71.39,null,null,null,308]
["T15203A",320,80.89,null,null,null,307]
["T15203U",307,66.98,null,null,null,295]
["T15204A",303,78.62,null,null,null,291]
["T15204U",291,64.92,null,null,null,279]
["T15205A",303,78.62,null,null,null,291]
["T15205U",291,64.92,null,null,null,279]
["T15210X",245,63.98,null,null,null,235]
["T15210X",245,63.98,null,null,null,235]
["T15211A",359,92.77,null,null,null,345]
["T15211U",347,79.3,null,null,null,333]
["T15212A",379,98.5,null,null,null,364]
["T15212U",367,85.02,null,null,null,352]
["T15213A",366,94.57,null,null,null,351]
["T15213U",353,80.67,null,null,null,339]
["T15214A",349,92.28,null,null,null,335]
["T15214U",336,78.38,null,null,null,323]
["T15215A",349,92.28,null,null,null,335]
["T15215U",336,78.38,null,null,null,323]
["T15220X",244,63.99,null,null,null,234]
["T15300X",199,50.28,null,null,null,191]
["T15301A",314,79.39,null,null,null,301]
["T15301U",301,65.67,null,null,null,289]
["T15302A",333,84.86,null,null,null,320]
["T15302U",321,71.39,null,null,null,308]
["T15303A",320,80.89,null,null,null,307]
["T15303U",307,66.98,null,null,null,295]
["T15304A",303,78.62,null,null,null,291]
["T15304U",291,64.92,null,null,null,279]
["T15305A",303,78.62,null,null,null,291]
["T15305U",293,65.36,null,null,null,281]
["T15310X",245,63.98,null,null,null,235]
["T15311A",359,92.77,null,null,null,345]
["T15311U",347,79.3,null,null,null,333]
["T15312A",379,98.5,null,null,null,364]
["T15312U",367,85.02,null,null,null,352]
["T15313A",366,94.57,null,null,null,351]
["T15313U",353,80.67,null,null,null,339]
["T15314A",349,92.28,null,null,null,335]
["T15314U",336,78.38,null,null,null,323]
["T15315A",349,92.28,null,null,null,335]
["T15315U",336,78.38,null,null,null,323]
["T15E00X",199,50.28,null,null,null,191]
["T15L02A",333,84.86,null,null,null,320]
["T15L10X",245,63.98,null,null,null,235]
["T15L12A",379,98.5,null,null,null,364]
["T15R02A",333,84.86,null,null,null,320]
["T15R10X",245,63.98,null,null,null,235]
["T15R12A",379,98.5,null,null,null,364]
["T16000X",227,52.47,null,null,null,218]
["T16001A",9999,78.760000000000005,null,null,null,328]
["T16001U",329,68.760000000000005,null,null,null,316]
["T16002A",9999,84.75,null,null,null,347]
["T16002U",349,74.75,null,null,null,335]
["T16003A",9999,78.760000000000005,null,null,null,328]
["T16003U",329,68.760000000000005,null,null,null,316]
["T16004A",9999,76.349999999999994,null,null,null,312]
["T16004U",312,66.349999999999994,null,null,null,300]
["T16005A",9999,77.849999999999994,null,null,null,312]
["T16005U",319,67.849999999999994,null,null,null,306]
["T16010X",273,66.81,null,null,null,262]
["T16011A",9999,93.08,null,null,null,372]
["T16011U",375,83.08,null,null,null,360]
["T16012A",9999,99.06,null,null,null,391]
["T16012U",395,89.06,null,null,null,379]
["T16013A",9999,93.08,null,null,null,372]
["T16013U",375,83.08,null,null,null,360]
["T16014A",9999,90.6,null,null,null,356]
["T16014U",358,80.599999999999994,null,null,null,344]
["T16015A",9999,91.95,null,null,null,356]
["T16015U",364,81.95,null,null,null,350]
["T16100X",227,52.47,null,null,null,218]
["T16101A",342,83.16,null,null,null,328]
["T16101U",329,68.760000000000005,null,null,null,316]
["T16102A",361,88.89,null,null,null,347]
["T16102U",349,74.75,null,null,null,335]
["T16103A",342,83.16,null,null,null,328]
["T16103U",329,68.760000000000005,null,null,null,316]
["T16104A",325,80.680000000000007,null,null,null,312]
["T16104U",312,66.349999999999994,null,null,null,300]
["T16105A",331,82.17,null,null,null,318]
["T16105U",319,67.849999999999994,null,null,null,306]
["T16110X",273,66.81,null,null,null,262]
["T16111A",387,97.16,null,null,null,372]
["T16111U",375,83.08,null,null,null,360]
["T16112A",407,103.15,null,null,null,391]
["T16112U",395,89.06,null,null,null,379]
["T16113A",387,97.16,null,null,null,372]
["T16113U",375,83.08,null,null,null,360]
["T16114A",371,94.94,null,null,null,356]
["T16114U",358,80.599999999999994,null,null,null,344]
["T16115A",377,96.48,null,null,null,362]
["T16115U",364,81.95,null,null,null,350]
["T16120X",272,66.819999999999993,null,null,null,261]
["T16200X",227,52.47,null,null,null,218]
["T16201A",342,83.16,null,null,null,328]
["T16201U",329,68.760000000000005,null,null,null,316]
["T16202A",361,88.89,null,null,null,347]
["T16202U",349,74.75,null,null,null,335]
["T16203A",342,83.16,null,null,null,328]
["T16203U",329,68.760000000000005,null,null,null,316]
["T16204A",325,80.680000000000007,null,null,null,312]
["T16204U",312,66.349999999999994,null,null,null,300]
["T16205A",331,82.17,null,null,null,318]
["T16205U",319,67.849999999999994,null,null,null,306]
["T16210X",273,66.81,null,null,null,262]
["T16211A",387,97.16,null,null,null,372]
["T16211U",375,83.08,null,null,null,360]
["T16212A",407,103.15,null,null,null,391]
["T16212U",395,89.06,null,null,null,379]
["T16213A",387,97.16,null,null,null,372]
["T16213U",375,83.08,null,null,null,360]
["T16214A",371,94.94,null,null,null,356]
["T16214U",358,80.599999999999994,null,null,null,344]
["T16215A",377,96.48,null,null,null,362]
["T16215U",364,81.95,null,null,null,350]
["T16300X",227,52.47,null,null,null,218]
["T16301A",342,83.16,null,null,null,328]
["T16301U",329,68.760000000000005,null,null,null,316]
["T16302A",361,88.89,null,null,null,347]
["T16302U",349,74.75,null,null,null,335]
["T16303A",342,83.16,null,null,null,328]
["T16303U",329,68.760000000000005,null,null,null,316]
["T16304A",325,80.680000000000007,null,null,null,312]
["T16304U",312,66.349999999999994,null,null,null,300]
["T16305A",331,82.17,null,null,null,318]
["T16305U",319,67.849999999999994,null,null,null,306]
["T16310X",273,66.81,null,null,null,262]
["T16311A",387,97.16,null,null,null,372]
["T16311U",375,83.08,null,null,null,360]
["T16312A",407,103.15,null,null,null,391]
["T16312U",395,89.06,null,null,null,379]
["T16313A",387,97.16,null,null,null,372]
["T16313U",375,83.08,null,null,null,360]
["T16314A",371,94.94,null,null,null,356]
["T16314U",358,80.599999999999994,null,null,null,344]
["T16315A",377,96.48,null,null,null,362]
["T16315U",364,81.95,null,null,null,350]
["T16E00X",227,52.47,null,null,null,218]
["T16L02A",361,88.89,null,null,null,347]
["T16L10X",273,66.81,null,null,null,262]
["T16L12A",407,103.15,null,null,null,391]
["T16R02A",361,88.89,null,null,null,347]
["T16R10X",273,66.81,null,null,null,262]
["T16R12A",407,103.15,null,null,null,391]
["T17000X",244,51.09,null,null,null,234]
["T17001A",9999,78.78,null,null,null,350]
["T17001U",352,68.78,null,null,null,338]
["T17002A",9999,84.76,null,null,null,369]
["T17002U",372,74.760000000000005,null,null,null,357]
["T17003A",9999,78.78,null,null,null,350]
["T17003U",352,68.78,null,null,null,338]
["T17004A",9999,76.38,null,null,null,334]
["T17004U",335,66.38,null,null,null,322]
["T17005A",9999,76.38,null,null,null,334]
["T17005U",335,66.38,null,null,null,322]
["T17010X",290,65.36,null,null,null,278]
["T17011A",9999,93.09,null,null,null,394]
["T17011U",398,83.09,null,null,null,382]
["T17012A",9999,99.07,null,null,null,413]
["T17012U",418,89.07,null,null,null,401]
["T17013A",9999,93.09,null,null,null,394]
["T17013U",398,83.09,null,null,null,382]
["T17014A",9999,90.63,null,null,null,378]
["T17014U",381,80.63,null,null,null,366]
["T17015A",9999,90.63,null,null,null,378]
["T17015U",381,80.63,null,null,null,366]
["T17100X",244,51.09,null,null,null,234]
["T17101A",364,82.94,null,null,null,350]
["T17101U",352,68.78,null,null,null,338]
["T17102A",384,88.93,null,null,null,369]
["T17102U",372,74.760000000000005,null,null,null,357]
["T17103A",364,82.94,null,null,null,350]
["T17103U",352,68.78,null,null,null,338]
["T17104A",348,80.7,null,null,null,334]
["T17104U",335,66.38,null,null,null,322]
["T17105A",348,80.7,null,null,null,334]
["T17105U",335,66.38,null,null,null,322]
["T17110X",290,65.36,null,null,null,278]
["T17111A",410,97.19,null,null,null,394]
["T17111U",398,83.09,null,null,null,382]
["T17112A",430,103.18,null,null,null,413]
["T17112U",418,89.07,null,null,null,401]
["T17113A",410,97.19,null,null,null,394]
["T17113U",398,83.09,null,null,null,382]
["T17114A",394,94.95,null,null,null,378]
["T17114U",381,80.63,null,null,null,366]
["T17115A",394,94.95,null,null,null,378]
["T17115U",381,80.63,null,null,null,366]
["T17200X",244,51.09,null,null,null,234]
["T17201A",364,82.94,null,null,null,350]
["T17201U",352,68.78,null,null,null,338]
["T17202A",384,88.93,null,null,null,369]
["T17202U",372,74.760000000000005,null,null,null,357]
["T17203A",364,82.94,null,null,null,350]
["T17203U",352,68.78,null,null,null,338]
["T17204A",348,80.7,null,null,null,334]
["T17204U",335,66.38,null,null,null,322]
["T17205A",348,80.7,null,null,null,334]
["T17205U",335,66.38,null,null,null,322]
["T17210X",290,65.36,null,null,null,278]
["T17211A",410,97.19,null,null,null,394]
["T17211U",398,83.09,null,null,null,382]
["T17212A",430,103.18,null,null,null,413]
["T17212U",418,89.07,null,null,null,401]
["T17213A",410,97.19,null,null,null,394]
["T17213U",398,83.09,null,null,null,382]
["T17214A",394,94.95,null,null,null,378]
["T17214U",381,80.63,null,null,null,366]
["T17215A",394,94.95,null,null,null,378]
["T17215U",381,80.63,null,null,null,366]
["T17300X",244,51.09,null,null,null,234]
["T17301A",364,82.94,null,null,null,350]
["T17301U",352,68.78,null,null,null,338]
["T17302A",384,88.93,null,null,null,369]
["T17302U",372,74.760000000000005,null,null,null,357]
["T17303A",364,82.94,null,null,null,350]
["T17303U",352,68.78,null,null,null,338]
["T17304A",348,80.7,null,null,null,334]
["T17304U",335,66.38,null,null,null,322]
["T17305A",348,80.7,null,null,null,334]
["T17305U",335,66.38,null,null,null,322]
["T17310X",290,65.36,null,null,null,278]
["T17311A",410,97.19,null,null,null,394]
["T17311U",398,83.09,null,null,null,382]
["T17312A",430,103.18,null,null,null,413]
["T17312U",418,89.07,null,null,null,401]
["T17313A",410,97.19,null,null,null,394]
["T17313U",398,83.09,null,null,null,382]
["T17314A",394,94.95,null,null,null,378]
["T17314U",381,80.63,null,null,null,366]
["T17315A",394,94.95,null,null,null,378]
["T17315U",381,80.63,null,null,null,366]
["T17E00X",244,51.09,null,null,null,234]
["T17L02A",384,88.93,null,null,null,369]
["T17L10X",290,65.36,null,null,null,278]
["T17L12A",430,103.18,null,null,null,413]
["T17R02A",384,88.93,null,null,null,369]
["T17R10X",290,65.36,null,null,null,278]
["T17R12A",430,103.18,null,null,null,413]
["T18000X",244,51.09,null,null,null,234]
["T18001A",9999,78.78,null,null,null,350]
["T18001U",352,68.78,null,null,null,338]
["T18002A",9999,84.76,null,null,null,369]
["T18002U",372,74.760000000000005,null,null,null,357]
["T18003A",9999,78.78,null,null,null,350]
["T18003U",352,68.78,null,null,null,338]
["T18004A",9999,76.38,null,null,null,334]
["T18004U",335,66.38,null,null,null,322]
["T18005A",9999,76.38,null,null,null,334]
["T18005U",335,66.38,null,null,null,322]
["T18010X",290,65.36,null,null,null,278]
["T18011A",9999,93.09,null,null,null,394]
["T18011U",398,83.09,null,null,null,382]
["T18012A",9999,99.07,null,null,null,413]
["T18012U",418,89.07,null,null,null,401]
["T18013A",9999,93.09,null,null,null,394]
["T18013U",398,83.09,null,null,null,382]
["T18014A",9999,90.63,null,null,null,378]
["T18014U",381,80.63,null,null,null,366]
["T18015A",9999,90.63,null,null,null,378]
["T18015U",381,80.63,null,null,null,366]
["T18100X",244,51.09,null,null,null,234]
["T18101A",364,82.94,null,null,null,350]
["T18101U",352,68.78,null,null,null,338]
["T18102A",384,88.93,null,null,null,369]
["T18102U",372,74.760000000000005,null,null,null,357]
["T18103A",364,82.94,null,null,null,350]
["T18103U",352,68.78,null,null,null,338]
["T18104A",348,80.7,null,null,null,334]
["T18104U",335,66.38,null,null,null,322]
["T18105A",348,80.7,null,null,null,334]
["T18105U",335,66.38,null,null,null,322]
["T18110X",290,65.36,null,null,null,278]
["T18111A",410,97.19,null,null,null,394]
["T18111U",398,83.09,null,null,null,382]
["T18112A",430,103.18,null,null,null,413]
["T18112U",418,89.07,null,null,null,401]
["T18113A",410,97.19,null,null,null,394]
["T18113U",398,83.09,null,null,null,382]
["T18114A",394,94.95,null,null,null,378]
["T18114U",381,80.63,null,null,null,366]
["T18115A",394,94.95,null,null,null,378]
["T18115U",381,80.63,null,null,null,366]
["T19000X",250,52.35,null,null,null,240]
["T19001A",9999,78.78,null,null,null,350]
["T19001U",352,68.78,null,null,null,338]
["T19002A",9999,84.76,null,null,null,369]
["T19002U",372,74.760000000000005,null,null,null,357]
["T19003A",9999,78.78,null,null,null,350]
["T19003U",352,68.78,null,null,null,338]
["T19004A",9999,76.38,null,null,null,334]
["T19004U",335,66.38,null,null,null,322]
["T19005A",9999,76.38,null,null,null,334]
["T19005U",335,66.38,null,null,null,322]
["T19010X",296,66.709999999999994,null,null,null,284]
["T19011A",9999,93.09,null,null,null,394]
["T19011U",398,83.09,null,null,null,382]
["T19012A",9999,99.07,null,null,null,413]
["T19012U",418,89.07,null,null,null,401]
["T19013A",9999,93.09,null,null,null,394]
["T19013U",398,83.09,null,null,null,382]
["T19014A",9999,90.63,null,null,null,378]
["T19014U",381,80.63,null,null,null,366]
["T19015A",9999,90.63,null,null,null,378]
["T19015U",381,80.63,null,null,null,366]
["T19100X",250,52.35,null,null,null,240]
["T19101A",364,82.94,null,null,null,350]
["T19101U",352,68.78,null,null,null,338]
["T19102A",384,88.93,null,null,null,369]
["T19102U",372,74.760000000000005,null,null,null,357]
["T19103A",364,82.94,null,null,null,350]
["T19103U",352,68.78,null,null,null,338]
["T19104A",348,80.7,null,null,null,334]
["T19104U",335,66.38,null,null,null,322]
["T19105A",348,80.7,null,null,null,334]
["T19105U",335,66.38,null,null,null,322]
["T19110X",296,66.709999999999994,null,null,null,284]
["T19111A",410,97.19,null,null,null,394]
["T19111U",398,83.09,null,null,null,382]
["T19112A",430,103.18,null,null,null,413]
["T19112U",418,89.07,null,null,null,401]
["T19113A",410,97.19,null,null,null,394]
["T19113U",398,83.09,null,null,null,382]
["T19114A",394,94.95,null,null,null,378]
["T19114U",381,80.63,null,null,null,366]
["T19115A",394,94.95,null,null,null,378]
["T19115U",381,80.63,null,null,null,366]
["T21000X",80,24,null,null,null,76]
["T21001A",9999,59.77,null,null,null,192]
["T21001U",188,49.77,null,null,null,180]
["T21002A",9999,64.92,null,null,null,211]
["T21002U",207,54.92,null,null,null,199]
["T21003A",9999,59.77,null,null,null,192]
["T21003U",188,49.77,null,null,null,180]
["T21004A",9999,57.49,null,null,null,176]
["T21004U",171,47.49,null,null,null,164]
["T21005A",9999,57.49,null,null,null,176]
["T21005U",171,47.49,null,null,null,164]
["T21010X",125,36.67,null,null,null,120]
["T21011A",9999,72.460000000000008,null,null,null,236]
["T21011U",233,62.46,null,null,null,224]
["T21012A",9999,77.94,null,null,null,255]
["T21012U",253,67.94,null,null,null,243]
["T21013A",9999,72.460000000000008,null,null,null,236]
["T21013U",233,62.46,null,null,null,224]
["T21014A",9999,70.509999999999991,null,null,null,220]
["T21014U",217,60.51,null,null,null,208]
["T21015A",9999,70.509999999999991,null,null,null,220]
["T21015U",217,60.51,null,null,null,208]
["T21100X",80,24,null,null,null,76]
["T21101A",200,62.55,null,null,null,192]
["T21101U",188,49.77,null,null,null,180]
["T21102A",220,68.040000000000006,null,null,null,211]
["T21102U",207,54.92,null,null,null,199]
["T21103A",200,62.55,null,null,null,192]
["T21103U",188,49.77,null,null,null,180]
["T21104A",184,60.64,null,null,null,176]
["T21104U",171,47.49,null,null,null,164]
["T21105A",184,60.64,null,null,null,176]
["T21105U",171,47.49,null,null,null,164]
["T21110X",125,36.67,null,null,null,120]
["T21111A",246,75.569999999999993,null,null,null,236]
["T21111U",233,62.46,null,null,null,224]
["T21112A",266,81,null,null,null,255]
["T21112U",253,67.94,null,null,null,243]
["T21113A",246,75.569999999999993,null,null,null,236]
["T21113U",233,62.46,null,null,null,224]
["T21114A",229,73.28,null,null,null,220]
["T21114U",217,60.51,null,null,null,208]
["T21115A",229,73.28,null,null,null,220]
["T21115U",217,60.51,null,null,null,208]
["T21200X",80,24,null,null,null,76]
["T21201A",200,62.55,null,null,null,192]
["T21201U",188,49.77,null,null,null,180]
["T21202A",220,68.040000000000006,null,null,null,211]
["T21202U",207,54.92,null,null,null,199]
["T21203A",200,62.55,null,null,null,192]
["T21203U",188,49.77,null,null,null,180]
["T21204A",184,60.64,null,null,null,176]
["T21204U",171,47.49,null,null,null,164]
["T21205A",184,60.64,null,null,null,176]
["T21205U",171,47.49,null,null,null,164]
["T21210X",125,36.67,null,null,null,120]
["T21211A",246,75.569999999999993,null,null,null,236]
["T21211U",233,62.46,null,null,null,224]
["T21212A",266,81,null,null,null,255]
["T21212U",253,67.94,null,null,null,243]
["T21213A",246,75.569999999999993,null,null,null,236]
["T21213U",233,62.46,null,null,null,224]
["T21214A",229,73.28,null,null,null,220]
["T21214U",217,60.51,null,null,null,208]
["T21215A",229,73.28,null,null,null,220]
["T21215U",217,60.51,null,null,null,208]
["T22000X",80,24,null,null,null,76]
["T22001A",9999,59.77,null,null,null,192]
["T22001U",188,49.77,null,null,null,180]
["T22002A",9999,64.92,null,null,null,211]
["T22002U",207,54.92,null,null,null,199]
["T22003A",9999,59.77,null,null,null,192]
["T22003U",188,49.77,null,null,null,180]
["T22004A",9999,57.49,null,null,null,176]
["T22004U",171,47.49,null,null,null,164]
["T22005A",9999,57.49,null,null,null,176]
["T22005U",171,47.49,null,null,null,164]
["T22010X",125,36.67,null,null,null,120]
["T22011A",9999,72.460000000000008,null,null,null,236]
["T22011U",233,62.46,null,null,null,224]
["T22012A",9999,77.94,null,null,null,255]
["T22012U",253,67.94,null,null,null,243]
["T22013A",9999,72.460000000000008,null,null,null,236]
["T22013U",233,62.46,null,null,null,224]
["T22014A",9999,70.509999999999991,null,null,null,220]
["T22014U",217,60.51,null,null,null,208]
["T22015A",9999,70.509999999999991,null,null,null,220]
["T22015U",217,60.51,null,null,null,208]
["T22100X",80,24,null,null,null,76]
["T22101A",200,62.55,null,null,null,192]
["T22101U",188,49.77,null,null,null,180]
["T22102A",220,68.040000000000006,null,null,null,211]
["T22102U",207,54.92,null,null,null,199]
["T22103A",200,62.55,null,null,null,192]
["T22103U",188,49.77,null,null,null,180]
["T22104A",184,60.64,null,null,null,176]
["T22104U",171,47.49,null,null,null,164]
["T22105A",184,60.64,null,null,null,176]
["T22105U",171,47.49,null,null,null,164]
["T22110X",125,36.67,null,null,null,120]
["T22111A",246,75.569999999999993,null,null,null,236]
["T22111U",233,62.46,null,null,null,224]
["T22112A",266,81,null,null,null,255]
["T22112U",253,67.94,null,null,null,243]
["T22113A",246,75.569999999999993,null,null,null,236]
["T22113U",233,62.46,null,null,null,224]
["T22114A",229,73.28,null,null,null,220]
["T22114U",217,60.51,null,null,null,208]
["T22115A",229,73.28,null,null,null,220]
["T22115U",217,60.51,null,null,null,208]
["T22200X",80,24,null,null,null,76]
["T22201A",200,62.55,null,null,null,192]
["T22201U",188,49.77,null,null,null,180]
["T22202A",220,68.040000000000006,null,null,null,211]
["T22202U",207,54.92,null,null,null,199]
["T22203A",200,62.55,null,null,null,192]
["T22203U",188,49.77,null,null,null,180]
["T22204A",184,60.64,null,null,null,176]
["T22204U",171,47.49,null,null,null,164]
["T22205A",184,60.64,null,null,null,176]
["T22205U",171,47.49,null,null,null,164]
["T22210X",125,36.67,null,null,null,120]
["T22211A",246,75.569999999999993,null,null,null,236]
["T22211U",233,62.46,null,null,null,224]
["T22212A",266,81,null,null,null,255]
["T22212U",253,67.94,null,null,null,243]
["T22213A",246,75.569999999999993,null,null,null,236]
["T22213U",233,62.46,null,null,null,224]
["T22214A",229,73.28,null,null,null,220]
["T22214U",217,60.51,null,null,null,208]
["T22215A",229,73.28,null,null,null,220]
["T22215U",217,60.51,null,null,null,208]
["T22300X",80,24,null,null,null,76]
["T22301A",200,62.55,null,null,null,192]
["T22301U",188,49.77,null,null,null,180]
["T22302A",220,68.040000000000006,null,null,null,211]
["T22302U",207,54.92,null,null,null,199]
["T22303A",200,62.55,null,null,null,192]
["T22303U",188,49.77,null,null,null,180]
["T22304A",184,60.64,null,null,null,176]
["T22304U",171,47.49,null,null,null,164]
["T22305A",184,60.64,null,null,null,176]
["T22305U",171,47.49,null,null,null,164]
["T22310X",125,36.67,null,null,null,120]
["T22311A",246,75.569999999999993,null,null,null,236]
["T22311U",233,62.46,null,null,null,224]
["T22312A",266,81,null,null,null,255]
["T22312U",253,67.94,null,null,null,243]
["T22313A",246,75.569999999999993,null,null,null,236]
["T22313U",233,62.46,null,null,null,224]
["T22314A",229,73.28,null,null,null,220]
["T22314U",217,60.51,null,null,null,208]
["T22315A",229,73.28,null,null,null,220]
["T22315U",217,60.51,null,null,null,208]
["T23000X",80,24,null,null,null,76]
["T23001A",9999,59.77,null,null,null,192]
["T23001U",188,49.77,null,null,null,180]
["T23002A",9999,64.92,null,null,null,211]
["T23002U",207,54.92,null,null,null,199]
["T23003A",9999,59.77,null,null,null,192]
["T23003U",188,49.77,null,null,null,180]
["T23004A",9999,57.49,null,null,null,176]
["T23004U",171,47.49,null,null,null,164]
["T23005A",9999,57.49,null,null,null,176]
["T23005U",171,47.49,null,null,null,164]
["T23010X",125,36.67,null,null,null,120]
["T23011A",9999,72.460000000000008,null,null,null,236]
["T23011U",233,62.46,null,null,null,224]
["T23012A",9999,77.94,null,null,null,255]
["T23012U",253,67.94,null,null,null,243]
["T23013A",9999,72.460000000000008,null,null,null,236]
["T23013U",233,62.46,null,null,null,224]
["T23014A",9999,70.509999999999991,null,null,null,220]
["T23014U",217,60.51,null,null,null,208]
["T23015A",9999,70.509999999999991,null,null,null,220]
["T23015U",217,60.51,null,null,null,208]
["T23100X",80,24,null,null,null,76]
["T23101A",200,62.55,null,null,null,192]
["T23101U",188,49.77,null,null,null,180]
["T23102A",220,68.040000000000006,null,null,null,211]
["T23102U",207,54.92,null,null,null,199]
["T23103A",200,62.55,null,null,null,192]
["T23103U",188,49.77,null,null,null,180]
["T23104A",184,60.64,null,null,null,176]
["T23104U",171,47.49,null,null,null,164]
["T23105A",184,60.64,null,null,null,176]
["T23105U",171,47.49,null,null,null,164]
["T23110X",125,36.67,null,null,null,120]
["T23111A",246,75.569999999999993,null,null,null,236]
["T23111U",233,62.46,null,null,null,224]
["T23112A",266,81,null,null,null,255]
["T23112U",253,67.94,null,null,null,243]
["T23113A",246,75.569999999999993,null,null,null,236]
["T23113U",233,62.46,null,null,null,224]
["T23114A",229,73.28,null,null,null,220]
["T23114U",217,60.51,null,null,null,208]
["T23115A",229,73.28,null,null,null,220]
["T23115U",217,60.51,null,null,null,208]
["T23200X",80,24,null,null,null,76]
["T23201A",200,62.55,null,null,null,192]
["T23201U",188,49.77,null,null,null,180]
["T23202A",220,68.040000000000006,null,null,null,211]
["T23202U",207,54.92,null,null,null,199]
["T23203A",200,62.55,null,null,null,192]
["T23203U",188,49.77,null,null,null,180]
["T23204A",184,60.64,null,null,null,176]
["T23204U",171,47.49,null,null,null,164]
["T23205A",184,60.64,null,null,null,176]
["T23205U",171,47.49,null,null,null,164]
["T23210X",125,36.67,null,null,null,120]
["T23211A",246,75.569999999999993,null,null,null,236]
["T23211U",233,62.46,null,null,null,224]
["T23212A",266,81,null,null,null,255]
["T23212U",253,67.94,null,null,null,243]
["T23213A",246,75.569999999999993,null,null,null,236]
["T23213U",233,62.46,null,null,null,224]
["T23214A",229,73.28,null,null,null,220]
["T23214U",217,60.51,null,null,null,208]
["T23215A",229,73.28,null,null,null,220]
["T23215U",217,60.51,null,null,null,208]
["T23300X",80,24,null,null,null,76]
["T23301A",200,62.55,null,null,null,192]
["T23301U",188,49.77,null,null,null,180]
["T23302A",220,68.040000000000006,null,null,null,211]
["T23302U",207,54.92,null,null,null,199]
["T23303A",200,62.55,null,null,null,192]
["T23303U",188,49.77,null,null,null,180]
["T23304A",184,60.64,null,null,null,176]
["T23304U",171,47.49,null,null,null,164]
["T23305A",184,60.64,null,null,null,176]
["T23305U",171,47.49,null,null,null,164]
["T23310X",125,36.67,null,null,null,120]
["T23311A",246,75.569999999999993,null,null,null,236]
["T23311U",233,62.46,null,null,null,224]
["T23312A",266,81,null,null,null,255]
["T23312U",253,67.94,null,null,null,243]
["T23313A",246,75.569999999999993,null,null,null,236]
["T23313U",233,62.46,null,null,null,224]
["T23314A",229,73.28,null,null,null,220]
["T23314U",217,60.51,null,null,null,208]
["T23315A",229,73.28,null,null,null,220]
["T23315U",217,60.51,null,null,null,208]
["T23400X",80,24,null,null,null,76]
["T23401A",200,62.55,null,null,null,192]
["T23401U",188,49.77,null,null,null,180]
["T23402A",220,68.040000000000006,null,null,null,211]
["T23402U",207,54.92,null,null,null,199]
["T23403A",200,62.55,null,null,null,192]
["T23403U",188,49.77,null,null,null,180]
["T23404A",184,60.64,null,null,null,176]
["T23404U",171,47.49,null,null,null,164]
["T23405A",184,60.64,null,null,null,176]
["T23405U",171,47.49,null,null,null,164]
["T23410X",125,36.67,null,null,null,120]
["T23411A",246,75.569999999999993,null,null,null,236]
["T23411U",233,62.46,null,null,null,224]
["T23412A",266,81,null,null,null,255]
["T23412U",253,67.94,null,null,null,243]
["T23413A",246,75.569999999999993,null,null,null,236]
["T23413U",233,62.46,null,null,null,224]
["T23414A",229,73.28,null,null,null,220]
["T23414U",217,60.51,null,null,null,208]
["T23415A",229,73.28,null,null,null,220]
["T23415U",217,60.51,null,null,null,208]
["T23L00X",80,24,null,null,null,76]
["T23L02A",220,68.040000000000006,null,null,null,211]
["T23L10X",125,36.67,null,null,null,120]
["T23L12A",266,81,null,null,null,255]
["T23R00X",80,24,null,null,null,76]
["T23R02A",220,68.040000000000006,null,null,null,211]
["T23R10X",125,36.67,null,null,null,120]
["T23R12A",266,81,null,null,null,255]
["T24000X",93,24.97,null,null,null,89]
["T24001A",9999,62.08,null,null,null,205]
["T24001U",201,52.08,null,null,null,193]
["T24002A",9999,67.81,null,null,null,224]
["T24002U",221,57.81,null,null,null,212]
["T24003A",9999,62.08,null,null,null,205]
["T24003U",201,52.08,null,null,null,193]
["T24004A",9999,60.01,null,null,null,189]
["T24004U",185,50.01,null,null,null,177]
["T24005A",9999,60.01,null,null,null,189]
["T24005U",185,50.01,null,null,null,177]
["T24010X",139,38.619999999999997,null,null,null,133]
["T24011A",9999,75.709999999999994,null,null,null,249]
["T24011U",247,65.709999999999994,null,null,null,237]
["T24012A",9999,81.45,null,null,null,268]
["T24012U",267,71.45,null,null,null,256]
["T24013A",9999,75.709999999999994,null,null,null,249]
["T24013U",247,65.709999999999994,null,null,null,237]
["T24014A",9999,73.38,null,null,null,233]
["T24014U",230,63.38,null,null,null,221]
["T24015A",9999,73.38,null,null,null,233]
["T24015U",230,63.38,null,null,null,221]
["T24100X",93,24.97,null,null,null,89]
["T24101A",214,65.819999999999993,null,null,null,205]
["T24101U",201,52.08,null,null,null,193]
["T24102A",233,71.25,null,null,null,224]
["T24102U",221,57.81,null,null,null,212]
["T24103A",214,65.819999999999993,null,null,null,205]
["T24103U",201,52.08,null,null,null,193]
["T24104A",197,63.48,null,null,null,189]
["T24104U",185,50.01,null,null,null,177]
["T24105A",197,63.48,null,null,null,189]
["T24105U",185,50.01,null,null,null,177]
["T24110X",139,38.619999999999997,null,null,null,133]
["T24111A",259,79.16,null,null,null,249]
["T24111U",247,65.709999999999994,null,null,null,237]
["T24112A",279,84.89,null,null,null,268]
["T24112U",267,71.45,null,null,null,256]
["T24113A",259,79.16,null,null,null,249]
["T24113U",247,65.709999999999994,null,null,null,237]
["T24114A",243,77.12,null,null,null,233]
["T24114U",230,63.38,null,null,null,221]
["T24115A",243,77.12,null,null,null,233]
["T24115U",230,63.38,null,null,null,221]
["T24200X",93,24.97,null,null,null,89]
["T24201A",214,65.819999999999993,null,null,null,205]
["T24201U",201,52.08,null,null,null,193]
["T24202A",233,71.25,null,null,null,224]
["T24202U",221,57.81,null,null,null,212]
["T24203A",214,65.819999999999993,null,null,null,205]
["T24203U",201,52.08,null,null,null,193]
["T24204A",197,63.48,null,null,null,189]
["T24204U",185,50.01,null,null,null,177]
["T24205A",197,63.48,null,null,null,189]
["T24205U",185,50.01,null,null,null,177]
["T24210X",139,38.619999999999997,null,null,null,133]
["T24211A",259,79.16,null,null,null,249]
["T24211U",247,65.709999999999994,null,null,null,237]
["T24212A",279,84.89,null,null,null,268]
["T24212U",267,71.45,null,null,null,256]
["T24213A",259,79.16,null,null,null,249]
["T24213U",247,65.709999999999994,null,null,null,237]
["T24214A",243,77.12,null,null,null,233]
["T24214U",230,63.38,null,null,null,221]
["T24215A",243,77.12,null,null,null,233]
["T24215U",230,63.38,null,null,null,221]
["T25000X",93,24.97,null,null,null,89]
["T25001A",9999,62.08,null,null,null,205]
["T25001U",201,52.08,null,null,null,193]
["T25002A",9999,67.81,null,null,null,224]
["T25002U",221,57.81,null,null,null,212]
["T25003A",9999,62.08,null,null,null,205]
["T25003U",201,52.08,null,null,null,193]
["T25004A",9999,60.01,null,null,null,189]
["T25004U",185,50.01,null,null,null,177]
["T25005A",9999,60.01,null,null,null,189]
["T25005U",185,50.01,null,null,null,177]
["T25010X",139,38.619999999999997,null,null,null,133]
["T25011A",9999,75.709999999999994,null,null,null,249]
["T25011U",247,65.709999999999994,null,null,null,237]
["T25012A",9999,81.45,null,null,null,268]
["T25012U",267,71.45,null,null,null,256]
["T25013A",9999,75.709999999999994,null,null,null,249]
["T25013U",247,65.709999999999994,null,null,null,237]
["T25014A",9999,73.38,null,null,null,233]
["T25014U",230,63.38,null,null,null,221]
["T25015A",9999,73.38,null,null,null,233]
["T25015U",230,63.38,null,null,null,221]
["T25100X",93,24.97,null,null,null,89]
["T25101A",214,65.819999999999993,null,null,null,205]
["T25101U",201,52.08,null,null,null,193]
["T25102A",233,71.25,null,null,null,224]
["T25102U",221,57.81,null,null,null,212]
["T25103A",214,65.819999999999993,null,null,null,205]
["T25103U",201,52.08,null,null,null,193]
["T25104A",197,63.48,null,null,null,189]
["T25104U",185,50.01,null,null,null,177]
["T25105A",197,63.48,null,null,null,189]
["T25105U",185,50.01,null,null,null,177]
["T25110X",139,38.619999999999997,null,null,null,133]
["T25111A",259,79.16,null,null,null,249]
["T25111U",247,65.709999999999994,null,null,null,237]
["T25112A",279,84.89,null,null,null,268]
["T25112U",267,71.45,null,null,null,256]
["T25113A",259,79.16,null,null,null,249]
["T25113U",247,65.709999999999994,null,null,null,237]
["T25114A",243,77.12,null,null,null,233]
["T25114U",230,63.38,null,null,null,221]
["T25115A",243,77.12,null,null,null,233]
["T25115U",230,63.38,null,null,null,221]
["T25200X",93,24.97,null,null,null,89]
["T25201A",214,65.819999999999993,null,null,null,205]
["T25201U",201,52.08,null,null,null,193]
["T25202A",233,71.25,null,null,null,224]
["T25202U",221,57.81,null,null,null,212]
["T25203A",214,65.819999999999993,null,null,null,205]
["T25203U",201,52.08,null,null,null,193]
["T25204A",197,63.48,null,null,null,189]
["T25204U",185,50.01,null,null,null,177]
["T25205A",197,63.48,null,null,null,189]
["T25205U",185,50.01,null,null,null,177]
["T25210X",139,38.619999999999997,null,null,null,133]
["T25211A",259,79.16,null,null,null,249]
["T25211U",247,65.709999999999994,null,null,null,237]
["T25212A",279,84.89,null,null,null,268]
["T25212U",267,71.45,null,null,null,256]
["T25213A",259,79.16,null,null,null,249]
["T25213U",247,65.709999999999994,null,null,null,237]
["T25214A",243,77.12,null,null,null,233]
["T25214U",230,63.38,null,null,null,221]
["T25215A",243,77.12,null,null,null,233]
["T25215U",230,63.38,null,null,null,221]
["T25300X",93,24.97,null,null,null,89]
["T25301A",214,65.819999999999993,null,null,null,205]
["T25301U",201,52.08,null,null,null,193]
["T25302A",233,71.25,null,null,null,224]
["T25302U",221,57.81,null,null,null,212]
["T25303A",214,65.819999999999993,null,null,null,205]
["T25303U",201,52.08,null,null,null,193]
["T25304A",197,63.48,null,null,null,189]
["T25304U",185,50.01,null,null,null,177]
["T25305A",197,63.48,null,null,null,189]
["T25305U",185,50.01,null,null,null,177]
["T25310X",139,38.619999999999997,null,null,null,133]
["T25311A",259,79.16,null,null,null,249]
["T25311U",247,65.709999999999994,null,null,null,237]
["T25312A",279,84.89,null,null,null,268]
["T25312U",267,71.45,null,null,null,256]
["T25313A",259,79.16,null,null,null,249]
["T25313U",247,65.709999999999994,null,null,null,237]
["T25314A",243,77.12,null,null,null,233]
["T25314U",230,63.38,null,null,null,221]
["T25315A",243,77.12,null,null,null,233]
["T25315U",230,63.38,null,null,null,221]
["T25L00X",93,24.97,null,null,null,89]
["T25L02A",233,71.25,null,null,null,224]
["T25L10X",139,38.619999999999997,null,null,null,133]
["T25L12A",279,84.89,null,null,null,268]
["T25R00X",93,24.97,null,null,null,89]
["T25R02A",233,71.25,null,null,null,224]
["T25R10X",139,38.619999999999997,null,null,null,133]
["T25R12A",279,84.89,null,null,null,268]
["T26000X",116,26.18,null,null,null,111]
["T26001A",9999,64.599999999999994,null,null,null,227]
["T26001U",224,54.6,null,null,null,215]
["T26002A",9999,70.58,null,null,null,246]
["T26002U",244,60.58,null,null,null,234]
["T26003A",9999,64.599999999999994,null,null,null,227]
["T26003U",224,54.6,null,null,null,215]
["T26004A",9999,62.11,null,null,null,211]
["T26004U",207,52.11,null,null,null,199]
["T26005A",9999,62.11,null,null,null,211]
["T26005U",207,52.11,null,null,null,199]
["T26010X",162,40.5,null,null,null,155]
["T26011A",9999,78.86,null,null,null,271]
["T26011U",270,68.86,null,null,null,259]
["T26012A",9999,84.85,null,null,null,290]
["T26012U",290,74.849999999999994,null,null,null,278]
["T26013A",9999,78.86,null,null,null,271]
["T26013U",270,68.86,null,null,null,259]
["T26014A",9999,76.430000000000007,null,null,null,255]
["T26014U",253,66.430000000000007,null,null,null,243]
["T26015A",9999,76.430000000000007,null,null,null,255]
["T26015U",253,66.430000000000007,null,null,null,243]
["T26100X",116,26.18,null,null,null,111]
["T26101A",237,68.959999999999994,null,null,null,227]
["T26101U",224,54.6,null,null,null,215]
["T26102A",256,74.67,null,null,null,246]
["T26102U",244,60.58,null,null,null,234]
["T26103A",237,68.959999999999994,null,null,null,227]
["T26103U",224,54.6,null,null,null,215]
["T26104A",220,66.52,null,null,null,211]
["T26104U",207,52.11,null,null,null,199]
["T26105A",220,66.52,null,null,null,211]
["T26105U",207,52.11,null,null,null,199]
["T26110X",162,40.5,null,null,null,155]
["T26111A",282,82.99,null,null,null,271]
["T26111U",270,68.86,null,null,null,259]
["T26112A",302,88.99,null,null,null,290]
["T26112U",290,74.849999999999994,null,null,null,278]
["T26113A",282,82.99,null,null,null,271]
["T26113U",270,68.86,null,null,null,259]
["T26114A",266,80.790000000000006,null,null,null,255]
["T26114U",253,66.430000000000007,null,null,null,243]
["T26115A",266,80.790000000000006,null,null,null,255]
["T26115U",253,66.430000000000007,null,null,null,243]
["T26200X",116,26.18,null,null,null,111]
["T26201A",237,68.959999999999994,null,null,null,227]
["T26201U",224,54.6,null,null,null,215]
["T26202A",256,74.67,null,null,null,246]
["T26202U",244,60.58,null,null,null,234]
["T26203A",237,68.959999999999994,null,null,null,227]
["T26203U",224,54.6,null,null,null,215]
["T26204A",220,66.52,null,null,null,211]
["T26204U",207,52.11,null,null,null,199]
["T26205A",220,66.52,null,null,null,211]
["T26205U",207,52.11,null,null,null,199]
["T26210X",162,40.5,null,null,null,155]
["T26211A",282,82.99,null,null,null,271]
["T26211U",270,68.86,null,null,null,259]
["T26212A",302,88.99,null,null,null,290]
["T26212U",290,74.849999999999994,null,null,null,278]
["T26213A",282,82.99,null,null,null,271]
["T26213U",270,68.86,null,null,null,259]
["T26214A",266,80.790000000000006,null,null,null,255]
["T26214U",253,66.430000000000007,null,null,null,243]
["T26215A",266,80.790000000000006,null,null,null,255]
["T26215U",253,66.430000000000007,null,null,null,243]
["T26300X",116,26.18,null,null,null,111]
["T26301A",237,68.959999999999994,null,null,null,227]
["T26301U",224,54.6,null,null,null,215]
["T26302A",256,74.67,null,null,null,246]
["T26302U",244,60.58,null,null,null,234]
["T26303A",237,68.959999999999994,null,null,null,227]
["T26303U",224,54.6,null,null,null,215]
["T26304A",220,66.52,null,null,null,211]
["T26304U",207,52.11,null,null,null,199]
["T26305A",220,66.52,null,null,null,211]
["T26305U",207,52.11,null,null,null,199]
["T26310X",162,40.5,null,null,null,155]
["T26311A",282,82.99,null,null,null,271]
["T26311U",270,68.86,null,null,null,259]
["T26312A",302,88.99,null,null,null,290]
["T26312U",290,74.849999999999994,null,null,null,278]
["T26313A",282,82.99,null,null,null,271]
["T26313U",270,68.86,null,null,null,259]
["T26314A",266,80.790000000000006,null,null,null,255]
["T26314U",253,66.430000000000007,null,null,null,243]
["T26315A",266,80.790000000000006,null,null,null,255]
["T26315U",253,66.430000000000007,null,null,null,243]
["T26L00X",116,26.18,null,null,null,111]
["T26L02A",256,74.67,null,null,null,246]
["T26L10X",162,40.5,null,null,null,155]
["T26L12A",302,88.99,null,null,null,290]
["T26R00X",116,26.18,null,null,null,111]
["T26R02A",256,74.67,null,null,null,246]
["T26R10X",162,40.5,null,null,null,155]
["T26R12A",302,88.99,null,null,null,290]
["T27000X",116,26.18,null,null,null,111]
["T27001A",9999,64.599999999999994,null,null,null,227]
["T27001U",224,54.6,null,null,null,215]
["T27002A",9999,70.58,null,null,null,246]
["T27002U",244,60.58,null,null,null,234]
["T27003A",9999,64.599999999999994,null,null,null,227]
["T27003U",224,54.6,null,null,null,215]
["T27004A",9999,62.11,null,null,null,211]
["T27004U",207,52.11,null,null,null,199]
["T27005A",9999,62.11,null,null,null,211]
["T27005U",207,52.11,null,null,null,199]
["T27010X",162,40.5,null,null,null,155]
["T27011A",9999,78.86,null,null,null,271]
["T27011U",270,68.86,null,null,null,259]
["T27012A",9999,84.85,null,null,null,290]
["T27012U",290,74.849999999999994,null,null,null,278]
["T27013A",9999,78.86,null,null,null,271]
["T27013U",270,68.86,null,null,null,259]
["T27014A",9999,76.430000000000007,null,null,null,255]
["T27014U",253,66.430000000000007,null,null,null,243]
["T27015A",9999,76.430000000000007,null,null,null,255]
["T27015U",253,66.430000000000007,null,null,null,243]
["T27100X",116,26.18,null,null,null,111]
["T27101A",237,68.959999999999994,null,null,null,227]
["T27101U",224,54.6,null,null,null,215]
["T27102A",256,74.67,null,null,null,246]
["T27102U",244,60.58,null,null,null,234]
["T27103A",237,68.959999999999994,null,null,null,227]
["T27103U",224,54.6,null,null,null,215]
["T27104A",220,66.52,null,null,null,211]
["T27104U",207,52.11,null,null,null,199]
["T27105A",220,66.52,null,null,null,211]
["T27105U",207,52.11,null,null,null,199]
["T27110X",162,40.5,null,null,null,155]
["T27111A",282,82.99,null,null,null,271]
["T27111U",270,68.86,null,null,null,259]
["T27112A",302,88.99,null,null,null,290]
["T27112U",290,74.849999999999994,null,null,null,278]
["T27113A",282,82.99,null,null,null,271]
["T27113U",270,68.86,null,null,null,259]
["T27114A",266,80.790000000000006,null,null,null,255]
["T27114U",253,66.430000000000007,null,null,null,243]
["T27115A",266,80.790000000000006,null,null,null,255]
["T27115U",253,66.430000000000007,null,null,null,243]
["T27200X",116,26.18,null,null,null,111]
["T27201A",237,68.959999999999994,null,null,null,227]
["T27201U",224,54.6,null,null,null,215]
["T27202A",256,74.67,null,null,null,246]
["T27202U",244,60.58,null,null,null,234]
["T27203A",237,68.959999999999994,null,null,null,227]
["T27203U",224,54.6,null,null,null,215]
["T27204A",220,66.52,null,null,null,211]
["T27204U",207,52.11,null,null,null,199]
["T27205A",220,66.52,null,null,null,211]
["T27205U",207,52.11,null,null,null,199]
["T27210X",162,40.5,null,null,null,155]
["T27211A",282,82.99,null,null,null,271]
["T27211U",270,68.86,null,null,null,259]
["T27212A",302,88.99,null,null,null,290]
["T27212U",290,74.849999999999994,null,null,null,278]
["T27213A",282,82.99,null,null,null,271]
["T27213U",270,68.86,null,null,null,259]
["T27214A",266,80.790000000000006,null,null,null,255]
["T27214U",253,66.430000000000007,null,null,null,243]
["T27215A",266,80.790000000000006,null,null,null,255]
["T27215U",253,66.430000000000007,null,null,null,243]
["T27300X",116,26.18,null,null,null,111]
["T27301A",237,68.959999999999994,null,null,null,227]
["T27301U",224,54.6,null,null,null,215]
["T27302A",256,74.67,null,null,null,246]
["T27302U",244,60.58,null,null,null,234]
["T27303A",237,68.959999999999994,null,null,null,227]
["T27303U",224,54.6,null,null,null,215]
["T27304A",220,66.52,null,null,null,211]
["T27304U",207,52.11,null,null,null,199]
["T27305A",220,66.52,null,null,null,211]
["T27305U",207,52.11,null,null,null,199]
["T27310X",162,40.5,null,null,null,155]
["T27311A",282,82.99,null,null,null,271]
["T27311U",270,68.86,null,null,null,259]
["T27312A",302,88.99,null,null,null,290]
["T27312U",290,74.849999999999994,null,null,null,278]
["T27313A",282,82.99,null,null,null,271]
["T27313U",270,68.86,null,null,null,259]
["T27314A",266,80.790000000000006,null,null,null,255]
["T27314U",253,66.430000000000007,null,null,null,243]
["T27315A",266,80.790000000000006,null,null,null,255]
["T27315U",253,66.430000000000007,null,null,null,243]
["T27L00X",116,26.18,null,null,null,111]
["T27L02A",256,74.67,null,null,null,246]
["T27L10X",162,40.5,null,null,null,155]
["T27L12A",302,88.99,null,null,null,290]
["T27R00X",116,26.18,null,null,null,111]
["T27R02A",256,74.67,null,null,null,246]
["T27R10X",162,40.5,null,null,null,155]
["T27R12A",302,88.99,null,null,null,290]
["T28000X",116,26.18,null,null,null,111]
["T28001A",9999,64.599999999999994,null,null,null,227]
["T28001U",224,54.6,null,null,null,215]
["T28002A",9999,70.58,null,null,null,246]
["T28002U",244,60.58,null,null,null,234]
["T28003A",9999,64.599999999999994,null,null,null,227]
["T28003U",224,54.6,null,null,null,215]
["T28004A",9999,62.11,null,null,null,211]
["T28004U",207,52.11,null,null,null,199]
["T28005A",9999,62.11,null,null,null,211]
["T28005U",207,52.11,null,null,null,199]
["T28010X",162,40.5,null,null,null,155]
["T28011A",9999,78.86,null,null,null,271]
["T28011U",270,68.86,null,null,null,259]
["T28012A",9999,84.85,null,null,null,290]
["T28012U",290,74.849999999999994,null,null,null,278]
["T28013A",9999,78.86,null,null,null,271]
["T28013U",270,68.86,null,null,null,259]
["T28014A",9999,76.430000000000007,null,null,null,255]
["T28014U",253,66.430000000000007,null,null,null,243]
["T28015A",9999,76.430000000000007,null,null,null,255]
["T28015U",253,66.430000000000007,null,null,null,243]
["T28100X",116,26.18,null,null,null,111]
["T28101A",237,68.959999999999994,null,null,null,227]
["T28101U",224,54.6,null,null,null,215]
["T28102A",256,74.67,null,null,null,246]
["T28102U",244,60.58,null,null,null,234]
["T28103A",237,68.959999999999994,null,null,null,227]
["T28103U",224,54.6,null,null,null,215]
["T28104A",220,66.52,null,null,null,211]
["T28104U",207,52.11,null,null,null,199]
["T28105A",220,66.52,null,null,null,211]
["T28105U",207,52.11,null,null,null,199]
["T28110X",162,40.5,null,null,null,155]
["T28111A",282,82.99,null,null,null,271]
["T28111U",270,68.86,null,null,null,259]
["T28112A",302,88.99,null,null,null,290]
["T28112U",290,74.849999999999994,null,null,null,278]
["T28113A",282,82.99,null,null,null,271]
["T28113U",270,68.86,null,null,null,259]
["T28114A",266,80.790000000000006,null,null,null,255]
["T28114U",253,66.430000000000007,null,null,null,243]
["T28115A",266,80.790000000000006,null,null,null,255]
["T28115U",253,66.430000000000007,null,null,null,243]
["T29000X",116,26.18,null,null,null,111]
["T29001A",9999,64.599999999999994,null,null,null,227]
["T29001U",224,54.6,null,null,null,215]
["T29002A",9999,70.58,null,null,null,246]
["T29002U",244,60.58,null,null,null,234]
["T29003A",9999,64.599999999999994,null,null,null,227]
["T29003U",224,54.6,null,null,null,215]
["T29004A",9999,62.11,null,null,null,211]
["T29004U",207,52.11,null,null,null,199]
["T29005A",9999,62.11,null,null,null,211]
["T29005U",207,52.11,null,null,null,199]
["T29010X",162,40.5,null,null,null,155]
["T29011A",9999,78.86,null,null,null,271]
["T29011U",270,68.86,null,null,null,259]
["T29012A",9999,84.85,null,null,null,290]
["T29012U",290,74.849999999999994,null,null,null,278]
["T29013A",9999,78.86,null,null,null,271]
["T29013U",270,68.86,null,null,null,259]
["T29014A",9999,76.430000000000007,null,null,null,255]
["T29014U",253,66.430000000000007,null,null,null,243]
["T29015A",9999,76.430000000000007,null,null,null,255]
["T29015U",253,66.430000000000007,null,null,null,243]
["T29100X",116,26.18,null,null,null,111]
["T29101A",237,68.959999999999994,null,null,null,227]
["T29101U",224,54.6,null,null,null,215]
["T29102A",256,74.67,null,null,null,246]
["T29102U",244,60.58,null,null,null,234]
["T29103A",237,68.959999999999994,null,null,null,227]
["T29103U",224,54.6,null,null,null,215]
["T29104A",220,66.52,null,null,null,211]
["T29104U",207,52.11,null,null,null,199]
["T29105A",220,66.52,null,null,null,211]
["T29105U",207,52.11,null,null,null,199]
["T29110X",162,40.5,null,null,null,155]
["T29111A",282,82.99,null,null,null,271]
["T29111U",270,68.86,null,null,null,259]
["T29112A",302,88.99,null,null,null,290]
["T29112U",290,74.849999999999994,null,null,null,278]
["T29113A",282,82.99,null,null,null,271]
["T29113U",270,68.86,null,null,null,259]
["T29114A",266,80.790000000000006,null,null,null,255]
["T29114U",253,66.430000000000007,null,null,null,243]
["T29115A",266,80.790000000000006,null,null,null,255]
["T29115U",253,66.430000000000007,null,null,null,243]
["T31000X",90,27.1,null,null,null,86]
["T31001A",9999,62.89,null,null,null,202]
["T31001U",198,52.89,null,null,null,190]
["T31002A",9999,68.31,null,null,null,221]
["T31002U",218,58.31,null,null,null,209]
["T31003A",9999,62.89,null,null,null,202]
["T31003U",198,52.89,null,null,null,190]
["T31004A",9999,60.6,null,null,null,186]
["T31004U",181,50.6,null,null,"reactivated",174]
["T31005A",9999,60.6,null,null,null,186]
["T31005U",181,50.6,null,null,"reactivated",174]
["T31010X",136,40.07,null,null,null,130]
["T31011A",9999,75.849999999999994,null,null,null,246]
["T31011U",244,65.849999999999994,null,null,null,234]
["T31012A",9999,81.319999999999993,null,null,null,265]
["T31012U",264,71.319999999999993,null,null,null,253]
["T31013A",9999,75.849999999999994,null,null,null,246]
["T31013U",244,65.849999999999994,null,null,null,234]
["T31014A",9999,73.62,null,null,null,230]
["T31014U",227,63.62,null,null,null,218]
["T31015A",9999,73.62,null,null,null,230]
["T31015U",227,63.62,null,null,null,218]
["T31100X",90,27.1,null,null,null,86]
["T31101A",211,65.97,null,null,null,202]
["T31101U",198,52.89,null,null,null,190]
["T31102A",230,71.13,null,null,null,221]
["T31102U",218,58.31,null,null,null,209]
["T31103A",211,65.97,null,null,null,202]
["T31103U",198,52.89,null,null,null,190]
["T31104A",194,63.73,null,null,null,186]
["T31104U",181,50.61,null,null,null,174]
["T31105A",194,63.73,null,null,null,186]
["T31105U",181,50.61,null,null,null,174]
["T31110X",136,40.07,null,null,null,130]
["T31111A",256,78.680000000000007,null,null,null,246]
["T31111U",244,65.849999999999994,null,null,null,234]
["T31112A",276,84.1,null,null,null,265]
["T31112U",264,71.319999999999993,null,null,null,253]
["T31113A",256,78.680000000000007,null,null,null,246]
["T31113U",244,65.849999999999994,null,null,null,234]
["T31114A",240,76.7,null,null,null,230]
["T31114U",227,63.62,null,null,null,218]
["T31115A",240,76.7,null,null,null,230]
["T31115U",227,63.62,null,null,null,218]
["T31200X",90,27.1,null,null,null,86]
["T31201A",211,65.97,null,null,null,202]
["T31201U",198,52.89,null,null,null,190]
["T31202A",230,71.13,null,null,null,221]
["T31202U",218,58.31,null,null,null,209]
["T31203A",211,65.97,null,null,null,202]
["T31203U",198,52.89,null,null,null,190]
["T31204A",194,63.73,null,null,null,186]
["T31204U",181,50.61,null,null,null,174]
["T31205A",194,63.73,null,null,null,186]
["T31205U",181,50.61,null,null,null,174]
["T31210X",136,40.07,null,null,null,130]
["T31211A",256,78.680000000000007,null,null,null,246]
["T31211U",244,65.849999999999994,null,null,null,234]
["T31212A",276,84.1,null,null,null,265]
["T31212U",264,71.319999999999993,null,null,null,253]
["T31213A",256,78.680000000000007,null,null,null,246]
["T31213U",244,65.849999999999994,null,null,null,234]
["T31214A",240,76.7,null,null,null,230]
["T31214U",227,63.62,null,null,null,218]
["T31215A",240,76.7,null,null,null,230]
["T31215U",227,63.62,null,null,null,218]
["T32000X",90,27.1,null,null,null,86]
["T32001A",9999,62.89,null,null,null,202]
["T32001U",198,52.89,null,null,null,190]
["T32002A",9999,68.31,null,null,null,221]
["T32002U",218,58.31,null,null,null,209]
["T32003A",9999,62.89,null,null,null,202]
["T32003U",198,52.89,null,null,null,190]
["T32004A",9999,60.61,null,null,null,186]
["T32004U",181,50.61,null,null,null,174]
["T32005A",9999,60.61,null,null,null,186]
["T32005U",181,50.61,null,null,null,174]
["T32010X",136,40.07,null,null,null,130]
["T32011A",9999,75.849999999999994,null,null,null,246]
["T32011U",244,65.849999999999994,null,null,null,234]
["T32012A",9999,81.319999999999993,null,null,null,265]
["T32012U",264,71.319999999999993,null,null,null,253]
["T32013A",9999,75.849999999999994,null,null,null,246]
["T32013U",244,65.849999999999994,null,null,null,234]
["T32014A",9999,73.62,null,null,null,230]
["T32014U",227,63.62,null,null,null,218]
["T32015A",9999,73.62,null,null,null,230]
["T32015U",227,63.62,null,null,null,218]
["T32100X",90,27.1,null,null,null,86]
["T32101A",211,65.97,null,null,null,202]
["T32101U",198,52.89,null,null,null,190]
["T32102A",230,71.13,null,null,null,221]
["T32102U",218,58.31,null,null,null,209]
["T32103A",211,65.97,null,null,null,202]
["T32103U",198,52.89,null,null,null,190]
["T32104A",194,63.73,null,null,null,186]
["T32104U",181,50.61,null,null,null,174]
["T32105A",194,63.73,null,null,null,186]
["T32105U",181,50.61,null,null,null,174]
["T32110X",136,40.07,null,null,null,130]
["T32111A",256,78.680000000000007,null,null,null,246]
["T32111U",244,65.849999999999994,null,null,null,234]
["T32112A",276,84.1,null,null,null,265]
["T32112U",264,71.319999999999993,null,null,null,253]
["T32113A",256,78.680000000000007,null,null,null,246]
["T32113U",244,65.849999999999994,null,null,null,234]
["T32114A",240,76.7,null,null,null,230]
["T32114U",227,63.62,null,null,null,218]
["T32115A",240,76.7,null,null,null,230]
["T32115U",227,63.62,null,null,null,218]
["T32200X",90,27.1,null,null,null,86]
["T32201A",211,65.97,null,null,null,202]
["T32201U",198,52.89,null,null,null,190]
["T32202A",230,71.13,null,null,null,221]
["T32202U",218,58.31,null,null,null,209]
["T32203A",211,65.97,null,null,null,202]
["T32203U",198,52.89,null,null,null,190]
["T32204A",194,63.73,null,null,null,186]
["T32204U",181,50.61,null,null,null,174]
["T32205A",194,63.73,null,null,null,186]
["T32205U",181,50.61,null,null,null,174]
["T32210X",136,40.07,null,null,null,130]
["T32211A",256,78.680000000000007,null,null,null,246]
["T32211U",244,65.849999999999994,null,null,null,234]
["T32212A",276,84.1,null,null,null,265]
["T32212U",264,71.319999999999993,null,null,null,253]
["T32213A",256,78.680000000000007,null,null,null,246]
["T32213U",244,65.849999999999994,null,null,null,234]
["T32214A",240,76.7,null,null,null,230]
["T32214U",227,63.62,null,null,null,218]
["T32215A",240,76.7,null,null,null,230]
["T32215U",227,63.62,null,null,null,218]
["T32300X",90,27.1,null,null,null,86]
["T32301A",211,65.97,null,null,null,202]
["T32301U",198,52.89,null,null,null,190]
["T32302A",230,71.13,null,null,null,221]
["T32302U",218,58.31,null,null,null,209]
["T32303A",211,65.97,null,null,null,202]
["T32303U",198,52.89,null,null,null,190]
["T32304A",194,63.73,null,null,null,186]
["T32304U",181,50.61,null,null,null,174]
["T32305A",194,63.73,null,null,null,186]
["T32305U",181,50.61,null,null,null,174]
["T32310X",136,40.07,null,null,null,130]
["T32311A",256,78.680000000000007,null,null,null,246]
["T32311U",244,65.849999999999994,null,null,null,234]
["T32312A",276,84.1,null,null,null,265]
["T32312U",264,71.319999999999993,null,null,null,253]
["T32313A",256,78.680000000000007,null,null,null,246]
["T32313U",244,65.849999999999994,null,null,null,234]
["T32314A",240,76.7,null,null,null,230]
["T32314U",227,63.62,null,null,null,218]
["T32315A",240,76.7,null,null,null,230]
["T32315U",227,63.62,null,null,null,218]
["T33000X",90,27.1,null,null,null,86]
["T33001A",9999,62.89,null,null,null,202]
["T33001U",198,52.89,null,null,null,190]
["T33002A",9999,68.31,null,null,null,221]
["T33002U",218,58.31,null,null,null,209]
["T33003A",9999,62.89,null,null,null,202]
["T33003U",198,52.89,null,null,null,190]
["T33004A",9999,60.61,null,null,null,186]
["T33004U",181,50.61,null,null,null,174]
["T33005A",9999,60.61,null,null,null,186]
["T33005U",181,50.61,null,null,null,174]
["T33010X",136,40.07,null,null,null,130]
["T33011A",9999,75.849999999999994,null,null,null,246]
["T33011U",244,65.849999999999994,null,null,null,234]
["T33012A",9999,81.319999999999993,null,null,null,265]
["T33012U",264,71.319999999999993,null,null,null,253]
["T33013A",9999,75.849999999999994,null,null,null,246]
["T33013U",244,65.849999999999994,null,null,null,234]
["T33014A",9999,73.62,null,null,null,230]
["T33014U",227,63.62,null,null,null,218]
["T33015A",9999,73.62,null,null,null,230]
["T33015U",227,63.62,null,null,null,218]
["T33100X",90,27.1,null,null,null,86]
["T33101A",211,65.97,null,null,null,202]
["T33101U",198,52.89,null,null,null,190]
["T33102A",230,71.13,null,null,null,221]
["T33102U",218,58.31,null,null,null,209]
["T33103A",211,65.97,null,null,null,202]
["T33103U",198,52.89,null,null,null,190]
["T33104A",194,63.73,null,null,null,186]
["T33104U",181,50.61,null,null,null,174]
["T33105A",194,63.73,null,null,null,186]
["T33105U",181,50.61,null,null,null,174]
["T33110X",136,40.07,null,null,null,130]
["T33111A",256,78.680000000000007,null,null,null,246]
["T33111U",244,65.849999999999994,null,null,null,234]
["T33112A",276,84.1,null,null,null,265]
["T33112U",264,71.319999999999993,null,null,null,253]
["T33113A",256,78.680000000000007,null,null,null,246]
["T33113U",244,65.849999999999994,null,null,null,234]
["T33114A",240,76.7,null,null,null,230]
["T33114U",227,63.62,null,null,null,218]
["T33115A",240,76.7,null,null,null,230]
["T33115U",227,63.62,null,null,null,218]
["T33200X",90,27.1,null,null,null,86]
["T33201A",211,65.97,null,null,null,202]
["T33201U",198,52.89,null,null,null,190]
["T33202A",230,71.13,null,null,null,221]
["T33202U",218,58.31,null,null,null,209]
["T33203A",211,65.97,null,null,null,202]
["T33203U",198,52.89,null,null,null,190]
["T33204A",194,63.73,null,null,null,186]
["T33204U",181,50.61,null,null,null,174]
["T33205A",194,63.73,null,null,null,186]
["T33205U",181,50.61,null,null,null,174]
["T33210X",136,40.07,null,null,null,130]
["T33211A",256,78.680000000000007,null,null,null,246]
["T33211U",244,65.849999999999994,null,null,null,234]
["T33212A",276,84.1,null,null,null,265]
["T33212U",264,71.319999999999993,null,null,null,253]
["T33213A",256,78.680000000000007,null,null,null,246]
["T33213U",244,65.849999999999994,null,null,null,234]
["T33214A",240,76.7,null,null,null,230]
["T33214U",227,63.62,null,null,null,218]
["T33215A",240,76.7,null,null,null,230]
["T33215U",227,63.62,null,null,null,218]
["T33300X",90,27.1,null,null,null,86]
["T33301A",211,65.97,null,null,null,202]
["T33301U",198,52.89,null,null,null,190]
["T33302A",230,71.13,null,null,null,221]
["T33302U",218,58.31,null,null,null,209]
["T33303A",211,65.97,null,null,null,202]
["T33303U",198,52.89,null,null,null,190]
["T33304A",194,63.73,null,null,null,186]
["T33304U",181,50.61,null,null,null,174]
["T33305A",194,63.73,null,null,null,186]
["T33305U",181,50.61,null,null,null,174]
["T33310X",136,40.07,null,null,null,130]
["T33311A",256,78.680000000000007,null,null,null,246]
["T33311U",244,65.849999999999994,null,null,null,234]
["T33312A",276,84.1,null,null,null,265]
["T33312U",264,71.319999999999993,null,null,null,253]
["T33313A",256,78.680000000000007,null,null,null,246]
["T33313U",244,65.849999999999994,null,null,null,234]
["T33314A",240,76.7,null,null,null,230]
["T33314U",227,63.62,null,null,null,218]
["T33315A",240,76.7,null,null,null,230]
["T33315U",227,63.62,null,null,null,218]
["T33400X",90,27.1,null,null,null,86]
["T33401A",211,65.97,null,null,null,202]
["T33401U",198,52.89,null,null,null,190]
["T33402A",230,71.13,null,null,null,221]
["T33402U",218,58.31,null,null,null,209]
["T33403A",211,65.97,null,null,null,202]
["T33403U",198,52.89,null,null,null,190]
["T33404A",194,63.73,null,null,null,186]
["T33404U",181,50.61,null,null,null,174]
["T33405A",194,63.73,null,null,null,186]
["T33405U",181,50.61,null,null,null,174]
["T33410X",136,40.07,null,null,null,130]
["T33411A",256,78.680000000000007,null,null,null,246]
["T33411U",244,65.849999999999994,null,null,null,234]
["T33412A",276,84.1,null,null,null,265]
["T33412U",264,71.319999999999993,null,null,null,253]
["T33413A",256,78.680000000000007,null,null,null,246]
["T33413U",244,65.849999999999994,null,null,null,234]
["T33414A",240,76.7,null,null,null,230]
["T33414U",227,63.62,null,null,null,218]
["T33415A",240,76.7,null,null,null,230]
["T33415U",227,63.62,null,null,null,218]
["T33L00X",90,27.1,null,null,null,86]
["T33L02A",230,71.13,null,null,null,221]
["T33L10X",136,40.07,null,null,null,130]
["T33L12A",276,84.1,null,null,null,265]
["T33R00X",90,27.1,null,null,null,86]
["T33R02A",230,71.13,null,null,null,221]
["T33R10X",136,40.07,null,null,null,130]
["T33R12A",276,84.1,null,null,null,265]
["T34000X",103,28.3,null,null,null,99]
["T34001A",9999,65.66,null,null,null,215]
["T34001U",212,55.66,null,null,null,203]
["T34002A",9999,71.08,null,null,null,234]
["T34002U",231,61.08,null,null,null,222]
["T34003A",9999,65.66,null,null,null,215]
["T34003U",212,55.66,null,null,null,203]
["T34004A",9999,63.29,null,null,null,199]
["T34004U",195,53.29,null,null,null,187]
["T34005A",9999,63.29,null,null,null,199]
["T34005U",195,53.29,null,null,null,187]
["T34010X",149,41.94,null,null,null,143]
["T34011A",9999,78.989999999999995,null,null,null,259]
["T34011U",257,68.989999999999995,null,null,null,247]
["T34012A",9999,84.72,null,null,null,278]
["T34012U",277,74.72,null,null,null,266]
["T34013A",9999,78.989999999999995,null,null,null,259]
["T34013U",257,68.989999999999995,null,null,null,247]
["T34014A",9999,76.930000000000007,null,null,null,243]
["T34014U",241,66.930000000000007,null,null,null,231]
["T34015A",9999,76.930000000000007,null,null,null,243]
["T34015U",241,66.930000000000007,null,null,null,231]
["T34100X",103,28.3,null,null,null,99]
["T34101A",224,69.08,null,null,null,215]
["T34101U",212,55.66,null,null,null,203]
["T34102A",244,74.81,null,null,null,234]
["T34102U",231,61.08,null,null,null,222]
["T34103A",224,69.08,null,null,null,215]
["T34103U",212,55.66,null,null,null,203]
["T34104A",207,66.73,null,null,null,199]
["T34104U",195,53.29,null,null,null,187]
["T34105A",207,66.73,null,null,null,199]
["T34105U",195,53.29,null,null,null,187]
["T34110X",149,41.94,null,null,null,143]
["T34111A",270,82.72,null,null,null,259]
["T34111U",257,68.989999999999995,null,null,null,247]
["T34112A",290,88.46,null,null,null,278]
["T34112U",277,74.72,null,null,null,266]
["T34113A",270,82.72,null,null,null,259]
["T34113U",257,68.989999999999995,null,null,null,247]
["T34114A",253,80.38,null,null,null,243]
["T34114U",241,66.930000000000007,null,null,null,231]
["T34115A",253,80.38,null,null,null,243]
["T34115U",241,66.930000000000007,null,null,null,231]
["T34200X",103,28.3,null,null,null,99]
["T34201A",224,69.08,null,null,null,215]
["T34201U",212,55.66,null,null,null,203]
["T34202A",244,74.81,null,null,null,234]
["T34202U",231,61.08,null,null,null,222]
["T34203A",224,69.08,null,null,null,215]
["T34203U",212,55.66,null,null,null,203]
["T34204A",207,66.73,null,null,null,199]
["T34204U",195,53.29,null,null,null,187]
["T34205A",207,66.73,null,null,null,199]
["T34205U",195,53.29,null,null,null,187]
["T34210X",149,41.94,null,null,null,143]
["T34211A",270,82.72,null,null,null,259]
["T34211U",257,68.989999999999995,null,null,null,247]
["T34212A",290,88.46,null,null,null,278]
["T34212U",277,74.72,null,null,null,266]
["T34213A",270,82.72,null,null,null,259]
["T34213U",257,68.989999999999995,null,null,null,247]
["T34214A",253,80.38,null,null,null,243]
["T34214U",241,66.930000000000007,null,null,null,231]
["T34215A",253,80.38,null,null,null,243]
["T34215U",241,66.930000000000007,null,null,null,231]
["T35000X",103,28.3,null,null,null,99]
["T35001A",9999,65.66,null,null,null,215]
["T35001U",212,55.66,null,null,null,203]
["T35002A",9999,71.08,null,null,null,234]
["T35002U",231,61.08,null,null,null,222]
["T35003A",9999,65.66,null,null,null,215]
["T35003U",212,55.66,null,null,null,203]
["T35004A",9999,63.29,null,null,null,199]
["T35004U",195,53.29,null,null,null,187]
["T35005A",9999,63.29,null,null,null,199]
["T35005U",195,53.29,null,null,null,187]
["T35010X",149,41.94,null,null,null,143]
["T35011A",9999,78.989999999999995,null,null,null,259]
["T35011U",257,68.989999999999995,null,null,null,247]
["T35012A",9999,84.72,null,null,null,278]
["T35012U",277,74.72,null,null,null,266]
["T35013A",9999,78.989999999999995,null,null,null,259]
["T35013U",257,68.989999999999995,null,null,null,247]
["T35014A",9999,76.930000000000007,null,null,null,243]
["T35014U",241,66.930000000000007,null,null,null,231]
["T35015A",9999,76.930000000000007,null,null,null,243]
["T35015U",241,66.930000000000007,null,null,null,231]
["T35100X",103,28.3,null,null,null,99]
["T35101A",224,69.08,null,null,null,215]
["T35101U",212,55.66,null,null,null,203]
["T35102A",244,74.81,null,null,null,234]
["T35102U",231,61.08,null,null,null,222]
["T35103A",224,69.08,null,null,null,215]
["T35103U",212,55.66,null,null,null,203]
["T35104A",207,66.73,null,null,null,199]
["T35104U",195,53.29,null,null,null,187]
["T35105A",207,66.73,null,null,null,199]
["T35105U",195,53.29,null,null,null,187]
["T35110X",149,41.94,null,null,null,143]
["T35111A",270,82.72,null,null,null,259]
["T35111U",257,68.989999999999995,null,null,null,247]
["T35112A",290,88.46,null,null,null,278]
["T35112U",277,74.72,null,null,null,266]
["T35113A",270,82.72,null,null,null,259]
["T35113U",257,68.989999999999995,null,null,null,247]
["T35114A",253,80.38,null,null,null,243]
["T35114U",241,66.930000000000007,null,null,null,231]
["T35115A",253,80.38,null,null,null,243]
["T35115U",241,66.930000000000007,null,null,null,231]
["T35200X",103,28.3,null,null,null,99]
["T35201A",224,69.08,null,null,null,215]
["T35201U",212,55.66,null,null,null,203]
["T35202A",244,74.81,null,null,null,234]
["T35202U",231,61.08,null,null,null,222]
["T35203A",224,69.08,null,null,null,215]
["T35203U",212,55.66,null,null,null,203]
["T35204A",207,66.73,null,null,null,199]
["T35204U",195,53.29,null,null,null,187]
["T35205A",207,66.73,null,null,null,199]
["T35205U",195,53.29,null,null,null,187]
["T35210X",149,41.94,null,null,null,143]
["T35211A",270,82.72,null,null,null,259]
["T35211U",257,68.989999999999995,null,null,null,247]
["T35212A",290,88.46,null,null,null,278]
["T35212U",277,74.72,null,null,null,266]
["T35213A",270,82.72,null,null,null,259]
["T35213U",257,68.989999999999995,null,null,null,247]
["T35214A",253,80.38,null,null,null,243]
["T35214U",241,66.930000000000007,null,null,null,231]
["T35215A",253,80.38,null,null,null,243]
["T35215U",241,66.930000000000007,null,null,null,231]
["T35300X",103,28.3,null,null,null,99]
["T35301A",224,69.08,null,null,null,215]
["T35301U",212,55.66,null,null,null,203]
["T35302A",244,74.81,null,null,null,234]
["T35302U",231,61.08,null,null,null,222]
["T35303A",224,69.08,null,null,null,215]
["T35303U",212,55.66,null,null,null,203]
["T35304A",207,66.73,null,null,null,199]
["T35304U",195,53.29,null,null,null,187]
["T35305A",207,66.73,null,null,null,199]
["T35305U",195,53.29,null,null,null,187]
["T35310X",149,41.94,null,null,null,143]
["T35311A",270,82.72,null,null,null,259]
["T35311U",257,68.989999999999995,null,null,null,247]
["T35312A",290,88.46,null,null,null,278]
["T35312U",277,74.72,null,null,null,266]
["T35313A",270,82.72,null,null,null,259]
["T35313U",257,68.989999999999995,null,null,null,247]
["T35314A",253,80.38,null,null,null,243]
["T35314U",241,66.930000000000007,null,null,null,231]
["T35315A",253,80.38,null,null,null,243]
["T35315U",241,66.930000000000007,null,null,null,231]
["T35L00X",103,28.3,null,null,null,99]
["T35L02A",244,74.81,null,null,null,234]
["T35L10X",149,41.94,null,null,null,143]
["T35L12A",290,88.46,null,null,null,278]
["T35R00X",103,28.3,null,null,null,99]
["T35R02A",244,74.81,null,null,null,234]
["T35R10X",149,41.94,null,null,null,143]
["T35R12A",290,88.46,null,null,null,278]
["T36000X",126,29.68,null,null,null,121]
["T36001A",9999,68.03,null,null,null,237]
["T36001U",234,58.03,null,null,null,225]
["T36002A",9999,74.02,null,null,null,256]
["T36002U",254,64.02,null,null,null,244]
["T36003A",9999,68.03,null,null,null,237]
["T36003U",234,58.03,null,null,null,225]
["T36004A",9999,65.86,null,null,null,221]
["T36004U",218,55.86,null,null,null,209]
["T36005A",9999,65.86,null,null,null,221]
["T36005U",218,55.86,null,null,null,209]
["T36010X",172,43.94,null,null,null,165]
["T36011A",9999,82.34,null,null,null,281]
["T36011U",280,72.34,null,null,null,269]
["T36012A",9999,88.34,null,null,null,300]
["T36012U",300,78.34,null,null,null,288]
["T36013A",9999,82.34,null,null,null,281]
["T36013U",280,72.34,null,null,null,269]
["T36014A",9999,80.12,null,null,null,265]
["T36014U",264,70.12,null,null,null,253]
["T36015A",9999,80.12,null,null,null,265]
["T36015U",264,70.12,null,null,null,253]
["T36100X",126,29.68,null,null,null,121]
["T36101A",247,72.430000000000007,null,null,null,237]
["T36101U",234,58.03,null,null,null,225]
["T36102A",267,78.430000000000007,null,null,null,256]
["T36102U",254,64.02,null,null,null,244]
["T36103A",247,72.430000000000007,null,null,null,237]
["T36103U",234,58.03,null,null,null,225]
["T36104A",230,69.94,null,null,null,221]
["T36104U",218,55.86,null,null,null,209]
["T36105A",230,69.94,null,null,null,221]
["T36105U",218,55.86,null,null,null,209]
["T36110X",172,43.94,null,null,null,165]
["T36111A",293,86.7,null,null,null,281]
["T36111U",280,72.34,null,null,null,269]
["T36112A",312,92.4,null,null,null,300]
["T36112U",300,78.34,null,null,null,288]
["T36113A",293,86.7,null,null,null,281]
["T36113U",280,72.34,null,null,null,269]
["T36114A",276,84.21,null,null,null,265]
["T36114U",264,70.12,null,null,null,253]
["T36115A",276,84.21,null,null,null,265]
["T36115U",264,70.12,null,null,null,253]
["T36200X",126,29.68,null,null,null,121]
["T36201A",247,72.430000000000007,null,null,null,237]
["T36201U",234,58.03,null,null,null,225]
["T36202A",267,78.430000000000007,null,null,null,256]
["T36202U",254,64.02,null,null,null,244]
["T36203A",247,72.430000000000007,null,null,null,237]
["T36203U",234,58.03,null,null,null,225]
["T36204A",230,69.94,null,null,null,221]
["T36204U",218,55.86,null,null,null,209]
["T36205A",230,69.94,null,null,null,221]
["T36205U",218,55.86,null,null,null,209]
["T36210X",172,43.94,null,null,null,165]
["T36211A",293,86.7,null,null,null,281]
["T36211U",280,72.34,null,null,null,269]
["T36212A",312,92.4,null,null,null,300]
["T36212U",300,78.34,null,null,null,288]
["T36213A",293,86.7,null,null,null,281]
["T36213U",280,72.34,null,null,null,269]
["T36214A",276,84.21,null,null,null,265]
["T36214U",264,70.12,null,null,null,253]
["T36215A",276,84.21,null,null,null,265]
["T36215U",264,70.12,null,null,null,253]
["T36300X",126,29.68,null,null,null,121]
["T36301A",247,72.430000000000007,null,null,null,237]
["T36301U",234,58.03,null,null,null,225]
["T36302A",267,78.430000000000007,null,null,null,256]
["T36302U",254,64.02,null,null,null,244]
["T36303A",247,72.430000000000007,null,null,null,237]
["T36303U",234,58.03,null,null,null,225]
["T36304A",230,69.94,null,null,null,221]
["T36304U",218,55.86,null,null,null,209]
["T36305A",230,69.94,null,null,null,221]
["T36305U",218,55.86,null,null,null,209]
["T36310X",172,43.94,null,null,null,165]
["T36311A",293,86.7,null,null,null,281]
["T36311U",280,72.34,null,null,null,269]
["T36312A",312,92.4,null,null,null,300]
["T36312U",300,78.34,null,null,null,288]
["T36313A",293,86.7,null,null,null,281]
["T36313U",280,72.34,null,null,null,269]
["T36314A",276,84.21,null,null,null,265]
["T36314U",264,70.12,null,null,null,253]
["T36315A",276,84.21,null,null,null,265]
["T36315U",264,70.12,null,null,null,253]
["T36L00X",126,29.68,null,null,null,121]
["T36L02A",267,78.430000000000007,null,null,null,256]
["T36L10X",172,43.94,null,null,null,165]
["T36L12A",312,92.4,null,null,null,300]
["T36R00X",126,29.68,null,null,null,121]
["T36R02A",267,78.430000000000007,null,null,null,256]
["T36R10X",172,43.94,null,null,null,165]
["T36R12A",312,92.4,null,null,null,300]
["T37000X",126,29.68,null,null,null,121]
["T37001A",9999,68.03,null,null,null,237]
["T37001U",234,58.03,null,null,null,225]
["T37002A",9999,74.02,null,null,null,256]
["T37002U",254,64.02,null,null,null,244]
["T37003A",9999,68.03,null,null,null,237]
["T37003U",234,58.03,null,null,null,225]
["T37004A",9999,65.86,null,null,null,221]
["T37004U",218,55.86,null,null,null,209]
["T37005A",9999,65.86,null,null,null,221]
["T37005U",218,55.86,null,null,null,209]
["T37010X",172,43.94,null,null,null,165]
["T37011A",9999,82.34,null,null,null,281]
["T37011U",280,72.34,null,null,null,269]
["T37012A",9999,88.34,null,null,null,300]
["T37012U",300,78.34,null,null,null,288]
["T37013A",9999,82.34,null,null,null,281]
["T37013U",280,72.34,null,null,null,269]
["T37014A",9999,80.12,null,null,null,265]
["T37014U",264,70.12,null,null,null,253]
["T37015A",9999,80.12,null,null,null,265]
["T37015U",264,70.12,null,null,null,253]
["T37100X",126,29.68,null,null,null,121]
["T37101A",247,72.430000000000007,null,null,null,237]
["T37101U",234,58.03,null,null,null,225]
["T37102A",267,78.430000000000007,null,null,null,256]
["T37102U",254,64.02,null,null,null,244]
["T37103A",247,72.430000000000007,null,null,null,237]
["T37103U",234,58.03,null,null,null,225]
["T37104A",230,69.94,null,null,null,221]
["T37104U",218,55.86,null,null,null,209]
["T37105A",230,69.94,null,null,null,221]
["T37105U",218,55.86,null,null,null,209]
["T37110X",172,43.94,null,null,null,165]
["T37111A",293,86.7,null,null,null,281]
["T37111U",280,72.34,null,null,null,269]
["T37112A",312,92.4,null,null,null,300]
["T37112U",300,78.34,null,null,null,288]
["T37113A",293,86.7,null,null,null,281]
["T37113U",280,72.34,null,null,null,269]
["T37114A",276,84.21,null,null,null,265]
["T37114U",264,70.12,null,null,null,253]
["T37115A",276,84.21,null,null,null,265]
["T37115U",264,70.12,null,null,null,253]
["T37200X",126,29.68,null,null,null,121]
["T37201A",247,72.430000000000007,null,null,null,237]
["T37201U",234,58.03,null,null,null,225]
["T37202A",267,78.430000000000007,null,null,null,256]
["T37202U",254,64.02,null,null,null,244]
["T37203A",247,72.430000000000007,null,null,null,237]
["T37203U",234,58.03,null,null,null,225]
["T37204A",230,69.94,null,null,null,221]
["T37204U",218,55.86,null,null,null,209]
["T37205A",230,69.94,null,null,null,221]
["T37205U",218,55.86,null,null,null,209]
["T37210X",172,43.94,null,null,null,165]
["T37211A",293,86.7,null,null,null,281]
["T37211U",280,72.34,null,null,null,269]
["T37212A",312,92.4,null,null,null,300]
["T37212U",300,78.34,null,null,null,288]
["T37213A",293,86.7,null,null,null,281]
["T37213U",280,72.34,null,null,null,269]
["T37214A",276,84.21,null,null,null,265]
["T37214U",264,70.12,null,null,null,253]
["T37215A",276,84.21,null,null,null,265]
["T37215U",264,70.12,null,null,null,253]
["T37300X",126,29.68,null,null,null,121]
["T37301A",247,72.430000000000007,null,null,null,237]
["T37301U",234,58.03,null,null,null,225]
["T37302A",267,78.430000000000007,null,null,null,256]
["T37302U",254,64.02,null,null,null,244]
["T37303A",247,72.430000000000007,null,null,null,237]
["T37303U",234,58.03,null,null,null,225]
["T37304A",230,69.94,null,null,null,221]
["T37304U",218,55.86,null,null,null,209]
["T37305A",230,69.94,null,null,null,221]
["T37305U",218,55.86,null,null,null,209]
["T37310X",172,43.94,null,null,null,165]
["T37311A",293,86.7,null,null,null,281]
["T37311U",280,72.34,null,null,null,269]
["T37312A",312,92.4,null,null,null,300]
["T37312U",300,78.34,null,null,null,288]
["T37313A",293,86.7,null,null,null,281]
["T37313U",280,72.34,null,null,null,269]
["T37314A",276,84.21,null,null,null,265]
["T37314U",264,70.12,null,null,null,253]
["T37315A",276,84.21,null,null,null,265]
["T37315U",264,70.12,null,null,null,253]
["T37L00X",126,29.68,null,null,null,121]
["T37L02A",267,78.430000000000007,null,null,null,256]
["T37L10X",172,43.94,null,null,null,165]
["T37L12A",312,92.4,null,null,null,300]
["T37R00X",126,29.68,null,null,null,121]
["T37R02A",267,78.430000000000007,null,null,null,256]
["T37R10X",172,43.94,null,null,null,165]
["T37R12A",312,92.4,null,null,null,300]
["T38000X",126,29.68,null,null,null,121]
["T38001A",9999,68.03,null,null,null,237]
["T38001U",234,58.03,null,null,null,225]
["T38002A",9999,74.02,null,null,null,256]
["T38002U",254,64.02,null,null,null,244]
["T38003A",9999,68.03,null,null,null,237]
["T38003U",234,58.03,null,null,null,225]
["T38004A",9999,65.86,null,null,null,221]
["T38004U",218,55.86,null,null,null,209]
["T38005A",9999,65.86,null,null,null,221]
["T38005U",218,55.86,null,null,null,209]
["T38010X",172,43.94,null,null,null,165]
["T38011A",9999,82.34,null,null,null,281]
["T38011U",280,72.34,null,null,null,269]
["T38012A",9999,88.34,null,null,null,300]
["T38012U",300,78.34,null,null,null,288]
["T38013A",9999,82.34,null,null,null,281]
["T38013U",280,72.34,null,null,null,269]
["T38014A",9999,80.12,null,null,null,265]
["T38014U",264,70.12,null,null,null,253]
["T38015A",9999,80.12,null,null,null,265]
["T38015U",264,70.12,null,null,null,253]
["T38100X",126,29.68,null,null,null,121]
["T38101A",247,72.430000000000007,null,null,null,237]
["T38101U",234,58.03,null,null,null,225]
["T38102A",267,78.430000000000007,null,null,null,256]
["T38102U",254,64.02,null,null,null,244]
["T38103A",247,72.430000000000007,null,null,null,237]
["T38103U",234,58.03,null,null,null,225]
["T38104A",230,69.94,null,null,null,221]
["T38104U",218,55.86,null,null,null,209]
["T38105A",230,69.94,null,null,null,221]
["T38105U",218,55.86,null,null,null,209]
["T38110X",172,43.94,null,null,null,165]
["T38111A",293,86.7,null,null,null,281]
["T38111U",280,72.34,null,null,null,269]
["T38112A",312,92.4,null,null,null,300]
["T38112U",300,78.34,null,null,null,288]
["T38113A",293,86.7,null,null,null,281]
["T38113U",280,72.34,null,null,null,269]
["T38114A",276,84.21,null,null,null,265]
["T38114U",264,70.12,null,null,null,253]
["T38115A",276,84.21,null,null,null,265]
["T38115U",264,70.12,null,null,null,253]
["T39000X",126,29.68,null,null,null,121]
["T39001A",9999,68.03,null,null,null,237]
["T39001U",234,58.03,null,null,null,225]
["T39002A",9999,74.02,null,null,null,256]
["T39002U",254,64.02,null,null,null,244]
["T39003A",9999,68.03,null,null,null,237]
["T39003U",234,58.03,null,null,null,225]
["T39004A",9999,65.86,null,null,null,221]
["T39004U",218,55.86,null,null,null,209]
["T39005A",9999,65.86,null,null,null,221]
["T39005U",218,55.86,null,null,null,209]
["T39010X",172,43.94,null,null,null,165]
["T39011A",9999,82.34,null,null,null,281]
["T39011U",280,72.34,null,null,null,269]
["T39012A",9999,88.34,null,null,null,300]
["T39012U",300,78.34,null,null,null,288]
["T39013A",9999,82.34,null,null,null,281]
["T39013U",280,72.34,null,null,null,269]
["T39014A",9999,80.12,null,null,null,265]
["T39014U",264,70.12,null,null,null,253]
["T39015A",9999,80.12,null,null,null,265]
["T39015U",264,70.12,null,null,null,253]
["T39100X",126,29.68,null,null,null,121]
["T39101A",247,72.430000000000007,null,null,null,237]
["T39101U",234,58.03,null,null,null,225]
["T39102A",267,78.430000000000007,null,null,null,256]
["T39102U",254,64.02,null,null,null,244]
["T39103A",247,72.430000000000007,null,null,null,237]
["T39103U",234,58.03,null,null,null,225]
["T39104A",230,69.94,null,null,null,221]
["T39104U",218,55.86,null,null,null,209]
["T39105A",230,69.94,null,null,null,221]
["T39105U",218,55.86,null,null,null,209]
["T39110X",172,43.94,null,null,null,165]
["T39111A",293,86.7,null,null,null,281]
["T39111U",280,72.34,null,null,null,269]
["T39112A",312,92.4,null,null,null,300]
["T39112U",300,78.34,null,null,null,288]
["T39113A",293,86.7,null,null,null,281]
["T39113U",280,72.34,null,null,null,269]
["T39114A",276,84.21,null,null,null,265]
["T39114U",264,70.12,null,null,null,253]
["T39115A",276,84.21,null,null,null,265]
["T39115U",264,70.12,null,null,null,253]
["T40246U",151,46.39,null,null,null,145]
["T40346U",151,46.39,null,null,null,145]
["T40446U",151,48.69,null,null,null,145]
["T43200X",104,30.16,null,null,null,100]
["T43230X",168,43.2,null,null,null,161]
["T44346U",155,48.63,null,null,null,149]
["T45200X",109,31.91,null,null,null,104]
["T45230X",172,45.34,null,null,null,165]
["T45446U",155,48.63,null,null,null,149]
["T46100X",139,33.340000000000003,null,null,null,133]
["T46130X",202,47.43,null,null,null,194]
["T49136U",246,54.62,null,null,null,236]
["T59116U",187,62.73,null,null,null,179]
["T63200X",271,76.61,null,null,null,260]
["T63201A",392,113.38,null,null,null,376]
["T63206U",286,81.849999999999994,null,null,null,275]
["T65200X",283,80.319999999999993,null,null,null,272]
["T65201A",404,118.85,null,null,null,388]
["T65206U",299,86.1,null,null,null,287]
["T66100X",306,84.15,null,null,null,294]
["T66101A",427,124.56,null,null,null,410]
["T66106U",322,90.19,null,null,null,309]
["T67100X",327,84.2,null,null,null,314]
["T67101A",448,124.61,null,null,null,430]
["T67106U",343,90.24,null,null,1,329]

{"sheet":"OtherTrays","index":16,"n_rows":141,"n_cols":11,"rows_kept":141,"cut":false,"hidden":true,"merged":[]}
["IDX","NON-TRAY MAKER TRAYS","Tray #","Retail","Primary","Best Cost","Second","Seating"]
[33,{"$f":"INDEX(B$4:B$134,$A$2,1)","v":"Clear 1/4\" 18W x 19D tray w/ 12x6 BC, aluminum rim, straps"},{"$f":"INDEX(C$4:C$134,$A$2,1)","v":"T40246U"},{"$f":"INDEX(D$4:D$134,$A$2,1)","v":151},{"$f":"'Pick List'!$P$5*D2","v":151},{"$f":"IF(TrayPrices!$D$1,H2,G2)","v":151},{"$f":"'Pick List'!$P$6*D2","v":151},{"$f":"INDEX(E$4:E$134,$A$2,1)","v":46.39}]
[null,"DESCRIPTION","ITEM #","RETAIL","SEATING",null,null,null,null,"OLD RETAIL","OLD SEATING"]
[1,"Black 3/8\" 21W x 18D tray w/ 12x7 BC + 4.5x8 LCO, PVC rim","T33L00X",90,27.1,null,null,null,null,86,25]
[2,"Black 3/8\" 21W x 18D tray w/ 12x7 BC + 4.5x8 LCO, PVC rim","T33L10X",136,40.07,null,null,null,null,130,37]
[3,"Black 3/8\" 21W x 18D tray w/ 12x7 BC + 4.5x8 LCO, PVC rim, Top Drop attached","T33L12A",276,84.1,null,null,null,null,265,78]
[4,"Black 3/8\" 21W x 18D tray w/ 12x7 BC + 4.5x8 LCO, Top Drop attached","T33L02A",230,71.13,null,null,null,null,221,66]
[5,"Black 3/8\" 21W x 18D tray w/ 12x7 BC + 4.5x8 RCO, PVC rim","T33R00X",90,27.1,null,null,null,null,86,25]
[6,"Black 3/8\" 21W x 18D tray w/ 12x7 BC + 4.5x8 RCO, PVC rim","T33R10X",136,40.07,null,null,null,null,130,37]
[7,"Black 3/8\" 21W x 18D tray w/ 12x7 BC + 4.5x8 RCO, PVC rim, Top Drop attached","T33R12A",276,84.1,null,null,null,null,265,78]
[8,"Black 3/8\" 21W x 18D tray w/ 12x7 BC + 4.5x8 RCO, Top Drop attached","T33R02A",230,71.13,null,null,null,null,221,66]
[9,"Black 3/8\" 23.5W x 22D tray w/ 14x9 BC + 4.5x8 LCO","T35L00X",103,28.3,null,null,null,null,99,26.25]
[10,"Black 3/8\" 23.5W x 22D tray w/ 14x9 BC + 4.5x8 LCO, PVC rim","T35L10X",149,41.94,null,null,null,null,143,38.85]
[11,"Black 3/8\" 23.5W x 22D tray w/ 14x9 BC + 4.5x8 LCO, Top Drop attached","T35L02A",244,74.81,null,null,null,null,234,69.3]
[12,"Black 3/8\" 23.5W x 22D tray w/ 14x9 BC + 4.5x8 RCO","T35R00X",103,28.3,null,null,null,null,99,26.25]
[13,"Black 3/8\" 23.5W x 22D tray w/ 14x9 BC + 4.5x8 RCO, PVC rim","T35R10X",149,41.94,null,null,null,null,143,38.85]
[14,"Black 3/8\" 23.5W x 22D tray w/ 14x9 BC + 4.5x8 RCO, PVC rim, Top Drop attached","T35R12A",290,88.46,null,null,null,null,278,81.900000000000006]
[15,"Black 3/8\" 23.5W x 22D tray w/ 14x9 BC + 4.5x8 RCO, Top Drop attached","T35R02A",244,74.81,null,null,null,null,234,69.3]
[16,"Black 3/8\" 25.5W x 22D tray w/ 15x9 BC + 4.5x8 LCO, PVC rim, Top Drop attached","T35L12A",290,88.46,null,null,null,null,278,81.900000000000006]
[17,"Black 3/8\" 25.5W x 22D tray w/ 15x9 BC + 4.5x9 LCO","T36L00X",126,29.68,null,null,null,null,121,27.5]
[18,"Black 3/8\" 25.5W x 22D tray w/ 15x9 BC + 4.5x9 LCO, PVC rim","T36L10X",172,43.94,null,null,null,null,165,40.700000000000003]
[19,"Black 3/8\" 25.5W x 22D tray w/ 15x9 BC + 4.5x9 LCO, PVC rim, Top Drop attached","T36L12A",312,92.4,null,null,null,null,300,85.8]
[20,"Black 3/8\" 25.5W x 22D tray w/ 15x9 BC + 4.5x9 LCO, Top Drop attached","T36L02A",267,78.430000000000007,null,null,null,null,256,72.599999999999994]
[21,"Black 3/8\" 25.5W x 22D tray w/ 15x9 BC + 4.5x9 RCO","T36R00X",126,29.68,null,null,null,null,121,27.5]
[22,"Black 3/8\" 25.5W x 22D tray w/ 15x9 BC + 4.5x9 RCO, PVC rim","T36R10X",172,43.94,null,null,null,null,165,40.700000000000003]
[23,"Black 3/8\" 25.5W x 22D tray w/ 15x9 BC + 4.5x9 RCO, PVC rim, Top Drop attached","T36R12A",312,92.4,null,null,null,null,300,85.8]
[24,"Black 3/8\" 25.5W x 22D tray w/ 15x9 BC + 4.5x9 RCO, Top Drop attached","T36R02A",267,78.430000000000007,null,null,null,null,256,72.599999999999994]
[25,"Black 3/8\" 27.5W x 23.5D tray w/ 16x10 BC + 4.5x10 LCO","T37L00X",126,29.68,null,null,null,null,121,27.5]
[26,"Black 3/8\" 27.5W x 23.5D tray w/ 16x10 BC + 4.5x10 LCO, PVC rim","T37L10X",172,43.94,null,null,null,null,165,40.700000000000003]
[27,"Black 3/8\" 27.5W x 23.5D tray w/ 16x10 BC + 4.5x10 LCO, PVC rim, Top Drop attchd","T37L12A",312,92.4,null,null,null,null,300,85.8]
[28,"Black 3/8\" 27.5W x 23.5D tray w/ 16x10 BC + 4.5x10 LCO, Top Drop attached","T37L02A",267,78.430000000000007,null,null,null,null,256,72.599999999999994]
[29,"Black 3/8\" 27.5W x 23.5D tray w/ 16x10 BC + 4.5x10 RCO","T37R00X",126,29.68,null,null,null,null,121,27.5]
[30,"Black 3/8\" 27.5W x 23.5D tray w/ 16x10 BC + 4.5x10 RCO, PVC rim","T37R10X",172,43.94,null,null,null,null,165,40.700000000000003]
[31,"Black 3/8\" 27.5W x 23.5D tray w/ 16x10 BC + 4.5x10 RCO, PVC rim, Top Drop attchd","T37R12A",312,92.4,null,null,null,null,300,85.8]
[32,"Black 3/8\" 27.5W x 23.5D tray w/ 16x10 BC + 4.5x10 RCO, Top Drop attached","T37R02A",267,78.430000000000007,null,null,null,null,256,72.599999999999994]
[33,"Clear 1/4\" 18W x 19D tray w/ 12x6 BC, aluminum rim, straps","T40246U",151,46.39,null,null,null,null,145,43]
[34,"Clear 1/4\" 20W x 20D tray w/ 13x7 BC, aluminum rim, straps","T40346U",151,46.39,null,null,null,null,145,43]
[35,"Clear 1/4\" 21W x 18D tray w/ 12x6 BC","T43200X",104,30.16,null,null,null,null,100,28]
[36,"Clear 1/4\" 21W x 18D tray w/ 12x6 BC, aluminum rim","T43230X",168,43.2,null,null,null,null,161,40]
[37,"Clear 1/4\" 21W x 18D tray w/ 12x6 BC, aluminum rim","T43230X",168,43.2,null,null,null,null,161,40]
[38,"Clear 1/4\" 22W x 21D tray w/ 14x8 BC, aluminum rim, straps","T44346U",155,48.63,null,null,null,null,149,45.15]
[39,"Clear 1/4\" 23.5W x 19D tray w/ 15x7 BC, aluminum rim, straps","T40446U",151,48.69,null,null,null,null,145,45.15]
[40,"Clear 1/4\" 23.5W x 22D tray w/ 14x9 BC","T45200X",109,31.91,null,null,null,null,104,29.4]
[41,"Clear 1/4\" 23.5W x 22D tray w/ 14x9 BC, aluminum rim","T45230X",172,45.34,null,null,null,null,165,42]
[42,"Clear 1/4\" 23.5W x 22D tray w/ 15x9 BC, aluminum rim, straps","T45446U",155,48.63,null,null,null,null,149,45.15]
[43,"Clear 1/4\" 25.5W x 22D tray w/ 15x9 BC","T46100X",139,33.340000000000003,null,null,null,null,133,30.8]
[44,"Clear 1/4\" 25.5W x 22D tray w/ 15x9 BC, aluminum rim","T46130X",202,47.43,null,null,null,null,194,44]
[45,"Clear 1/4\" 31.5W x 23.5D tray w/ 19x10 BC, aluminum rim, straps","T49136U",246,54.62,null,null,null,null,236,50.6]
[46,"Clear 3/8\" 21W x 18D tray w/ 12x6 BC, aluminum rim","T13220X",212,61.29,null,null,null,null,203,55]
[47,"Clear 3/8\" 21W x 18D tray w/ 12x7 BC + 4.5x8 CCO","T13E00X",167,48.32,null,null,null,null,160,43]
[48,"Clear 3/8\" 21W x 18D tray w/ 12x7 BC + 4.5x8 LCO, PVC rim","T13L10X",213,61.27,null,null,null,null,204,55]
[49,"Clear 3/8\" 21W x 18D tray w/ 12x7 BC + 4.5x8 LCO, PVC rim, Top Drop attached","T13L12A",347,93.88,null,null,null,null,333,87]
[50,"Clear 3/8\" 21W x 18D tray w/ 12x7 BC + 4.5x8 LCO, Top Drop attached","T13L02A",301,80.87,null,null,null,null,289,75]
[51,"Clear 3/8\" 21W x 18D tray w/ 12x7 BC + 4.5x8 RCO, PVC rim","T13R10X",213,61.27,null,null,null,null,204,55]
[52,"Clear 3/8\" 21W x 18D tray w/ 12x7 BC + 4.5x8 RCO, PVC rim, Top Drop attached","T13R12A",347,93.88,null,null,null,null,333,87]
[53,"Clear 3/8\" 21W x 18D tray w/ 12x7 BC + 4.5x8 RCO, Top Drop attached","T13R02A",301,80.87,null,null,null,null,289,75]
[54,"Clear 3/8\" 23.5W x 22D tray w/ 14x9 BC + 4.5x8 CCO","T15E00X",199,50.28,null,null,null,null,191,45.15]
[55,"Clear 3/8\" 23.5W x 22D tray w/ 14x9 BC + 4.5x8 LCO, PVC rim","T15L10X",245,63.98,null,null,null,null,235,57.75]
[56,"Clear 3/8\" 23.5W x 22D tray w/ 14x9 BC + 4.5x8 LCO, PVC rim, Top Drop attached","T15L12A",379,98.5,null,null,null,null,364,91.35]
[57,"Clear 3/8\" 23.5W x 22D tray w/ 14x9 BC + 4.5x8 LCO, Top Drop attached","T15L02A",333,84.86,null,null,null,null,320,78.75]
[58,"Clear 3/8\" 23.5W x 22D tray w/ 14x9 BC + 4.5x8 RCO, PVC rim","T15R10X",245,63.98,null,null,null,null,235,57.75]
[59,"Clear 3/8\" 23.5W x 22D tray w/ 14x9 BC + 4.5x8 RCO, PVC rim, Top Drop attached","T15R12A",379,98.5,null,null,null,null,364,91.35]
[60,"Clear 3/8\" 23.5W x 22D tray w/ 14x9 BC + 4.5x8 RCO, Top Drop attached","T15R02A",333,84.86,null,null,null,null,320,78.75]
[61,"Clear 3/8\" 23.5W x 22D tray w/ 14x9 BC, aluminum rim","T15220X",244,63.99,null,null,null,null,234,57.75]
[62,"Clear 3/8\" 25.5W x 22D tray w/ 15x9 BC + 4.5x9 CCO","T16E00X",227,52.47,null,null,null,null,218,47.3]
[63,"Clear 3/8\" 25.5W x 22D tray w/ 15x9 BC + 4.5x9 LCO, PVC rim","T16L10X",273,66.81,null,null,null,null,262,60.5]
[64,"Clear 3/8\" 25.5W x 22D tray w/ 15x9 BC + 4.5x9 LCO, PVC rim, Top Drop attached","T16L12A",407,103.15,null,null,null,null,391,95.7]
[65,"Clear 3/8\" 25.5W x 22D tray w/ 15x9 BC + 4.5x9 LCO, Top Drop attached","T16L02A",361,88.89,null,null,null,null,347,82.5]
[66,"Clear 3/8\" 25.5W x 22D tray w/ 15x9 BC + 4.5x9 RCO, PVC rim","T16R10X",273,66.81,null,null,null,null,262,60.5]
[67,"Clear 3/8\" 25.5W x 22D tray w/ 15x9 BC + 4.5x9 RCO, PVC rim, Top Drop attached","T16R12A",407,103.15,null,null,null,null,391,95.7]
[68,"Clear 3/8\" 25.5W x 22D tray w/ 15x9 BC + 4.5x9 RCO, Top Drop attached","T16R02A",361,88.89,null,null,null,null,347,82.5]
[69,"Clear 3/8\" 25.5W x 22D tray w/ 15x9 BC, aluminum rim","T16120X",272,66.819999999999993,null,null,null,null,261,60.5]
[70,"Clear 3/8\" 27.5W x 23.5D tray w/ 16x10 BC + 4.5x10 LCO, PVC rim","T17L10X",290,65.36,null,null,null,null,278,60.5]
[71,"Clear 3/8\" 27.5W x 23.5D tray w/ 16x10 BC + 4.5x10 LCO, PVC rim, Top Drop attchd","T17L12A",430,103.18,null,null,null,null,413,95.7]
[72,"Clear 3/8\" 27.5W x 23.5D tray w/ 16x10 BC + 4.5x10 LCO, Top Drop attached","T17L02A",384,88.93,null,null,null,null,369,82.5]
[73,"Clear 3/8\" 27.5W x 23.5D tray w/ 16x10 BC + 4.5x10 RCO, PVC rim","T17R10X",290,65.36,null,null,null,null,278,60.5]
[74,"Clear 3/8\" 27.5W x 23.5D tray w/ 16x10 BC + 4.5x10 RCO, PVC rim, Top Drop attchd","T17R12A",430,103.18,null,null,null,null,413,95.7]
[75,"Clear 3/8\" 27.5W x 23.5D tray w/ 16x10 BC + 4.5x10 RCO, Top Drop attached","T17R02A",384,88.93,null,null,null,null,369,82.5]
[76,"Clear 3/8\" 27.5W x 23.5D tray w/ 17x10 BC + 4.5x10 CCO","T17E00X",244,51.09,null,null,null,null,234,47.3]
[77,"Grey 3/8\" 21W x 18D tray w/ 12x7 BC + 4.5x8 LCO","T23L00X",80,24,null,null,null,null,76,22]
[78,"Grey 3/8\" 21W x 18D tray w/ 12x7 BC + 4.5x8 LCO, PVC rim","T23L10X",125,36.67,null,null,null,null,120,34]
[79,"Grey 3/8\" 21W x 18D tray w/ 12x7 BC + 4.5x8 LCO, PVC rim, Top Drop attached","T23L12A",266,81,null,null,null,null,255,75]
[80,"Grey 3/8\" 21W x 18D tray w/ 12x7 BC + 4.5x8 LCO, Top Drop attached","T23L02A",220,68.040000000000006,null,null,null,null,211,63]
[81,"Grey 3/8\" 21W x 18D tray w/ 12x7 BC + 4.5x8 RCO","T23R00X",80,24,null,null,null,null,76,22]
[82,"Grey 3/8\" 21W x 18D tray w/ 12x7 BC + 4.5x8 RCO, PVC rim","T23R10X",125,36.67,null,null,null,null,120,34]
[83,"Grey 3/8\" 21W x 18D tray w/ 12x7 BC + 4.5x8 RCO, PVC rim, Top Drop attached","T23R12A",266,81,null,null,null,null,255,75]
[84,"Grey 3/8\" 21W x 18D tray w/ 12x7 BC + 4.5x8 RCO, Top Drop attached","T23R02A",220,68.040000000000006,null,null,null,null,211,63]
[85,"Grey 3/8\" 23.5W x 22D tray w/ 14x9 BC + 4.5x8 LCO","T25L00X",93,24.97,null,null,null,null,89,23.1]
[86,"Grey 3/8\" 23.5W x 22D tray w/ 14x9 BC + 4.5x8 LCO, PVC rim","T25L10X",139,38.619999999999997,null,null,null,null,133,35.700000000000003]
[87,"Grey 3/8\" 23.5W x 22D tray w/ 14x9 BC + 4.5x8 LCO, PVC rim, Top Drop attached","T25L12A",279,84.89,null,null,null,null,268,78.75]
[88,"Grey 3/8\" 23.5W x 22D tray w/ 14x9 BC + 4.5x8 LCO, Top Drop attached","T25L02A",233,71.25,null,null,null,null,224,66.150000000000006]
[89,"Grey 3/8\" 23.5W x 22D tray w/ 14x9 BC + 4.5x8 RCO","T25R00X",93,24.97,null,null,null,null,89,23.1]
[90,"Grey 3/8\" 23.5W x 22D tray w/ 14x9 BC + 4.5x8 RCO, PVC rim","T25R10X",139,38.619999999999997,null,null,null,null,133,35.700000000000003]
[91,"Grey 3/8\" 23.5W x 22D tray w/ 14x9 BC + 4.5x8 RCO, PVC rim, Top Drop attached","T25R12A",279,84.89,null,null,null,null,268,78.75]
[92,"Grey 3/8\" 23.5W x 22D tray w/ 14x9 BC + 4.5x8 RCO, Top Drop attached","T25R02A",233,71.25,null,null,null,null,224,66.150000000000006]
[93,"Grey 3/8\" 25.5W x 22D tray w/ 15x9 BC + 4.5x9 LCO","T26L00X",116,26.18,null,null,null,null,111,24.2]
[94,"Grey 3/8\" 25.5W x 22D tray w/ 15x9 BC + 4.5x9 LCO, PVC rim","T26L10X",162,40.5,null,null,null,null,155,37.4]
[95,"Grey 3/8\" 25.5W x 22D tray w/ 15x9 BC + 4.5x9 LCO, PVC rim, Top Drop attached","T26L12A",302,88.99,null,null,null,null,290,82.5]
[96,"Grey 3/8\" 25.5W x 22D tray w/ 15x9 BC + 4.5x9 LCO, Top Drop attached","T26L02A",256,74.67,null,null,null,null,246,69.3]
[97,"Grey 3/8\" 25.5W x 22D tray w/ 15x9 BC + 4.5x9 RCO","T26R00X",116,26.18,null,null,null,null,111,24.2]
[98,"Grey 3/8\" 25.5W x 22D tray w/ 15x9 BC + 4.5x9 RCO, PVC rim","T26R10X",162,40.5,null,null,null,null,155,37.4]
[99,"Grey 3/8\" 25.5W x 22D tray w/ 15x9 BC + 4.5x9 RCO, PVC rim, Top Drop attached","T26R12A",302,88.99,null,null,null,null,290,82.5]
[100,"Grey 3/8\" 25.5W x 22D tray w/ 15x9 BC + 4.5x9 RCO, Top Drop attached","T26R02A",256,74.67,null,null,null,null,246,69.3]
[101,"Grey 3/8\" 27.5W x 23.5D tray w/ 16x10 BC + 4.5x10 LCO, PVC rim","T27L10X",162,40.5,null,null,null,null,155,37.4]
[102,"Grey 3/8\" 27.5W x 23.5D tray w/ 16x10 BC + 4.5x10 LCO, PVC rim, Top Drop attchd","T27L12A",302,88.99,null,null,null,null,290,82.5]
[103,"Grey 3/8\" 27.5W x 23.5D tray w/ 16x10 BC + 4.5x10 LCO, Top Drop attached","T27L02A",256,74.67,null,null,null,null,246,69.3]
[104,"Grey 3/8\" 27.5W x 23.5D tray w/ 16x10 BC + 4.5x10 RCO, PVC rim","T27R10X",162,40.5,null,null,null,null,155,37.4]
[105,"Grey 3/8\" 27.5W x 23.5D tray w/ 16x10 BC + 4.5x10 RCO, PVC rim, Top Drop attchd","T27R12A",302,88.99,null,null,null,null,290,82.5]
[106,"Grey 3/8\" 27.5W x 23.5D tray w/ 16x10 BC + 4.5x10 RCO, Top Drop attached","T27R02A",256,74.67,null,null,null,null,246,69.3]
[107,"Grey 3/8\" 27.5W x 23.5D tray w/ 17x10 BC + 4.5x10 LCO","T27L00X",116,26.18,null,null,null,null,111,24.2]
[108,"Grey 3/8\" 27.5W x 23.5D tray w/ 17x10 BC + 4.5x10 RCO","T27R00X",116,26.18,null,null,null,null,111,24.2]
[109,"Padded 21W x 18D tray w/ 12x6 BC","T63200X",271,76.61,null,null,null,null,260,71]
[110,"Padded 21W x 18D tray w/ 12x6 BC, EZ Lock attached","T63201A",392,113.38,null,null,null,null,376,105]
[111,"Padded 21W x 18D tray w/ 12x6 BC, straps","T63206U",286,81.849999999999994,null,null,null,null,275,76]
[112,"Padded 23.5W x 22D tray w/ 14x9 BC","T65200X",283,80.319999999999993,null,null,null,null,272,74.55]
[113,"Padded 23.5W x 22D tray w/ 14x9 BC, EZ Lock attached","T65201A",404,118.85,null,null,null,null,388,110.25]
[114,"Padded 23.5W x 22D tray w/ 14x9 BC, straps","T65206U",299,86.1,null,null,null,null,287,79.8]
[115,"Padded 25.5W x 22D tray w/ 15x9 BC","T66100X",306,84.15,null,null,null,null,294,78.099999999999994]
[116,"Padded 25.5W x 22D tray w/ 15x9 BC, EZ Lock attached","T66101A",427,124.56,null,null,null,null,410,115.5]
[117,"Padded 25.5W x 22D tray w/ 15x9 BC, straps","T66106U",322,90.19,null,null,null,null,309,83.6]
[118,"Padded 27.5W x 23.5D tray w/ 17x10 BC","T67100X",327,84.2,null,null,null,null,314,78.099999999999994]
[119,"Padded 27.5W x 23.5D tray w/ 17x10 BC, EZ Lock attached","T67101A",448,124.61,null,null,null,null,430,115.5]
[120,"Padded 27.5W x 23.5D tray w/ 17x10 BC, straps","T67106U",343,90.24,null,null,null,null,329,83.6]
[121,"Wood 3/8\" Clear Melamine Birch, 21W x 18D w/ 12 x 6 BC","T53200X",162,54.35,null,null,null,null,155,58]
[122,"Wood 3/8\" Clear Melamine Birch, 21W x 18D w/ 12 x 6 BC, PVC Rim","T53210X",211,70.790000000000006,null,null,null,null,202,65.45]
[123,"Wood 3/8\" Clear Melamine Birch, 23.5W x 22D w/ 14 x 9 BC","T55200X",194,65.09,null,null,null,null,186,60.26]
[124,"Wood 3/8\" Clear Melamine Birch, 23.5W x 22D w/ 14 x 9 BC, PVC Rim","T55210X",243,81.53,null,null,null,null,233,75.489999999999995]
[125,"Wood 3/8\" Clear Melamine Birch, 25.5W x 22D w/ 15 x 9 BC","T56100X",221,74.150000000000006,null,null,null,null,212,68.69]
[126,"Wood 3/8\" Clear Melamine Birch, 25.5W x 22D w/ 15 x 9 BC, PVC Rim","T56110X",270,90.58,null,null,null,null,259,83.92]
[127,"Wood 3/8\" Clear Melamine Birch, 27.5W x 22D w/ 17 x 10 BC","T57100X",221,74.150000000000006,null,null,null,null,212,68.69]
[128,"Wood 3/8\" Clear Melamine Birch, 27.5W x 22D w/ 17 x 10 BC, PVC Rim","T57110X",270,90.58,null,null,null,null,259,83.92]
[129,"Wood 3/8\" Clear Mel Birch, 31.5Wx23.5D tray w/19x10 BC, PVC rim, Straps","T59116U",187,62.73,null,null,null,null,179,58]
[]
[]
[]
[]
[]
[null,"THESE TRAYS WERE NOT ADDED TO THE TABLE"]
[null,"Clear 1/4\" 20W x 20D tray w/ 10x7 BC, aluminum rim, EZ Lock attached",31103,225,76.95,null,234]
[null,"Clear 1/4\" 21W x 18D tray w/ 12x7 BC, aluminum rim, EZ Lock attached",31111,225,76.95,null,234]
[null,"Clear 1/4\" 23.5W x 22D tray w/ 14x9 BC, aluminum rim, EZ Lock attached",31113,225,76.95,null,234]

{"sheet":"Pads","index":17,"n_rows":66,"n_cols":30,"rows_kept":66,"cut":false,"hidden":true,"merged":[]}
[null,{"$f":"INDEX(B3:B12,$A$2)","v":"1/2\" extra soft visco foam"},{"$f":"INDEX(C3:C12,$A$2)","v":71068},{"$f":"INDEX(D3:D12,$A$2)","v":26},{"$f":"INDEX(E3:E12,$A$2)","v":0.5},{"$f":"INDEX(F3:F12,$A$2)","v":"05875"},null,null,null,"Pad CONTACT surfaces",null,"Short desc","Non std?",null,null,null,"Pad NON-CONTACT surfaces",null,"Short desc","Non std?",null,null,"CONTACT vinyl color choice",null,null,null,null,"NON-CONTACT vinyl color choice"]
[1,"LTS PAD EXTRA LAYER","Phantom","Price","Thick","Mat'l",null,"LTS",1,{"$f":"INDEX(J$6:J$17,$I2)","v":"SMOOTH DARTEX"},"Standard","Smooth",false,null,"LTS",5,{"$f":"INDEX(Q$6:Q$17,$P2)","v":"NEOPRENE"},"Standard","Neoprene",false,null,null,{"$f":"INDEX(W4:W19,$V$3)","v":"CHOOSE"},{"$f":"INDEX(X4:X19,$V$3)","v":72083},{"$f":"IF('Pick List'!$B$17,INDEX(Y4:Y19,$V$3),0)","v":0},null,null,{"$f":"INDEX(AB4:AB19,$AA$3)","v":"CHOOSE"},{"$f":"INDEX(AC4:AC19,$AA$3)","v":72084},{"$f":"IF('Pick List'!$B$17,INDEX(AD4:AD19,$AA$3),0)","v":0}]
[1,"1/2\" extra soft visco foam",71068,26,0.5,"05875",null,"HIP",1,"SMOOTH DARTEX","Standard","Smooth",false,null,"HIP",5,"NEOPRENE","Standard","Neoprene",false,null,1,"Vinyl color","Mod","Retail",null,{"$f":"V3","v":1},"Vinyl color","Mod","Retail"]
[2,"1/2\" soft visco foam",71068,26,0.5,"05888",null,"ADD",1,"SMOOTH DARTEX","Standard","Smooth",false,null,"ADD",5,"NEOPRENE","Standard","Neoprene",false,null,1,"CHOOSE",72083,0,null,1,"CHOOSE",72084,0]
[3,"1/4\" medium visco foam",71068,26,0.25,"05861",null,null,2,"Knit Dartex",71006,"Knit",true,null,null,4,"Colored vinyl",72084,"Colored vinyl",true,null,2,"Blue",72079,0,null,2,"Blue",71042,0]
[4,"1/2\" medium visco foam",71068,26,0.5,"05889",null,null,1,"SMOOTH DARTEX","Standard","Smooth",false,null,null,1,"Smooth Dartex",72067,"Smooth",true,null,3,"Fizzy Cola",72088,0,null,3,"Fizzy Cola",72095,0]
[5,"3/4\" medium visco foam",71068,26,0.75,"05862",null,null,2,"Knit Dartex",71006,"Knit",true,null,null,2,"Knit Dartex",72068,"Knit",true,null,4,"Green",72080,0,null,4,"Green",71043,0]
[6,"1\" extra soft visco foam",71068,26,1,"05876",null,null,3,"Black vinyl",72072,"Black",true,null,null,3,"Black vinyl",72073,"Black",true,null,5,"Grey",72075,0,null,5,"Grey",71038,0]
[7,"1\" soft visco foam",71068,26,1,"05887",null,null,4,{"$f":"IF(Pads!$V$3<>1,Pads!$W$2&\" vinyl\",\"Colored vinyl\")","v":"Colored vinyl"},{"$f":"Pads!$X$2","v":72083},{"$f":"IF(Pads!$V$3<>1,Pads!$W$2,\"Colored vinyl\")","v":"Colored vinyl"},true,null,null,4,{"$f":"IF(Pads!$AA$3<>1,Pads!$AB$2&\" vinyl\",\"Colored vinyl\")","v":"Colored vinyl"},{"$f":"Pads!$AC$2","v":72084},{"$f":"IF(Pads!$AA$3<>1,Pads!$AB$2,\"Colored vinyl\")","v":"Colored vinyl"},true,null,6,"Island Blue",72089,0,null,6,"Island Blue",72096,0]
[8,"1\" medium visco foam",71068,26,1,"05890",null,null,5,"Neoprene",72070,"Neoprene",true,null,null,5,"NEOPRENE","Standard","Neoprene",false,null,7,"Monster Green",72085,0,null,7,"Monster Green",72092,0]
[9,"1/4\" Gel",71067,39,0.25,"05940",null,null,6,"Mesh",72064,"Mesh",true,null,null,6,"Mesh",72069,"Mesh",true,null,8,"Orangesicle",72086,0,null,8,"Orangesicle",72093,0]
[10,"1/2\" Pudgee",71092,37,0.5,"05896",null,null,7,"Smooth 2.5 Neoprene",73006,"2.5mm Neo Smooth",true,null,null,7,"Smooth 2.5 Neoprene",73008,"2.5mm Neo Smooth",true,null,9,"Pink",72076,0,null,9,"Pink",71039,0]
[null,null,null,null,null,null,null,null,8,"Knit 2.5 Neoprene",73007,"2.5mm Neo Knit",true,null,null,8,"Knit 2.5 Neoprene",73009,"2.5mm Neo Knit",true,null,10,"Pretty in Pink",72091,0,null,10,"Pretty in Pink",72098,0]
[null,null,null,null,null,null,null,null,9,"Darlexx",72019,"Darlexx",true,null,null,9,"Darlexx",72020,"Darlexx",true,null,11,"Purple",72078,0,null,11,"Purple",71041,0]
[null,{"$f":"INDEX(B17:B26,$A$16)","v":"1/2\" extra soft visco foam"},{"$f":"INDEX(C17:C26,$A$16)","v":71068},{"$f":"INDEX(D17:D26,$A$16)","v":26},{"$f":"INDEX(E17:E26,$A$16)","v":0.5},{"$f":"INDEX(F17:F26,$A$16)","v":"05875"},null,null,10,"Non-Slip Material",72023,"Non-Slip Matl",true,null,null,10,"Non-Slip Material",72024,"Non-Slip Matl",true,null,12,"Razzleberry",72082,0,null,12,"Razzleberry",71045,0]
[1,"HIP GUIDE EXTRA LAYER","Phantom","Price","Thick","Mat'l",null,null,11,"Ballistic Nylon",72043,"Ballistic Nylon",true,null,null,11,"Ballistic Nylon",72044,"Ballistic Nylon",true,null,13,"Red",72074,0,null,13,"Red",71037,0]
[1,"1/2\" extra soft visco foam",71068,26,0.5,"05875",null,null,12,"Other",72083,"Other",true,null,null,12,"Other",72084,"Other",true,null,14,"Teal",72081,0,null,14,"Teal",71044,0]
[2,"1/2\" soft visco foam",71068,26,0.5,"05888",null,null,null,null,null,null,null,null,null,null,null,null,null,null,null,15,"Very Cherry",72087,0,null,15,"Very Cherry",72094,0]
[3,"1/4\" medium visco foam",71068,26,0.25,"05861",null,null,null,null,null,null,null,null,null,null,null,null,null,null,null,16,"Yellow",72077,0,null,16,"Yellow",71040,0]
[4,"1/2\" medium visco foam",71068,26,0.5,"05889",null,null,null,"Pad CONTACT surfaces",null,"Short desc","Non std?",null,null,null,"Pad NON-CONTACT surfaces",null,"Short desc","Non std?"]
[5,"3/4\" medium visco foam",71068,26,0.75,"05862",null,"TRIFORM",1,{"$f":"INDEX(J$22:J$30,$I21)","v":"SMOOTH DARTEX"},{"$f":"INDEX(K$22:K$30,$I21)","v":"Standard"},{"$f":"INDEX(L$22:L$30,$I21)","v":"Smooth"},{"$f":"INDEX(M$22:M$30,$I21)","v":false},null,"TRIFORM",1,{"$f":"INDEX(Q$22:Q$31,$P21)","v":"SMOOTH DARTEX"},{"$f":"INDEX(R$22:R$31,$P21)","v":"Standard"},{"$f":"INDEX(S$22:S$31,$P21)","v":"Smooth"},{"$f":"INDEX(T$22:T$31,$P21)","v":false}]
[6,"1\" extra soft visco foam",71068,26,1,"05876",null,null,1,"SMOOTH DARTEX","Standard","Smooth",false,null,null,1,"SMOOTH DARTEX","Standard","Smooth",false]
[7,"1\" soft visco foam",71068,26,1,"05887",null,null,2,"Knit Dartex",71006,"Knit",true,null,null,2,"Knit Dartex",72068,"Knit",true]
[8,"1\" medium visco foam",71068,26,1,"05890",null,null,3,"Mesh",72064,"Mesh",true,null,null,3,"Black vinyl",72073,"Black",true]
[9,"1/4\" Gel",71067,39,0.25,"05940",null,null,4,"Smooth 2.5 Neoprene",73006,"2.5mm Neo Smooth",true,null,null,4,{"$f":"IF(Pads!$AA$3<>1,Pads!$AB$2&\" vinyl\",\"Colored vinyl\")","v":"Colored vinyl"},{"$f":"Pads!$AC$2","v":72084},{"$f":"IF(Pads!$AA$3<>1,Pads!$AB$2,\"Colored vinyl\")","v":"Colored vinyl"},true]
[10,"1/2\" Pudgee",71092,37,0.5,"05896",null,null,5,"Knit 2.5 Neoprene",73007,"2.5mm Neo Knit",true,null,null,5,"Smooth 2.5 Neoprene",73008,"2.5mm Neo Smooth",true]
[null,null,null,null,null,null,null,null,6,"Darlexx",72019,"Darlexx",true,null,null,6,"Knit 2.5 Neoprene",73009,"2.5mm Neo Knit",true]
[null,null,null,null,null,null,null,null,7,"Non-Slip Material",72023,"Non-Slip Matl",true,null,null,7,"Darlexx",72020,"Darlexx",true]
[null,{"$f":"INDEX(B31:B40,$A$30)","v":"1/2\" extra soft visco foam"},{"$f":"INDEX(C31:C40,$A$30)","v":71068},{"$f":"INDEX(D31:D40,$A$30)","v":26},{"$f":"INDEX(E31:E40,$A$30)","v":0.5},{"$f":"INDEX(F31:F40,$A$30)","v":"05875"},null,null,8,"Ballistic Nylon",72043,"Ballistic Nylon",true,null,null,8,"Non-Slip Material",72024,"Non-Slip Matl",true]
[1,"ADDUCTOR EXTRA LAYER","Phantom","Price","Thick","Mat'l",null,null,9,"Other",72083,"Other",true,null,null,9,"Ballistic Nylon",72044,"Ballistic Nylon",true]
[1,"1/2\" extra soft visco foam",71068,26,0.5,"05875",null,null,null,null,null,null,null,null,null,10,"Other",72084,"Other",true]
[2,"1/2\" soft visco foam",71068,26,0.5,"05888"]
[3,"1/4\" medium visco foam",71068,26,0.25,"05861"]
[4,"1/2\" medium visco foam",71068,26,0.5,"05889",null,null,null,"Seat and Back CONTACT surfaces",null,null,null,null,null,null,"Seat and Back NON-CONTACT surfaces"]
[5,"3/4\" medium visco foam",71068,26,0.75,"05862"]
[6,"1\" extra soft visco foam",71068,26,1,"05876",null,null,1,{"$f":"INDEX(J$38:J$49,$I36,1)","v":"SMOOTH DARTEX"},{"$f":"INDEX(K$38:K$49,$I36,1)","v":72066},{"$f":"INDEX(L$38:L$49,$I36,1)","v":0},{"$f":"INDEX(M$38:M$49,$I36,1)","v":false},null,null,1,{"$f":"INDEX(Q$38:Q$45,$P36,1)","v":"BLACK VINYL"},{"$f":"INDEX(R$38:R$45,$P36,1)","v":72073},{"$f":"INDEX(S$38:S$45,$P36,1)","v":0},{"$f":"INDEX(T$38:T$45,$P36,1)","v":false}]
[7,"1\" soft visco foam",71068,26,1,"05887",null,null,null,"Material","Mod","Price","Not Std?",null,null,null,"Material","Mod","Price","Not Std?"]
[8,"1\" medium visco foam",71068,26,1,"05890",null,null,1,"SMOOTH DARTEX",72066,0,false,null,null,1,"BLACK VINYL",72073,0,false]
[9,"1/4\" Gel",71067,39,0.25,"05940",null,null,2,"Knit Dartex",71006,0,true,null,null,2,{"$f":"IF(Pads!$AA$3<>1,Pads!$AB$2&\" vinyl\",\"Colored vinyl\")","v":"Colored vinyl"},{"$f":"Pads!$AC$2","v":72084},0,true]
[10,"1/2\" Pudgee",71092,37,0.5,"05896",null,null,3,"Black vinyl",72072,0,true,null,null,3,"Smooth 2.5 Neoprene",73008,0,true]
[null,null,null,null,null,null,null,null,4,{"$f":"IF(Pads!$V$3<>1,Pads!$W$2&\" vinyl\",\"Colored vinyl\")","v":"Colored vinyl"},{"$f":"Pads!$X$2","v":72083},0,true,null,null,4,"Knit 2.5 Neoprene",73009,0,true]
[null,null,null,null,null,null,null,null,5,"Neoprene",72070,0,true,null,null,5,"Darlexx",72020,0,true]
[null,null,null,null,null,null,null,null,6,"Mesh",72064,0,true,null,null,6,"Non-Slip Material",72024,0,true]
[null,null,null,null,null,null,null,null,7,"Smooth 2.5 Neoprene",73006,0,true,null,null,7,"Ballistic Nylon",72044,0,true]
[null,null,null,null,null,null,null,null,8,"Knit 2.5 Neoprene",73007,0,true,null,null,8,"Other",72084,0,true]
[null,null,null,null,null,null,null,null,9,"Darlexx",72019,0,true]
[null,null,null,null,null,null,null,null,10,"Non-Slip Material",72023,0,true]
[null,null,null,null,null,null,null,null,11,"Ballistic Nylon",72043,0,true]
[null,null,null,null,null,null,null,null,12,"Other",72083,0,true]
[]
[null,null,null,null,null,null,null,"THIS TABLE WAS ADDED 9-15-16 TO ALLOW THE BACK TO HAVE DIFFERENT CONTACT SURFACE",null,null,null,null,null,null,"BACK CAN ALSO HAVE A DIFFERENT NON-CONTACT SURFACE"]
[null,null,null,null,null,null,null,{"$f":"INDEX(H$54:H$66,$I52,1)","v":"SMOOTH DARTEX"},1,{"$f":"INDEX(J$54:J$66,$I52,1)","v":"Same as Seat"},{"$f":"INDEX(K$54:K$66,$I52,1)","v":72066},{"$f":"INDEX(L$54:L$66,$I52,1)","v":0},{"$f":"INDEX(M$54:M$66,$I52,1)","v":false}]
[null,null,null,null,null,null,null,"Material",null,"Pick List Choices","Mod","Price","Not Std?",null,{"$f":"INDEX(O$55:O$63,$P53,1)","v":"BLACK VINYL"},1,{"$f":"INDEX(Q$55:Q$63,$P53,1)","v":"Same as Seat"},{"$f":"INDEX(R$55:R$63,$P53,1)","v":72073},{"$f":"INDEX(S$55:S$63,$P53,1)","v":0},{"$f":"INDEX(T$55:T$63,$P53,1)","v":false}]
[null,null,null,null,null,null,null,{"$f":"J36","v":"SMOOTH DARTEX"},1,"Same as Seat",{"$f":"K36","v":72066},{"$f":"L36","v":0},{"$f":"M36","v":false},null,"Material",null,"Pick List Choices","Mod","Price","Not Std?"]
[null,null,null,null,null,null,null,"SMOOTH DARTEX",2,"SMOOTH DARTEX",72066,0,false,null,{"$f":"Q36","v":"BLACK VINYL"},1,"Same as Seat",{"$f":"R36","v":72073},{"$f":"S36","v":0},{"$f":"T36","v":false}]
[null,null,null,null,null,null,null,"Knit Dartex",3,"Knit Dartex",71006,0,true,null,"BLACK VINYL",2,"BLACK VINYL",72073,0,false]
[null,null,null,null,null,null,null,"Black vinyl",4,"Black vinyl",72072,0,true,null,{"$f":"IF(Pads!$AA$3<>1,Pads!$AB$2&\" vinyl\",\"Colored vinyl\")","v":"Colored vinyl"},3,{"$f":"IF(Pads!$AA$3<>1,Pads!$AB$2&\" vinyl\",\"Colored vinyl\")","v":"Colored vinyl"},{"$f":"Pads!$AC$2","v":72084},0,true]
[null,null,null,null,null,null,null,{"$f":"IF(Pads!$V$3<>1,Pads!$W$2&\" vinyl\",\"Colored vinyl\")","v":"Colored vinyl"},5,{"$f":"IF(Pads!$V$3<>1,Pads!$W$2&\" vinyl\",\"Colored vinyl\")","v":"Colored vinyl"},{"$f":"Pads!$X$2","v":72083},0,true,null,"Smooth 2.5 Neoprene",4,"Smooth 2.5 Neoprene",73008,0,true]
[null,null,null,null,null,null,null,"Neoprene",6,"Neoprene",72070,0,true,null,"Knit 2.5 Neoprene",5,"Knit 2.5 Neoprene",73009,0,true]
[null,null,null,null,null,null,null,"Mesh",7,"Mesh",72064,0,true,null,"Darlexx",6,"Darlexx",72020,0,true]
[null,null,null,null,null,null,null,"Smooth 2.5 Neoprene",8,"Smooth 2.5 Neoprene",73006,0,true,null,"Non-Slip Material",7,"Non-Slip Material",72024,0,true]
[null,null,null,null,null,null,null,"Knit 2.5 Neoprene",9,"Knit 2.5 Neoprene",73007,0,true,null,"Ballistic Nylon",8,"Ballistic Nylon",72044,0,true]
[null,null,null,null,null,null,null,"Darlexx",10,"Darlexx",72019,0,true,null,"Other",9,"Other",72084,0,true]
[null,null,null,null,null,null,null,"Non-Slip Material",11,"Non-Slip Material",72023,0,true]
[null,null,null,null,null,null,null,"Ballistic Nylon",12,"Ballistic Nylon",72043,0,true]
[null,null,null,null,null,null,null,"Other",10,"Other",72083,0,true]

{"sheet":"Belts","index":18,"n_rows":403,"n_cols":22,"rows_kept":403,"cut":false,"hidden":true,"merged":[[209,17,209,18],[64,13,64,15],[64,7,64,9],[28,4,28,6],[64,4,64,6],[209,15,209,16],[209,13,209,14],[10,10,10,12],[10,13,10,15],[28,13,28,15],[46,13,46,15],[244,4,244,6],[10,7,10,9],[287,13,287,15],[46,4,46,6],[10,4,10,6],[134,9,134,10],[28,7,28,9],[46,7,46,9],[209,9,209,10],[46,10,46,12],[209,7,209,8],[28,10,28,12],[287,10,287,12],[287,7,287,9],[287,4,287,6],[64,10,64,12],[134,11,134,12],[209,11,209,12]]}
["BELTS, KNEE ADDUCTORS, SOME ANTERIOR SUPPORTS, FOOT SUPPORTS"]
[null,null,null,null,null,null,"Plain unpadded belt available with two buckles"]
[null,null,null,null,null,null,1,{"$f":"VLOOKUP(G3,G5:H6,2,FALSE)","v":"push button buckle"},{"$f":"VLOOKUP(G3,G5:I6,3,FALSE)","v":"33130"},{"$f":"VLOOKUP(G3,G5:J6,4,FALSE)","v":45}]
[null,null,null,null,null,null,"IDX","BUCKLE OPTION","PART #","PRICE"]
[null,null,null,null,null,null,1,"push button buckle","33130",45]
[null,null,null,null,null,null,2,"security buckle","60310",55]
[null,null,"BELTS ENGINE"]
[null,null,null,"Main description->","1\" Belt"]
[null,null,null,"Text for chosen config->",{"$f":"VLOOKUP($C10,$C12:$K17,3*$C19,FALSE)","v":"1\" Belt, 4.25Wx1.75H pad, metal attaching clips+push button buckle"},{"$f":"VLOOKUP($C10,$C12:$L17,1+3*$C19,FALSE)","v":"61001"},{"$f":"VLOOKUP($C10,$C12:$M17,2+3*$C19,FALSE)+$I$20","v":77}]
[null,null,1,null,"1 Desc","1 Part#","1 Price","2 Desc","2 Part#","2 Price","3 Desc","3 Part#","3 Price"]
[null,null,"HDW","HDW DESC","4.25Wx1.75H pad",null,null,"5.25Wx1.75H pad",null,null,"6.25Wx1.75H pad"]
[null,null,1,"metal attaching clips",{"$f":"\"1\"\" Belt, 4.25Wx1.75H pad, metal attaching clips+\"&$H$20","v":"1\" Belt, 4.25Wx1.75H pad, metal attaching clips+push button buckle"},{"$f":"CHOOSE($G$20,\"61001\",\"65001\",\"60411\")","v":"61001"},77,{"$f":"\"1\"\" Belt, 5.25Wx1.75H pad, metal attaching clips+\"&$H$20","v":"1\" Belt, 5.25Wx1.75H pad, metal attaching clips+push button buckle"},{"$f":"CHOOSE($G$20,\"61101\",\"65101\",\"61421\")","v":"61101"},77,{"$f":"\"1\"\" Belt, 6.25Wx1.75H pad, metal attaching clips+\"&$H$20","v":"1\" Belt, 6.25Wx1.75H pad, metal attaching clips+push button buckle"},{"$f":"CHOOSE($G$20,\"61201\",\"65201\",\"60431\")","v":"61201"},77]
[null,null,2,"plastic camlocks",{"$f":"\"1\"\" Belt, 4.25Wx1.75H pad, plastic camlocks+\"&$H$20","v":"1\" Belt, 4.25Wx1.75H pad, plastic camlocks+push button buckle"},{"$f":"CHOOSE($G$20,\"61002\",\"65002\",\"60412\")","v":"61002"},77,{"$f":"\"1\"\" Belt, 5.25Wx1.75H pad, plastic camlocks+\"&$H$20","v":"1\" Belt, 5.25Wx1.75H pad, plastic camlocks+push button buckle"},{"$f":"CHOOSE($G$20,\"61102\",\"65102\",\"60422\")","v":"61102"},77,{"$f":"\"1\"\" Belt, 6.25Wx1.75H pad, plastic camlocks+\"&$H$20","v":"1\" Belt, 6.25Wx1.75H pad, plastic camlocks+push button buckle"},{"$f":"CHOOSE($G$20,\"61202\",\"65202\",\"60432\")","v":"61202"},77]
[null,null,3,"metal clips & camlocks",{"$f":"\"1\"\" Belt, 4.25Wx1.75H pad, metal clips & camlocks+\"&$H$20","v":"1\" Belt, 4.25Wx1.75H pad, metal clips & camlocks+push button buckle"},{"$f":"CHOOSE($G$20,\"61003\",\"65003\",\"60413\")","v":"61003"},81,{"$f":"\"1\"\" Belt, 5.25Wx1.75H pad, metal clips & camlocks+\"&$H$20","v":"1\" Belt, 5.25Wx1.75H pad, metal clips & camlocks+push button buckle"},{"$f":"CHOOSE($G$20,\"61103\",\"65103\",\"60423\")","v":"61103"},79,{"$f":"\"1\"\" Belt, 6.25Wx1.75H pad, metal clips & camlocks+\"&$H$20","v":"1\" Belt, 6.25Wx1.75H pad, metal clips & camlocks+push button buckle"},{"$f":"CHOOSE($G$20,\"61203\",\"65203\",\"60433\")","v":"61203"},79]
[null,null,4,"metal clips & hinged collars",{"$f":"\"1\"\" Belt, 4.25Wx1.75H pad, metal clips & hinged collars+\"&$H$20","v":"1\" Belt, 4.25Wx1.75H pad, metal clips & hinged collars+push button buckle"},{"$f":"CHOOSE($G$20,\"61004\",\"65004\",\"60414\")","v":"61004"},100,{"$f":"\"1\"\" Belt, 5.25Wx1.75H pad, metal clips & hinged collars+\"&$H$20","v":"1\" Belt, 5.25Wx1.75H pad, metal clips & hinged collars+push button buckle"},{"$f":"CHOOSE($G$20,\"61104\",\"65104\",\"60424\")","v":"61104"},100,{"$f":"\"1\"\" Belt, 6.25Wx1.75H pad, metal clips & hinged collars+\"&$H$20","v":"1\" Belt, 6.25Wx1.75H pad, metal clips & hinged collars+push button buckle"},{"$f":"CHOOSE($G$20,\"61204\",\"65204\",\"60434\")","v":"61204"},100]
[null,null,5,"camlocks & hinged collars",{"$f":"\"1\"\" Belt, 4.25Wx1.75H pad, camlocks & hinged collars+\"&$H$20","v":"1\" Belt, 4.25Wx1.75H pad, camlocks & hinged collars+push button buckle"},{"$f":"CHOOSE($G$20,\"61005\",\"65005\",\"60415\")","v":"61005"},100,{"$f":"\"1\"\" Belt, 5.25Wx1.75H pad, camlocks & hinged collars+\"&$H$20","v":"1\" Belt, 5.25Wx1.75H pad, camlocks & hinged collars+push button buckle"},{"$f":"CHOOSE($G$20,\"61105\",\"65105\",\"60425\")","v":"61105"},100,{"$f":"\"1\"\" Belt, 6.25Wx1.75H pad, camlocks & hinged collars+\"&$H$20","v":"1\" Belt, 6.25Wx1.75H pad, camlocks & hinged collars+push button buckle"},{"$f":"CHOOSE($G$20,\"61205\",\"65205\",\"60435\")","v":"61205"},100]
[null,null,6,"clips, camlocks & collars",{"$f":"\"1\"\" Belt, 4.25Wx1.75H pad, clips, camlocks & collars+\"&$H$20","v":"1\" Belt, 4.25Wx1.75H pad, clips, camlocks & collars+push button buckle"},{"$f":"CHOOSE($G$20,\"61006\",\"65006\",\"60416\")","v":"61006"},103,{"$f":"\"1\"\" Belt, 5.25Wx1.75H pad, clips, camlocks & collars+\"&$H$20","v":"1\" Belt, 5.25Wx1.75H pad, clips, camlocks & collars+push button buckle"},{"$f":"CHOOSE($G$20,\"61106\",\"65106\",\"60426\")","v":"61106"},103,{"$f":"\"1\"\" Belt, 6.25Wx1.75H pad, clips, camlocks & collars+\"&$H$20","v":"1\" Belt, 6.25Wx1.75H pad, clips, camlocks & collars+push button buckle"},{"$f":"CHOOSE($G$20,\"61206\",\"65206\",\"60436\")","v":"61206"},103]
[]
[null,null,1]
[null,null,"PADS","PAD DESC",null,null,1,{"$f":"VLOOKUP(G20,G22:H24,2,FALSE)","v":"push button buckle"},{"$f":"VLOOKUP(G20,G22:I24,3,FALSE)","v":0}]
[null,null,1,{"$f":"E11","v":"4.25Wx1.75H pad"},null,null,"IDX","BUCKLE OPTION","Prc Chg"]
[null,null,2,{"$f":"H11","v":"5.25Wx1.75H pad"},null,null,1,"push button buckle",0]
[null,null,3,{"$f":"K11","v":"6.25Wx1.75H pad"},null,null,2,"side release buckle",-6]
[null,null,null,{"$f":"N11","v":0},null,null,3,"security buckle",10]
[]
[null,null,null,"Main description->","1-1/2\" Belt"]
[null,null,null,"Text for chosen config->",{"$f":"VLOOKUP($C28,$C30:$K35,3*$C37,FALSE)","v":"1-1/2\" Belt, 5.25Wx2.25H pad, metal attaching clips+push button buckle"},{"$f":"VLOOKUP($C28,$C30:$L35,1+3*$C37,FALSE)","v":"62001"},{"$f":"VLOOKUP($C28,$C30:$M35,2+3*$C37,FALSE)+$I$38","v":85}]
[null,null,1,null,"1 Desc","1 Part#","1 Price","2 Desc","2 Part#","2 Price","3 Desc","3 Part#","3 Price"]
[null,null,"HDW","HDW DESC","5.25Wx2.25H pad",null,null,"7.25Wx2.25H pad",null,null,"9.25Wx2.5H pad"]
[null,null,1,"metal attaching clips",{"$f":"\"1-1/2\"\" Belt, 5.25Wx2.25H pad, metal attaching clips+\"&$H$38","v":"1-1/2\" Belt, 5.25Wx2.25H pad, metal attaching clips+push button buckle"},{"$f":"CHOOSE($G$38,\"62001\",\"65301\",\"60441\")","v":"62001"},85,{"$f":"\"1-1/2\"\" Belt, 7.25Wx2.25H pad, metal attaching clips+\"&$H$38","v":"1-1/2\" Belt, 7.25Wx2.25H pad, metal attaching clips+push button buckle"},{"$f":"CHOOSE($G$38,\"62101\",\"65401\",\"60451\")","v":"62101"},85,{"$f":"\"1-1/2\"\" Belt, 9.25Wx2.5H pad, metal attaching clips+\"&$H$38","v":"1-1/2\" Belt, 9.25Wx2.5H pad, metal attaching clips+push button buckle"},{"$f":"CHOOSE($G$38,\"62201\",\"65501\",\"60461\")","v":"62201"},85]
[null,null,2,"plastic camlocks",{"$f":"\"1-1/2\"\" Belt, 5.25Wx2.25H pad, plastic camlocks+\"&$H$38","v":"1-1/2\" Belt, 5.25Wx2.25H pad, plastic camlocks+push button buckle"},{"$f":"CHOOSE($G$38,\"62002\",\"65302\",\"60442\")","v":"62002"},97,{"$f":"+\"1-1/2\"\" Belt, 7.25Wx2.25H pad, plastic camlocks+\"&$H$38","v":"1-1/2\" Belt, 7.25Wx2.25H pad, plastic camlocks+push button buckle"},{"$f":"CHOOSE($G$38,\"62102\",\"65402\",\"60452\")","v":"62102"},97,{"$f":"\"1-1/2\"\" Belt, 9.25Wx2.5H pad, plastic camlocks+\"&$H$38","v":"1-1/2\" Belt, 9.25Wx2.5H pad, plastic camlocks+push button buckle"},{"$f":"CHOOSE($G$38,\"62202\",\"65502\",\"60462\")","v":"62202"},97]
[null,null,3,"metal clips & camlocks",{"$f":"\"1-1/2\"\" Belt, 5.25Wx2.25H pad, metal clips & camlocks+\"&$H$38","v":"1-1/2\" Belt, 5.25Wx2.25H pad, metal clips & camlocks+push button buckle"},{"$f":"CHOOSE($G$38,\"62003\",\"65303\",\"60443\")","v":"62003"},101,{"$f":"\"1-1/2\"\" Belt, 7.25Wx2.25H pad, metal clips & camlocks+\"&$H$38","v":"1-1/2\" Belt, 7.25Wx2.25H pad, metal clips & camlocks+push button buckle"},{"$f":"CHOOSE($G$38,\"62103\",\"65403\",\"60453\")","v":"62103"},101,{"$f":"\"1-1/2\"\" Belt, 9.25Wx2.5H pad, metal clips & camlocks+\"&$H$38","v":"1-1/2\" Belt, 9.25Wx2.5H pad, metal clips & camlocks+push button buckle"},{"$f":"CHOOSE($G$38,\"62203\",\"65503\",\"60463\")","v":"62203"},101]
[null,null,4,"metal clips & hinged collars",{"$f":"\"1-1/2\"\" Belt, 5.25Wx2.25H pad, metal clips & hinged collars+\"&$H$38","v":"1-1/2\" Belt, 5.25Wx2.25H pad, metal clips & hinged collars+push button buckle"},{"$f":"CHOOSE($G$38,\"62004\",\"65304\",\"60444\")","v":"62004"},109,{"$f":"\"1-1/2\"\" Belt, 7.25Wx2.25H pad, metal clips & hinged collars+\"&$H$38","v":"1-1/2\" Belt, 7.25Wx2.25H pad, metal clips & hinged collars+push button buckle"},{"$f":"CHOOSE($G$38,\"62104\",\"65404\",\"60454\")","v":"62104"},109,{"$f":"\"1-1/2\"\" Belt, 9.25Wx2.5H pad, metal clips & hinged collars+\"&$H$38","v":"1-1/2\" Belt, 9.25Wx2.5H pad, metal clips & hinged collars+push button buckle"},{"$f":"CHOOSE($G$38,\"62204\",\"65504\",\"60464\")","v":"62204"},109]
[null,null,5,"camlocks & hinged collars",{"$f":"\"1-1/2\"\" Belt, 5.25Wx2.25H pad, camlocks & hinged collars+\"&$H$38","v":"1-1/2\" Belt, 5.25Wx2.25H pad, camlocks & hinged collars+push button buckle"},{"$f":"CHOOSE($G$38,\"62005\",\"65305\",\"60445\")","v":"62005"},121,{"$f":"\"1-1/2\"\" Belt, 7.25Wx2.25H pad, camlocks & hinged collars+\"&$H$38","v":"1-1/2\" Belt, 7.25Wx2.25H pad, camlocks & hinged collars+push button buckle"},{"$f":"CHOOSE($G$38,\"62105\",\"65405\",\"60455\")","v":"62105"},121,{"$f":"\"1-1/2\"\" Belt, 9.25Wx2.5H pad, camlocks & hinged collars+\"&$H$38","v":"1-1/2\" Belt, 9.25Wx2.5H pad, camlocks & hinged collars+push button buckle"},{"$f":"CHOOSE($G$38,\"62205\",\"65505\",\"60465\")","v":"62205"},121]
[null,null,6,"clips, camlocks & collars",{"$f":"\"1-1/2\"\" Belt, 5.25Wx2.25H pad, clips, camlocks & collars+\"&$H$38","v":"1-1/2\" Belt, 5.25Wx2.25H pad, clips, camlocks & collars+push button buckle"},{"$f":"CHOOSE($G$38,\"62006\",\"65306\",\"60446\")","v":"62006"},125,{"$f":"\"1-1/2\"\" Belt, 7.25Wx2.25H pad, clips, camlocks & collars+\"&$H$38","v":"1-1/2\" Belt, 7.25Wx2.25H pad, clips, camlocks & collars+push button buckle"},{"$f":"CHOOSE($G$38,\"62106\",\"65406\",\"60456\")","v":"62106"},125,{"$f":"\"1-1/2\"\" Belt, 9.25Wx2.5H pad, clips, camlocks & collars+\"&$H$38","v":"1-1/2\" Belt, 9.25Wx2.5H pad, clips, camlocks & collars+push button buckle"},{"$f":"CHOOSE($G$38,\"62206\",\"65506\",\"60466\")","v":"62206"},125]
[]
[null,null,1]
[null,null,"PADS","PAD DESC",null,null,1,{"$f":"VLOOKUP(G38,G40:H42,2,FALSE)","v":"push button buckle"},{"$f":"VLOOKUP(G38,G40:I42,3,FALSE)","v":0}]
[null,null,1,{"$f":"E29","v":"5.25Wx2.25H pad"},null,null,"IDX","BUCKLE OPTION","Prc Chg"]
[null,null,2,{"$f":"H29","v":"7.25Wx2.25H pad"},null,null,1,"push button buckle",0]
[null,null,3,{"$f":"K29","v":"9.25Wx2.5H pad"},null,null,2,"side release buckle",-7]
[null,null,null,{"$f":"N29","v":0},null,null,3,"security buckle",10]
[]
[null,null,null,"Main description->","2\" Belt"]
[null,null,null,"Text for chosen config->",{"$f":"VLOOKUP($C46,$C48:$H53,3*$C55,FALSE)","v":"2\" Belt, 9.25Wx3H pad, metal attaching clips+push button buckle"},{"$f":"VLOOKUP($C46,$C48:$I53,1+3*$C55,FALSE)","v":"64001"},{"$f":"VLOOKUP($C46,$C48:$J53,2+3*$C55,FALSE)+$I$56","v":91}]
[null,null,1,null,"1 Desc","1 Part#","1 Price","2 Desc","2 Part#","2 Price"]
[null,null,"HDW","HDW DESC","9.25Wx3H pad",null,null,"11.25Wx3H pad"]
[null,null,1,"metal attaching clips",{"$f":"\"2\"\" Belt, 9.25Wx3H pad, metal attaching clips+\"&$H$56","v":"2\" Belt, 9.25Wx3H pad, metal attaching clips+push button buckle"},{"$f":"CHOOSE($G$56,\"64001\",\"65601\",\"60471\")","v":"64001"},91,{"$f":"\"2\"\" Belt, 11.25Wx3H pad, metal attaching clips+\"&$H$56","v":"2\" Belt, 11.25Wx3H pad, metal attaching clips+push button buckle"},{"$f":"CHOOSE($G$56,\"64101\",\"65701\",\"60481\")","v":"64101"},91]
[null,null,2,"plastic camlocks",{"$f":"\"2\"\" Belt, 9.25Wx3H pad, plastic camlocks+\"&$H$56","v":"2\" Belt, 9.25Wx3H pad, plastic camlocks+push button buckle"},{"$f":"CHOOSE($G$56,\"64002\",\"65602\",\"60472\")","v":"64002"},103,{"$f":"\"2\"\" Belt, 11.25Wx3H pad, plastic camlocks+\"&$H$56","v":"2\" Belt, 11.25Wx3H pad, plastic camlocks+push button buckle"},{"$f":"CHOOSE($G$56,\"64102\",\"65702\",\"60482\")","v":"64102"},103]
[null,null,3,"metal clips & camlocks",{"$f":"\"2\"\" Belt, 9.25Wx3H pad, metal clips & camlocks+\"&$H$56","v":"2\" Belt, 9.25Wx3H pad, metal clips & camlocks+push button buckle"},{"$f":"CHOOSE($G$56,\"64003\",\"65603\",\"60473\")","v":"64003"},107,{"$f":"\"2\"\" Belt, 11.25Wx3H pad, metal clips & camlocks+\"&$H$56","v":"2\" Belt, 11.25Wx3H pad, metal clips & camlocks+push button buckle"},{"$f":"CHOOSE($G$56,\"64103\",\"65703\",\"60483\")","v":"64103"},107]
[null,null,4,"metal clips & hinged collars",{"$f":"\"2\"\" Belt, 9.25Wx3H pad, metal clips & hinged collars+\"&$H$56","v":"2\" Belt, 9.25Wx3H pad, metal clips & hinged collars+push button buckle"},{"$f":"CHOOSE($G$56,\"64004\",\"65604\",\"60474\")","v":"64004"},115,{"$f":"\"2\"\" Belt, 11.25Wx3H pad, metal clips & hinged collars+\"&$H$56","v":"2\" Belt, 11.25Wx3H pad, metal clips & hinged collars+push button buckle"},{"$f":"CHOOSE($G$56,\"64104\",\"65704\",\"60484\")","v":"64104"},115]
[null,null,5,"camlocks & hinged collars",{"$f":"\"2\"\" Belt, 9.25Wx3H pad, camlocks & hinged collars+\"&$H$56","v":"2\" Belt, 9.25Wx3H pad, camlocks & hinged collars+push button buckle"},{"$f":"CHOOSE($G$56,\"64005\",\"65605\",\"60475\")","v":"64005"},127,{"$f":"\"2\"\" Belt, 11.25Wx3H pad, camlocks & hinged collars+\"&$H$56","v":"2\" Belt, 11.25Wx3H pad, camlocks & hinged collars+push button buckle"},{"$f":"CHOOSE($G$56,\"64105\",\"65705\",\"60485\")","v":"64105"},127]
[null,null,6,"clips, camlocks & collars",{"$f":"\"2\"\" Belt, 9.25Wx3H pad, clips, camlocks & collars+\"&$H$56","v":"2\" Belt, 9.25Wx3H pad, clips, camlocks & collars+push button buckle"},{"$f":"CHOOSE($G$56,\"64006\",\"65606\",\"60476\")","v":"64006"},131,{"$f":"\"2\"\" Belt, 11.25Wx3H pad, clips, camlocks & collars+\"&$H$56","v":"2\" Belt, 11.25Wx3H pad, clips, camlocks & collars+push button buckle"},{"$f":"CHOOSE($G$56,\"64106\",\"65706\",\"60486\")","v":"64106"},131]
[]
[null,null,1]
[null,null,"PADS","PAD DESC",null,null,1,{"$f":"VLOOKUP(G56,G58:H60,2,FALSE)","v":"push button buckle"},{"$f":"VLOOKUP(G56,G58:I60,3,FALSE)","v":0}]
[null,null,1,{"$f":"E47","v":"9.25Wx3H pad"},null,null,"IDX","BUCKLE OPTION","Prc Chg"]
[null,null,2,{"$f":"H47","v":"11.25Wx3H pad"},null,null,1,"push button buckle",0]
[null,null,3,{"$f":"K47","v":0},null,null,2,"side release buckle",-7]
[null,null,4,{"$f":"N47","v":0},null,null,3,"security buckle",10]
[]
[null,null,null,"Main description->","2\" Belt, Bariatric"]
[null,null,null,"Text for chosen config->",{"$f":"VLOOKUP($C64,$C66:$H71,3*$C73,FALSE)","v":"2\" Belt, Bariatric, 11.25Wx3H pads, metal attaching clips+push button buckle"},{"$f":"VLOOKUP($C64,$C66:$I71,1+3*$C73,FALSE)","v":"64301"},{"$f":"VLOOKUP($C64,$C66:$J71,2+3*$C73,FALSE)+$I$74","v":100}]
[null,null,1,null,"1 Desc","1 Part#","1 Price","2 Desc","2 Part#","2 Price"]
[null,null,"HDW","HDW DESC","11.25Wx3H pads",null,null,"NOT USED"]
[null,null,1,"metal attaching clips",{"$f":"\"2\"\" Belt, Bariatric, 11.25Wx3H pads, metal attaching clips+\"&$H$74","v":"2\" Belt, Bariatric, 11.25Wx3H pads, metal attaching clips+push button buckle"},{"$f":"CHOOSE($G$74,\"64301\",\"NA\",\"NA\")","v":"64301"},100]
[null,null,2,"plastic camlocks",{"$f":"\"2\"\" Belt, Bariatric, 11.25Wx3H pads, plastic camlocks+\"&$H$74","v":"2\" Belt, Bariatric, 11.25Wx3H pads, plastic camlocks+push button buckle"},{"$f":"CHOOSE($G$74,\"64302\",\"NA\",\"NA\")","v":"64302"},120]
[null,null,3,"metal clips & camlocks",{"$f":"\"2\"\" Belt, Bariatric, 11.25Wx3H pads, metal clips & camlocks+\"&$H$74","v":"2\" Belt, Bariatric, 11.25Wx3H pads, metal clips & camlocks+push button buckle"},{"$f":"CHOOSE($G$74,\"64303\",\"NA\",\"NA\")","v":"64303"},122]
[null,null,4,"metal clips & hinged collars",{"$f":"\"2\"\" Belt, Bariatric, 11.25Wx3H pads, metal clips & hinged collars+\"&$H$74","v":"2\" Belt, Bariatric, 11.25Wx3H pads, metal clips & hinged collars+push button buckle"},{"$f":"CHOOSE($G$74,\"64304\",\"NA\",\"NA\")","v":"64304"},141]
[null,null,5,"camlocks & hinged collars",{"$f":"\"2\"\" Belt, Bariatric, 11.25Wx3H pads, camlocks & hinged collars+\"&$H$74","v":"2\" Belt, Bariatric, 11.25Wx3H pads, camlocks & hinged collars+push button buckle"},{"$f":"CHOOSE($G$74,\"64305\",\"NA\",\"NA\")","v":"64305"},158]
[null,null,6,"clips, camlocks & collars",{"$f":"\"2\"\" Belt, Bariatric, 11.25Wx3H pads, clips, camlocks & collars+\"&$H$74","v":"2\" Belt, Bariatric, 11.25Wx3H pads, clips, camlocks & collars+push button buckle"},{"$f":"CHOOSE($G$74,\"64306\",\"NA\",\"NA\")","v":"64306"},161]
[]
[null,"DOES NOT CHANGE",1]
[null,null,"PADS","PAD DESC",null,"DOES NOT CHANGE",1,{"$f":"VLOOKUP(G74,G76:H78,2,FALSE)","v":"push button buckle"},{"$f":"VLOOKUP(G74,G76:I78,3,FALSE)","v":0}]
[null,null,1,{"$f":"E65","v":"11.25Wx3H pads"},null,null,"IDX","BUCKLE OPTION","Prc Chg"]
[null,null,2,{"$f":"H65","v":"NOT USED"},null,null,1,"push button buckle",0]
[null,null,3,"NOT USED",null,null,2,"NOT AVAILABLE",0]
[null,null,4,"NOT USED",null,null,3,"NOT AVAILABLE",0]
[]
[null,null,"Padded Shoulder Harness",null,null,"XSMALL","SMALL","MEDIUM","LARGE","XLARGE"]
[null,null,1,{"$f":"INDEX(D83:D85,$C81,1)","v":"attaching clips"},{"$f":"INDEX(E83:E85,$C81,1)","v":61401}]
[null,null,"INDEX","HARDWARE","ITEM #"]
[null,null,1,"attaching clips",{"$f":"INDEX(F83:J83,1,$C$87)","v":61401},61301,61401,61501,61701,61801]
[null,null,2,"plastic camlock buckles",{"$f":"INDEX(F84:J84,1,$C$87)","v":61402},61302,61402,61502,61702,61802]
[null,null,3,"clips & camlocks",{"$f":"INDEX(F85:J85,1,$C$87)","v":61403},61303,61403,61503,61703,61803]
[]
[null,null,2,{"$f":"INDEX(D89:D93,$C87,1)","v":"Small"},{"$f":"INDEX(E89:E93,$C87,1)","v":141}]
[null,null,"INDEX","SIZE","RETAIL"]
[null,null,1,"X-Small",145]
[null,null,2,"Small",141]
[null,null,3,"Medium",147]
[null,null,4,"Large",153]
[null,null,5,"X-Large",159]
[]
[null,null,"Padded X-Harness"]
[null,null,1,{"$f":"INDEX(D98:D100,$C96,1)","v":"Small"},{"$f":"INDEX(E98:E100,$C96,1)","v":30519},{"$f":"INDEX(F98:F100,$C96,1)","v":163}]
[null,null,"INDEX","SIZE","ITEM #","PRICE"]
[null,null,1,"Small",30519,163]
[null,null,2,"Medium",30520,163]
[null,null,3,"Large",30521,174]
[]
[]
[null,null,"Padded Chest Strap",null,{"$f":"L104&\"padded chest strap - \"&$D$115&\", \"&$M$104","v":"Stretch padded chest strap - Small, w/ two side release buckles & D-rings"}]
[null,null,1,null,{"$f":"INDEX(E106:E113,$C104,1)","v":60110},null,null,null,null,null,{"$f":"INDEX(K106:K113,$C104,1)","v":98},{"$f":"INDEX(L106:L113,$C104,1)","v":"Stretch "},{"$f":"INDEX(M106:M113,$C104,1)","v":"w/ two side release buckles & D-rings"}]
[null,null,"INDEX","PICK LIST DESCRIPTION","ITEM #","SMALL","MEDIUM","LARGE","X-LARGE","2X-LARGE","PRICE","TYPE","MODIFIER",null,null,null,"PICK LIST DESC",null,"MODIFIER","Other Sizes","X-Large","2X-Large"]
[null,null,1,{"$f":"IF($C$115<4,$Q106,$Q$107)","v":"Stretch w/ two side release buckles & D-rings"},{"$f":"INDEX(F106:J106,1,$C$115)","v":60110},60110,60111,60112,60123,60124,{"$f":"CHOOSE($C$115,T106,T106,T106,U106,V106)","v":98},"Stretch ",{"$f":"IF($C$115<4,S106,$S$107)","v":"w/ two side release buckles & D-rings"},null,null,null,"Stretch w/ two side release buckles & D-rings",null,"w/ two side release buckles & D-rings",98,145,155]
[null,null,2,"Stretch w/ one side release buckle & D-ring",60113,60113,60114,60115,60123,60124,125,"Stretch ","w/ one side release buckle & D-ring",null,null,null,"Stretch w/ one side release buckle & D-ring",null,"w/ one side release buckle & D-ring",125,145,155]
[null,null,3,"Stretch w/ two camlock buckles",60116,60116,60117,60118,60123,60124,90,"Stretch ","w/ two camlock buckles",null,null,null,"Stretch w/ two camlock buckles",null,"w/ two camlock buckles",90,145,155]
[null,null,4,"Stretch two-piece w/ hook-n-loop closure",60119,60119,60120,60121,60123,60124,125,"Stretch ","two piece w/ hook-n-loop closure",null,null,null,"Stretch two-piece w/ hook-n-loop closure",null,"two piece w/ hook-n-loop closure",125,145,155]
[null,null,5,"Non-stretch one-piece w/ two camlock buckles",60147,60147,60148,60149,60123,60124,90,{"$f":"IF($C$115<4,\"Non-stretch \",\"Stretch \")","v":"Non-stretch "},"one piece w/ two camlock buckles",null,null,null,"Non-stretch one-piece w/ two camlock buckles",null,"one piece w/ two camlock buckles",90,145,155]
[null,null,6,"Non-stretch two-piece w/ hook-n-loop closure",60150,60150,60151,60152,60123,60124,125,{"$f":"IF($C$115<4,\"Non-stretch \",\"Stretch \")","v":"Non-stretch "},"two piece w/ hook-n-loop closure",null,null,null,"Non-stretch two-piece w/ hook-n-loop closure",null,"two piece w/ hook-n-loop closure",125,145,155]
[null,null,7,"Non-stretch 2-piece w/ hook-n-loop & safety strap",60153,60153,60154,60155,60123,60124,125,{"$f":"IF($C$115<4,\"Non-stretch \",\"Stretch \")","v":"Non-stretch "},"two piece w/ hook-n-loop & safety strap",null,null,null,"Non-stretch 2-piece w/ hook-n-loop & safety strap",null,"two piece w/ hook-n-loop & safety strap",125,145,155]
[null,null,8,"Non-stretch one-piece w/ one rear SR buckle",60157,60157,60158,60159,60123,60124,90,{"$f":"IF($C$115<4,\"Non-stretch \",\"Stretch \")","v":"Non-stretch "},"one piece w/ one rear SR buckle",null,null,null,"Non-stretch one-piece w/ one rear SR buckle",null,"one piece w/ one rear SR buckle",90,145,155]
[]
[null,null,1,{"$f":"INDEX(D117:D121,$C115,1)","v":"Small"}]
[null,null,"INDEX","SIZE",null,1,2,3,4,5,6,7,8]
[null,null,1,{"$f":"INDEX(F117:M117,1,$C$104)","v":"Small"},null,"Small","Small","Small","Small","Small","Small","Small","Small"]
[null,null,2,{"$f":"INDEX(F118:M118,1,$C$104)","v":"Medium"},null,"Medium","Medium","Medium","Medium","Medium","Medium","Medium","Medium"]
[null,null,3,{"$f":"INDEX(F119:M119,1,$C$104)","v":"Large"},null,"Large","Large","Large","Large","Large","Large","Large","Large"]
[null,null,4,"X-Large"]
[null,null,5,"2X-Large"]
[]
[null,null,null,"Stretch two-piece w/ hook-n-loop & safety strap",null,60144,60145,60146,105,"Stretch ","two piece w/ hook-n-loop & safety strap"]
[]
[null,null,null,null,null,"EACH=",237,"EXTENDED=",{"$f":"G125*I126","v":474}]
[null,null,null,{"$f":"\"Multi-axis knee adductor w/ \"&F135&\" for \"&D127&\", \"&LOWER(I127)","v":"Multi-axis knee adductor w/ 3 x 4 pad for 1\" cane, pair"},null,null,null,"# PADS=",{"$f":"CHOOSE(H127,2,1)","v":2}]
[null,null,2,{"$f":"INDEX(D129:D130,$C127,1)","v":"1\" cane"},null,null,null,1,{"$f":"INDEX($I$129:$I$130,$H127,1)","v":"Pair"}]
[null,null,null,"MULTI-AXIS CANE SIZE",null,null,null,null,"PAIR/EACH"]
[null,null,1,"7/8\" cane",null,null,null,1,"Pair"]
[null,null,2,"1\" cane",null,null,null,2,"Each"]
[]
[]
[]
[null,null,null,{"$f":"\"Knee adductor \"&CHOOSE(I126,\"cover\", \"covers\")&\" w/ gel insert for \"&$F$135","v":"Knee adductor covers w/ gel insert for 3 x 4 pad"}]
[null,null,1,{"$f":"INDEX(D137:D142,$C135,1)","v":"3 x 4 pad"},{"$f":"INDEX(E137:E142,$C135,1)","v":50280},{"$f":"INDEX(F137:F142,$C135,1)","v":"3 x 4 pad"},null,null,{"$f":"INDEX(I137:I142,$C135,1)","v":{"$error":"#N/A"}},"7/8\"",null,"1\""]
[null,null,null,"MULTI-AXIS PAD/COVER","ITEM #","ALT DESC","7/8\"","1\"","COVER","Each","Pair","Each","Pair"]
[null,null,1,"3 x 4 pad",{"$f":"INDEX(G137:H137,1,$C$127)","v":50280},"3 x 4 pad",{"$f":"IF($H$127=1,K137,J137)","v":50277},{"$f":"IF($H$127=1,M137,L137)","v":50280},{"$f":"NA()","v":{"$error":"#N/A"}},31547,50277,31532,50280]
[null,null,2,"4 x 6 pad",50281,"4 x 6 pad",{"$f":"IF($H$127=1,K138,J138)","v":50278},{"$f":"IF($H$127=1,M138,L138)","v":50281},{"$f":"NA()","v":{"$error":"#N/A"}},31548,50278,31533,50281]
[null,null,3,"5 x 7 pad",50282,"5 x 7 pad",{"$f":"IF($H$127=1,K139,J139)","v":50279},{"$f":"IF($H$127=1,M139,L139)","v":50282},{"$f":"NA()","v":{"$error":"#N/A"}},31549,50279,31534,50282]
[null,null,4,"3 x 4 pad+gel cover",50280,"3 x 4 pad",{"$f":"G137","v":50277},50280,50048]
[null,null,5,"4 x 6 pad+gel cover",50281,"4 x 6 pad",50278,50281,50049]
[null,null,6,"5 x 7 pad+gel cover",50282,"5 x 7 pad",50279,50282,50050]
[]
[null,null,"DESC=",{"$f":"\"Flip-down knee adductor w/ \"&LOWER(D145)&\" & \"&F158&\", \"&LOWER(G145)","v":"Flip-down knee adductor w/ short arm & 1 in. tubing adaptor, pair"},null,null,null,"# PADS=",{"$f":"CHOOSE(F145,2,1,1)","v":2}]
[null,null,1,{"$f":"INDEX(D147:D148,$C145,1)","v":"Short arm"},{"$f":"INDEX(E147:E148,$C145,1)","v":1},1,{"$f":"INDEX(G147:G149,$F145,1)","v":"Pair"},null,{"$f":"INDEX(I147:I149,$F145,1)","v":1}]
[null,null,null,"FLIP-DOWN KNEE ADDUCTOR","INDEX COMPONENT",null,"PAIR/R/L",null,"INDEX COMPONENT"]
[null,null,1,"Short arm",1,1,"Pair",null,1]
[null,null,2,"Long arm",2,2,"Right",null,2]
[null,null,null,null,null,3,"Left",null,3]
[null,null,null,{"$f":"$D$151 & \" w/ Neoprene cover\"","v":"3 x 4 pad w/ Neoprene cover"}]
[null,null,1,{"$f":"INDEX(D153:D157,$C151,1)","v":"3 x 4 pad"},{"$f":"INDEX(E153:E157,$C151,1)","v":50490},{"$f":"INDEX(F153:F157,$C151,1)","v":111}]
[null,null,null,"FLIP-DOWN PAD/COVER","INDEX COMPONENT","PRICE"]
[null,null,1,"3 x 4 pad",50490,111]
[null,null,2,"4 x 6 pad",50491,111]
[null,null,3,"5 x 7 pad",50492,111]
[null,null,4,"Custom pad",50493,180,"Updated 8/1/21 but not used"]
[]
[null,null,1,{"$f":"INDEX(D160:D165,$C158,1)","v":"1 in. Tubing adaptor"},{"$f":"INDEX(E160:E165,$C158,1)","v":0},{"$f":"INDEX(F160:F165,$C158,1)","v":"1 in. tubing adaptor"},null,null,"USE INDEX COMPONENTS TO CALC ROW #=",{"$f":"E158+I145","v":1}]
[null,null,"HDW","MULTI-AXIS PAIR/R/L","INDEX COMPONENT","TITLE WITH CASE CHANGE",null,null," USE INDEX COMPONENTS TO CALC COLUMN #=",{"$f":"E145","v":1}]
[null,null,1,"1 in. Tubing adaptor",0,"1 in. tubing adaptor",null,null,"LOOKUP PART NUMBER USING ROW & COLUMN=",{"$f":"INDEX(F168:G185,$J$158,$J$159)","v":30248}]
[null,null,2,"1-1/8\" Tubing adaptor",3,"1-1/8\" tubing adaptor",null,null,"PRICE=",{"$f":"INDEX(F188:G205,$J$158,$J$159)","v":570}]
[null,null,3,"1-1/4\" Tubing adaptor",6,"1-1/4\" tubing adaptor"]
[null,null,4,"1-3/8\" Tubing adaptor",9,"1-3/8\" tubing adaptor"]
[null,null,5,"Quantum adaptor",12,"Quantum adaptor"]
[null,null,6,"Innovation in Motion",15,"Innovation adaptor"]
[]
[null,null,null,"Adaptor","Pair/R/L","Short Arm","Long Arm"]
[null,null,"PARTS","1 in. Tubing","Pair/R/L",30248,30284]
[null,null,null,"1 in. Tubing","Right",30272,30080]
[null,null,null,"1 in. Tubing","Left",30271,30079]
[null,null,null,"1-1/8 in. Tubing","Pair/R/L",32982,32981]
[null,null,null,"1-1/8 in. Tubing","Right",32980,32978]
[null,null,null,"1-1/8 in. Tubing","Left",32979,32977]
[null,null,null,"1-1/4 in. Tubing","Pair/R/L",30083,30082]
[null,null,null,"1-1/4 in. Tubing","Right",30093,30091]
[null,null,null,"1-1/4 in. Tubing","Left",30092,30090]
[null,null,null,"1-3/8 in. Tubing","Pair/R/L",32974,32973]
[null,null,null,"1-3/8 in. Tubing","Right",32972,32970]
[null,null,null,"1-3/8 in. Tubing","Left",32971,32969]
[null,null,null,"Quantum","Pair/R/L",30240,30276]
[null,null,null,"Quantum","Right",30256,30292]
[null,null,null,"Quantum","Left",30255,30291]
[null,null,null,"Innovation in Motion","Pair/R/L",32989,32990]
[null,null,null,"Innovation in Motion","Right",32986,32988]
[null,null,null,"Innovation in Motion","Left",32985,32987]
[]
[null,null,null,"Adaptor","Pair/R/L","Short Arm","Long Arm"]
[null,null,"PRICES","1 in. Tubing","Pair/R/L",570,570]
[null,null,null,"1 in. Tubing","Right",285,285]
[null,null,null,"1 in. Tubing","Left",285,285]
[null,null,null,"1-1/8 in. Tubing","Pair/R/L",660,660]
[null,null,null,"1-1/8 in. Tubing","Right",330,330]
[null,null,null,"1-1/8 in. Tubing","Left",330,330]
[null,null,null,"1-1/4 in. Tubing","Pair/R/L",660,660]
[null,null,null,"1-1/4 in. Tubing","Right",330,330]
[null,null,null,"1-1/4 in. Tubing","Left",330,330]
[null,null,null,"1-3/8 in. Tubing","Pair/R/L",680,680]
[null,null,null,"1-3/8 in. Tubing","Right",340,340]
[null,null,null,"1-3/8 in. Tubing","Left",340,340]
[null,null,null,"Quantum","Pair/R/L",570,570]
[null,null,null,"Quantum","Right",285,285]
[null,null,null,"Quantum","Left",285,285]
[null,null,null,"Innovation in Motion","Pair/R/L",570,570]
[null,null,null,"Innovation in Motion","Right",285,285]
[null,null,null,"Innovation in Motion","Left",285,285]
[]
[]
[null,null,null,"Input description->","1\" 4-Point Belt"]
[null,null,null,"Concatenated description->",{"$f":"E208&E210&\", \"&E214&\" & \"&H214","v":"1\" 4-Point Belt, 4.25W x 1.75H pad & push button buckle"},null,null,"PART NUMBERS",null,null,null,null,null,"PRICES"]
[null,null,1,{"$f":"INDEX(D212:D213,$C210)","v":"Fixed straps"},{"$f":"INDEX(E212:E213,$C210)","v":""},{"$f":"INDEX(F212:F213,$C210)","v":60130},{"$f":"INDEX(G212:G213,$C210)","v":121},"Metal push button",null,"Plastic side release",null,"Security buckle",null,"Metal push button",null,"Plastic side release",null,"Metal security buckle"]
[null,null,"IDX","1\" FOUR POINT THERAFIT BELT","ALT TEXT","PART#","PRICE","4.25 x 1.75H","5.25 x 1.75","4.25 x 1.75H","5.25 x 1.75","4.25 x 1.75H","5.25 x 1.75","4.25 x 1.75H","5.25 x 1.75","4.25 x 1.75H","5.25 x 1.75","4.25 x 1.75H","5.25 x 1.75"]
[null,null,1,"Fixed straps","",{"$f":"INDEX(H212:M212,1,$C214+$I214)","v":60130},{"$f":"INDEX(N212:S212,1,$C214+$I214)","v":121},60130,60131,60140,60141,60494,60495,121,118,118,118,131,131]
[null,null,2,"Adjustable straps"," w/adj straps ",{"$f":"INDEX(H213:M213,1,$C214+$I214)","v":60125},{"$f":"INDEX(N213:S213,1,$C214+$I214)","v":128},60125,60126,60135,60136,60490,60491,128,128,125,125,138,138]
[null,null,1,{"$f":"INDEX(D216:D217,$C214)","v":"4.25Wx1.75H pad"},{"$f":"INDEX(E216:E217,$C214)","v":"4.25W x 1.75H pad"},null,1,{"$f":"INDEX(H216:H218,G214)","v":"push button buckle"},{"$f":"INDEX(I216:I218,G214)","v":0}]
[null,null,"PADS","PAD DESC","ALT TEXT",null,"IDX","BUCKLE","ADDRESS"]
[null,null,1,"4.25Wx1.75H pad","4.25W x 1.75H pad",null,1,"push button buckle",0]
[null,null,2,"5.25Wx1.75H pad","5.25W x 1.75H pad",null,2,"side release buckle",2]
[null,null,3,0,null,null,3,"security buckle",4]
[]
[null,null,null,"Input description->","1-1/2\" 4-Point Belt"]
[null,null,null,"Concatenated description->",{"$f":"E220&E223&\", \"&E227&\" & \"&H227","v":"1-1/2\" 4-Point Belt, 5.25W x 2.25H pad & push button buckle"}]
[null,null,null,null,null,null,null,"PART NUMBERS",null,null,null,null,null,"PRICES"]
[null,null,1,{"$f":"INDEX(D225:D226,$C223)","v":"Fixed straps"},{"$f":"INDEX(E225:E231,$C223)","v":""},{"$f":"INDEX(F225:F226,$C223)","v":60132},{"$f":"INDEX(G225:G226,$C223)","v":121},"Metal push button",null,"Plastic side release",null,"Security buckle",null,"Metal push button",null,"Plastic side release",null,"Metal security buckle"]
[null,null,"IDX","1-1/2\" FOUR POINT THERAFIT BELT","ALT TEXT","PART#","PRICE","5.25 x 2.25H","7.25 x 2.25","5.25 x 2.25H","7.25 x 2.25","5.25 x 2.25H","7.25 x 2.25","5.25 x 2.25H","7.25 x 2.25","5.25 x 2.25H","7.25 x 2.25","5.25 x 2.25H","7.25 x 2.25"]
[null,null,1,"Fixed straps","",{"$f":"INDEX(H225:M225,1,$C227+$I227)","v":60132},{"$f":"INDEX(N225:S225,1,$C227+$I227)","v":121},60132,60133,60142,60143,60496,60497,121,121,118,118,131,131]
[null,null,2,"Adjustable straps"," w/adj straps ",{"$f":"INDEX(H226:M226,1,$C227+$I227)","v":60127},{"$f":"INDEX(N226:S226,1,$C227+$I227)","v":128},60127,60128,60137,60138,60492,60493,128,128,125,125,138,138]
[null,null,1,{"$f":"INDEX(D229:D230,$C227)","v":"5.25Wx2.25H pad"},{"$f":"INDEX(E229:E230,$C227)","v":"5.25W x 2.25H pad"},null,1,{"$f":"INDEX(H229:H231,G227)","v":"push button buckle"},{"$f":"INDEX(I229:I231,G227)","v":0}]
[null,null,"PADS","PAD DESC","ALT TEXT",null,"IDX","BUCKLE","ADDRESS"]
[null,null,1,"5.25Wx2.25H pad","5.25W x 2.25H pad",null,1,"push button buckle",0]
[null,null,2,"7.25Wx2.25H pad","7.25W x 2.25H pad",null,2,"side release buckle",2]
[null,null,3,0,null,null,3,"security buckle",4]
[]
[]
[]
[null,null,null,"Input description->","Therafit 4 point Y-style belt w/ "]
[null,null,null,"Concatenated description->",{"$f":"E235&D237&\", \"&$H$237","v":"Therafit 4 point Y-style belt w/ push button buckle, Small"}]
[null,null,1,{"$f":"INDEX($D$238:$D$240,$C$237)","v":"push button buckle"},{"$f":"INDEX($E$238:$E$240,$C$237)","v":158},{"$f":"INDEX($F$238:$F$240,$C$237)","v":60024},1,{"$f":"INDEX($H$238:$H$240,$G$237)","v":"Small"}]
[null,null,1,"push button buckle",158,{"$f":"CHOOSE($G$237,60024,60025,60026)","v":60024},1,"Small"]
[null,null,2,"side release buckle",153,{"$f":"CHOOSE($G$237,60027,60028,60029)","v":60027},2,"Medium"]
[null,null,3,"security buckle",168,{"$f":"CHOOSE($G$237,60046,60047,60048)","v":60046},3,"Large"]
[]
[null,null,"Rear Pull Belts","Main description->","1\" Rear Pull Belt"]
[null,null,null,"Text for chosen config->",{"$f":"INDEX(E246:E251,$C$244)","v":"1\" Rear Pull Belt, 6.25Wx1.75H pad, metal attaching clips+push button buckle"},{"$f":"INDEX(F246:F251,$C$244)","v":"60161"},{"$f":"INDEX(G246:G251,$C$244)+$K$245","v":87}]
[null,null,1,null,"1 Desc","1 Part#","1 Price"]
[null,null,"HDW","HDW DESC","6.25Wx1.75H pad",null,null,null,1,{"$f":"VLOOKUP(I245,I247:J248,2,FALSE)","v":"push button buckle"},{"$f":"VLOOKUP(I245,I247:K248,3,FALSE)","v":0}]
[null,null,1,"metal attaching clips",{"$f":"\"1\"\" Rear Pull Belt, 6.25Wx1.75H pad, metal attaching clips+\"&$J$245","v":"1\" Rear Pull Belt, 6.25Wx1.75H pad, metal attaching clips+push button buckle"},{"$f":"CHOOSE($I$245,\"60161\",\"60311\")","v":"60161"},87,null,"IDX","BUCKLE OPTION","Prc Chg"]
[null,null,2,"plastic camlocks",{"$f":"\"1\"\" Rear Pull Belt, 6.25Wx1.75H pad, plastic camlocks+\"&$J$245","v":"1\" Rear Pull Belt, 6.25Wx1.75H pad, plastic camlocks+push button buckle"},{"$f":"CHOOSE($I$245,\"60162\",\"60312\")","v":"60162"},87,null,1,"push button buckle",0]
[null,null,3,"metal clips & camlocks",{"$f":"\"1\"\" Rear Pull Belt, 6.25Wx1.75H pad, metal clips & camlocks+\"&$J$245","v":"1\" Rear Pull Belt, 6.25Wx1.75H pad, metal clips & camlocks+push button buckle"},{"$f":"CHOOSE($I$245,\"60163\",\"60313\")","v":"60163"},89,null,2,"security buckle",10]
[null,null,4,"metal clips & hinged collars",{"$f":"\"1\"\" Rear Pull Belt, 6.25Wx1.75H pad, metal clips & hinged collars+\"&$J$245","v":"1\" Rear Pull Belt, 6.25Wx1.75H pad, metal clips & hinged collars+push button buckle"},{"$f":"CHOOSE($I$245,\"60164\",\"60314\")","v":"60164"},110]
[null,null,5,"camlocks & hinged collars",{"$f":"\"1\"\" Rear Pull Belt, 6.25Wx1.75H pad, camlocks & hinged collars+\"&$J$245","v":"1\" Rear Pull Belt, 6.25Wx1.75H pad, camlocks & hinged collars+push button buckle"},{"$f":"CHOOSE($I$245,\"60165\",\"60315\")","v":"60165"},110]
[null,null,6,"clips, camlocks & collars",{"$f":"\"1\"\" Rear Pull Belt, 6.25Wx1.75H pad, clips, camlocks & collars+\"&$J$245","v":"1\" Rear Pull Belt, 6.25Wx1.75H pad, clips, camlocks & collars+push button buckle"},{"$f":"CHOOSE($I$245,\"60166\",\"60316\")","v":"60166"},113]
[]
[null,null,null,"Main description->","1-1/2\" Rear Pull Belt"]
[null,null,null,"Text for chosen config->",{"$f":"INDEX(E257:E262,$C$255)","v":"1-1/2\" Rear Pull Belt, 7.25Wx2.25H pad, metal attaching clips+push button buckle"},{"$f":"INDEX(F257:F262,$C$255)","v":"60171"},{"$f":"INDEX(G257:G262,$C$255)+$K$256","v":95}]
[null,null,1,null,"1 Desc","1 Part#","1 Price"]
[null,null,"HDW","HDW DESC","7.25Wx2.25H pad",null,null,null,1,{"$f":"VLOOKUP(I256,I258:J259,2,FALSE)","v":"push button buckle"},{"$f":"VLOOKUP(I256,I258:K259,3,FALSE)","v":0}]
[null,null,1,"metal attaching clips",{"$f":"\"1-1/2\"\" Rear Pull Belt, 7.25Wx2.25H pad, metal attaching clips+\"&$J$256","v":"1-1/2\" Rear Pull Belt, 7.25Wx2.25H pad, metal attaching clips+push button buckle"},{"$f":"CHOOSE($I$256,\"60171\",\"60321\")","v":"60171"},95,null,"IDX","BUCKLE OPTION","Prc Chg"]
[null,null,2,"plastic camlocks",{"$f":"\"1-1/2\"\" Rear Pull Belt, 7.25Wx2.25H pad, plastic camlocks+\"&$J$256","v":"1-1/2\" Rear Pull Belt, 7.25Wx2.25H pad, plastic camlocks+push button buckle"},{"$f":"CHOOSE($I$256,\"60172\",\"60322\")","v":"60172"},107,null,1,"push button buckle",0]
[null,null,3,"metal clips & camlocks",{"$f":"\"1-1/2\"\" Rear Pull Belt, 7.25Wx2.25H pad, metal clips & camlocks+\"&$J$256","v":"1-1/2\" Rear Pull Belt, 7.25Wx2.25H pad, metal clips & camlocks+push button buckle"},{"$f":"CHOOSE($I$256,\"60173\",\"60323\")","v":"60173"},111,null,2,"security buckle",10]
[null,null,4,"metal clips & hinged collars",{"$f":"\"1-1/2\"\" Rear Pull Belt, 7.25Wx2.25H pad, metal clips & hinged collars+\"&$J$256","v":"1-1/2\" Rear Pull Belt, 7.25Wx2.25H pad, metal clips & hinged collars+push button buckle"},{"$f":"CHOOSE($I$256,\"60174\",\"60324\")","v":"60174"},119]
[null,null,5,"camlocks & hinged collars",{"$f":"\"1-1/2\"\" Rear Pull Belt, 7.25Wx2.25H pad, camlocks & hinged collars+\"&$J$256","v":"1-1/2\" Rear Pull Belt, 7.25Wx2.25H pad, camlocks & hinged collars+push button buckle"},{"$f":"CHOOSE($I$256,\"60175\",\"60325\")","v":"60175"},131]
[null,null,6,"clips, camlocks & collars",{"$f":"\"1-1/2\"\" Rear Pull Belt, 7.25Wx2.25H pad, clips, camlocks & collars+\"&$J$256","v":"1-1/2\" Rear Pull Belt, 7.25Wx2.25H pad, clips, camlocks & collars+push button buckle"},{"$f":"CHOOSE($I$256,\"60176\",\"60326\")","v":"60176"},136]
[]
[null,null,null,"Main description->","1-1/2\" Rear Pull Belt"]
[null,null,null,"Text for chosen config->",{"$f":"INDEX(E268:E273,$C$266)","v":"1-1/2\" Rear Pull Belt, 9.25Wx2.5H pad, metal attaching clips+push button buckle"},{"$f":"INDEX(F268:F273,$C$266)","v":"60181"},{"$f":"INDEX(G268:G273,$C$266)+$K$267","v":95}]
[null,null,1,null,"1 Desc","1 Part#","1 Price"]
[null,null,"HDW","HDW DESC","9.25Wx2.5H pad",null,null,null,1,{"$f":"VLOOKUP(I267,I269:J270,2,FALSE)","v":"push button buckle"},{"$f":"VLOOKUP(I267,I269:K270,3,FALSE)","v":0}]
[null,null,1,"metal attaching clips",{"$f":"\"1-1/2\"\" Rear Pull Belt, 9.25Wx2.5H pad, metal attaching clips+\"&$J$267","v":"1-1/2\" Rear Pull Belt, 9.25Wx2.5H pad, metal attaching clips+push button buckle"},{"$f":"CHOOSE($I$267,\"60181\",\"60331\")","v":"60181"},95,null,"IDX","BUCKLE OPTION","Prc Chg"]
[null,null,2,"plastic camlocks",{"$f":"\"1-1/2\"\" Rear Pull Belt, 9.25Wx2.5H pad, plastic camlocks+\"&$J$267","v":"1-1/2\" Rear Pull Belt, 9.25Wx2.5H pad, plastic camlocks+push button buckle"},{"$f":"CHOOSE($I$267,\"60182\",\"60332\")","v":"60182"},107,null,1,"push button buckle",0]
[null,null,3,"metal clips & camlocks",{"$f":"\"1-1/2\"\" Rear Pull Belt, 9.25Wx2.5H pad, metal clips & camlocks+\"&$J$267","v":"1-1/2\" Rear Pull Belt, 9.25Wx2.5H pad, metal clips & camlocks+push button buckle"},{"$f":"CHOOSE($I$267,\"60183\",\"60333\")","v":"60183"},111,null,2,"security buckle",10]
[null,null,4,"metal clips & hinged collars",{"$f":"\"1-1/2\"\" Rear Pull Belt, 9.25Wx2.5H pad, metal clips & hinged collars+\"&$J$267","v":"1-1/2\" Rear Pull Belt, 9.25Wx2.5H pad, metal clips & hinged collars+push button buckle"},{"$f":"CHOOSE($I$267,\"60184\",\"60334\")","v":"60184"},119]
[null,null,5,"camlocks & hinged collars",{"$f":"\"1-1/2\"\" Rear Pull Belt, 9.25Wx2.5H pad, camlocks & hinged collars+\"&$J$267","v":"1-1/2\" Rear Pull Belt, 9.25Wx2.5H pad, camlocks & hinged collars+push button buckle"},{"$f":"CHOOSE($I$267,\"60185\",\"60335\")","v":"60185"},131]
[null,null,6,"clips, camlocks & collars",{"$f":"\"1-1/2\"\" Rear Pull Belt, 9.25Wx2.5H pad, clips, camlocks & collars+\"&$J$267","v":"1-1/2\" Rear Pull Belt, 9.25Wx2.5H pad, clips, camlocks & collars+push button buckle"},{"$f":"CHOOSE($I$267,\"60186\",\"60336\")","v":"60186"},135]
[]
[]
[null,null,"CONTOURED HIP GUIDE ALIGNMENT"]
[]
[null,null,1,{"$f":"INDEX(D280:D282,C278)","v":"Align pad with front of seat"},{"$f":"INDEX(E280:E282,$C$278)","v":false},{"$f":"IF('Pick List'!$B$424,INDEX(F280:F282,$C$278),0)","v":0},"<-zero if contour option is not selected"]
[null,null,"HDW","PAD PLACEMENT OPTIONS","SHOW DISTANCE? (conditional format)","VALUE W/APPROPRIATE SIGN"]
[null,null,1,"Align pad with front of seat",{"$f":"FALSE","v":false},0]
[null,null,2,{"$f":"\"Extend \"&'Pick List'!$U$424&quote&\" in front of seat\"","v":"Extend \" in front of seat"},true,{"$f":"'Pick List'!$U$424","v":0}]
[null,null,3,{"$f":"\"Align \"&'Pick List'!$U$424&quote&\" behind front of seat\"","v":"Align \" behind front of seat"},true,{"$f":"-'Pick List'!$U$424","v":0}]
[]
[null,null,"FRONT DUAL PULL BELTS"]
[null,null,null,"Main description->","1\" SR Dual Pull Belt"]
[null,null,null,"Text for chosen config->",{"$f":"VLOOKUP($C287,$C289:$H294,3*$C296,FALSE)","v":"1\" SR Dual Pull Belt, 4.25Wx1.75H pad, metal attaching clips"},{"$f":"VLOOKUP($C287,$C289:$I294,1+3*$C296,FALSE)","v":60211},{"$f":"VLOOKUP($C287,$C289:$J294,2+3*$C296,FALSE)","v":72}]
[null,null,1,null,"1 Desc","1 Part#","1 Price","2 Desc","2 Part#","2 Price"]
[null,null,"HDW","HDW DESC","4.25Wx1.75H pad",null,null,"5.25Wx1.75H pad"]
[null,null,1,"metal attaching clips","1\" SR Dual Pull Belt, 4.25Wx1.75H pad, metal attaching clips",60211,72,"1\" SR Dual Pull Belt, 5.25Wx1.75H pad, metal attaching clips",60221,72]
[null,null,2,"plastic camlocks","1\" SR Dual Pull Belt, 4.25Wx1.75H pad, plastic camlocks",60212,72,"1\" SR Dual Pull Belt, 5.25Wx1.75H pad, plastic camlocks",60222,72]
[null,null,3,"metal clips & camlocks","1\" SR Dual Pull Belt, 4.25Wx1.75H pad, metal clips & camlocks",60213,74,"1\" SR Dual Pull Belt, 5.25Wx1.75H pad, metal clips & camlocks",60223,74]
[null,null,4,"metal clips & hinged collars","1\" SR Dual Pull Belt, 4.25Wx1.75H pad, metal clips & hinged collars",60214,95,"1\" SR Dual Pull Belt, 5.25Wx1.75H pad, metal clips & hinged collars",60224,95]
[null,null,5,"camlocks & hinged collars","1\" SR Dual Pull Belt, 4.25Wx1.75H pad, camlocks & hinged collars",60215,95,"1\" SR Dual Pull Belt, 5.25Wx1.75H pad, camlocks & hinged collars",60225,95]
[null,null,6,"clips, camlocks & collars","1\" SR Dual Pull Belt, 4.25Wx1.75H pad, clips, camlocks & collars",60216,98,"1\" SR Dual Pull Belt, 5.25Wx1.75H pad, clips, camlocks & collars",60226,98]
[]
[null,null,1]
[null,null,"PADS","PAD DESC"]
[null,null,1,{"$f":"E288","v":"4.25Wx1.75H pad"}]
[null,null,2,{"$f":"H288","v":"5.25Wx1.75H pad"}]
[]
[null,null,null,"Main description->","1-1/2\" SR Dual Pull Belt"]
[null,null,null,"Text for chosen config->",{"$f":"VLOOKUP($C303,$C305:$H310,3*$C312,FALSE)","v":"1-1/2\" SR Dual Pull Belt, 5.25Wx2.25H pad, metal attaching clips"},{"$f":"VLOOKUP($C303,$C305:$I310,1+3*$C312,FALSE)","v":60231},{"$f":"VLOOKUP($C303,$C305:$J310,2+3*$C312,FALSE)","v":79}]
[null,null,1,null,"1 Desc","1 Part#","1 Price","2 Desc","2 Part#","2 Price"]
[null,null,"HDW","HDW DESC","5.25Wx2.25H pad",null,null,"7.25Wx2.25H pad"]
[null,null,1,"metal attaching clips","1-1/2\" SR Dual Pull Belt, 5.25Wx2.25H pad, metal attaching clips",60231,79,"1-1/2\" SR Dual Pull Belt, 7.25Wx2.25H pad, metal attaching clips",60241,79]
[null,null,2,"plastic camlocks","1-1/2\" SR Dual Pull Belt, 5.25Wx2.25H pad, plastic camlocks",60232,91,"1-1/2\" SR Dual Pull Belt, 7.25Wx2.25H pad, plastic camlocks",60242,91]
[null,null,3,"metal clips & camlocks","1-1/2\" SR Dual Pull Belt, 5.25Wx2.25H pad, metal clips & camlocks",60233,95,"1-1/2\" SR Dual Pull Belt, 7.25Wx2.25H pad, metal clips & camlocks",60243,95]
[null,null,4,"metal clips & hinged collars","1-1/2\" SR Dual Pull Belt, 5.25Wx2.25H pad, metal clips & hinged collars",60234,103,"1-1/2\" SR Dual Pull Belt, 7.25Wx2.25H pad, metal clips & hinged collars",60244,103]
[null,null,5,"camlocks & hinged collars","1-1/2\" SR Dual Pull Belt, 5.25Wx2.25H pad, camlocks & hinged collars",60235,115,"1-1/2\" SR Dual Pull Belt, 7.25Wx2.25H pad, camlocks & hinged collars",60245,115]
[null,null,6,"clips, camlocks & collars","1-1/2\" SR Dual Pull Belt, 5.25Wx2.25H pad, clips, camlocks & collars",60236,119,"1-1/2\" SR Dual Pull Belt, 7.25Wx2.25H pad, clips, camlocks & collars",60246,119]
[]
[null,null,1]
[null,null,"PADS","PAD DESC"]
[null,null,1,{"$f":"E304","v":"5.25Wx2.25H pad"}]
[null,null,2,{"$f":"H304","v":"7.25Wx2.25H pad"}]
[]
["no pads?","ANY CUSTOM?"]
[{"$f":"NOT(OR(A321,A327,A332))","v":false},{"$f":"OR(B321,B327,B332)","v":true}]
[null,null,null,"CUSTOM TRI-FORM HEADREST"]
["any pad?","custom pad?",null,null,null,null,"Price",null,"Diagram shorter text to make room for surfaces"]
[{"$f":"C321<>C325","v":true},{"$f":"C321=1","v":true},1,null,{"$f":"INDEX(E322:E325,$C321)","v":"Right side WxH"},{"$f":"INDEX(F322:F325,$C321)","v":"50373R"},{"$f":"INDEX(G322:G325,$C321)","v":258},null,{"$f":"INDEX(I322:I325,$C321)","v":"Right WxH"}]
[null,null,1,"Custom",{"$f":"\"Right side \"&'Pick List'!$M$208&\"Wx\"&'Pick List'!$M$209&\"H\"","v":"Right side WxH"},"50373R",258,null,{"$f":"\"Right \"&'Pick List'!$M$208&\"Wx\"&'Pick List'!$M$209&\"H\"","v":"Right WxH"}]
[null,null,2,"Std. Straight","Straight right side","32414R",144,null,"Straight right side"]
[null,null,3,"Std. Curved","Curved right side","32458R",185,null,"Curved right side"]
[null,null,4,"No Pad","No right pad"," ",0,null,"No right pad"]
[]
[{"$f":"C327<>C330","v":true},{"$f":"C327=1","v":true},1,null,{"$f":"INDEX($E$328:$E$331,$C$327)","v":"Center WxH"},{"$f":"INDEX(F328:F331,$C327)","v":"50373C"},{"$f":"INDEX(G328:G331,$C327)","v":220},null,{"$f":"INDEX($I$328:$I$331,$C$327)","v":"Center WxH"}]
[null,null,1,"Custom",{"$f":"\"Center \"&'Pick List'!$P$208&\"Wx\"&'Pick List'!$P$209&\"H\"","v":"Center WxH"},"50373C",220,null,{"$f":"\"Center \"&'Pick List'!$P$208&\"Wx\"&'Pick List'!$P$209&\"H\"","v":"Center WxH"}]
[null,null,2,"Std Contoured","Std contoured center","32414C",220,null,"Std contoured center"]
[null,null,3,"No Pad","No center pad"," ",0,null,"No center pad"]
[]
[{"$f":"C332<>C336","v":true},{"$f":"C332=1","v":true},1,null,{"$f":"INDEX($E$333:$E$336,$C$332)","v":"Left side WxH"},{"$f":"INDEX(F333:F336,$C332)","v":"50373L"},{"$f":"INDEX(G333:G336,$C332)","v":258},null,{"$f":"INDEX($I$333:$I$336,$C$332)","v":"Left WxH"}]
[null,null,1,"Custom",{"$f":"\"Left side \"&'Pick List'!$T$208&\"Wx\"&'Pick List'!$T$209&\"H\"","v":"Left side WxH"},"50373L",258,null,{"$f":"\"Left \"&'Pick List'!$T$208&\"Wx\"&'Pick List'!$T$209&\"H\"","v":"Left WxH"}]
[null,null,2,"Std. Straight","Straight left side","32414L",144,null,"Straight left side"]
[null,null,3,"Std. Curved","Curved left side","32458L",185,null,"Curved left side"]
[null,null,4,"No Pad","No left pad"," ",0,null,"No left pad"]
[]
[null,null,"FOOTSURE ANKLE SUPPORTS",null," ","Part# =",{"$f":"INDEX(F341:K345,C339,$E$347+3*($E$353-1))","v":60251}]
[null,null,2,{"$f":"INDEX(D341:D345,$C$339)","v":"Small"},{"$f":"INDEX(E341:E345,$C$339)","v":"FootSure ankle supports w/ buckle, Small"},"Buckle Style",null,null,"Velcro Style"]
[null,null,null,"Size","Description","Pair","Right","Left","Pair","Right","Left"]
[null,null,1,"X-Small",{"$f":"$F$347&\"FootSure ankle support\"&$H$347&\" w/ \"&$F$353&\", \"&$D341","v":"FootSure ankle supports w/ buckle, X-Small"},60250,60261,60260,60255,60271,60270]
[null,null,2,"Small",{"$f":"$F$347&\"FootSure ankle support\"&$H$347&\" w/ \"&$F$353&\", \"&$D342","v":"FootSure ankle supports w/ buckle, Small"},60251,60263,60262,60256,60273,60272]
[null,null,3,"Medium",{"$f":"$F$347&\"FootSure ankle support\"&$H$347&\" w/ \"&$F$353&\", \"&$D343","v":"FootSure ankle supports w/ buckle, Medium"},60252,60265,60264,60257,60275,60274]
[null,null,4,"Large",{"$f":"$F$347&\"FootSure ankle support\"&$H$347&\" w/ \"&$F$353&\", \"&$D344","v":"FootSure ankle supports w/ buckle, Large"},60253,60267,60266,60258,60277,60276]
[null,null,5,"X-Large",{"$f":"$F$347&\"FootSure ankle support\"&$H$347&\" w/ \"&$F$353&\", \"&$D345","v":"FootSure ankle supports w/ buckle, X-Large"},60254,60269,60268,60259,60279,60278]
[]
[null,null,1,{"$f":"INDEX(D349:D351,$C$347)","v":"Pair"},{"$f":"INDEX(E349:E351,$C$347)","v":1},{"$f":"INDEX(F349:F351,$C$347)","v":""},{"$f":"INDEX(G349:G351,$C$347)","v":168},{"$f":"INDEX(H349:H351,$C$347)","v":"s"}]
[null,null,null,"Configuration","Column Index","Desc prefix","Price","Pair plural"]
[null,null,1,"Pair",1,"",168,"s"]
[null,null,2,"Right",2,"RIGHT ",86,""]
[null,null,3,"Left",3,"LEFT ",86,""]
[]
[null,null,1,{"$f":"INDEX(D355:D356,$C$353)","v":"Buckle"},{"$f":"INDEX(E355:E356,$C$353)","v":1},{"$f":"INDEX(F355:F356,$C$353)","v":"buckle"}]
[null,null,null,"Buckle or Velcro","Column Index","For desc"]
[null,null,1,"Buckle",1,"buckle"]
[null,null,2,"Hook & Loop",2,"hook & loop"]
[]
[null,null,"FLEXSURE FEET",null," "," "," "," "," "]
[null,null,1,{"$f":"INDEX(D361:D375,$C$359)","v":"Click to choose"},{"$f":"INDEX(E361:E375,$C$359)","v":"MISSING"},{"$f":"INDEX(F361:F375,$C$359)","v":"Choose FlexSure Feet size"},{"$f":"INDEX(G361:G375,$C$359)","v":0},{"$f":"INDEX(H361:H375,$C$359)","v":"Choose FlexSure Feet size"},null,null,{"$f":"INDEX(K361:K375,$C$359)","v":{"$error":"#N/A"}},{"$f":"INDEX(L361:L375,$C$359)","v":0},{"$f":"INDEX(M361:M375,$C$359)","v":0}]
[null,null,null,"Pick List Description","Part#","Part Desc","Inserts","Description for Order Form",null,null,"Blank=NA","Insert Desc","Long insert descriptionfor Order Form"]
[null,null,1,"Click to choose","MISSING","Choose FlexSure Feet size",null,"Choose FlexSure Feet size",null,null,{"$f":"NA()","v":{"$error":"#N/A"}}]
[null,null,2,"Small, Pair",31765,"Small, Pair",null,"FlexSure Feet, Small, Pair",null,null,{"$f":"NA()","v":{"$error":"#N/A"}}]
[null,null,3,"Medium, Pair",31766,"Medium, Pair",null,"FlexSure Feet, Medium, Pair",null,null,{"$f":"NA()","v":{"$error":"#N/A"}}]
[null,null,4,"Large, Pair",31767,"Large, Pair",null,"FlexSure Feet, Large, Pair",null,null,{"$f":"NA()","v":{"$error":"#N/A"}}]
[null,null,5,"X-Large, Pair",31768,"X-Large, Pair",null,"FlexSure Feet, X-Large, Pair",null,null,{"$f":"NA()","v":{"$error":"#N/A"}}]
[null,null,6,"Medium w/ buckle, Pair",31772,"Medium w/ buckle, Pair",null,"FlexSure Feet w/ Buckle Closure, Medium, Pair",null,null,{"$f":"NA()","v":{"$error":"#N/A"}}]
[null,null,7,"Large w/ buckle, Pair",31773,"Large w/ buckle, Pair",null,"FlexSure Feet w/ Buckle Closure, Large, Pair",null,null,{"$f":"NA()","v":{"$error":"#N/A"}}]
[null,null,8,"X-Large w/ buckle, Pair",31774,"X-Large w/ buckle, Pair",null,"FlexSure Feet w/ Buckle Closure, X-Large, Pair",null,null,{"$f":"NA()","v":{"$error":"#N/A"}}]
[null,null,9,"Small w/ padded inserts, Pair",31765,"Small, Pair",31761,"FlexSure Feet, Small, Pair",null,null,31761,"Padded inserts, Small, Pair","FlexSure Feet Padded Inserts, Small, Pair"]
[null,null,10,"Medium w/ padded inserts, Pair",31766,"Medium, Pair",31762,"FlexSure Feet, Medium, Pair",null,null,31762,"Padded inserts, Medium, Pair","FlexSure Feet Padded Inserts, Medium, Pair"]
[null,null,11,"Large w/ padded inserts, Pair",31767,"Large, Pair",31763,"FlexSure Feet, Large, Pair",null,null,31763,"Padded inserts, Large, Pair","FlexSure Feet Padded Inserts, Large, Pair"]
[null,null,12,"X-Large w/ padded inserts, Pair",31768,"X-Large, Pair",31764,"FlexSure Feet, X-Large, Pair",null,null,31764,"Padded inserts, X-Large, Pair","FlexSure Feet Padded Inserts, X-Large, Pair"]
[null,null,13,"Medium w/ buckle & inserts, Pair",31772,"Medium w/ buckle, Pair",31762,"FlexSure Feet w/ Buckle Closure, Medium, Pair",null,null,31762,"Padded inserts, Medium, Pair","FlexSure Feet Padded Inserts, Medium, Pair"]
[null,null,14,"Large w/ buckle & inserts, Pair",31773,"Large w/ buckle, Pair",31763,"FlexSure Feet w/ Buckle Closure, Large, Pair",null,null,31763,"Padded inserts, Large, Pair","FlexSure Feet Padded Inserts, Large, Pair"]
[null,null,15,"X-Large w/ buckle & inserts, Pair",31774,"X-Large w/ buckle, Pair",31764,"FlexSure Feet w/ Buckle Closure, X-Large, Pair",null,null,31764,"Padded inserts, X-Large, Pair","FlexSure Feet Padded Inserts, X-Large, Pair"]
[]
[null,null,"SHOE SANDALS",null," "," "," "," "," "]
[null,null,2,{"$f":"INDEX(D380:D388,$C$378)","v":"X-Small, Pair"},{"$f":"INDEX(E380:E388,$C$378)","v":30649},{"$f":"INDEX(F380:F388,$C$378)","v":"X-Small, Pair"},{"$f":"INDEX(G380:G388,$C$378)","v":0},{"$f":"INDEX(H380:H388,$C$378)","v":"Shoe Sandals, X-Small, Pair"},null,null,{"$f":"INDEX(K380:K388,$C$378)","v":{"$error":"#N/A"}},{"$f":"INDEX(L380:L388,$C$378)","v":0},{"$f":"INDEX(M380:M388,$C$378)","v":0}]
[null,null,null,"Pick List Description","Part#","Part Desc","Inserts","Description for Order Form",null,null,"Blank=NA","Insert Desc","Long insert descriptionfor Order Form"]
[null,null,1,"Click to choose","MISSING","Choose Shoe Sandal size",null,"Choose Shoe Sandal size",null,null,{"$f":"NA()","v":{"$error":"#N/A"}}]
[null,null,2,"X-Small, Pair",30649,"X-Small, Pair",null,"Shoe Sandals, X-Small, Pair",null,null,{"$f":"NA()","v":{"$error":"#N/A"}}]
[null,null,3,"Small, Pair",30650,"Small, Pair",null,"Shoe Sandals, Small, Pair",null,null,{"$f":"NA()","v":{"$error":"#N/A"}}]
[null,null,4,"Medium, Pair",30651,"Medium, Pair",null,"Shoe Sandals, Medium, Pair",null,null,{"$f":"NA()","v":{"$error":"#N/A"}}]
[null,null,5,"Large, Pair",30652,"Large, Pair",null,"Shoe Sandals, Large, Pair",null,null,{"$f":"NA()","v":{"$error":"#N/A"}}]
[null,null,6,"X-Small w/ padded inserts, Pair",30649,"X-Small, Pair",30653,"Shoe Sandals, X-Small, Pair",null,null,30653,"Padded inserts, X-Small, Pair","Shoe Sandal padded inserts, X-Small, Pair"]
[null,null,7,"Small w/ padded inserts, Pair",30650,"Small, Pair",30654,"Shoe Sandals, Small, Pair",null,null,30654,"Padded inserts, Small, Pair","Shoe Sandal padded inserts, Small, Pair"]
[null,null,8,"Medium w/ padded inserts, Pair",30651,"Medium, Pair",30655,"Shoe Sandals, Medium, Pair",null,null,30655,"Padded inserts, Medium, Pair","Shoe Sandal padded inserts, Medium, Pair"]
[null,null,9,"Large w/ padded inserts, Pair",30652,"Large, Pair",30656,"Shoe Sandals, Large, Pair",null,null,30656,"Padded inserts, Large, Pair","Shoe Sandal padded inserts, Large, Pair"]
[]
[null,null,"NON-THERAFIT 4-POINT BELTS"]
[null,null,null,"1.5\" 4 point Y-style padded hip belt"]
[null,null,null,{"$f":"D391&\" w/ \"&D393","v":"1.5\" 4 point Y-style padded hip belt w/ security buckle"}]
[null,null,3,{"$f":"INDEX(D394:D396,$C$393)","v":"security buckle"},{"$f":"INDEX(E394:E396,$C$393)","v":51034},{"$f":"INDEX(F394:F396,$C$393)","v":167}]
[null,null,1,"push button buckle",51065,157]
[null,null,2,"side release buckle",51059,142]
[null,null,3,"security buckle",51034,167]
[]
[null,null,null,"2\" 4 point Y-style padded hip belt"]
[null,null,null,{"$f":"D398&\" w/ \"&D400","v":"2\" 4 point Y-style padded hip belt w/ security buckle"}]
[null,null,3,{"$f":"INDEX(D401:D403,$C$400)","v":"security buckle"},{"$f":"INDEX(E401:E403,$C$400)","v":51035},{"$f":"INDEX(F401:F403,$C$400)","v":167}]
[null,null,1,"push button buckle",51066,157]
[null,null,2,"side release buckle",51060,142]
[null,null,3,"security buckle",51035,167]

{"sheet":"Hip Guides","index":19,"n_rows":28,"n_cols":21,"rows_kept":28,"cut":false,"hidden":true,"merged":[[18,3,18,13],[20,1,21,1],[22,1,23,1],[24,1,25,1],[26,1,27,1],[3,1,4,1],[5,1,6,1],[7,1,8,1],[9,1,10,1],[1,3,1,13]]}
[null,null,null,null,null,null,null,"LOCKING REMOVABLE HIP GUIDE HARDWARE"]
[null,null,{"$f":"INDEX(D4:N11,$P$11,$T$2)","v":34320},{"$f":"\"Seat Thickness= \"&Seat!$BS$4","v":"Seat Thickness= 0"},null,null,null,null,null,null,null,null,null,null,{"$f":"INDEX(O4:O11,$P$11)","v":34384},"LOCKREMHG","Offset pick",null,null,{"$f":"CHOOSE(MATCH(Seat!$BS$4,U3:U13,-1), 11,10,9,8,7,6,5,4,3,2,1)","v":1},"= Column of LOCKING REM HG table"]
[null,"Offset","Pad height",2,2.5,3,3.5,4,4.5,5,5.5,6,7,">7","# IF BRKT TOO SHORT",1,{"$f":"INDEX(Q4:Q7,LOCKRHG)","v":"Flush"},{"$f":"INDEX(R4:R7,LOCKRHG)","v":1},{"$f":"INDEX(S4:S7,LOCKRHG)","v":0},1,99]
[null,0,3,34320,34328,34336,34344,34352,34360,34368,34376,34384,{"$f":"L4","v":34384},{"$f":"NA()","v":{"$error":"#N/A"}},34384,1,"Flush",1,0,2,7]
[null,null,5,34321,34329,34337,34345,34353,34361,34369,34377,34385,{"$f":"L5","v":34385},{"$f":"NA()","v":{"$error":"#N/A"}},34385,2,".5\" Offset",3,0.5,3,6]
[null,0.5,3,34322,34330,34338,34346,34354,34362,34370,34378,34386,{"$f":"NA()","v":{"$error":"#N/A"}},{"$f":"NA()","v":{"$error":"#N/A"}},34386,3,"1\" Offset",5,1,4,5.5]
[null,null,5,34323,34331,34339,34347,34355,34363,34371,34379,34387,{"$f":"NA()","v":{"$error":"#N/A"}},{"$f":"NA()","v":{"$error":"#N/A"}},34387,4,"2\" Offset",7,2,5,5]
[null,1,3,34324,34332,34340,34348,34356,34364,34372,34380,34388,{"$f":"NA()","v":{"$error":"#N/A"}},{"$f":"NA()","v":{"$error":"#N/A"}},34388,null,null,null,null,6,4.5]
[null,null,5,34325,34333,34341,34349,34357,34365,34373,34381,34389,{"$f":"NA()","v":{"$error":"#N/A"}},{"$f":"NA()","v":{"$error":"#N/A"}},34389,{"$f":"IF('Pick List'!$V$407>=5,2,1)","v":1},"= Pad height 1 or 2",null,null,7,4]
[null,2,3,34326,34334,34342,34350,34358,34366,34374,34382,34390,{"$f":"NA()","v":{"$error":"#N/A"}},{"$f":"NA()","v":{"$error":"#N/A"}},34390,null,null,null,null,8,3.5]
[null,null,5,34327,34335,34343,34351,34359,34367,34375,34383,34391,{"$f":"NA()","v":{"$error":"#N/A"}},{"$f":"NA()","v":{"$error":"#N/A"}},34391,{"$f":"$R$3+P9-1","v":1},"= Row of either table",null,null,9,3]
[null,null,null,"Flush brackets can accommodate a slightly thicker seat. That is why 7\" is included.",null,null,null,null,null,null,null,null,null,null,null,null,null,null,null,10,2.5]
[null,null,null,null,null,null,null,null,null,null,null,null,null,null,null,null,null,null,null,11,2]
[null,null,null,null,null,null,null,null,null,null,null,null,null,null,null,{"$f":"IF(WANTCHANNEL=1,SUBSTITUTE(\"Locking removable \"&LOWER(Q3)&\" brkt\",\"flush \",\"\"),SUBSTITUTE(\"Locking rem channel \"&LOWER(Q3)&\" brkt\",\"flush \",\"\"))","v":"Locking removable brkt"}]
[null,null,null,null,null,null,null,null,null,null,null,null,null,null,null,"WANTCHANNEL","Channel choice"]
[null,null,null,null,null,null,null,null,null,null,null,null,null,null,null,1,{"$f":"INDEX(Q17:Q18,WANTCHANNEL)","v":"Seat mount"}]
[null,"CHANNEL VERSIONS ADDED DECEMBER 2019",null,null,null,null,null,null,null,null,null,null,null,null,null,1,"Seat mount"]
[null,null,null,null,null,null,null,"LOCKING REMOVABLE CHANNEL HIP GUIDE HARDWARE",null,null,null,null,null,null,null,2,"Channel mount"]
[null,null,{"$f":"INDEX(D21:N28,$P$11,$T$2)","v":34437},{"$f":"\"Seat Thickness= \"&Seat!$BS$4","v":"Seat Thickness= 0"},null,null,null,null,null,null,null,null,null,null,{"$f":"INDEX(O21:O28,$P$11)","v":34477}]
[null,"Offset","Pad height",2,2.5,3,3.5,4,4.5,5,5.5,6,7,">7","# IF BRKT TOO SHORT"]
[null,0,3,34437,34437,34437,34437,34445,34453,34461,34469,34477,{"$f":"L21","v":34477},{"$f":"NA()","v":{"$error":"#N/A"}},34477]
[null,null,5,34438,34438,34438,34438,34446,34454,34462,34470,34478,{"$f":"L22","v":34478},{"$f":"NA()","v":{"$error":"#N/A"}},34478]
[null,0.5,3,34439,34439,34439,34439,34447,34455,34463,34471,34479,{"$f":"NA()","v":{"$error":"#N/A"}},{"$f":"NA()","v":{"$error":"#N/A"}},34479]
[null,null,5,34440,34440,34440,34440,34448,34456,34464,34472,34480,{"$f":"NA()","v":{"$error":"#N/A"}},{"$f":"NA()","v":{"$error":"#N/A"}},34480]
[null,1,3,34441,34441,34441,34441,34449,34457,34465,34473,34481,{"$f":"NA()","v":{"$error":"#N/A"}},{"$f":"NA()","v":{"$error":"#N/A"}},34481]
[null,null,5,34442,34442,34442,34442,34450,34458,34466,34474,34482,{"$f":"NA()","v":{"$error":"#N/A"}},{"$f":"NA()","v":{"$error":"#N/A"}},34482]
[null,2,3,34443,34443,34443,34443,34451,34459,34467,34475,34483,{"$f":"NA()","v":{"$error":"#N/A"}},{"$f":"NA()","v":{"$error":"#N/A"}},34483]
[null,null,5,34444,34444,34444,34444,34452,34460,34468,34476,34484,{"$f":"NA()","v":{"$error":"#N/A"}},{"$f":"NA()","v":{"$error":"#N/A"}},34484]